Workbook

Sheet Données
A1: 39173 | B1: 0.86111111 | C1: 0.09 | D1: =IF(SIGN(C1)<>SIGN(C2),"Nombre d'éléments","") | E1: =IF(SIGN(C1)<>SIGN(C2),INDEX(Lignes!$A$2:$A$10,MATCH(IF(D1="Nombre d'éléments",COUNTIF($D$1:D1,"Nombre d'éléments")),{1;2;3;4;5;6;0;0;0},0)),"") | F1: =IF(D1="Nombre d'éléments",IF(C1>0,"Maximum","Minimum"),"") | G1: =IF(D1="Nombre d'éléments",IF(C1>0,MAX(INDIRECT("C"&IF(COUNTIF($D$1:D1,"Nombre d'éléments")-1=0,1,INDEX(Lignes!$A$2:$A$10,MATCH(IF(D1="Nombre d'éléments",COUNTIF($D$1:D1,"Nombre d'éléments")-1),{1;2;3;4;5;6;0;0;0},0))+1)&":C"&INDEX(Lignes!$A$2:$A$10,MATCH(IF(D1="Nombre d'éléments",COUNTIF($D$1:D1,"Nombre d'éléments")),{1;2;3;4;5;6;0;0;0},0)))),MIN(INDIRECT("C"&IF(COUNTIF($D$1:D1,"Nombre d'éléments")-1=0,1,INDEX(Lignes!$A$2:$A$10,MATCH(IF(D1="Nombre d'éléments",COUNTIF($D$1:D1,"Nombre d'éléments")-1),{1;2;3;4;5;6;0;0;0},0))+1)&":C"&INDEX(Lignes!$A$2:$A$10,MATCH(IF(D1="Nombre d'éléments",COUNTIF($D$1:D1,"Nombre d'éléments")),{1;2;3;4;5;6;0;0;0},0))))),"") | H1: =IF(D1="Nombre d'éléments","Position","") | I1: =IF(G1<>"",MATCH(G1,INDIRECT("C"&IF(COUNTIF($D$1:D1,"Nombre d'éléments")-1=0,1,INDEX(Lignes!$A$2:$A$10,MATCH(IF(D1="Nombre d'éléments",COUNTIF($D$1:D1,"Nombre d'éléments")-1),{1;2;3;4;5;6;0;0;0},0))+1)&":C"&INDEX(Lignes!$A$2:$A$10,MATCH(IF(D1="Nombre d'éléments",COUNTIF($D$1:D1,"Nombre d'éléments")),{1;2;3;4;5;6;0;0;0},0))),0),"")
A2: 39173 | B2: 0.875 | C2: 0.0863 | D2: =IF(SIGN(C2)<>SIGN(C3),"Nombre d'éléments","") | E2: =IF(SIGN(C2)<>SIGN(C3),INDEX(Lignes!$A$2:$A$10,MATCH(IF(D2="Nombre d'éléments",COUNTIF($D$1:D2,"Nombre d'éléments")),{1;2;3;4;5;6;0;0;0},0)),"") | F2: =IF(D2="Nombre d'éléments",IF(C2>0,"Maximum","Minimum"),"") | G2: =IF(D2="Nombre d'éléments",IF(C2>0,MAX(INDIRECT("C"&IF(COUNTIF($D$1:D2,"Nombre d'éléments")-1=0,1,INDEX(Lignes!$A$2:$A$10,MATCH(IF(D2="Nombre d'éléments",COUNTIF($D$1:D2,"Nombre d'éléments")-1),{1;2;3;4;5;6;0;0;0},0))+1)&":C"&INDEX(Lignes!$A$2:$A$10,MATCH(IF(D2="Nombre d'éléments",COUNTIF($D$1:D2,"Nombre d'éléments")),{1;2;3;4;5;6;0;0;0},0)))),MIN(INDIRECT("C"&IF(COUNTIF($D$1:D2,"Nombre d'éléments")-1=0,1,INDEX(Lignes!$A$2:$A$10,MATCH(IF(D2="Nombre d'éléments",COUNTIF($D$1:D2,"Nombre d'éléments")-1),{1;2;3;4;5;6;0;0;0},0))+1)&":C"&INDEX(Lignes!$A$2:$A$10,MATCH(IF(D2="Nombre d'éléments",COUNTIF($D$1:D2,"Nombre d'éléments")),{1;2;3;4;5;6;0;0;0},0))))),"") | H2: =IF(D2="Nombre d'éléments","Position","") | I2: =IF(G2<>"",MATCH(G2,INDIRECT("C"&IF(COUNTIF($D$1:D2,"Nombre d'éléments")-1=0,1,INDEX(Lignes!$A$2:$A$10,MATCH(IF(D2="Nombre d'éléments",COUNTIF($D$1:D2,"Nombre d'éléments")-1),{1;2;3;4;5;6;0;0;0},0))+1)&":C"&INDEX(Lignes!$A$2:$A$10,MATCH(IF(D2="Nombre d'éléments",COUNTIF($D$1:D2,"Nombre d'éléments")),{1;2;3;4;5;6;0;0;0},0))),0),"")
A3: 39173 | B3: 0.84722222 | C3: 0.0833 | D3: =IF(SIGN(C3)<>SIGN(C4),"Nombre d'éléments","") | E3: =IF(SIGN(C3)<>SIGN(C4),INDEX(Lignes!$A$2:$A$10,MATCH(IF(D3="Nombre d'éléments",COUNTIF($D$1:D3,"Nombre d'éléments")),{1;2;3;4;5;6;0;0;0},0)),"") | F3: =IF(D3="Nombre d'éléments",IF(C3>0,"Maximum","Minimum"),"") | G3: =IF(D3="Nombre d'éléments",IF(C3>0,MAX(INDIRECT("C"&IF(COUNTIF($D$1:D3,"Nombre d'éléments")-1=0,1,INDEX(Lignes!$A$2:$A$10,MATCH(IF(D3="Nombre d'éléments",COUNTIF($D$1:D3,"Nombre d'éléments")-1),{1;2;3;4;5;6;0;0;0},0))+1)&":C"&INDEX(Lignes!$A$2:$A$10,MATCH(IF(D3="Nombre d'éléments",COUNTIF($D$1:D3,"Nombre d'éléments")),{1;2;3;4;5;6;0;0;0},0)))),MIN(INDIRECT("C"&IF(COUNTIF($D$1:D3,"Nombre d'éléments")-1=0,1,INDEX(Lignes!$A$2:$A$10,MATCH(IF(D3="Nombre d'éléments",COUNTIF($D$1:D3,"Nombre d'éléments")-1),{1;2;3;4;5;6;0;0;0},0))+1)&":C"&INDEX(Lignes!$A$2:$A$10,MATCH(IF(D3="Nombre d'éléments",COUNTIF($D$1:D3,"Nombre d'éléments")),{1;2;3;4;5;6;0;0;0},0))))),"") | H3: =IF(D3="Nombre d'éléments","Position","") | I3: =IF(G3<>"",MATCH(G3,INDIRECT("C"&IF(COUNTIF($D$1:D3,"Nombre d'éléments")-1=0,1,INDEX(Lignes!$A$2:$A$10,MATCH(IF(D3="Nombre d'éléments",COUNTIF($D$1:D3,"Nombre d'éléments")-1),{1;2;3;4;5;6;0;0;0},0))+1)&":C"&INDEX(Lignes!$A$2:$A$10,MATCH(IF(D3="Nombre d'éléments",COUNTIF($D$1:D3,"Nombre d'éléments")),{1;2;3;4;5;6;0;0;0},0))),0),"")
A4: 39173 | B4: 0.87847222 | C4: 0.082 | D4: =IF(SIGN(C4)<>SIGN(C5),"Nombre d'éléments","") | E4: =IF(SIGN(C4)<>SIGN(C5),INDEX(Lignes!$A$2:$A$10,MATCH(IF(D4="Nombre d'éléments",COUNTIF($D$1:D4,"Nombre d'éléments")),{1;2;3;4;5;6;0;0;0},0)),"") | F4: =IF(D4="Nombre d'éléments",IF(C4>0,"Maximum","Minimum"),"") | G4: =IF(D4="Nombre d'éléments",IF(C4>0,MAX(INDIRECT("C"&IF(COUNTIF($D$1:D4,"Nombre d'éléments")-1=0,1,INDEX(Lignes!$A$2:$A$10,MATCH(IF(D4="Nombre d'éléments",COUNTIF($D$1:D4,"Nombre d'éléments")-1),{1;2;3;4;5;6;0;0;0},0))+1)&":C"&INDEX(Lignes!$A$2:$A$10,MATCH(IF(D4="Nombre d'éléments",COUNTIF($D$1:D4,"Nombre d'éléments")),{1;2;3;4;5;6;0;0;0},0)))),MIN(INDIRECT("C"&IF(COUNTIF($D$1:D4,"Nombre d'éléments")-1=0,1,INDEX(Lignes!$A$2:$A$10,MATCH(IF(D4="Nombre d'éléments",COUNTIF($D$1:D4,"Nombre d'éléments")-1),{1;2;3;4;5;6;0;0;0},0))+1)&":C"&INDEX(Lignes!$A$2:$A$10,MATCH(IF(D4="Nombre d'éléments",COUNTIF($D$1:D4,"Nombre d'éléments")),{1;2;3;4;5;6;0;0;0},0))))),"") | H4: =IF(D4="Nombre d'éléments","Position","") | I4: =IF(G4<>"",MATCH(G4,INDIRECT("C"&IF(COUNTIF($D$1:D4,"Nombre d'éléments")-1=0,1,INDEX(Lignes!$A$2:$A$10,MATCH(IF(D4="Nombre d'éléments",COUNTIF($D$1:D4,"Nombre d'éléments")-1),{1;2;3;4;5;6;0;0;0},0))+1)&":C"&INDEX(Lignes!$A$2:$A$10,MATCH(IF(D4="Nombre d'éléments",COUNTIF($D$1:D4,"Nombre d'éléments")),{1;2;3;4;5;6;0;0;0},0))),0),"")
A5: 39173 | B5: 0.85069444 | C5: 0.0994 | D5: =IF(SIGN(C5)<>SIGN(C6),"Nombre d'éléments","") | E5: =IF(SIGN(C5)<>SIGN(C6),INDEX(Lignes!$A$2:$A$10,MATCH(IF(D5="Nombre d'éléments",COUNTIF($D$1:D5,"Nombre d'éléments")),{1;2;3;4;5;6;0;0;0},0)),"") | F5: =IF(D5="Nombre d'éléments",IF(C5>0,"Maximum","Minimum"),"") | G5: =IF(D5="Nombre d'éléments",IF(C5>0,MAX(INDIRECT("C"&IF(COUNTIF($D$1:D5,"Nombre d'éléments")-1=0,1,INDEX(Lignes!$A$2:$A$10,MATCH(IF(D5="Nombre d'éléments",COUNTIF($D$1:D5,"Nombre d'éléments")-1),{1;2;3;4;5;6;0;0;0},0))+1)&":C"&INDEX(Lignes!$A$2:$A$10,MATCH(IF(D5="Nombre d'éléments",COUNTIF($D$1:D5,"Nombre d'éléments")),{1;2;3;4;5;6;0;0;0},0)))),MIN(INDIRECT("C"&IF(COUNTIF($D$1:D5,"Nombre d'éléments")-1=0,1,INDEX(Lignes!$A$2:$A$10,MATCH(IF(D5="Nombre d'éléments",COUNTIF($D$1:D5,"Nombre d'éléments")-1),{1;2;3;4;5;6;0;0;0},0))+1)&":C"&INDEX(Lignes!$A$2:$A$10,MATCH(IF(D5="Nombre d'éléments",COUNTIF($D$1:D5,"Nombre d'éléments")),{1;2;3;4;5;6;0;0;0},0))))),"") | H5: =IF(D5="Nombre d'éléments","Position","") | I5: =IF(G5<>"",MATCH(G5,INDIRECT("C"&IF(COUNTIF($D$1:D5,"Nombre d'éléments")-1=0,1,INDEX(Lignes!$A$2:$A$10,MATCH(IF(D5="Nombre d'éléments",COUNTIF($D$1:D5,"Nombre d'éléments")-1),{1;2;3;4;5;6;0;0;0},0))+1)&":C"&INDEX(Lignes!$A$2:$A$10,MATCH(IF(D5="Nombre d'éléments",COUNTIF($D$1:D5,"Nombre d'éléments")),{1;2;3;4;5;6;0;0;0},0))),0),"")
A6: 39173 | B6: 0.86458333 | C6: 0.0785 | D6: =IF(SIGN(C6)<>SIGN(C7),"Nombre d'éléments","") | E6: =IF(SIGN(C6)<>SIGN(C7),INDEX(Lignes!$A$2:$A$10,MATCH(IF(D6="Nombre d'éléments",COUNTIF($D$1:D6,"Nombre d'éléments")),{1;2;3;4;5;6;0;0;0},0)),"") | F6: =IF(D6="Nombre d'éléments",IF(C6>0,"Maximum","Minimum"),"") | G6: =IF(D6="Nombre d'éléments",IF(C6>0,MAX(INDIRECT("C"&IF(COUNTIF($D$1:D6,"Nombre d'éléments")-1=0,1,INDEX(Lignes!$A$2:$A$10,MATCH(IF(D6="Nombre d'éléments",COUNTIF($D$1:D6,"Nombre d'éléments")-1),{1;2;3;4;5;6;0;0;0},0))+1)&":C"&INDEX(Lignes!$A$2:$A$10,MATCH(IF(D6="Nombre d'éléments",COUNTIF($D$1:D6,"Nombre d'éléments")),{1;2;3;4;5;6;0;0;0},0)))),MIN(INDIRECT("C"&IF(COUNTIF($D$1:D6,"Nombre d'éléments")-1=0,1,INDEX(Lignes!$A$2:$A$10,MATCH(IF(D6="Nombre d'éléments",COUNTIF($D$1:D6,"Nombre d'éléments")-1),{1;2;3;4;5;6;0;0;0},0))+1)&":C"&INDEX(Lignes!$A$2:$A$10,MATCH(IF(D6="Nombre d'éléments",COUNTIF($D$1:D6,"Nombre d'éléments")),{1;2;3;4;5;6;0;0;0},0))))),"") | H6: =IF(D6="Nombre d'éléments","Position","") | I6: =IF(G6<>"",MATCH(G6,INDIRECT("C"&IF(COUNTIF($D$1:D6,"Nombre d'éléments")-1=0,1,INDEX(Lignes!$A$2:$A$10,MATCH(IF(D6="Nombre d'éléments",COUNTIF($D$1:D6,"Nombre d'éléments")-1),{1;2;3;4;5;6;0;0;0},0))+1)&":C"&INDEX(Lignes!$A$2:$A$10,MATCH(IF(D6="Nombre d'éléments",COUNTIF($D$1:D6,"Nombre d'éléments")),{1;2;3;4;5;6;0;0;0},0))),0),"")
A7: 39173 | B7: 0.86805556 | C7: 0.0759 | D7: =IF(SIGN(C7)<>SIGN(C8),"Nombre d'éléments","") | E7: =IF(SIGN(C7)<>SIGN(C8),INDEX(Lignes!$A$2:$A$10,MATCH(IF(D7="Nombre d'éléments",COUNTIF($D$1:D7,"Nombre d'éléments")),{1;2;3;4;5;6;0;0;0},0)),"") | F7: =IF(D7="Nombre d'éléments",IF(C7>0,"Maximum","Minimum"),"") | G7: =IF(D7="Nombre d'éléments",IF(C7>0,MAX(INDIRECT("C"&IF(COUNTIF($D$1:D7,"Nombre d'éléments")-1=0,1,INDEX(Lignes!$A$2:$A$10,MATCH(IF(D7="Nombre d'éléments",COUNTIF($D$1:D7,"Nombre d'éléments")-1),{1;2;3;4;5;6;0;0;0},0))+1)&":C"&INDEX(Lignes!$A$2:$A$10,MATCH(IF(D7="Nombre d'éléments",COUNTIF($D$1:D7,"Nombre d'éléments")),{1;2;3;4;5;6;0;0;0},0)))),MIN(INDIRECT("C"&IF(COUNTIF($D$1:D7,"Nombre d'éléments")-1=0,1,INDEX(Lignes!$A$2:$A$10,MATCH(IF(D7="Nombre d'éléments",COUNTIF($D$1:D7,"Nombre d'éléments")-1),{1;2;3;4;5;6;0;0;0},0))+1)&":C"&INDEX(Lignes!$A$2:$A$10,MATCH(IF(D7="Nombre d'éléments",COUNTIF($D$1:D7,"Nombre d'éléments")),{1;2;3;4;5;6;0;0;0},0))))),"") | H7: =IF(D7="Nombre d'éléments","Position","") | I7: =IF(G7<>"",MATCH(G7,INDIRECT("C"&IF(COUNTIF($D$1:D7,"Nombre d'éléments")-1=0,1,INDEX(Lignes!$A$2:$A$10,MATCH(IF(D7="Nombre d'éléments",COUNTIF($D$1:D7,"Nombre d'éléments")-1),{1;2;3;4;5;6;0;0;0},0))+1)&":C"&INDEX(Lignes!$A$2:$A$10,MATCH(IF(D7="Nombre d'éléments",COUNTIF($D$1:D7,"Nombre d'éléments")),{1;2;3;4;5;6;0;0;0},0))),0),"")
A8: 39173 | B8: 0.85416667 | C8: 0.075 | D8: =IF(SIGN(C8)<>SIGN(C9),"Nombre d'éléments","") -> Nombre d'éléments | E8: =IF(SIGN(C8)<>SIGN(C9),INDEX(Lignes!$A$2:$A$10,MATCH(IF(D8="Nombre d'éléments",COUNTIF($D$1:D8,"Nombre d'éléments")),{1;2;3;4;5;6;0;0;0},0)),"") -> 8 | F8: =IF(D8="Nombre d'éléments",IF(C8>0,"Maximum","Minimum"),"") -> Maximum | G8: =IF(D8="Nombre d'éléments",IF(C8>0,MAX(INDIRECT("C"&IF(COUNTIF($D$1:D8,"Nombre d'éléments")-1=0,1,INDEX(Lignes!$A$2:$A$10,MATCH(IF(D8="Nombre d'éléments",COUNTIF($D$1:D8,"Nombre d'éléments")-1),{1;2;3;4;5;6;0;0;0},0))+1)&":C"&INDEX(Lignes!$A$2:$A$10,MATCH(IF(D8="Nombre d'éléments",COUNTIF($D$1:D8,"Nombre d'éléments")),{1;2;3;4;5;6;0;0;0},0)))),MIN(INDIRECT("C"&IF(COUNTIF($D$1:D8,"Nombre d'éléments")-1=0,1,INDEX(Lignes!$A$2:$A$10,MATCH(IF(D8="Nombre d'éléments",COUNTIF($D$1:D8,"Nombre d'éléments")-1),{1;2;3;4;5;6;0;0;0},0))+1)&":C"&INDEX(Lignes!$A$2:$A$10,MATCH(IF(D8="Nombre d'éléments",COUNTIF($D$1:D8,"Nombre d'éléments")),{1;2;3;4;5;6;0;0;0},0))))),"") -> 0.0994 | H8: =IF(D8="Nombre d'éléments","Position","") -> Position | I8: =IF(G8<>"",MATCH(G8,INDIRECT("C"&IF(COUNTIF($D$1:D8,"Nombre d'éléments")-1=0,1,INDEX(Lignes!$A$2:$A$10,MATCH(IF(D8="Nombre d'éléments",COUNTIF($D$1:D8,"Nombre d'éléments")-1),{1;2;3;4;5;6;0;0;0},0))+1)&":C"&INDEX(Lignes!$A$2:$A$10,MATCH(IF(D8="Nombre d'éléments",COUNTIF($D$1:D8,"Nombre d'éléments")),{1;2;3;4;5;6;0;0;0},0))),0),"") -> 5
A9: 39173 | B9: 0.87152778 | C9: -0.0733 | D9: =IF(SIGN(C9)<>SIGN(C10),"Nombre d'éléments","") | E9: =IF(SIGN(C9)<>SIGN(C10),INDEX(Lignes!$A$2:$A$10,MATCH(IF(D9="Nombre d'éléments",COUNTIF($D$1:D9,"Nombre d'éléments")),{1;2;3;4;5;6;0;0;0},0)),"") | F9: =IF(D9="Nombre d'éléments",IF(C9>0,"Maximum","Minimum"),"") | G9: =IF(D9="Nombre d'éléments",IF(C9>0,MAX(INDIRECT("C"&IF(COUNTIF($D$1:D9,"Nombre d'éléments")-1=0,1,INDEX(Lignes!$A$2:$A$10,MATCH(IF(D9="Nombre d'éléments",COUNTIF($D$1:D9,"Nombre d'éléments")-1),{1;2;3;4;5;6;0;0;0},0))+1)&":C"&INDEX(Lignes!$A$2:$A$10,MATCH(IF(D9="Nombre d'éléments",COUNTIF($D$1:D9,"Nombre d'éléments")),{1;2;3;4;5;6;0;0;0},0)))),MIN(INDIRECT("C"&IF(COUNTIF($D$1:D9,"Nombre d'éléments")-1=0,1,INDEX(Lignes!$A$2:$A$10,MATCH(IF(D9="Nombre d'éléments",COUNTIF($D$1:D9,"Nombre d'éléments")-1),{1;2;3;4;5;6;0;0;0},0))+1)&":C"&INDEX(Lignes!$A$2:$A$10,MATCH(IF(D9="Nombre d'éléments",COUNTIF($D$1:D9,"Nombre d'éléments")),{1;2;3;4;5;6;0;0;0},0))))),"") | H9: =IF(D9="Nombre d'éléments","Position","") | I9: =IF(G9<>"",MATCH(G9,INDIRECT("C"&IF(COUNTIF($D$1:D9,"Nombre d'éléments")-1=0,1,INDEX(Lignes!$A$2:$A$10,MATCH(IF(D9="Nombre d'éléments",COUNTIF($D$1:D9,"Nombre d'éléments")-1),{1;2;3;4;5;6;0;0;0},0))+1)&":C"&INDEX(Lignes!$A$2:$A$10,MATCH(IF(D9="Nombre d'éléments",COUNTIF($D$1:D9,"Nombre d'éléments")),{1;2;3;4;5;6;0;0;0},0))),0),"")
A10: 39173 | B10: 0.89930556 | C10: -0.0724 | D10: =IF(SIGN(C10)<>SIGN(C11),"Nombre d'éléments","") | E10: =IF(SIGN(C10)<>SIGN(C11),INDEX(Lignes!$A$2:$A$10,MATCH(IF(D10="Nombre d'éléments",COUNTIF($D$1:D10,"Nombre d'éléments")),{1;2;3;4;5;6;0;0;0},0)),"") | F10: =IF(D10="Nombre d'éléments",IF(C10>0,"Maximum","Minimum"),"") | G10: =IF(D10="Nombre d'éléments",IF(C10>0,MAX(INDIRECT("C"&IF(COUNTIF($D$1:D10,"Nombre d'éléments")-1=0,1,INDEX(Lignes!$A$2:$A$10,MATCH(IF(D10="Nombre d'éléments",COUNTIF($D$1:D10,"Nombre d'éléments")-1),{1;2;3;4;5;6;0;0;0},0))+1)&":C"&INDEX(Lignes!$A$2:$A$10,MATCH(IF(D10="Nombre d'éléments",COUNTIF($D$1:D10,"Nombre d'éléments")),{1;2;3;4;5;6;0;0;0},0)))),MIN(INDIRECT("C"&IF(COUNTIF($D$1:D10,"Nombre d'éléments")-1=0,1,INDEX(Lignes!$A$2:$A$10,MATCH(IF(D10="Nombre d'éléments",COUNTIF($D$1:D10,"Nombre d'éléments")-1),{1;2;3;4;5;6;0;0;0},0))+1)&":C"&INDEX(Lignes!$A$2:$A$10,MATCH(IF(D10="Nombre d'éléments",COUNTIF($D$1:D10,"Nombre d'éléments")),{1;2;3;4;5;6;0;0;0},0))))),"") | H10: =IF(D10="Nombre d'éléments","Position","") | I10: =IF(G10<>"",MATCH(G10,INDIRECT("C"&IF(COUNTIF($D$1:D10,"Nombre d'éléments")-1=0,1,INDEX(Lignes!$A$2:$A$10,MATCH(IF(D10="Nombre d'éléments",COUNTIF($D$1:D10,"Nombre d'éléments")-1),{1;2;3;4;5;6;0;0;0},0))+1)&":C"&INDEX(Lignes!$A$2:$A$10,MATCH(IF(D10="Nombre d'éléments",COUNTIF($D$1:D10,"Nombre d'éléments")),{1;2;3;4;5;6;0;0;0},0))),0),"")
A11: 39173 | B11: 0.85763889 | C11: -0.0702 | D11: =IF(SIGN(C11)<>SIGN(C12),"Nombre d'éléments","") | E11: =IF(SIGN(C11)<>SIGN(C12),INDEX(Lignes!$A$2:$A$10,MATCH(IF(D11="Nombre d'éléments",COUNTIF($D$1:D11,"Nombre d'éléments")),{1;2;3;4;5;6;0;0;0},0)),"") | F11: =IF(D11="Nombre d'éléments",IF(C11>0,"Maximum","Minimum"),"") | G11: =IF(D11="Nombre d'éléments",IF(C11>0,MAX(INDIRECT("C"&IF(COUNTIF($D$1:D11,"Nombre d'éléments")-1=0,1,INDEX(Lignes!$A$2:$A$10,MATCH(IF(D11="Nombre d'éléments",COUNTIF($D$1:D11,"Nombre d'éléments")-1),{1;2;3;4;5;6;0;0;0},0))+1)&":C"&INDEX(Lignes!$A$2:$A$10,MATCH(IF(D11="Nombre d'éléments",COUNTIF($D$1:D11,"Nombre d'éléments")),{1;2;3;4;5;6;0;0;0},0)))),MIN(INDIRECT("C"&IF(COUNTIF($D$1:D11,"Nombre d'éléments")-1=0,1,INDEX(Lignes!$A$2:$A$10,MATCH(IF(D11="Nombre d'éléments",COUNTIF($D$1:D11,"Nombre d'éléments")-1),{1;2;3;4;5;6;0;0;0},0))+1)&":C"&INDEX(Lignes!$A$2:$A$10,MATCH(IF(D11="Nombre d'éléments",COUNTIF($D$1:D11,"Nombre d'éléments")),{1;2;3;4;5;6;0;0;0},0))))),"") | H11: =IF(D11="Nombre d'éléments","Position","") | I11: =IF(G11<>"",MATCH(G11,INDIRECT("C"&IF(COUNTIF($D$1:D11,"Nombre d'éléments")-1=0,1,INDEX(Lignes!$A$2:$A$10,MATCH(IF(D11="Nombre d'éléments",COUNTIF($D$1:D11,"Nombre d'éléments")-1),{1;2;3;4;5;6;0;0;0},0))+1)&":C"&INDEX(Lignes!$A$2:$A$10,MATCH(IF(D11="Nombre d'éléments",COUNTIF($D$1:D11,"Nombre d'éléments")),{1;2;3;4;5;6;0;0;0},0))),0),"")
A12: 39173 | B12: 0.90625 | C12: -0.0645 | D12: =IF(SIGN(C12)<>SIGN(C13),"Nombre d'éléments","") | E12: =IF(SIGN(C12)<>SIGN(C13),INDEX(Lignes!$A$2:$A$10,MATCH(IF(D12="Nombre d'éléments",COUNTIF($D$1:D12,"Nombre d'éléments")),{1;2;3;4;5;6;0;0;0},0)),"") | F12: =IF(D12="Nombre d'éléments",IF(C12>0,"Maximum","Minimum"),"") | G12: =IF(D12="Nombre d'éléments",IF(C12>0,MAX(INDIRECT("C"&IF(COUNTIF($D$1:D12,"Nombre d'éléments")-1=0,1,INDEX(Lignes!$A$2:$A$10,MATCH(IF(D12="Nombre d'éléments",COUNTIF($D$1:D12,"Nombre d'éléments")-1),{1;2;3;4;5;6;0;0;0},0))+1)&":C"&INDEX(Lignes!$A$2:$A$10,MATCH(IF(D12="Nombre d'éléments",COUNTIF($D$1:D12,"Nombre d'éléments")),{1;2;3;4;5;6;0;0;0},0)))),MIN(INDIRECT("C"&IF(COUNTIF($D$1:D12,"Nombre d'éléments")-1=0,1,INDEX(Lignes!$A$2:$A$10,MATCH(IF(D12="Nombre d'éléments",COUNTIF($D$1:D12,"Nombre d'éléments")-1),{1;2;3;4;5;6;0;0;0},0))+1)&":C"&INDEX(Lignes!$A$2:$A$10,MATCH(IF(D12="Nombre d'éléments",COUNTIF($D$1:D12,"Nombre d'éléments")),{1;2;3;4;5;6;0;0;0},0))))),"") | H12: =IF(D12="Nombre d'éléments","Position","") | I12: =IF(G12<>"",MATCH(G12,INDIRECT("C"&IF(COUNTIF($D$1:D12,"Nombre d'éléments")-1=0,1,INDEX(Lignes!$A$2:$A$10,MATCH(IF(D12="Nombre d'éléments",COUNTIF($D$1:D12,"Nombre d'éléments")-1),{1;2;3;4;5;6;0;0;0},0))+1)&":C"&INDEX(Lignes!$A$2:$A$10,MATCH(IF(D12="Nombre d'éléments",COUNTIF($D$1:D12,"Nombre d'éléments")),{1;2;3;4;5;6;0;0;0},0))),0),"")
... A33: 39173 | B33: 0.94097222 | C33: -0.0427 | D33: =IF(SIGN(C33)<>SIGN(C34),"Nombre d'éléments","") -> Nombre d'éléments | E33: =IF(SIGN(C33)<>SIGN(C34),INDEX(Lignes!$A$2:$A$10,MATCH(IF(D33="Nombre d'éléments",COUNTIF($D$1:D33,"Nombre d'éléments")),{1;2;3;4;5;6;0;0;0},0)),"") -> 33 | F33: =IF(D33="Nombre d'éléments",IF(C33>0,"Maximum","Minimum"),"") -> Minimum | G33: =IF(D33="Nombre d'éléments",IF(C33>0,MAX(INDIRECT("C"&IF(COUNTIF($D$1:D33,"Nombre d'éléments")-1=0,1,INDEX(Lignes!$A$2:$A$10,MATCH(IF(D33="Nombre d'éléments",COUNTIF($D$1:D33,"Nombre d'éléments")-1),{1;2;3;4;5;6;0;0;0},0))+1)&":C"&INDEX(Lignes!$A$2:$A$10,MATCH(IF(D33="Nombre d'éléments",COUNTIF($D$1:D33,"Nombre d'éléments")),{1;2;3;4;5;6;0;0;0},0)))),MIN(INDIRECT("C"&IF(COUNTIF($D$1:D33,"Nombre d'éléments")-1=0,1,INDEX(Lignes!$A$2:$A$10,MATCH(IF(D33="Nombre d'éléments",COUNTIF($D$1:D33,"Nombre d'éléments")-1),{1;2;3;4;5;6;0;0;0},0))+1)&":C"&INDEX(Lignes!$A$2:$A$10,MATCH(IF(D33="Nombre d'éléments",COUNTIF($D$1:D33,"Nombre d'éléments")),{1;2;3;4;5;6;0;0;0},0))))),"") -> -0.0427 | H33: =IF(D33="Nombre d'éléments","Position","") -> Position | I33: =IF(G33<>"",MATCH(G33,INDIRECT("C"&IF(COUNTIF($D$1:D33,"Nombre d'éléments")-1=0,1,INDEX(Lignes!$A$2:$A$10,MATCH(IF(D33="Nombre d'éléments",COUNTIF($D$1:D33,"Nombre d'éléments")-1),{1;2;3;4;5;6;0;0;0},0))+1)&":C"&INDEX(Lignes!$A$2:$A$10,MATCH(IF(D33="Nombre d'éléments",COUNTIF($D$1:D33,"Nombre d'éléments")),{1;2;3;4;5;6;0;0;0},0))),0),"") -> 6

Sheet Lignes
A1: Lig
A2: {=IFERROR(LARGE((Données!$D$1:$D$33="Nombre d'éléments")*(ROW(Données!$D$1:$D$33)),SUM(--(Données!$D$1:$D$33="Nombre d'éléments"))-IF(ROW()-1<=COUNTIF(Données!$D$1:$D$33,"Nombre d'éléments"),ROW()-1,"")+1),"")} -> 8
A3: {=IFERROR(LARGE((Données!$D$1:$D$33="Nombre d'éléments")*(ROW(Données!$D$1:$D$33)),SUM(--(Données!$D$1:$D$33="Nombre d'éléments"))-IF(ROW()-1<=COUNTIF(Données!$D$1:$D$33,"Nombre d'éléments"),ROW()-1,"")+1),"")} -> 13
A4: {=IFERROR(LARGE((Données!$D$1:$D$33="Nombre d'éléments")*(ROW(Données!$D$1:$D$33)),SUM(--(Données!$D$1:$D$33="Nombre d'éléments"))-IF(ROW()-1<=COUNTIF(Données!$D$1:$D$33,"Nombre d'éléments"),ROW()-1,"")+1),"")} -> 19
A5: {=IFERROR(LARGE((Données!$D$1:$D$33="Nombre d'éléments")*(ROW(Données!$D$1:$D$33)),SUM(--(Données!$D$1:$D$33="Nombre d'éléments"))-IF(ROW()-1<=COUNTIF(Données!$D$1:$D$33,"Nombre d'éléments"),ROW()-1,"")+1),"")} -> 23
A6: {=IFERROR(LARGE((Données!$D$1:$D$33="Nombre d'éléments")*(ROW(Données!$D$1:$D$33)),SUM(--(Données!$D$1:$D$33="Nombre d'éléments"))-IF(ROW()-1<=COUNTIF(Données!$D$1:$D$33,"Nombre d'éléments"),ROW()-1,"")+1),"")} -> 27
A7: {=IFERROR(LARGE((Données!$D$1:$D$33="Nombre d'éléments")*(ROW(Données!$D$1:$D$33)),SUM(--(Données!$D$1:$D$33="Nombre d'éléments"))-IF(ROW()-1<=COUNTIF(Données!$D$1:$D$33,"Nombre d'éléments"),ROW()-1,"")+1),"")} -> 33
A8: {=IFERROR(LARGE((Données!$D$1:$D$33="Nombre d'éléments")*(ROW(Données!$D$1:$D$33)),SUM(--(Données!$D$1:$D$33="Nombre d'éléments"))-IF(ROW()-1<=COUNTIF(Données!$D$1:$D$33,"Nombre d'éléments"),ROW()-1,"")+1),"")}
A9: {=IFERROR(LARGE((Données!$D$1:$D$33="Nombre d'éléments")*(ROW(Données!$D$1:$D$33)),SUM(--(Données!$D$1:$D$33="Nombre d'éléments"))-IF(ROW()-1<=COUNTIF(Données!$D$1:$D$33,"Nombre d'éléments"),ROW()-1,"")+1),"")}
