Workbook

Sheet Calcul
B2: Cadence | C2: Entrée en chaine | D2: Pontage | E2: Sortie de chaîne | F2: Livraison | G2: Delta | H2: Nouv. Date
A3: PHB37
A4: PHB38
A5: PHB39 | B5: 14 | E5: 43047 | F5: =WORKDAY.INTL(E5,10,1,'Jour férié'!$D$6:$D$65) -> #NAME?
A6: PHB40 | B6: 14 | C6: 42990 | D6: 43038 | E6: =WORKDAY.INTL(C6,B6*4,1,'Jour férié'!$D$6:$D$65) -> #NAME? | F6: =WORKDAY.INTL(E6,10,1,'Jour férié'!$D$6:$D$65) -> #NAME? | G6: =IF(C10-E6=0,"",C10-E6) -> #NAME? | H6: =IF(G6<>"",E6+G6,"") -> #NAME?
A7: PHB41 | B7: 14 | C7: 43010 | D7: =WORKDAY.INTL(C7,B7*2,1,'Jour férié'!$D$6:$D$65) -> #NAME? | E7: =WORKDAY.INTL(C7,B7*4,1,'Jour férié'!$D$6:$D$65) -> #NAME? | F7: =WORKDAY.INTL(E7,10,1,'Jour férié'!$D$6:$D$65) -> #NAME? | G7: =IF(C11-E7=0,"",C11-E7) -> #NAME? | H7: =IF(G7<>"",E7+G7,"") -> #NAME?
A8: PHB42 | B8: 14 | C8: =WORKDAY.INTL(C7,B8,1,'Jour férié'!$D$6:$D$65) -> #NAME? | D8: =WORKDAY.INTL(C8,B8*2,1,'Jour férié'!$D$6:$D$65) -> #NAME? | E8: =WORKDAY.INTL(C8,B8*4,1,'Jour férié'!$D$6:$D$65) -> #NAME? | F8: =WORKDAY.INTL(E8,10,1,'Jour férié'!$D$6:$D$65) -> #NAME? | G8: =IF(C12-E8=0,"",C12-E8) -> #NAME? | H8: =IF(G8<>"",E8+G8,"") -> #NAME?
A9: PHB43 | B9: 14 | C9: =WORKDAY.INTL(C8,B9,1,'Jour férié'!$D$6:$D$65) -> #NAME? | D9: =WORKDAY.INTL(C9,B9*2,1,'Jour férié'!$D$6:$D$65) -> #NAME? | E9: =WORKDAY.INTL(C9,B9*4,1,'Jour férié'!$D$6:$D$65) -> #NAME? | F9: =WORKDAY.INTL(E9,10,1,'Jour férié'!$D$6:$D$65) -> #NAME? | G9: =IF(C13-E9=0,"",C13-E9) -> #NAME? | H9: =IF(G9<>"",E9+G9,"") -> #NAME?
A10: PHB44 | B10: 14 | C10: =WORKDAY.INTL(C9,B10,1,'Jour férié'!$D$6:$D$65) -> #NAME? | D10: =WORKDAY.INTL(C10,B10*2,1,'Jour férié'!$D$6:$D$65) -> #NAME? | E10: =WORKDAY.INTL(C10,B10*4,1,'Jour férié'!$D$6:$D$65) -> #NAME? | F10: =WORKDAY.INTL(E10,10,1,'Jour férié'!$D$6:$D$65) -> #NAME? | G10: =IF(C14-E10=0,"",C14-E10) -> #NAME? | H10: =IF(G10<>"",E10+G10,"") -> #NAME?
A11: PHB45 | B11: 12 | C11: =WORKDAY.INTL(C10,B11,1,'Jour férié'!$D$6:$D$65) -> #NAME? | D11: =WORKDAY.INTL(C11,B11*2,1,'Jour férié'!$D$6:$D$65) -> #NAME? | E11: =WORKDAY.INTL(C11,B11*4,1,'Jour férié'!$D$6:$D$65) -> #NAME? | F11: =WORKDAY.INTL(E11,10,1,'Jour férié'!$D$6:$D$65) -> #NAME? | G11: =IF(C15-E11=0,"",C15-E11) -> #NAME? | H11: =IF(G11<>"",E11+G11,"") -> #NAME?
A12: PHB46 | B12: 12 | C12: =WORKDAY.INTL(C11,B12,1,'Jour férié'!$D$6:$D$65) -> #NAME? | D12: =WORKDAY.INTL(C12,B12*2,1,'Jour férié'!$D$6:$D$65) -> #NAME? | E12: =WORKDAY.INTL(C12,B12*4,1,'Jour férié'!$D$6:$D$65) -> #NAME? | F12: =WORKDAY.INTL(E12,10,1,'Jour férié'!$D$6:$D$65) -> #NAME? | G12: =IF(C16-E12=0,"",C16-E12) -> #NAME? | H12: =IF(G12<>"",E12+G12,"") -> #NAME?
A13: PHB47 | B13: 12 | C13: =WORKDAY.INTL(C12,B13,1,'Jour férié'!$D$6:$D$65) -> #NAME? | D13: =WORKDAY.INTL(C13,B13*2,1,'Jour férié'!$D$6:$D$65) -> #NAME? | E13: =WORKDAY.INTL(C13,B13*4,1,'Jour férié'!$D$6:$D$65) -> #NAME? | F13: =WORKDAY.INTL(E13,10,1,'Jour férié'!$D$6:$D$65) -> #NAME? | G13: =IF(C17-E13=0,"",C17-E13) -> #NAME? | H13: =IF(G13<>"",E13+G13,"") -> #NAME?
A14: PHB48 | B14: 12 | C14: =WORKDAY.INTL(C13,B14,1,'Jour férié'!$D$6:$D$65) -> #NAME? | D14: =WORKDAY.INTL(C14,B14*2,1,'Jour férié'!$D$6:$D$65) -> #NAME? | E14: =WORKDAY.INTL(C14,B14*4,1,'Jour férié'!$D$6:$D$65) -> #NAME? | F14: =WORKDAY.INTL(E14,10,1,'Jour férié'!$D$6:$D$65) -> #NAME? | G14: =IF(C18-E14=0,"",C18-E14) -> #NAME? | H14: =IF(G14<>"",E14+G14,"") -> #NAME?
A15: PHB49 | B15: 12 | C15: =WORKDAY.INTL(C14,B15,1,'Jour férié'!$D$6:$D$65) -> #NAME? | D15: =WORKDAY.INTL(C15,B15*2,1,'Jour férié'!$D$6:$D$65) -> #NAME? | E15: =WORKDAY.INTL(C15,B15*4,1,'Jour férié'!$D$6:$D$65) -> #NAME? | F15: =WORKDAY.INTL(E15,10,1,'Jour férié'!$D$6:$D$65) -> #NAME? | G15: =IF(C19-E15=0,"",C19-E15) -> #NAME? | H15: =IF(G15<>"",E15+G15,"") -> #NAME?
A16: PHB50 | B16: 12 | C16: =WORKDAY.INTL(C15,B16,1,'Jour férié'!$D$6:$D$65) -> #NAME? | D16: =WORKDAY.INTL(C16,B16*2,1,'Jour férié'!$D$6:$D$65) -> #NAME? | E16: =WORKDAY.INTL(C16,B16*4,1,'Jour férié'!$D$6:$D$65) -> #NAME? | F16: =WORKDAY.INTL(E16,10,1,'Jour férié'!$D$6:$D$65) -> #NAME? | G16: =IF(C20-E16=0,"",C20-E16) -> #NAME? | H16: =IF(G16<>"",E16+G16,"") -> #NAME?
A17: PHB51 | B17: 12 | C17: =WORKDAY.INTL(C16,B17,1,'Jour férié'!$D$6:$D$65) -> #NAME? | D17: =WORKDAY.INTL(C17,B17*2,1,'Jour férié'!$D$6:$D$65) -> #NAME? | E17: =WORKDAY.INTL(C17,B17*4,1,'Jour férié'!$D$6:$D$65) -> #NAME? | F17: =WORKDAY.INTL(E17,10,1,'Jour férié'!$D$6:$D$65) -> #NAME? | G17: =IF(C21-E17=0,"",C21-E17) -> #NAME? | H17: =IF(G17<>"",E17+G17,"") -> #NAME?
A18: PHB52 | B18: 12 | C18: =WORKDAY.INTL(C17,B18,1,'Jour férié'!$D$6:$D$65) -> #NAME? | D18: =WORKDAY.INTL(C18,B18*2,1,'Jour férié'!$D$6:$D$65) -> #NAME? | E18: =WORKDAY.INTL(C18,B18*4,1,'Jour férié'!$D$6:$D$65) -> #NAME? | F18: =WORKDAY.INTL(E18,10,1,'Jour férié'!$D$6:$D$65) -> #NAME? | G18: =IF(C22-E18=0,"",C22-E18) -> #NAME? | H18: =IF(G18<>"",E18+G18,"") -> #NAME?
A19: PHB53 | B19: 12 | C19: =WORKDAY.INTL(C18,B19,1,'Jour férié'!$D$6:$D$65) -> #NAME? | D19: =WORKDAY.INTL(C19,B19*2,1,'Jour férié'!$D$6:$D$65) -> #NAME? | E19: =WORKDAY.INTL(C19,B19*4,1,'Jour férié'!$D$6:$D$65) -> #NAME? | F19: =WORKDAY.INTL(E19,10,1,'Jour férié'!$D$6:$D$65) -> #NAME? | G19: =IF(C23-E19=0,"",C23-E19) -> #NAME? | H19: =IF(G19<>"",E19+G19,"") -> #NAME?
... A24: PHB58 | B24: 12 | C24: =WORKDAY.INTL(C23,B24,1,'Jour férié'!$D$6:$D$65) -> #NAME? | D24: =WORKDAY.INTL(C24,B24*2,1,'Jour férié'!$D$6:$D$65) -> #NAME? | E24: =WORKDAY.INTL(C24,B24*4,1,'Jour férié'!$D$6:$D$65) -> #NAME? | F24: =WORKDAY.INTL(E24,10,1,'Jour férié'!$D$6:$D$65) -> #NAME? | G24: =IF(C28-E24=0,"",C28-E24) -> #NAME? | H24: =IF(G24<>"",E24+G24,"") -> #NAME?
A25: PHB59 | B25: 12 | C25: =WORKDAY.INTL(C24,B25,1,'Jour férié'!$D$6:$D$65) -> #NAME? | D25: =WORKDAY.INTL(C25,B25*2,1,'Jour férié'!$D$6:$D$65) -> #NAME? | E25: =WORKDAY.INTL(C25,B25*4,1,'Jour férié'!$D$6:$D$65) -> #NAME? | F25: =WORKDAY.INTL(E25,10,1,'Jour férié'!$D$6:$D$65) -> #NAME?
A26: PHB60 | B26: 12 | C26: =WORKDAY.INTL(C25,B26,1,'Jour férié'!$D$6:$D$65) -> #NAME? | D26: =WORKDAY.INTL(C26,B26*2,1,'Jour férié'!$D$6:$D$65) -> #NAME? | E26: =WORKDAY.INTL(C26,B26*4,1,'Jour férié'!$D$6:$D$65) -> #NAME? | F26: =WORKDAY.INTL(E26,10,1,'Jour férié'!$D$6:$D$65) -> #NAME?
A27: PHB61 | B27: 12 | C27: =WORKDAY.INTL(C26,B27,1,'Jour férié'!$D$6:$D$65) -> #NAME? | D27: =WORKDAY.INTL(C27,B27*2,1,'Jour férié'!$D$6:$D$65) -> #NAME? | E27: =WORKDAY.INTL(C27,B27*4,1,'Jour férié'!$D$6:$D$65) -> #NAME? | F27: =WORKDAY.INTL(E27,10,1,'Jour férié'!$D$6:$D$65) -> #NAME?
A28: PHB62 | B28: 12 | C28: =WORKDAY.INTL(C27,B28,1,'Jour férié'!$D$6:$D$65) -> #NAME? | D28: =WORKDAY.INTL(C28,B28*2,1,'Jour férié'!$D$6:$D$65) -> #NAME? | E28: =WORKDAY.INTL(C28,B28*4,1,'Jour férié'!$D$6:$D$65) -> #NAME? | F28: =WORKDAY.INTL(E28,10,1,'Jour férié'!$D$6:$D$65) -> #NAME?

Sheet Actuel
B3: Entrée chaine | C3: Ecart | D3: Pontage | E3: Sortie de chaîne | F3: Livraison
A4: PHB37 | B4: 42901
A5: PHB38 | B5: 42925 | C5: =NETWORKDAYS.INTL(B4,B5,1,'Jour férié'!$D$6:$D$50) -> #NAME?
A6: PHB39 | B6: 42937 | C6: =NETWORKDAYS.INTL(B5,B6,1,'Jour férié'!$D$6:$D$50) -> #NAME?
A7: PHB40 | B7: 42990 | C7: =NETWORKDAYS.INTL(B6,B7,1,'Jour férié'!$D$6:$D$50) -> #NAME?
A8: PHB41 | B8: 43010 | C8: =NETWORKDAYS.INTL(B7,B8,1,'Jour férié'!$D$6:$D$50) -> #NAME?
A9: PHB42 | B9: 43034 | C9: =NETWORKDAYS.INTL(B8,B9,1,'Jour férié'!$D$6:$D$50) -> #NAME?
A10: PHB43 | B10: 43053 | C10: =NETWORKDAYS.INTL(B9,B10,1,'Jour férié'!$D$6:$D$50) -> #NAME?
A11: PHB44 | B11: 43069 | C11: =NETWORKDAYS.INTL(B10,B11,1,'Jour férié'!$D$6:$D$50) -> #NAME?
A12: PHB45 | B12: 43081 | C12: =NETWORKDAYS.INTL(B11,B12,1,'Jour férié'!$D$6:$D$50) -> #NAME?
A13: PHB46 | B13: 43114 | C13: =NETWORKDAYS.INTL(B12,B13,1,'Jour férié'!$D$6:$D$50) -> #NAME?
A14: PHB47 | B14: 43131 | C14: =NETWORKDAYS.INTL(B13,B14,1,'Jour férié'!$D$6:$D$50) -> #NAME?
A15: PHB48 | B15: 43147 | C15: =NETWORKDAYS.INTL(B14,B15,1,'Jour férié'!$D$6:$D$50) -> #NAME?
A16: PHB49 | B16: 43160 | C16: =NETWORKDAYS.INTL(B15,B16,1,'Jour férié'!$D$6:$D$50) -> #NAME?
... A29: PHB62 | B29: 43364 | C29: =NETWORKDAYS.INTL(B28,B29,1,'Jour férié'!$D$6:$D$50) -> #NAME?

Sheet Jour férié
A3: Année | B3: 2017
A4: Année | B4: 2018
A5: Jours férié | B5: Date
C6: Jour de l'an | D6: =DATE($B$3,1,1) -> 42736
C7: Pâques | D7: =FLOOR(DAY(MINUTE($B$3/38)/2+56)&"/5/"&$B$3,7)-34 -> 42841
C8: Fêtes du travail | D8: =(DATE($B$3,5,1)) -> 42856 | I8: 42863 | K8: =NETWORKDAYS(I8,I9,D9) -> 4
C9: Armistice 39/45 | D9: =DATE($B$3,5,8) -> 42863 | I9: 42869 | K9: =NETWORKDAYS.INTL(I8,I9,1,D9) -> 4
C10: Ascension | D10: =D7+39 -> 42880
C11: Pentecote | D11: =D7+49 -> 42890
C12: Fête nationale | D12: =DATE($B$3,7,14) -> 42930
C13: Assomption | D13: =DATE($B$3,8,15) -> 42962
C14: Toussaint | D14: =DATE($B$3,11,1) -> 43040
C15: Armistice 14/18 | D15: =DATE($B$3,11,11) -> 43050
C16: Noël | D16: =DATE($B$3,12,25) -> 43094
C17: Jour de l'an | D17: =DATE($B$4,1,1) -> 43101
C18: Pâques | D18: =FLOOR(DAY(MINUTE($B$4/38)/2+56)&"/5/"&$B$4,7)-34 -> 43191
C19: Fêtes du travail | D19: =(DATE($B$4,5,1)) -> 43221
C20: Armistice 39/45 | D20: =DATE($B$4,5,8) -> 43228
C21: Ascension | D21: =D18+39 -> 43230
C22: Pentecote | D22: =D18+49 -> 43240
C23: Fête nationale | D23: =DATE($B$4,7,14) -> 43295
C24: Assomption | D24: =DATE($B$4,8,15) -> 43327
C25: Toussaint | D25: =DATE($B$4,11,1) -> 43405
C26: Armistice 14/18 | D26: =DATE($B$4,11,11) -> 43415
C27: Noël | D27: =DATE($B$4,12,25) -> 43459
B28: Vacances | C28: CP noel | D28: 43095
C29: CP noel | D29: 43096
C30: CP noel | D30: 43097
C31: CP noel | D31: 43098
C32: CP été | D32: 43318
C33: CP été | D33: 43319
C34: CP été | D34: 43320
C35: CP été | D35: 43321
C36: CP été | D36: 43322
C37: CP été | D37: 43325
C38: CP été | D38: 43326
C39: CP été | D39: 43327
C40: CP été | D40: 43328
... C47: Pont | D47: 43220
D48: 43227
D49: 43229
D50: 43231

Sheet Paramètres
A1: Cadence | B1: 12
A2: Ecart entrée de chaine / pontage | B2: 24
A3: Ecart Pontage / sortie | B3: 24
A4: Ecart sortie / livraison | B4: 10
