Workbook

Sheet Compte rendu 
C1: =INDEX(Actionneur!C:C,MATCH('Compte rendu '!C7:G7,Actionneur!F:F,0)) -> 04100S
A3: Référence Actionneur
A4: Appareil concerné : | C4: =INDEX(Actionneur!$K:$K,MATCH('Compte rendu '!$C$7:$C$7,Actionneur!$F:$F,0)) -> ACTIONNEUR ROBINET DE BARRAGE 12, ROV012
A5: Fabriquant : | B5: =INDEX(Actionneur!E:E,MATCH(#REF!,Actionneur!F:F,0)) -> #REF! | C5: =INDEX(Actionneur!$E:$E,MATCH('Compte rendu '!$C$7:$C$7,Actionneur!$F:$F,0)) -> BIFFI
A6: Modèle : | C6: =INDEX(Actionneur!$G:$G,MATCH('Compte rendu '!$C$7:$C$7,Actionneur!$F:$F,0)) -> GIG 0.9S-135-MHP 135
A7: N° de Série : | B7: 11986 | C7: 091916G07001
A8: Q.té d'huile :
A10: Référence : | C10: Commande pneumatique | E10: Commande hydraulique
A11: N°Commande :
A12: Confirmat :
A13: Matricule :
A14: Modèle :
A15: Année de constr:
A16: Fluide :
A17: Plage de temp admissible :
A18: Pression admissible :
A19: Plage pression alimentation :
A20: Tag vanne :
A21: DN :
C24: CONSTAT AVANT INTERVENTION
A27: Etat de l'appareil : | E27: Postion robinet :
C28: Fonctionnel | F28: ouvert
C29: Hors Service | F29: fermé
C30: Fuyard
C31: Corrodé
A34: Manœuvre hydraulique : | D34: Manœuvre Pneumatique :
C35: Fonctionnelle | F35: Fonctionnelle
C36: Non-fonctionelle | F36: Non-fonctionelle
C39: TEMPS DU CYCLE AVANT REVISION
A41: Ouverture : | E41: Fermeture :
C44: COMMENTAIRE/PROBLEME RENCONTRE
A54: Avant démontage : | F54: Réalisé | G54: Non-Réalisé
B55: Isolation de l'actionneur
B56: Consignation de l'actionneur
B57: Purge du système gaz
B58: Purge du système hydraulique
A59: Commentaires :
A65: Partie vérin pneumatique : | F65: Réalisé | G65: Non-Réalisé
A66: Démontage :
C67: Dépose des connexions tubing
...

Sheet Compte rendu sans formule
B3: Référence Actionneur
B4: Appareil concerné : | D4: ACTIONNEUR ROB
B5: Fabriquant : | C5: =INDEX(Actionneur!E:E,MATCH(#REF!,Actionneur!F:F,0)) -> #REF!
B6: Modèle :
B7: N° de Série : | C7: 11986 | D7: 11 986
B8: Q.té d'huile :
B10: Référence : | D10: Commande pneumatique | F10: Commande hydraulique
B11: N°Commande :
B12: Confirmat :
B13: Matricule :
B14: Modèle :
B15: Année de constr:
B16: Fluide :
B17: Plage de temp admissible :
B18: Pression admissible :
B19: Plage pression alimentation :
B20: Tag vanne :
B21: DN :
D24: CONSTAT AVANT INTERVENTION
B27: Etat de l'appareil : | F27: Postion robinet :
D28: Fonctionnel | G28: ouvert
D29: Hors Service | G29: fermé
D30: Fuyard
D31: Corrodé
B34: Manœuvre hydraulique : | E34: Manœuvre Pneumatique :
D35: Fonctionnelle | G35: Fonctionnelle
D36: Non-fonctionelle | G36: Non-fonctionelle
D39: TEMPS DU CYCLE AVANT REVISION
B41: Ouverture : | F41: Fermeture :
D44: COMMENTAIRE/PROBLEME RENCONTRE
B54: Avant démontage : | G54: Réalisé | H54: Non-Réalisé
C55: Isolation de l'actionneur
C56: Consignation de l'actionneur
C57: Purge du système gaz
C58: Purge du système hydraulique
B59: Commentaires :
B65: Partie vérin pneumatique : | G65: Réalisé | H65: Non-Réalisé
B66: Démontage :
D67: Dépose des connexions tubing
D68: Dépose flasque extérieure
...

Sheet Actionneur
A1: Objet | B1: N°Actionneur | C1: Poste | E1: Fabricant | F1: Numéro de série | G1: Modèle | H1: Pression mini actionneur | I1: Type d'actionneur | J1: N° série du réducteur | K1: Désignation | L1: Avec positionneur | M1: Commande à distance | N1: Pression maxi actionneur
A2: RPAU-03-01000S-LG001-NM072 | B2: =MID(A2,24,5) -> 072 | C2: =MID(A2,9,6) -> 01000S | E2: CAI ACTUATORS | F2: 11 986 | G2: 302R315 | K2: ACTIONNEUR DU ROBINET 72 | M2: OUI
A3: RPAU-03-01000S-LG002-NM44 | B3: =MID(A3,24,5) -> 44 | C3: =MID(A3,9,6) -> 01000S | E3: BIFFI | F3: 0622157E07003 | G3: 100-010/1000-SR | I3: Electrique | K3: ACTIONNEUR DU ROBINET 44 | M3: NON
A4: RPAU-03-01000S-LG002-NM69 | C4: 01000S | E4: ROTORK MOTORISATION S.A. | F4: F 09283010103 | G4: 16 AF 14B4 | I4: Electrique | K4: ACTIONNEUR DU ROBINET 69 | M4: OUI
A5: RPAU-03-01000S-LG002-NM79 | B5: =MID(A5,24,5) -> 79 | C5: =MID(A5,9,6) -> 01000S | E5: CAI ACTUATORS | F5: 74260 | G5: 122/125 | K5: ACTIONNEUR DU ROBINET 79 | M5: OUI
A6: RPAU-03-01000S-LG003-NM41 | B6: =MID(A6,24,5) -> 41 | C6: =MID(A6,9,6) -> 01000S | E6: BIFFI | F6: 062157E07001 | G6: 100-010/1000-SR | I6: Electrique | K6: ACTIONNEUR DU ROBINET 41 | M6: NON
A7: RPAU-03-01000S-LG003-NM92 | C7: 01000S | E7: ROTORK MOTORISATION S.A. | F7: Z489070101 | G7: IQT 125 | I7: Electrique | K7: ACTIONNEUR DU ROBINET 92 | M7: NON
A8: RPAU-03-01000S-LG004-NM40 | B8: =MID(A8,24,5) -> 40 | C8: =MID(A8,9,6) -> 01000S | E8: BIFFI | F8: 062157E06001 | G8: 400-020/4000 SR | I8: Electrique | K8: ACTIONNEUR DU ROBINET 40 | M8: NON
A9: RPAU-03-01000S-LG004-NM50 | B9: =MID(A9,24,5) -> 50 | C9: =MID(A9,9,6) -> 01000S | E9: BIFFI | F9: 062157E07002 | G9: 100-010/1000-SR | I9: Electrique | K9: ACTIONNEUR DU ROBINET 50 | M9: NON
A10: RPAU-03-01000S-LG004-NM91 | C10: 01000S | E10: ROTORK MOTORISATION S.A. | F10: Z 489070202 | G10: IQT 500 | I10: Electrique | K10: ACTIONNEUR DU ROBINET 91 | M10: NON
A11: RPAU-03-01000S-LG010-NM21 | C11: 01000S | E11: ROTORK MOTORISATION S.A. | F11: F 6649 A4 | G11: 11A | K11: ACTIONNEUR DU ROBINET 21 | M11: OUI
A12: RPAU-03-01000S-LG010-NM22 | C12: 01000S | E12: ROTORK MOTORISATION S.A. | F12: F 6649 A2 | G12: 11A | I12: Electrique | K12: ACTIONNEUR DU ROBINET 22 | M12: OUI
A13: RPAU-03-01000S-LG011-NM20 | C13: 01000S | E13: ROTORK MOTORISATION S.A. | F13: F 6649A1 | G13: 11A | I13: Electrique | K13: ACTIONNEUR DU ROBINET 20 | M13: OUI
A14: RPAU-03-01000S-LG011-NM26 | C14: 01000S | E14: ROTORK MOTORISATION S.A. | F14: F 6649A3 | G14: 11A | I14: Electrique | K14: ACTIONNEUR DU ROBINET 26 | M14: OUI
A15: RPAU-03-01000S-LG012-NM25 | C15: 01000S | K15: ACTIONNEUR DU ROBINET 25 | M15: OUI
A16: RPAU-03-01000S-LG013-NM57 | C16: 01000S | K16: ACTIONNEUR DU ROBINET 57 | M16: OUI
A17: RPAU-03-01000S-LG014-NM60 | C17: 01000S | E17: ROTORK MOTORISATION S.A. | F17: F 09283010102 | G17: 16 AF 14B4 | I17: Electrique | K17: ACTIONNEUR 60 | M17: OUI
A18: RPAU-03-01000S-LG015-NM63 | C18: 01000S | K18: ACTIONNEUR DU ROBINET 63 | M18: OUI | N18: 4,00 barg
A19: RPAU-03-01000S-LGDEC-NM23 | C19: 01000S | E19: ROTORK MOTORISATION S.A. | F19: F 06795 A2 | G19: 7A | K19: ACTIONNEUR DU ROBINET 23 | M19: OUI
A20: RPAU-03-01000S-LGDEC-NM24 | C20: 01000S | K20: ACTIONNEUR DU ROBINET 24 | M20: OUI
A21: RPAU-03-01000S-LGDEC-NM82 | C21: 01000S | K21: ACTIONNEUR DU ROBINET 82 | M21: OUI
A22: RPAU-03-02070S-LG001-NM31 | C22: 02070S | E22: FRANCE OPERATOR INDUSTRIE | F22: 03/5458/92 | G22: APR 8160.0V | K22: ACTIONNEUR DU ROBINET N°31 | L22: NON | M22: NON
A23: RPAU-03-02080S-LG001-NM2 | C23: 02080S | E23: FRANCE OPERATOR INDUSTRIE | F23: 01/5458/92 | G23: APR 8160.0V | K23: ACTIONNEUR DU ROBINET 2 | L23: NON | M23: NON
A24: RPAU-03-02140L-LC001-NM277 | C24: 02140L | K24: ACTIONNEUR LA VANNE BDV277
A25: RPAU-03-02140L-UTCOM-NM018 | C25: 02140L | K25: ACTIONNEUR ROBINET 18
A26: RPAU-03-02140L-UTCOM-NM028 | C26: 02140L | K26: ACTIONNEUR ROBINET 28
A27: RPAU-03-02410L-ANI01-NM243 | C27: 02410L | F27: ILLISIBLE | K27: ACTIONNEUR DU ROBINET 243, SDV243
A28: RPAU-03-02410L-LC001-NM204 | B28: =MID(A28,24,5) -> 204 | C28: =MID(A28,9,6) -> 02410L | E28: BIFFI | F28: 041244G04001 | G28: GIG 1.5S-175 MHP 175 | K28: ACTIONNEUR DU ROBINET 204, ROV204 | M28: OUI
A29: RPAU-03-02410L-LC001-NM205 | B29: =MID(A29,24,5) -> 205 | C29: =MID(A29,9,6) -> 02410L | E29: BIFFI | F29: 041244G04010 | G29: GIG 1.5S-175 MHP 175 | K29: ACTIONNEUR DU ROBINET 205, ROV205 | M29: OUI
A30: RPAU-03-02410L-LC001-NM208 | B30: =MID(A30,24,5) -> 208 | C30: =MID(A30,9,6) -> 02410L | E30: BIFFI | F30: 041244G04002 | G30: GIG 1.5S-175 MHP 175 | K30: ACTIONNEUR DU ROBINET 208, ROV208 | M30: OUI
A31: RPAU-03-02410L-LG011-NM211 | B31: =MID(A31,24,5) -> 211 | C31: =MID(A31,9,6) -> 02410L | E31: BIFFI | K31: ACTIONNEUR DU ROBINET 211 | M31: OUI
A32: RPAU-03-02410L-LG011-NM701 | B32: =MID(A32,24,5) -> 701 | C32: =MID(A32,9,6) -> 02410L | E32: BIFFI | K32: ACTIONNEUR LA VANNE 701 | M32: OUI
A33: RPAU-03-02410L-LGDEC-ZC283 | C33: 02410L | E33: OPERMAN MASTERGEAR | F33: 1907 | G33: WG10 | K33: REDUCTEUR DU ROBINET 283, BDV283
A34: RPAU-03-02410L-LP001-NM204 | B34: =MID(A34,24,5) -> 204 | C34: =MID(A34,9,6) -> 02410L | E34: BIFFI | F34: 041244G04001 | G34: GIG 1.5S-175 MHP 175 | K34: ACTIONNEUR DU ROBINET 204 | M34: OUI
A35: RPAU-03-02410L-LP001-NM205 | B35: =MID(A35,24,5) -> 205 | C35: =MID(A35,9,6) -> 02410L | E35: BIFFI | F35: 041244G04010 | G35: GIG 1.5S-175 MHP 175 | K35: ACTIONNEUR DU ROBINET 205 | M35: OUI
A36: RPAU-03-02410L-LP001-NM208 | B36: =MID(A36,24,5) -> 208 | C36: =MID(A36,9,6) -> 02410L | E36: BIFFI | F36: 041244G04002 | G36: GIG 1.5S-175 MHP 175 | K36: ACTIONNEUR DU ROBINET 208 | M36: OUI
A37: RPAU-03-02410L-LP001-NM210 | B37: =MID(A37,24,5) -> 210 | C37: =MID(A37,9,6) -> 02410L | E37: BIFFI | F37: 041244G04005 | G37: GIG 1.5S-175 MHP 175 | K37: ACTIONNEUR DU ROBINET 210, ROV210 | M37: OUI
A38: RPAU-03-02410L-LP001-NM211 | B38: =MID(A38,24,5) -> 211 | C38: =MID(A38,9,6) -> 02410L | E38: BIFFI | F38: ILLISIBLE | K38: ACTIONNEUR DU ROBINET 211, ROV211 | M38: OUI
A39: RPAU-03-02410L-LP001-NM220 | B39: =MID(A39,24,5) -> 220 | C39: =MID(A39,9,6) -> 02410L | E39: BIFFI | F39: 041244G04005 | G39: GIG 1.5S-175 MHP 175 | K39: ACTIONNEUR DU ROBINET 220 | M39: OUI
A40: RPAU-03-02410L-LP001-NM221 | B40: =MID(A40,24,5) -> 221 | C40: =MID(A40,9,6) -> 02410L | E40: BIFFI | F40: 041244G04003 | G40: GIG 1.5S-175 MHP 175 | K40: ACTIONNEUR DU ROBINET 221 | M40: OUI
...

Sheet Poste
A1: N°Poste | B1: Lieu | C1: Secteur
A2: 02625S | B2: ORTHEZ Arrivée GrDF VILLE | C2: LACQ
A3: 07070L | B3: GRDF SOUMOULOU | C3: TARBES
A4: 07220L | B4: EADS SOCATA Ossun | C4: TARBES
A5: 01000S | B5: Lacq station (Gare) | C5: LACQ
A6: 01000S | B6: LACQ STATION | C6: LACQ
A7: 01010L | B7: ARKEMA FRANCE GRL | C7: LACQ
A8: 01020L | B8: S0BEGI LACQ | C8: LACQ
A9: 01030S | B9: Lacq Audejos | C9: LACQ
A10: 01050S | B10: DENGUIN | C10: LACQ
A11: 01055S | B11: LESCAR GrDF PAU (100) | C11: TARBES
A12: 01060L | B12: GrDF Denguin | C12: LACQ
... A375: 17300L | B375: GRDF TARDETS A ALOS | C375: LACQ
