Workbook

Sheet Compte rendu 
C1: =INDEX(Actionneur!C:C,MATCH('Compte rendu '!C7:G7,Actionneur!F:F,0)) -> 04100S
A3: Référence Actionneur
A4: Appareil concerné : | C4: =INDEX(Actionneur!$K:$K,MATCH('Compte rendu '!$C$7:$C$7,Actionneur!$F:$F,0)) -> ACTIONNEUR ROBINET DE BARRAGE 12, ROV012
A5: Fabriquant : | B5: =INDEX(Actionneur!E:E,MATCH(#REF!,Actionneur!F:F,0)) -> #REF! | C5: =INDEX(Actionneur!$E:$E,MATCH('Compte rendu '!$C$7:$C$7,Actionneur!$F:$F,0)) -> BIFFI
A6: Modèle : | C6: =INDEX(Actionneur!$G:$G,MATCH('Compte rendu '!$C$7:$C$7,Actionneur!$F:$F,0)) -> GIG 0.9S-135-MHP 135
A7: N° de Série : | B7: 11986 | C7: 091916G07001
A8: Q.té d'huile :
A10: Référence : | C10: Commande pneumatique | E10: Commande hydraulique
A11: N°Commande :
A12: Confirmat :
A13: Matricule :
A14: Modèle :
A15: Année de constr:
A16: Fluide :
A17: Plage de temp admissible :
A18: Pression admissible :
A19: Plage pression alimentation :
A20: Tag vanne :
A21: DN :
C24: CONSTAT AVANT INTERVENTION
A27: Etat de l'appareil : | E27: Postion robinet :
C28: Fonctionnel | F28: ouvert
C29: Hors Service | F29: fermé
C30: Fuyard
C31: Corrodé
A34: Manœuvre hydraulique : | D34: Manœuvre Pneumatique :
C35: Fonctionnelle | F35: Fonctionnelle
C36: Non-fonctionelle | F36: Non-fonctionelle
C39: TEMPS DU CYCLE AVANT REVISION
A41: Ouverture : | E41: Fermeture :
C44: COMMENTAIRE/PROBLEME RENCONTRE
A54: Avant démontage : | F54: Réalisé | G54: Non-Réalisé
B55: Isolation de l'actionneur
B56: Consignation de l'actionneur
B57: Purge du système gaz
B58: Purge du système hydraulique
A59: Commentaires :
A65: Partie vérin pneumatique : | F65: Réalisé | G65: Non-Réalisé
A66: Démontage :
C67: Dépose des connexions tubing
C68: Dépose flasque extérieure
C69: Dépose du fût
C70: Dépose de l'ensemble piston/tige
C71: Dépose de la flasque intérieure
C72: Nettoyage de tous les éléments déposés
C73: Remplacement des joints (voir annexe)
A74: Remontage :
C75: Remontage flasque intérieure
C76: Remontage du fût
C77: Remontage de l'ensemble piston/tige
C78: Remontage flasque extérieure
C79: Remontage connexion gaz
A80: Commentaires :
A89: Commande pneumatique : | F89: Réalisé | G89: Non-Réalisé
A90: Démontage :
C91: Démontage de la commande pneumatique
C92: Nettoyage
C93: Remplacement de tous les joints
A94: Remontage :
C95: Remontage de la commande pneumatique
C96: Essais / manœuvres
A97: Commentaires :
A104: Partie vérin hydraulique | F104: Réalisé | G104: Non-Réalisé
A105: Démontage :
C106: Dépose des connexions tubing
C107: Dépose flasque extérieure
C108: Dépose du fût
C109: Dépose de l'ensemble piston/tige
C110: Dépose de la flasque intérieure
C111: Nettoyage de tous les éléments déposés
C112: Remplacement de tous les joints
A113: Remontage :
C114: Remontage flasque intérieure
C115: Remontage du fût
C116: Remontage de l'ensemble piston/tige
C117: Remontage flasque extérieure
C118: Remontage connexion gaz+B119:H124
A119: Commentaires :
A131: Commande hydraulique : | F131: Réalisé | G131: Non-Réalisé
A132: Démontage :
C133: Démontage de la pompe hydraulique
C134: Nettoyage
C135: Remplacement de tous les joints
A136: Remontage :
C137: Remontage de la pompe
C138: Remplissage d'huile
C139: Essais/manœuvres
A140: Commentaires :
A154: Partie mécanisme : | F154: Réalisé | G154: Non-Réalisé
A155: Démontage :
C156: Dépose de l'indicateur de postion
C157: Dépose du carter supérieur
C158: Dépose de l'axe
C159: Dépose de la fourchette + bloc guide
C160: Dépose de l'entretoise clavetée
C161: Nettoyage des pièces déposées
C162: Changement des joints (voir annexe)
A163: Remontage :
C164: Repose de l'entreoise clavetée
C165: Remontage de la fourchette + bloc guide
...

Sheet Compte rendu sans formule
B3: Référence Actionneur
B4: Appareil concerné : | D4: ACTIONNEUR ROB
B5: Fabriquant : | C5: =INDEX(Actionneur!E:E,MATCH(#REF!,Actionneur!F:F,0)) -> #REF!
B6: Modèle :
B7: N° de Série : | C7: 11986 | D7: 11 986
B8: Q.té d'huile :
B10: Référence : | D10: Commande pneumatique | F10: Commande hydraulique
B11: N°Commande :
B12: Confirmat :
B13: Matricule :
B14: Modèle :
B15: Année de constr:
B16: Fluide :
B17: Plage de temp admissible :
B18: Pression admissible :
B19: Plage pression alimentation :
B20: Tag vanne :
B21: DN :
D24: CONSTAT AVANT INTERVENTION
B27: Etat de l'appareil : | F27: Postion robinet :
D28: Fonctionnel | G28: ouvert
D29: Hors Service | G29: fermé
D30: Fuyard
D31: Corrodé
B34: Manœuvre hydraulique : | E34: Manœuvre Pneumatique :
D35: Fonctionnelle | G35: Fonctionnelle
D36: Non-fonctionelle | G36: Non-fonctionelle
D39: TEMPS DU CYCLE AVANT REVISION
B41: Ouverture : | F41: Fermeture :
D44: COMMENTAIRE/PROBLEME RENCONTRE
B54: Avant démontage : | G54: Réalisé | H54: Non-Réalisé
C55: Isolation de l'actionneur
C56: Consignation de l'actionneur
C57: Purge du système gaz
C58: Purge du système hydraulique
B59: Commentaires :
B65: Partie vérin pneumatique : | G65: Réalisé | H65: Non-Réalisé
B66: Démontage :
D67: Dépose des connexions tubing
D68: Dépose flasque extérieure
D69: Dépose du fût
D70: Dépose de l'ensemble piston/tige
D71: Dépose de la flasque intérieure
D72: Nettoyage de tous les éléments déposés
D73: Remplacement des joints (voir annexe)
B74: Remontage :
D75: Remontage flasque intérieure
D76: Remontage du fût
D77: Remontage de l'ensemble piston/tige
D78: Remontage flasque extérieure
D79: Remontage connexion gaz
B80: Commentaires :
B89: Commande pneumatique : | G89: Réalisé | H89: Non-Réalisé
B90: Démontage :
D91: Démontage de la commande pneumatique
D92: Nettoyage
D93: Remplacement de tous les joints
B94: Remontage :
D95: Remontage de la commande pneumatique
D96: Essais / manœuvres
B97: Commentaires :
B104: Partie vérin hydraulique | G104: Réalisé | H104: Non-Réalisé
B105: Démontage :
D106: Dépose des connexions tubing
D107: Dépose flasque extérieure
D108: Dépose du fût
D109: Dépose de l'ensemble piston/tige
D110: Dépose de la flasque intérieure
D111: Nettoyage de tous les éléments déposés
D112: Remplacement de tous les joints
B113: Remontage :
D114: Remontage flasque intérieure
D115: Remontage du fût
D116: Remontage de l'ensemble piston/tige
D117: Remontage flasque extérieure
D118: Remontage connexion gaz+B119:H124
B119: Commentaires :
B131: Commande hydraulique : | G131: Réalisé | H131: Non-Réalisé
B132: Démontage :
D133: Démontage de la pompe hydraulique
D134: Nettoyage
D135: Remplacement de tous les joints
B136: Remontage :
D137: Remontage de la pompe
D138: Remplissage d'huile
D139: Essais/manœuvres
B140: Commentaires :
B154: Partie mécanisme : | G154: Réalisé | H154: Non-Réalisé
B155: Démontage :
D156: Dépose de l'indicateur de postion
D157: Dépose du carter supérieur
D158: Dépose de l'axe
D159: Dépose de la fourchette + bloc guide
D160: Dépose de l'entretoise clavetée
D161: Nettoyage des pièces déposées
D162: Changement des joints (voir annexe)
B163: Remontage :
D164: Repose de l'entreoise clavetée
D165: Remontage de la fourchette + bloc guide
D166: Remontage de l'axe
...

Sheet Actionneur
A1: Objet | B1: N°Actionneur | C1: Poste | E1: Fabricant | F1: Numéro de série | G1: Modèle | H1: Pression mini actionneur | I1: Type d'actionneur | J1: N° série du réducteur | K1: Désignation | L1: Avec positionneur | M1: Commande à distance | N1: Pression maxi actionneur
A2: RPAU-03-01000S-LG001-NM072 | B2: =MID(A2,24,5) -> 072 | C2: =MID(A2,9,6) -> 01000S | E2: CAI ACTUATORS | F2: 11 986 | G2: 302R315 | K2: ACTIONNEUR DU ROBINET 72 | M2: OUI
A3: RPAU-03-01000S-LG002-NM44 | B3: =MID(A3,24,5) -> 44 | C3: =MID(A3,9,6) -> 01000S | E3: BIFFI | F3: 0622157E07003 | G3: 100-010/1000-SR | I3: Electrique | K3: ACTIONNEUR DU ROBINET 44 | M3: NON
A4: RPAU-03-01000S-LG002-NM69 | C4: 01000S | E4: ROTORK MOTORISATION S.A. | F4: F 09283010103 | G4: 16 AF 14B4 | I4: Electrique | K4: ACTIONNEUR DU ROBINET 69 | M4: OUI
A5: RPAU-03-01000S-LG002-NM79 | B5: =MID(A5,24,5) -> 79 | C5: =MID(A5,9,6) -> 01000S | E5: CAI ACTUATORS | F5: 74260 | G5: 122/125 | K5: ACTIONNEUR DU ROBINET 79 | M5: OUI
A6: RPAU-03-01000S-LG003-NM41 | B6: =MID(A6,24,5) -> 41 | C6: =MID(A6,9,6) -> 01000S | E6: BIFFI | F6: 062157E07001 | G6: 100-010/1000-SR | I6: Electrique | K6: ACTIONNEUR DU ROBINET 41 | M6: NON
A7: RPAU-03-01000S-LG003-NM92 | C7: 01000S | E7: ROTORK MOTORISATION S.A. | F7: Z489070101 | G7: IQT 125 | I7: Electrique | K7: ACTIONNEUR DU ROBINET 92 | M7: NON
A8: RPAU-03-01000S-LG004-NM40 | B8: =MID(A8,24,5) -> 40 | C8: =MID(A8,9,6) -> 01000S | E8: BIFFI | F8: 062157E06001 | G8: 400-020/4000 SR | I8: Electrique | K8: ACTIONNEUR DU ROBINET 40 | M8: NON
A9: RPAU-03-01000S-LG004-NM50 | B9: =MID(A9,24,5) -> 50 | C9: =MID(A9,9,6) -> 01000S | E9: BIFFI | F9: 062157E07002 | G9: 100-010/1000-SR | I9: Electrique | K9: ACTIONNEUR DU ROBINET 50 | M9: NON
A10: RPAU-03-01000S-LG004-NM91 | C10: 01000S | E10: ROTORK MOTORISATION S.A. | F10: Z 489070202 | G10: IQT 500 | I10: Electrique | K10: ACTIONNEUR DU ROBINET 91 | M10: NON
A11: RPAU-03-01000S-LG010-NM21 | C11: 01000S | E11: ROTORK MOTORISATION S.A. | F11: F 6649 A4 | G11: 11A | K11: ACTIONNEUR DU ROBINET 21 | M11: OUI
A12: RPAU-03-01000S-LG010-NM22 | C12: 01000S | E12: ROTORK MOTORISATION S.A. | F12: F 6649 A2 | G12: 11A | I12: Electrique | K12: ACTIONNEUR DU ROBINET 22 | M12: OUI
A13: RPAU-03-01000S-LG011-NM20 | C13: 01000S | E13: ROTORK MOTORISATION S.A. | F13: F 6649A1 | G13: 11A | I13: Electrique | K13: ACTIONNEUR DU ROBINET 20 | M13: OUI
A14: RPAU-03-01000S-LG011-NM26 | C14: 01000S | E14: ROTORK MOTORISATION S.A. | F14: F 6649A3 | G14: 11A | I14: Electrique | K14: ACTIONNEUR DU ROBINET 26 | M14: OUI
A15: RPAU-03-01000S-LG012-NM25 | C15: 01000S | K15: ACTIONNEUR DU ROBINET 25 | M15: OUI
A16: RPAU-03-01000S-LG013-NM57 | C16: 01000S | K16: ACTIONNEUR DU ROBINET 57 | M16: OUI
A17: RPAU-03-01000S-LG014-NM60 | C17: 01000S | E17: ROTORK MOTORISATION S.A. | F17: F 09283010102 | G17: 16 AF 14B4 | I17: Electrique | K17: ACTIONNEUR 60 | M17: OUI
A18: RPAU-03-01000S-LG015-NM63 | C18: 01000S | K18: ACTIONNEUR DU ROBINET 63 | M18: OUI | N18: 4,00 barg
A19: RPAU-03-01000S-LGDEC-NM23 | C19: 01000S | E19: ROTORK MOTORISATION S.A. | F19: F 06795 A2 | G19: 7A | K19: ACTIONNEUR DU ROBINET 23 | M19: OUI
A20: RPAU-03-01000S-LGDEC-NM24 | C20: 01000S | K20: ACTIONNEUR DU ROBINET 24 | M20: OUI
A21: RPAU-03-01000S-LGDEC-NM82 | C21: 01000S | K21: ACTIONNEUR DU ROBINET 82 | M21: OUI
A22: RPAU-03-02070S-LG001-NM31 | C22: 02070S | E22: FRANCE OPERATOR INDUSTRIE | F22: 03/5458/92 | G22: APR 8160.0V | K22: ACTIONNEUR DU ROBINET N°31 | L22: NON | M22: NON
A23: RPAU-03-02080S-LG001-NM2 | C23: 02080S | E23: FRANCE OPERATOR INDUSTRIE | F23: 01/5458/92 | G23: APR 8160.0V | K23: ACTIONNEUR DU ROBINET 2 | L23: NON | M23: NON
A24: RPAU-03-02140L-LC001-NM277 | C24: 02140L | K24: ACTIONNEUR LA VANNE BDV277
A25: RPAU-03-02140L-UTCOM-NM018 | C25: 02140L | K25: ACTIONNEUR ROBINET 18
A26: RPAU-03-02140L-UTCOM-NM028 | C26: 02140L | K26: ACTIONNEUR ROBINET 28
A27: RPAU-03-02410L-ANI01-NM243 | C27: 02410L | F27: ILLISIBLE | K27: ACTIONNEUR DU ROBINET 243, SDV243
A28: RPAU-03-02410L-LC001-NM204 | B28: =MID(A28,24,5) -> 204 | C28: =MID(A28,9,6) -> 02410L | E28: BIFFI | F28: 041244G04001 | G28: GIG 1.5S-175 MHP 175 | K28: ACTIONNEUR DU ROBINET 204, ROV204 | M28: OUI
A29: RPAU-03-02410L-LC001-NM205 | B29: =MID(A29,24,5) -> 205 | C29: =MID(A29,9,6) -> 02410L | E29: BIFFI | F29: 041244G04010 | G29: GIG 1.5S-175 MHP 175 | K29: ACTIONNEUR DU ROBINET 205, ROV205 | M29: OUI
A30: RPAU-03-02410L-LC001-NM208 | B30: =MID(A30,24,5) -> 208 | C30: =MID(A30,9,6) -> 02410L | E30: BIFFI | F30: 041244G04002 | G30: GIG 1.5S-175 MHP 175 | K30: ACTIONNEUR DU ROBINET 208, ROV208 | M30: OUI
A31: RPAU-03-02410L-LG011-NM211 | B31: =MID(A31,24,5) -> 211 | C31: =MID(A31,9,6) -> 02410L | E31: BIFFI | K31: ACTIONNEUR DU ROBINET 211 | M31: OUI
A32: RPAU-03-02410L-LG011-NM701 | B32: =MID(A32,24,5) -> 701 | C32: =MID(A32,9,6) -> 02410L | E32: BIFFI | K32: ACTIONNEUR LA VANNE 701 | M32: OUI
A33: RPAU-03-02410L-LGDEC-ZC283 | C33: 02410L | E33: OPERMAN MASTERGEAR | F33: 1907 | G33: WG10 | K33: REDUCTEUR DU ROBINET 283, BDV283
A34: RPAU-03-02410L-LP001-NM204 | B34: =MID(A34,24,5) -> 204 | C34: =MID(A34,9,6) -> 02410L | E34: BIFFI | F34: 041244G04001 | G34: GIG 1.5S-175 MHP 175 | K34: ACTIONNEUR DU ROBINET 204 | M34: OUI
A35: RPAU-03-02410L-LP001-NM205 | B35: =MID(A35,24,5) -> 205 | C35: =MID(A35,9,6) -> 02410L | E35: BIFFI | F35: 041244G04010 | G35: GIG 1.5S-175 MHP 175 | K35: ACTIONNEUR DU ROBINET 205 | M35: OUI
A36: RPAU-03-02410L-LP001-NM208 | B36: =MID(A36,24,5) -> 208 | C36: =MID(A36,9,6) -> 02410L | E36: BIFFI | F36: 041244G04002 | G36: GIG 1.5S-175 MHP 175 | K36: ACTIONNEUR DU ROBINET 208 | M36: OUI
A37: RPAU-03-02410L-LP001-NM210 | B37: =MID(A37,24,5) -> 210 | C37: =MID(A37,9,6) -> 02410L | E37: BIFFI | F37: 041244G04005 | G37: GIG 1.5S-175 MHP 175 | K37: ACTIONNEUR DU ROBINET 210, ROV210 | M37: OUI
A38: RPAU-03-02410L-LP001-NM211 | B38: =MID(A38,24,5) -> 211 | C38: =MID(A38,9,6) -> 02410L | E38: BIFFI | F38: ILLISIBLE | K38: ACTIONNEUR DU ROBINET 211, ROV211 | M38: OUI
A39: RPAU-03-02410L-LP001-NM220 | B39: =MID(A39,24,5) -> 220 | C39: =MID(A39,9,6) -> 02410L | E39: BIFFI | F39: 041244G04005 | G39: GIG 1.5S-175 MHP 175 | K39: ACTIONNEUR DU ROBINET 220 | M39: OUI
A40: RPAU-03-02410L-LP001-NM221 | B40: =MID(A40,24,5) -> 221 | C40: =MID(A40,9,6) -> 02410L | E40: BIFFI | F40: 041244G04003 | G40: GIG 1.5S-175 MHP 175 | K40: ACTIONNEUR DU ROBINET 221 | M40: OUI
A41: RPAU-03-02410L-LS001-NM219 | B41: =MID(A41,24,5) -> 219 | C41: =MID(A41,9,6) -> 02410L | E41: BIFFI | F41: 041244G04006 | G41: GIG 1.5S-175 MHP 175 | K41: ACTIONNEUR DU ROBINET 219 | M41: OUI
A42: RPAU-03-02410L-LS001-NM220 | B42: =MID(A42,24,5) -> 220 | C42: =MID(A42,9,6) -> 02410L | E42: BIFFI | F42: 041244G04005 | G42: GIG 1.5S-175 MHP 175 | K42: ²ACTIONNEUR DU ROBINET 220, ROV220 | M42: OUI
A43: RPAU-03-02410L-LS001-NM221 | B43: =MID(A43,24,5) -> 221 | C43: =MID(A43,9,6) -> 02410L | E43: BIFFI | F43: 041244G04003 | G43: GIG 1.5S-175 MHP 175 | K43: ACTIONNEUR DU ROBINET 221, ROV221 | M43: OUI
A44: RPAU-03-02410L-LS001-NM277 | C44: 02410L | K44: ACTIONNEUR DU ROBINET BDV277
A45: RPAU-03-02410L-LS001-NM283 | C45: 02410L | E45: OPERMAN MASTERGEAR | F45: 1907 | G45: WG10 | K45: REDUCTEUR DU ROBINET BDV283
A46: RPAU-03-02410L-UTCOM-NM284 | C46: 02410L | E46: OPERMAN MASTERGEAR | F46: NS0180071 | G46: WGM50 | K46: REDUCTEUR DU ROBINET 284, HV284
A47: RPAU-03-02410L-UTCOM-NM285 | C47: 02410L | E47: OPERMAN MASTERGEAR | G47: M20/R30 | K47: REDUCTEUR DU ROBINET 285, HV285
A48: RPAU-03-02410L-UTCOM-NM287 | C48: 02410L | K48: ACTIONNEUR DU ROBINET 287, BDV287
A49: RPAU-03-02410S-LC021-NM201 | B49: =MID(A49,24,5) -> 201 | C49: =MID(A49,9,6) -> 02410S | E49: BIFFI | F49: ILLISIBLE | I49: Pneumatique Gaz naturel | K49: ACTIONNEUR DU ROBINET 201, PSDV201 | L49: NON | M49: OUI
A50: RPAU-03-02410S-LG001-NM206 | C50: 02410S | F50: ILLISIBLE | K50: ACTIONNEUR DU ROBINET 206, PSDV206 | L50: NON | M50: OUI
A51: RPAU-03-02410S-LG004-NM260 | B51: =MID(A51,24,5) -> 260 | C51: =MID(A51,9,6) -> 02410S | E51: LEDEEN-DRESSER | F51: ILLISIBLE | K51: ACTIONNEUR DU ROBINET 260, ROV260 | L51: NON | M51: OUI
A52: RPAU-03-02410S-LG004-NM261 | C52: 02410S | F52: ILLISIBLE | K52: ACTIONNEUR DU ROBINET 261, ROV261 | L52: NON | M52: OUI
A53: RPAU-03-02420S-LG001-NM301 | B53: =MID(A53,24,5) -> 301 | C53: =MID(A53,9,6) -> 02420S | E53: BIFFI | F53: 041244G02001 | G53: GIG 6S-175-MHP-175 | K53: ACTIONNEUR DU ROBINET 301, ROV301 | L53: NON | M53: NON
A54: RPAU-03-02430S-LC001-RNM201 | B54: =MID(A54,24,5) -> M201 | C54: =MID(A54,9,6) -> 02430S | E54: BIFFI | F54: 051185G01002 | G54: GIG 1.5S-135 MHP 135 | I54: Oléopneumatique | K54: ACTIONNEUR DU ROBINET ROV201 | L54: OUI | M54: OUI
A55: RPAU-03-02430S-LG001-NM210 | B55: =MID(A55,24,5) -> 210 | C55: =MID(A55,9,6) -> 02430S | E55: BIFFI | F55: 041244G10001 | G55: GIG 1.5S-135 MHP 135 | I55: Oléopneumatique | K55: ACTIONNEUR DU ROBINET PSDV210 | L55: OUI | M55: OUI
A56: RPAU-03-02430S-LG001-NM211 | B56: =MID(A56,24,5) -> 211 | C56: =MID(A56,9,6) -> 02430S | E56: BIFFI | F56: 041244G05001 | G56: GIG 1.5S-135 MHP 135 | I56: Oléopneumatique | K56: ACTIONNEUR DU ROBINET ESDV211 | L56: OUI | M56: OUI
A57: RPAU-03-02430S-LG001-NM221 | B57: =MID(A57,24,5) -> 221 | C57: =MID(A57,9,6) -> 02430S | E57: BIFFI | F57: 041244G05002 | G57: GIG 1.5S-135 MHP 135 | I57: Oléopneumatique | K57: ACTIONNEUR DU ROBINET ESDV221 | L57: OUI | M57: OUI
A58: RPAU-03-02430S-LG001-NM520 | B58: =MID(A58,24,5) -> 520 | C58: =MID(A58,9,6) -> 02430S | E58: BIFFI | F58: 041244G10002 | G58: GIG 1.5S-135 MHP 135 | I58: Oléopneumatique | K58: ACTIONNEUR DU ROBINET 520, PSDV520 | L58: OUI | M58: OUI
A59: RPAU-03-02430S-LG001-RNM101 | B59: =MID(A59,24,5) -> M101 | C59: =MID(A59,9,6) -> 02430S | E59: BIFFI | F59: 041244G02002 | G59: GIG 6S-175 MHP 175 | I59: Oléopneumatique | K59: ACTIONNEUR DU ROBINET ROV101 | L59: OUI | M59: OUI
A60: RPAU-03-02430S-LG002-HNM162 | B60: =MID(A60,24,5) -> M162 | C60: =MID(A60,9,6) -> 02430S | E60: BIFFI | F60: 133700G001001 | G60: GIG 1.5S‐175‐MHP‐175 | H60: 30,00 barg | I60: Pneumatique Gaz naturel | K60: ACTIONNEUR HNM162 | L60: OUI | N60: 85,00 barg
A61: RPAU-03-02430S-LG002-RNM102 | B61: =MID(A61,24,5) -> M102 | C61: =MID(A61,9,6) -> 02430S | E61: BIFFI | F61: 133696G001007 | G61: GIG 6S‐200/MHP‐200 | H61: 30,00 barg | I61: Pneumatique Gaz naturel | K61: ACTIONNEUR DU ROBINET ROV102 | L61: OUI | N61: 85,00 barg
A62: RPAU-03-02430S-LG003-NM203 | B62: =MID(A62,24,5) -> 203 | C62: =MID(A62,9,6) -> 02430S | E62: BIFFI | F62: 051185G01003 | G62: GIG 1.5S-135 MHP 135 | I62: Oléopneumatique | K62: ACTIONNEUR DU ROBINET ROV203 | L62: OUI | M62: OUI
A63: RPAU-03-02430S-LG004-NM202 | B63: =MID(A63,24,5) -> 202 | C63: =MID(A63,9,6) -> 02430S | E63: BIFFI | F63: 051185G01001 | G63: GIG 1.5S-135 MHP 135 | I63: Oléopneumatique | K63: ACTIONNEUR DU ROBINET ROV202 | L63: OUI | M63: OUI
A64: RPAU-03-02440S-LBP01-HNM160 | B64: =MID(A64,24,5) -> M160 | C64: =MID(A64,9,6) -> 02440S | E64: BIFFI | F64: 133696G002001 | G64: GIG 1.5S‐175‐MHP‐175 | H64: 30,00 barg | I64: Pneumatique Gaz naturel | K64: ACTIONNEUR HNM160 | L64: OUI | N64: 85,00 barg
A65: RPAU-03-02440S-LBP01-HNM162 | B65: =MID(A65,24,5) -> M162 | C65: =MID(A65,9,6) -> 02440S | E65: BIFFI | F65: 133696G002002 | G65: GIG 1.5S‐175‐MHP‐175 | H65: 30,00 barg | I65: Pneumatique Gaz naturel | K65: ACTIONNEUR HNM162 | L65: OUI | N65: 85,00 barg
A66: RPAU-03-02440S-LG001-RNM101 | B66: =MID(A66,24,5) -> M101 | C66: =MID(A66,9,6) -> 02440S | E66: BIFFI | F66: 133696G001001 | G66: GIG 6S‐200/MHP‐200 | H66: 30,00 barg | I66: Pneumatique Gaz naturel | K66: ACTIONNEUR DU ROBINET ROV101 | L66: OUI | N66: 85,00 barg
A67: RPAU-03-02450S-LBP01-HNM202 | C67: 02450S | K67: ACTIONNEUR ROBINET MOTORISÉ HV202
A68: RPAU-03-02450S-LBP01-SNM264 | C68: 02450S | K68: ACTIONNEUR DU ROBINET DE SECURITÉ SDV264
A69: RPAU-03-02450S-LBP02-HNM160 | C69: 02450S | K69: ACTIONNEUR ROBINET MOTORISÉ HV160
A70: RPAU-03-02450S-LBP02-HNM162 | C70: 02450S | K70: ACTIONNEUR ROBINET MOTORISÉ HV162
A71: RPAU-03-02450S-LC001-HNM201 | C71: 02450S | K71: ACTIONNEUR ROBINET MOTORISÉ HV201
A72: RPAU-03-02450S-LG001-RNM101 | C72: 02450S | K72: ACTIONNEUR DU ROBINET ROV101
A73: RPAU-03-02450S-LG001-RNM102 | C73: 02450S | K73: ACTIONNEUR DU ROBINET ROV102
A74: RPAU-03-02450S-LG002-HNM110 | C74: 02450S | K74: ACTIONNEUR ROBINET MOTORISÉ HV110
A75: RPAU-03-02450S-LG002-MNM112 | C75: 02450S | I75: Electrique | K75: ACTIONNEUR ROBINET MOTORISÉ MV112
A76: RPAU-03-02450S-LG002-RNM113 | C76: 02450S | K76: ACTIONNEUR DU ROBINET ROV113
A77: RPAU-03-02450S-LG004-RNM301 | C77: 02450S | K77: ACTIONNEUR DU ROBINET ROV301
A78: RPAU-03-02450S-LG004-RNM302 | C78: 02450S | K78: ACTIONNEUR DU ROBINET ROV302
A79: RPAU-03-02450S-LG004-RNM303 | C79: 02450S | K79: ACTIONNEUR DU ROBINET ROV303
A80: RPAU-03-02450S-LP001-PNM216 | C80: 02450S | K80: ACTIONNEUR DETENDEUR PRINCIPAL PCV216
A81: RPAU-03-02450S-LP001-RNM211 | C81: 02450S | K81: ACTIONNEUR DU ROBINET ROV211
A82: RPAU-03-02450S-LS001-HNM220 | C82: 02450S | K82: ACTIONNEUR ROBINET MOTORISÉ HV220
A83: RPAU-03-02450S-LS001-MNM226 | C83: 02450S | I83: Electrique | K83: ACTIONNEUR ROBINET MOTORISÉ MV226
A84: RPAU-03-02450S-LS001-RNM221 | C84: 02450S | K84: ACTIONNEUR DU ROBINET ROV221
A85: RPAU-03-02460S-LG001-RNM101 | B85: =MID(A85,24,5) -> M101 | C85: =MID(A85,9,6) -> 02460S | E85: BIFFI | F85: 133696G001004 | G85: GIG 6S‐200/MHP‐200 | H85: 30,00 barg | I85: Pneumatique Gaz naturel | K85: ACTIONNEUR DU ROBINET ROV101 | L85: OUI | N85: 85,00 barg
A86: RPAU-03-02470S-LG001-RNM101 | B86: =MID(A86,24,5) -> M101 | C86: =MID(A86,9,6) -> 02470S | E86: BIFFI | F86: 133741G002001 | G86: GIG 6S‐200/MHP‐200 | H86: 30,00 barg | I86: Pneumatique Gaz naturel | K86: ACTIONNEUR DU ROBINET ROV101 | L86: NON | M86: NON | N86: 85,00 barg
A87: RPAU-03-02470S-LGDEC-HNM160 | B87: =MID(A87,24,5) -> M160 | C87: =MID(A87,9,6) -> 02470S | E87: BIFFI | F87: 133741G001001 | G87: GIG 1.5S‐175‐MHP‐175 | H87: 30,00 barg | I87: Pneumatique Gaz naturel | K87: ACTIONNEUR ROBINET MOTORISÉ HV160 | L87: NON | M87: NON | N87: 85,00 barg
A88: RPAU-03-02470S-LGDEC-HNM195 | B88: =MID(A88,24,5) -> M195 | C88: =MID(A88,9,6) -> 02470S | E88: BIFFI | F88: 133741G001003 | G88: GIG 1.5S‐175‐MHP‐175 | H88: 30,00 barg | I88: Pneumatique Gaz naturel | K88: ACTIONNEUR ROBINET MOTORISÉ HV195 | L88: NON | M88: NON | N88: 85,00 barg
A89: RPAU-03-02470S-LGRAC-HNM110 | B89: =MID(A89,24,5) -> M110 | C89: =MID(A89,9,6) -> 02470S | E89: BIFFI | F89: 133741G003001 | G89: GIG 6S‐200/MHP‐200 | H89: 30,00 barg | I89: Pneumatique Gaz naturel | K89: ACTIONNEUR ROBINET MOTORISÉ HV110 | L89: NON | M89: NON | N89: 85,00 barg
A90: RPAU-03-02470S-LGRAC-HNM130 | B90: =MID(A90,24,5) -> M130 | C90: =MID(A90,9,6) -> 02470S | E90: BIFFI | F90: 133741G003002 | G90: GIG 6S‐200/MHP‐200 | H90: 30,00 barg | I90: Pneumatique Gaz naturel | K90: ACTIONNEUR ROBINET MOTORISÉ HV130 | L90: NON | M90: NON | N90: 85,00 barg
A91: RPAU-03-02470S-LGRAC-HNM162 | B91: =MID(A91,24,5) -> M162 | C91: =MID(A91,9,6) -> 02470S | E91: BIFFI | F91: 133741G001002 | G91: GIG 1.5S‐175‐MHP‐175 | H91: 30,00 barg | I91: Pneumatique Gaz naturel | K91: ACTIONNEUR ROBINET MOTORISÉ HV162 | L91: NON | M91: NON | N91: 85,00 barg
A92: RPAU-03-02650S-LG001-NM001 | B92: =MID(A92,24,5) -> 001 | C92: =MID(A92,9,6) -> 02650S | E92: BIFFI | F92: 10/3638/GNS-2-3 | G92: GIG 0.9C-135 MHP135 | H92: 30,00 barg | I92: Pneumatique Gaz naturel | J92: SANS | K92: ACTIONNEUR PNEUMATIQUE DOUBLE EFFET | L92: OUI | M92: OUI | N92: 85,00 barg
A93: RPAU-03-02670S-LG001-NM1 | C93: 02670S | K93: ACTIONNEUR DU ROBINET 1
A94: RPAU-03-02690S-LG001-NM1 | B94: =MID(A94,24,5) -> 1 | C94: =MID(A94,9,6) -> 02690S | E94: CAI ACTUATORS | F94: 28971 | G94: 201R/100 | I94: Pneumatique Gaz naturel | K94: ACTIONNEUR DU ROBINET 1 | L94: OUI | M94: NON
A95: RPAU-03-02710S-LG002-NM402 | B95: =MID(A95,24,5) -> 402 | C95: =MID(A95,9,6) -> 02710S | E95: BIFFI | F95: 062157E02001 | G95: HGR400-020/4000 | I95: Electrique | J95: ILLISIBLE | K95: ACTIONNEUR DU ROBINET 402 | L95: NON | M95: NON
A96: RPAU-03-02710S-LG002-NM404 | C96: 02710S | E96: ROTORK MOTORISATION S.A. | F96: 2489070201 | G96: IQT 500 | I96: Electrique | J96: ILLISIBLE | K96: ACTIONNEUR DU ROBINET 404 | L96: NON | M96: NON
A97: RPAU-03-02710S-LG003-NM402 | B97: =MID(A97,24,5) -> 402 | C97: =MID(A97,9,6) -> 02710S | E97: BIFFI | F97: 062157605001 | G97: F01 600-104/600 | I97: Electrique | J97: ILLISIBLE | K97: ACTIONNEUR DU ROBINET 402 | L97: NON | M97: NON
A98: RPAU-03-02720S-LG001-NM401 | B98: =MID(A98,24,5) -> 401 | C98: =MID(A98,9,6) -> 02720S | E98: CAI | F98: 31174 | G98: 201R/100 | I98: Pneumatique Gaz naturel | K98: ACTIONNEUR DU ROBINET 401 | L98: OUI | M98: NON | N98: 66,00 barg
A99: RPAU-03-02720S-LG002-NM402 | B99: =MID(A99,24,5) -> 402 | C99: =MID(A99,9,6) -> 02720S | E99: CAI | F99: 31175 | G99: 201R/100 | I99: Pneumatique Gaz naturel | K99: ACTIONNEUR DU ROBINET 402 | L99: NON | M99: NON | N99: 66,00 barg
A100: RPAU-03-02720S-LG003-NM506 | B100: =MID(A100,24,5) -> 506 | C100: =MID(A100,9,6) -> 02720S | E100: BIFFI | F100: 062157E04001 | G100: HSP100.010/1000 | I100: Electrique | K100: ACTIONNEUR DU ROBINET 506 | L100: NON | M100: NON
...

Sheet Poste
A1: N°Poste | B1: Lieu | C1: Secteur
A2: 02625S | B2: ORTHEZ Arrivée GrDF VILLE | C2: LACQ
A3: 07070L | B3: GRDF SOUMOULOU | C3: TARBES
A4: 07220L | B4: EADS SOCATA Ossun | C4: TARBES
A5: 01000S | B5: Lacq station (Gare) | C5: LACQ
A6: 01000S | B6: LACQ STATION | C6: LACQ
A7: 01010L | B7: ARKEMA FRANCE GRL | C7: LACQ
A8: 01020L | B8: S0BEGI LACQ | C8: LACQ
A9: 01030S | B9: Lacq Audejos | C9: LACQ
A10: 01050S | B10: DENGUIN | C10: LACQ
A11: 01055S | B11: LESCAR GrDF PAU (100) | C11: TARBES
A12: 01060L | B12: GrDF Denguin | C12: LACQ
... A375: 17300L | B375: GRDF TARDETS A ALOS | C375: LACQ
