Workbook
Name DonnéesExternes_619: 'P2'!$A$1:$E$21
Name DonnéesExternes_620: 'P2'!$A$23:$E$42
Name DonnéesExternes_621: 'P2'!$A$45:$E$64

Sheet P1
A1: nombre | B1: élèves | C1: note | D1: point | E1: groupe | F1: déficit
A2: 1 | B2: joel | C2: 10 | D2: legrand | E2: pelouse | F2: 45
A3: 2 | B3: gilles | C3: 10 | D3: lemoyen | E3: terre | F3: 22
A4: 3 | B4: franck | C4: 10 | D4: tulipe | E4: terreau | F4: 11

Sheet P2
A2: joel
A5: classement seul
A6: Date | B6: groupe | C6: objectif | D6: rang | E6: deficit
A7: 16/11/14 | B7: pelouse | C7: ok | D7: 2 | E7: 8
A8: 26/10/14 | B8: renvoyer | C8: non | D8: 10 | E8: 5
A9: 27/06/14 | B9: ligne | C9: non | D9: 10 | E9: 3
A10: 22/06/14 | B10: affichage | C10: oui | D10: 5 | E10: 3
A11: 13/06/14 | B11: insertion | C11: non | D11: 10 | E11: 7
A12: 09/06/14 | B12: mis | C12: non | D12: 9 | E12: 8
A14: classement seul et en groupe
A15: Date | B15: groupe | C15: objectif | D15: rang | E15: deficit
A16: 12/02/15 | B16: pelouse | C16: non | D16: 2 | E16: 3
A17: 12/02/15 | B17: renvoyer | C17: ok | D17: 0 | E17: 8
A18: 12/02/15 | B18: ligne | C18: oui | D18: 0 | E18: 4
A19: 12/02/15 | B19: affichage | C19: oui | D19: 7 | E19: 2
A20: 08/02/15 | B20: insertion | C20: non | D20: 2 | E20: 2
A21: 08/02/15 | B21: mis | C21: ok | D21: 1 | E21: 8
A23: gilles
A26: classement seul
A27: Date | B27: groupe | C27: objectif | D27: rang | E27: deficit
A28: 14/07/14 | B28: centrer | C28: ok | D28: 2 | E28: 8
A29: 13/07/14 | B29: renvoyer | C29: non | D29: 10 | E29: 5
A30: 07/07/14 | B30: ligne | C30: non | D30: 10 | E30: 3
A31: 29/06/14 | B31: affichage | C31: oui | D31: 5 | E31: 3
A32: 27/06/14 | B32: plastique | C32: non | D32: 10 | E32: 7
A33: 22/06/14 | B33: mis | C33: non | D33: 4 | E33: 56
A34: 13/06/14 | B34: pelouse | C34: non | D34: 9 | E34: 8
A35: 09/06/14 | B35: formules | C35: ok | D35: 1 | E35: 4
A39: 09/06/14 | B39: groupe | C39: objectif | D39: rang | E39: deficit
A40: 25/05/14 | B40: revision | C40: non | D40: 2 | E40: 3
A41: 08/02/15 | B41: edition | C41: non | D41: 2 | E41: 2
A42: 08/02/15 | B42: style | C42: ok | D42: 1 | E42: 8
A45: franck
A48: classement seul
A49: Date | B49: groupe | C49: objectif | D49: rang | E49: deficit
A50: 14/07/14 | B50: centrer | C50: ok | D50: 2 | E50: 8
A51: 13/07/14 | B51: renvoyer | C51: non | D51: 10 | E51: 5
A52: 07/07/14 | B52: ligne | C52: non | D52: 10 | E52: 3
A53: 29/06/14 | B53: affichage | C53: oui | D53: 5 | E53: 3
A54: 27/06/14 | B54: terreau | C54: non | D54: 10 | E54: 7
...

Sheet Affiche
A1: ='P1'!A1 -> nombre | B1: ='P1'!B1 -> élèves | C1: groupe | D1: déjà présent dans le même groupe | E1: nb de fois | F1: # Lignes | H1: savoir si chaque élève de la page p1
A2: ='P1'!A2 -> 1 | B2: ='P1'!B2 -> joel | C2: ='P1'!E2 -> pelouse | D2: =IF(E2=0,"non","oui") -> oui | E2: =COUNTIF(INDIRECT("'P2'!B"&F2&":B"&F3),Affiche!C2) -> 2 | F2: =IF(B2<>"",MATCH(B2,'P2'!A:A,0)+5,SUMPRODUCT(MAX((ROW('P2'!$A$1:$A$100)*('P2'!$A$1:$A$100<>""))))) -> 7 | H2: a déjà été dans le même groupe à une date précédente info en page p2
A3: ='P1'!A3 -> 2 | B3: ='P1'!B3 -> gilles | C3: ='P1'!E3 -> terre | D3: =IF(E3=0,"non","oui") -> non | E3: =COUNTIF(INDIRECT("'P2'!B"&F3&":B"&F4),Affiche!C3) -> 0 | F3: =IF(B3<>"",MATCH(B3,'P2'!A:A,0)+5,SUMPRODUCT(MAX((ROW('P2'!$A$1:$A$100)*('P2'!$A$1:$A$100<>""))))) -> 28 | H3: et afficher le tout ici …
A4: ='P1'!A4 -> 3 | B4: ='P1'!B4 -> franck | C4: ='P1'!E4 -> terreau | D4: =IF(E4=0,"non","oui") -> oui | E4: =COUNTIF(INDIRECT("'P2'!B"&F4&":B"&F5),Affiche!C4) -> 1 | F4: =IF(B4<>"",MATCH(B4,'P2'!A:A,0)+5,SUMPRODUCT(MAX((ROW('P2'!$A$1:$A$100)*('P2'!$A$1:$A$100<>""))))) -> 50
F5: =IF(B5<>"",MATCH(B5,'P2'!A:A,0)+5,SUMPRODUCT(MAX((ROW('P2'!$A$1:$A$100)*('P2'!$A$1:$A$100<>""))))) -> 67
