Workbook
Name ÉlémentsClients: #REF!
Name ÉlémentsProd: #REF!
Name Nat_Prest: #REF!
Name PERIODE: Tables!#REF!
Name Table_Cptes: Tables!$B$7:$F$80
Name Type: #REF!

Sheet Tables
B1: Début | C1: Fin
A2: COMPARAISON | B2: 31/12/2016 | C2: 31/12/2017
A3: VARIATION | B3: 31/12/2016 | C3: 31/12/2017
B6: min | C6: max | D6: lien | F6: cycle
B7: 10000000 | C7: 10999999 | D7: =IF(G7="OUI",HYPERLINK("#"&CELL("address",'1-Fds Asso'!$B$1)),"1") -> #'[0.1-2017-XX-Tableaux de variations W.xlsx]1-Fds Asso'!$B$1 | F7: 1 | G7: OUI
B8: =+B7+1000000 -> 11000000 | C8: =+C7+1000000 -> 11999999 | D8: =IF(F8<>0,HYPERLINK("#"&CELL("address",'1-Fds Asso'!$B$1)),"1") -> #'[0.1-2017-XX-Tableaux de variations W.xlsx]1-Fds Asso'!$B$1 | F8: 1 | G8: OUI
B9: =+B8+1000000 -> 12000000 | C9: =+C8+1000000 -> 12999999 | D9: =IF(F9<>0,HYPERLINK("#"&CELL("address",'1-Fds Asso'!$B$1)),"1") -> #'[0.1-2017-XX-Tableaux de variations W.xlsx]1-Fds Asso'!$B$1 | F9: 1 | G9: OUI
B10: =+B9+1000000 -> 13000000 | C10: =+C9+1000000 -> 13999999 | D10: =IF(F10<>0,HYPERLINK("#"&CELL("address",#REF!)),"1") -> #REF! | F10: 2 | G10: OUI
B11: =+B10+1000000 -> 14000000 | C11: =+C10+1000000 -> 14999999 | D11: =IF(F11<>0,HYPERLINK("#"&CELL("address",'1-Fds Asso'!$B$1)),"1") -> #'[0.1-2017-XX-Tableaux de variations W.xlsx]1-Fds Asso'!$B$1 | F11: 1 | G11: OUI
B12: =+B11+1000000 -> 15000000 | C12: =+C11+1000000 -> 15999999 | D12: =IF(F12<>0,HYPERLINK("#"&CELL("address",#REF!)),"1") -> #REF! | F12: 3 | G12: OUI
B13: =+B12+1000000 -> 16000000 | C13: =+C12+1000000 -> 16999999 | D13: =IF(F13<>0,HYPERLINK("#"&CELL("address",#REF!)),"1") -> #REF! | F13: 4 | G13: OUI
B14: =+B13+1000000 -> 17000000 | C14: =+C13+1000000 -> 17999999 | F14: N/A
B15: =+B14+1000000 -> 18000000 | C15: =+C14+1000000 -> 18999999 | F15: 5
B16: =+B15+1000000 -> 19000000 | C16: =+C15+1000000 -> 19999999 | D16: =IF(F16<>0,HYPERLINK("#"&CELL("address",'1-Fds Asso'!$B$1)),"1") -> #'[0.1-2017-XX-Tableaux de variations W.xlsx]1-Fds Asso'!$B$1 | F16: 1 | G16: OUI
B17: =+B16+1000000 -> 20000000 | C17: =+C16+1000000 -> 20999999 | D17: =IF(F17<>0,HYPERLINK("#"&CELL("address",'6-Immo Incorp'!$B$1)),"1") -> #'[0.1-2017-XX-Tableaux de variations W.xlsx]6-Immo Incorp'!$B$1 | F17: 6 | G17: OUI
B18: =+B17+1000000 -> 21000000 | C18: =+C17+1000000 -> 21999999 | D18: =IF(F18<>0,HYPERLINK("#"&CELL("address",'7-Immo Corp'!$B$1)),"1") -> #'[0.1-2017-XX-Tableaux de variations W.xlsx]7-Immo Corp'!$B$1 | F18: 7 | G18: OUI
B19: =+B18+1000000 -> 22000000 | C19: =+C18+1000000 -> 22999999 | D19: =IF(F19<>0,HYPERLINK("#"&CELL("address",'7-Immo Corp'!$B$1)),"1") -> #'[0.1-2017-XX-Tableaux de variations W.xlsx]7-Immo Corp'!$B$1 | F19: 7 | G19: OUI
B20: =+B19+1000000 -> 23000000 | C20: 23099999 | F20: N/A
B21: 23100000 | C21: 23199999 | D21: =IF(F21<>0,HYPERLINK("#"&CELL("address",'7-Immo Corp'!$B$1)),"1") -> #'[0.1-2017-XX-Tableaux de variations W.xlsx]7-Immo Corp'!$B$1 | F21: 7 | G21: OUI
B22: 23200000 | C22: 23299999 | D22: =IF(F22<>0,HYPERLINK("#"&CELL("address",'6-Immo Incorp'!$B$1)),"1") -> #'[0.1-2017-XX-Tableaux de variations W.xlsx]6-Immo Incorp'!$B$1 | F22: 6 | G22: OUI
B23: 23700000 | C23: 23799999 | D23: =IF(F23<>0,HYPERLINK("#"&CELL("address",'6-Immo Incorp'!$B$1)),"1") -> #'[0.1-2017-XX-Tableaux de variations W.xlsx]6-Immo Incorp'!$B$1 | F23: 6 | G23: OUI
B24: 23800000 | C24: 23999999 | D24: =IF(F24<>0,HYPERLINK("#"&CELL("address",'7-Immo Corp'!$B$1)),"1") -> #'[0.1-2017-XX-Tableaux de variations W.xlsx]7-Immo Corp'!$B$1 | F24: 7 | G24: OUI
B25: =+B20+1000000 -> 24000000 | C25: =+C20+1000000 -> 24099999 | F25: N/A
B26: =+B25+1000000 -> 25000000 | C26: =+C25+1000000 -> 25099999 | F26: N/A
B27: =+B26+1000000 -> 26000000 | C27: =+C26+1000000 -> 26099999 | D27: =IF(F27<>0,HYPERLINK("#"&CELL("address",#REF!)),"1") -> #REF! | F27: 8 | G27: OUI
B28: =+B27+1000000 -> 27000000 | C28: =+C27+1000000 -> 27099999 | D28: =IF(F28<>0,HYPERLINK("#"&CELL("address",#REF!)),"1") -> #REF! | F28: 8 | G28: OUI
B29: =+B28+1000000 -> 28000000 | C29: =+C28+1000000 -> 28099999 | D29: =IF(F29<>0,HYPERLINK("#"&CELL("address",'6-Immo Incorp'!$B$1)),"1") -> #'[0.1-2017-XX-Tableaux de variations W.xlsx]6-Immo Incorp'!$B$1 | F29: 6 | G29: OUI
B30: 28100000 | C30: 28199999 | D30: =IF(F30<>0,HYPERLINK("#"&CELL("address",'7-Immo Corp'!$B$1)),"1") -> #'[0.1-2017-XX-Tableaux de variations W.xlsx]7-Immo Corp'!$B$1 | F30: 7 | G30: OUI
B31: 28200000 | C31: 28299999 | F31: N/A
B32: =+B29+1000000 -> 29000000 | C32: =+C29+1000000 -> 29099999 | D32: =IF(F32<>0,HYPERLINK("#"&CELL("address",'6-Immo Incorp'!$B$1)),"1") -> #'[0.1-2017-XX-Tableaux de variations W.xlsx]6-Immo Incorp'!$B$1 | F32: 6 | G32: OUI
B33: 29100000 | C33: 29199999 | D33: =IF(F33<>0,HYPERLINK("#"&CELL("address",'7-Immo Corp'!$B$1)),"1") -> #'[0.1-2017-XX-Tableaux de variations W.xlsx]7-Immo Corp'!$B$1 | F33: 7 | G33: OUI
B34: 29200000 | C34: 29299999 | F34: N/A
B35: 29300000 | C35: 29319999 | D35: =IF(F35<>0,HYPERLINK("#"&CELL("address",'7-Immo Corp'!$B$1)),"1") -> #'[0.1-2017-XX-Tableaux de variations W.xlsx]7-Immo Corp'!$B$1 | F35: 7 | G35: OUI
B36: 29320000 | C36: 29329999 | D36: =IF(F36<>0,HYPERLINK("#"&CELL("address",'6-Immo Incorp'!$B$1)),"1") -> #'[0.1-2017-XX-Tableaux de variations W.xlsx]6-Immo Incorp'!$B$1 | F36: 6 | G36: OUI
B37: 29400000 | C37: 29799999 | D37: =IF(F37<>0,HYPERLINK("#"&CELL("address",#REF!)),"1") -> #REF! | F37: 8 | G37: OUI
B38: =+B32+1000000 -> 30000000 | C38: 38999999 | F38: 9
B39: 39000000 | C39: 39999999 | F39: 9
B40: =+B39+1000000 -> 40000000 | C40: 40799999 | F40: 10
B41: 40800000 | C41: 40899999 | D41: =IF(G41="OUI",HYPERLINK("#"&CELL("address",#REF!)),"1") -> #REF! | F41: 10.4 | G41: OUI
B42: 40900000 | C42: 40999999 | F42: 13.1
...

Sheet BG Justif
A2: COMPTE | B2: LIBELLE | C2: CUMUL DE L'EXERCICE N-1 | E2: MVTS DE L'EXERCICE N | G2: CUMUL DE L'EXERCICE N | L2: Solde N-1 | M2: Solde N | N2: Var N / N-1 | P2: S/Totaux | Q2: Cycle | R2: XRef | S2: Raccourci | T2: Commentaire | U2: Fichiers
C3: DEBIT | D3: CREDIT | E3: DEBIT | F3: CREDIT | G3: DEBIT | H3: CREDIT | L3: 2016 | M3: 2017 | AC3: CUMUL DE L'EXERCICE N-1 | AE3: MVTS DE L'EXERCICE N | AG3: CUMUL DE L'EXERCICE N | AL3: Solde N-1 | AM3: Solde N | AN3: Var N / N-1 | AP3: S/Totaux | AQ3: Cycle
Z4: Cycle | AA4: COMPTE | AB4: LIBELLE | AC4: Cum_Débit_N-1 | AD4: Cum_Crédit_N-1 | AE4: Mvts_Débit_N | AF4: Mvts_Crédit_N | AG4: Cum_Débit_N | AH4: Cum_Crédit_N | AL4: Solde_N-1 | AM4: Solde_N | AN4: Var_N_N-1 | AQ4: Cycle
A5: 10240000 | B5: APP. SANS DROIT DE REPRISE | C5: 0 | D5: 2835.55 | E5: 0 | F5: 0 | G5: 0 | H5: 2835.55 | L5: =+C5-D5 -> -2835.55 | M5: =+G5-H5 -> -2835.55 | N5: =ROUND(-L5+M5,0) -> 0 | Q5: =IFERROR(VLOOKUP(A5,Table_Cptes,5,TRUE)," ") -> 1 | S5: =IF(ISNA(HYPERLINK(INDEX(Tables!D:D,MATCH('BG Justif'!Q5,Tables!F:F,0))))<>" ",HYPERLINK(INDEX(Tables!D:D,MATCH('BG Justif'!Q5,Tables!F:F,0)),"Tableau de variation")," ") -> Tableau de variation | Z5: =+Q5 -> 1 | AA5: =+A5 -> 10240000 | AB5: =+B5 -> APP. SANS DROIT DE REPRISE | AC5: =+C5 -> 0 | AD5: =+D5 -> 2835.55 | AE5: =+E5 -> 0 | AF5: =+F5 -> 0 | AG5: =+G5 -> 0 | AH5: =+H5 -> 2835.55 | ... AR5: =+R5 -> 0
A6: 10682000 | B6: RESERVE INVESTISSEMENT | C6: 0 | D6: 359678.43 | E6: 0 | F6: 0 | G6: 0 | H6: 359678.43 | L6: =+C6-D6 -> -359678.43 | M6: =+G6-H6 -> -359678.43 | N6: =-L6+M6 -> 0 | Q6: =IFERROR(VLOOKUP(A6,Table_Cptes,5,TRUE),"") -> 1 | S6: =IF(HYPERLINK(INDEX(Tables!D:D,MATCH('BG Justif'!Q6,Tables!F:F,0)))<>"",HYPERLINK(INDEX(Tables!D:D,MATCH('BG Justif'!Q6,Tables!F:F,0)),"Tableau de variation"),"") -> Tableau de variation | Z6: =+Q6 -> 1 | AA6: =+A6 -> 10682000 | AB6: =+B6 -> RESERVE INVESTISSEMENT | AC6: =+C6 -> 0 | AD6: =+D6 -> 359678.43 | AE6: =+E6 -> 0 | AF6: =+F6 -> 0 | AG6: =+G6 -> 0 | AH6: =+H6 -> 359678.43 | ... AR6: =+R6 -> 0
A7: 20500000 | B7: LOGICIELS | C7: 143526.93 | D7: 0 | E7: 220.1 | F7: 0 | G7: 143747.03 | H7: 0 | L7: =+C7-D7 -> 143526.93 | M7: =+G7-H7 -> 143747.03 | N7: =-L7+M7 -> 220.1 | Q7: =IFERROR(VLOOKUP(A7,Table_Cptes,5,TRUE),"") -> 6 | S7: =IF(HYPERLINK(INDEX(Tables!D:D,MATCH('BG Justif'!Q7,Tables!F:F,0)))<>"",HYPERLINK(INDEX(Tables!D:D,MATCH('BG Justif'!Q7,Tables!F:F,0)),"Tableau de variation"),"") -> Tableau de variation | Z7: =+Q7 -> 6 | AA7: =+A7 -> 20500000 | AB7: =+B7 -> LOGICIELS | AC7: =+C7 -> 143526.93 | AD7: =+D7 -> 0 | AE7: =+E7 -> 220.1 | AF7: =+F7 -> 0 | AG7: =+G7 -> 143747.03 | AH7: =+H7 -> 0 | ... AR7: =+R7 -> 0
A8: 21150000 | B8: TERRAINS BATIS | C8: 92000 | D8: 0 | E8: 0 | F8: 0 | G8: 92000 | H8: 0 | L8: =+C8-D8 -> 92000 | M8: =+G8-H8 -> 92000 | N8: =-L8+M8 -> 0 | Q8: =IFERROR(VLOOKUP(A8,Table_Cptes,5,TRUE),"") -> 7 | S8: =IF(HYPERLINK(INDEX(Tables!D:D,MATCH('BG Justif'!Q8,Tables!F:F,0)))<>"",HYPERLINK(INDEX(Tables!D:D,MATCH('BG Justif'!Q8,Tables!F:F,0)),"Tableau de variation"),"") -> Tableau de variation | Z8: =+Q8 -> 7 | AA8: =+A8 -> 21150000 | AB8: =+B8 -> TERRAINS BATIS | AC8: =+C8 -> 92000 | AD8: =+D8 -> 0 | AE8: =+E8 -> 0 | AF8: =+F8 -> 0 | AG8: =+G8 -> 92000 | AH8: =+H8 -> 0 | ... AR8: =+R8 -> 0
A9: 21210000 | B9: AGENC. AMEN. TERRAINS NUS | C9: 8602.47 | D9: 0 | E9: 0 | F9: 0 | G9: 8602.47 | H9: 0 | L9: =+C9-D9 -> 8602.47 | M9: =+G9-H9 -> 8602.47 | N9: =-L9+M9 -> 0 | Q9: =IFERROR(VLOOKUP(A9,Table_Cptes,5,TRUE),"") -> 7 | S9: =IF(HYPERLINK(INDEX(Tables!D:D,MATCH('BG Justif'!Q9,Tables!F:F,0)))<>"",HYPERLINK(INDEX(Tables!D:D,MATCH('BG Justif'!Q9,Tables!F:F,0)),"Tableau de variation"),"") -> Tableau de variation | Z9: =+Q9 -> 7 | AA9: =+A9 -> 21210000 | AB9: =+B9 -> AGENC. AMEN. TERRAINS NUS | AC9: =+C9 -> 8602.47 | AD9: =+D9 -> 0 | AE9: =+E9 -> 0 | AF9: =+F9 -> 0 | AG9: =+G9 -> 8602.47 | AH9: =+H9 -> 0 | ... AR9: =+R9 -> 0
A10: 21310000 | B10: BATIMENTS | C10: 385786.35 | D10: 0 | E10: 0 | F10: 0 | G10: 385786.35 | H10: 0 | L10: =+C10-D10 -> 385786.35 | M10: =+G10-H10 -> 385786.35 | N10: =-L10+M10 -> 0 | Q10: =IFERROR(VLOOKUP(A10,Table_Cptes,5,TRUE),"") -> 7 | S10: =IF(HYPERLINK(INDEX(Tables!D:D,MATCH('BG Justif'!Q10,Tables!F:F,0)))<>"",HYPERLINK(INDEX(Tables!D:D,MATCH('BG Justif'!Q10,Tables!F:F,0)),"Tableau de variation"),"") -> Tableau de variation | Z10: =+Q10 -> 7 | AA10: =+A10 -> 21310000 | AB10: =+B10 -> BATIMENTS | AC10: =+C10 -> 385786.35 | AD10: =+D10 -> 0 | AE10: =+E10 -> 0 | AF10: =+F10 -> 0 | AG10: =+G10 -> 385786.35 | AH10: =+H10 -> 0 | ... AR10: =+R10 -> 0
A11: 21350000 | B11: INST. AGENC. AMEN. CONSTR. | C11: 250882.51 | D11: 0 | E11: 0 | F11: 0 | G11: 250882.51 | H11: 0 | L11: =+C11-D11 -> 250882.51 | M11: =+G11-H11 -> 250882.51 | N11: =-L11+M11 -> 0 | Q11: =IFERROR(VLOOKUP(A11,Table_Cptes,5,TRUE),"") -> 7 | S11: =IF(HYPERLINK(INDEX(Tables!D:D,MATCH('BG Justif'!Q11,Tables!F:F,0)))<>"",HYPERLINK(INDEX(Tables!D:D,MATCH('BG Justif'!Q11,Tables!F:F,0)),"Tableau de variation"),"") -> Tableau de variation | Z11: =+Q11 -> 7 | AA11: =+A11 -> 21350000 | AB11: =+B11 -> INST. AGENC. AMEN. CONSTR. | AC11: =+C11 -> 250882.51 | AD11: =+D11 -> 0 | AE11: =+E11 -> 0 | AF11: =+F11 -> 0 | AG11: =+G11 -> 250882.51 | AH11: =+H11 -> 0 | ... AR11: =+R11 -> 0
A12: 21540000 | B12: MATERIEL & OUTILLAGE | C12: 1631.92 | D12: 0 | E12: 3330.62 | F12: 0 | G12: 4962.54 | H12: 0 | L12: =+C12-D12 -> 1631.92 | M12: =+G12-H12 -> 4962.54 | N12: =-L12+M12 -> 3330.62 | Q12: =IFERROR(VLOOKUP(A12,Table_Cptes,5,TRUE),"") -> 7 | S12: =IF(HYPERLINK(INDEX(Tables!D:D,MATCH('BG Justif'!Q12,Tables!F:F,0)))<>"",HYPERLINK(INDEX(Tables!D:D,MATCH('BG Justif'!Q12,Tables!F:F,0)),"Tableau de variation"),"") -> Tableau de variation | Z12: =+Q12 -> 7 | AA12: =+A12 -> 21540000 | AB12: =+B12 -> MATERIEL & OUTILLAGE | AC12: =+C12 -> 1631.92 | AD12: =+D12 -> 0 | AE12: =+E12 -> 3330.62 | AF12: =+F12 -> 0 | AG12: =+G12 -> 4962.54 | AH12: =+H12 -> 0 | ... AR12: =+R12 -> 0
A13: 21541700 | B13: MATERIEL MEDICAL | C13: 1620 | D13: 0 | E13: 0 | F13: 0 | G13: 1620 | H13: 0 | L13: =+C13-D13 -> 1620 | M13: =+G13-H13 -> 1620 | N13: =-L13+M13 -> 0 | Q13: =IFERROR(VLOOKUP(A13,Table_Cptes,5,TRUE),"") -> 7 | S13: =IF(HYPERLINK(INDEX(Tables!D:D,MATCH('BG Justif'!Q13,Tables!F:F,0)))<>"",HYPERLINK(INDEX(Tables!D:D,MATCH('BG Justif'!Q13,Tables!F:F,0)),"Tableau de variation"),"") -> Tableau de variation | Z13: =+Q13 -> 7 | AA13: =+A13 -> 21541700 | AB13: =+B13 -> MATERIEL MEDICAL | AC13: =+C13 -> 1620 | AD13: =+D13 -> 0 | AE13: =+E13 -> 0 | AF13: =+F13 -> 0 | AG13: =+G13 -> 1620 | AH13: =+H13 -> 0 | ... AR13: =+R13 -> 0
A14: 21810000 | B14: INST. AGENC. AMEN. DIVERS | C14: 64315.39 | D14: 0 | E14: 673.79 | F14: 0 | G14: 64989.18 | H14: 0 | L14: =+C14-D14 -> 64315.39 | M14: =+G14-H14 -> 64989.18 | N14: =-L14+M14 -> 673.79 | Q14: =IFERROR(VLOOKUP(A14,Table_Cptes,5,TRUE),"") -> 7 | S14: =IF(HYPERLINK(INDEX(Tables!D:D,MATCH('BG Justif'!Q14,Tables!F:F,0)))<>"",HYPERLINK(INDEX(Tables!D:D,MATCH('BG Justif'!Q14,Tables!F:F,0)),"Tableau de variation"),"") -> Tableau de variation | Z14: =+Q14 -> 7 | AA14: =+A14 -> 21810000 | AB14: =+B14 -> INST. AGENC. AMEN. DIVERS | AC14: =+C14 -> 64315.39 | AD14: =+D14 -> 0 | AE14: =+E14 -> 673.79 | AF14: =+F14 -> 0 | AG14: =+G14 -> 64989.18 | AH14: =+H14 -> 0 | ... AR14: =+R14 -> 0
A15: 21820000 | B15: MATERIEL DE TRANSPORT | C15: 12790.94 | D15: 0 | E15: 0 | F15: 0 | G15: 12790.94 | H15: 0 | L15: =+C15-D15 -> 12790.94 | M15: =+G15-H15 -> 12790.94 | N15: =-L15+M15 -> 0 | Q15: =IFERROR(VLOOKUP(A15,Table_Cptes,5,TRUE),"") -> 7 | S15: =IF(HYPERLINK(INDEX(Tables!D:D,MATCH('BG Justif'!Q15,Tables!F:F,0)))<>"",HYPERLINK(INDEX(Tables!D:D,MATCH('BG Justif'!Q15,Tables!F:F,0)),"Tableau de variation"),"") -> Tableau de variation | Z15: =+Q15 -> 7 | AA15: =+A15 -> 21820000 | AB15: =+B15 -> MATERIEL DE TRANSPORT | AC15: =+C15 -> 12790.94 | AD15: =+D15 -> 0 | AE15: =+E15 -> 0 | AF15: =+F15 -> 0 | AG15: =+G15 -> 12790.94 | AH15: =+H15 -> 0 | ... AR15: =+R15 -> 0
A16: 21830000 | B16: MAT. BUREAU & INFORMATIQUE | C16: 98392.69 | D16: 0 | E16: 4654.62 | F16: 0 | G16: 103047.31 | H16: 0 | L16: =+C16-D16 -> 98392.69 | M16: =+G16-H16 -> 103047.31 | N16: =-L16+M16 -> 4654.62 | Q16: =IFERROR(VLOOKUP(A16,Table_Cptes,5,TRUE),"") -> 7 | S16: =IF(HYPERLINK(INDEX(Tables!D:D,MATCH('BG Justif'!Q16,Tables!F:F,0)))<>"",HYPERLINK(INDEX(Tables!D:D,MATCH('BG Justif'!Q16,Tables!F:F,0)),"Tableau de variation"),"") -> Tableau de variation | Z16: =+Q16 -> 7 | AA16: =+A16 -> 21830000 | AB16: =+B16 -> MAT. BUREAU & INFORMATIQUE | AC16: =+C16 -> 98392.69 | AD16: =+D16 -> 0 | AE16: =+E16 -> 4654.62 | AF16: =+F16 -> 0 | AG16: =+G16 -> 103047.31 | AH16: =+H16 -> 0 | ... AR16: =+R16 -> 0
A17: 21840000 | B17: MOBILIER | C17: 32545.6 | D17: 0 | E17: 2229.6 | F17: 0 | G17: 34775.2 | H17: 0 | L17: =+C17-D17 -> 32545.6 | M17: =+G17-H17 -> 34775.2 | N17: =-L17+M17 -> 2229.6 | Q17: =IFERROR(VLOOKUP(A17,Table_Cptes,5,TRUE),"") -> 7 | S17: =IF(HYPERLINK(INDEX(Tables!D:D,MATCH('BG Justif'!Q17,Tables!F:F,0)))<>"",HYPERLINK(INDEX(Tables!D:D,MATCH('BG Justif'!Q17,Tables!F:F,0)),"Tableau de variation"),"") -> Tableau de variation | Z17: =+Q17 -> 7 | AA17: =+A17 -> 21840000 | AB17: =+B17 -> MOBILIER | AC17: =+C17 -> 32545.6 | AD17: =+D17 -> 0 | AE17: =+E17 -> 2229.6 | AF17: =+F17 -> 0 | AG17: =+G17 -> 34775.2 | AH17: =+H17 -> 0 | ... AR17: =+R17 -> 0
L18: =+C18-D18 -> 0 | M18: =+G18-H18 -> 0 | N18: =-L18+M18 -> 0 | Q18: =IFERROR(VLOOKUP(A18,Table_Cptes,5,TRUE),"") | S18: =IF(HYPERLINK(INDEX(Tables!D:D,MATCH('BG Justif'!Q18,Tables!F:F,0)))<>"",HYPERLINK(INDEX(Tables!D:D,MATCH('BG Justif'!Q18,Tables!F:F,0)),"Tableau de variation"),"") -> #N/A | Z18: =+Q18 | AA18: =+A18 -> 0 | AB18: =+B18 -> 0 | AC18: =+C18 -> 0 | AD18: =+D18 -> 0 | AE18: =+E18 -> 0 | AF18: =+F18 -> 0 | AG18: =+G18 -> 0 | AH18: =+H18 -> 0 | ... AR18: =+R18 -> 0
L19: =+C19-D19 -> 0 | M19: =+G19-H19 -> 0 | N19: =-L19+M19 -> 0 | Q19: =IFERROR(VLOOKUP(A19,Table_Cptes,5,TRUE),"") | S19: =IF(HYPERLINK(INDEX(Tables!D:D,MATCH('BG Justif'!Q19,Tables!F:F,0)))<>"",HYPERLINK(INDEX(Tables!D:D,MATCH('BG Justif'!Q19,Tables!F:F,0)),"Tableau de variation"),"") -> #N/A | Z19: =+Q19 | AA19: =+A19 -> 0 | AB19: =+B19 -> 0 | AC19: =+C19 -> 0 | AD19: =+D19 -> 0 | AE19: =+E19 -> 0 | AF19: =+F19 -> 0 | AG19: =+G19 -> 0 | AH19: =+H19 -> 0 | ... AR19: =+R19 -> 0
L20: =+C20-D20 -> 0 | M20: =+G20-H20 -> 0 | N20: =-L20+M20 -> 0 | Q20: =IFERROR(VLOOKUP(A20,Table_Cptes,5,TRUE),"") | S20: =IF(HYPERLINK(INDEX(Tables!D:D,MATCH('BG Justif'!Q20,Tables!F:F,0)))<>"",HYPERLINK(INDEX(Tables!D:D,MATCH('BG Justif'!Q20,Tables!F:F,0)),"Tableau de variation"),"") -> #N/A | Z20: =+Q20 | AA20: =+A20 -> 0 | AB20: =+B20 -> 0 | AC20: =+C20 -> 0 | AD20: =+D20 -> 0 | AE20: =+E20 -> 0 | AF20: =+F20 -> 0 | AG20: =+G20 -> 0 | AH20: =+H20 -> 0 | ... AR20: =+R20 -> 0
L21: =+C21-D21 -> 0 | M21: =+G21-H21 -> 0 | N21: =-L21+M21 -> 0 | Q21: =IFERROR(VLOOKUP(A21,Table_Cptes,5,TRUE),"") | S21: =IF(HYPERLINK(INDEX(Tables!D:D,MATCH('BG Justif'!Q21,Tables!F:F,0)))<>"",HYPERLINK(INDEX(Tables!D:D,MATCH('BG Justif'!Q21,Tables!F:F,0)),"Tableau de variation"),"") -> #N/A | Z21: =+Q21 | AA21: =+A21 -> 0 | AB21: =+B21 -> 0 | AC21: =+C21 -> 0 | AD21: =+D21 -> 0 | AE21: =+E21 -> 0 | AF21: =+F21 -> 0 | AG21: =+G21 -> 0 | AH21: =+H21 -> 0 | ... AR21: =+R21 -> 0
L22: =+C22-D22 -> 0 | M22: =+G22-H22 -> 0 | N22: =-L22+M22 -> 0 | Q22: =IFERROR(VLOOKUP(A22,Table_Cptes,5,TRUE),"") | S22: =IF(HYPERLINK(INDEX(Tables!D:D,MATCH('BG Justif'!Q22,Tables!F:F,0)))<>"",HYPERLINK(INDEX(Tables!D:D,MATCH('BG Justif'!Q22,Tables!F:F,0)),"Tableau de variation"),"") -> #N/A | Z22: =+Q22 | AA22: =+A22 -> 0 | AB22: =+B22 -> 0 | AC22: =+C22 -> 0 | AD22: =+D22 -> 0 | AE22: =+E22 -> 0 | AF22: =+F22 -> 0 | AG22: =+G22 -> 0 | AH22: =+H22 -> 0 | ... AR22: =+R22 -> 0
L23: =+C23-D23 -> 0 | M23: =+G23-H23 -> 0 | N23: =-L23+M23 -> 0 | Q23: =IFERROR(VLOOKUP(A23,Table_Cptes,5,TRUE),"") | S23: =IF(HYPERLINK(INDEX(Tables!D:D,MATCH('BG Justif'!Q23,Tables!F:F,0)))<>"",HYPERLINK(INDEX(Tables!D:D,MATCH('BG Justif'!Q23,Tables!F:F,0)),"Tableau de variation"),"") -> #N/A | Z23: =+Q23 | AA23: =+A23 -> 0 | AB23: =+B23 -> 0 | AC23: =+C23 -> 0 | AD23: =+D23 -> 0 | AE23: =+E23 -> 0 | AF23: =+F23 -> 0 | AG23: =+G23 -> 0 | AH23: =+H23 -> 0 | ... AR23: =+R23 -> 0
L24: =+C24-D24 -> 0 | M24: =+G24-H24 -> 0 | N24: =-L24+M24 -> 0 | Q24: =IFERROR(VLOOKUP(A24,Table_Cptes,5,TRUE),"") | S24: =IF(HYPERLINK(INDEX(Tables!D:D,MATCH('BG Justif'!Q24,Tables!F:F,0)))<>"",HYPERLINK(INDEX(Tables!D:D,MATCH('BG Justif'!Q24,Tables!F:F,0)),"Tableau de variation"),"") -> #N/A | Z24: =+Q24 | AA24: =+A24 -> 0 | AB24: =+B24 -> 0 | AC24: =+C24 -> 0 | AD24: =+D24 -> 0 | AE24: =+E24 -> 0 | AF24: =+F24 -> 0 | AG24: =+G24 -> 0 | AH24: =+H24 -> 0 | ... AR24: =+R24 -> 0
L25: =+C25-D25 -> 0 | M25: =+G25-H25 -> 0 | N25: =-L25+M25 -> 0 | Q25: =IFERROR(VLOOKUP(A25,Table_Cptes,5,TRUE),"") | S25: =IF(HYPERLINK(INDEX(Tables!D:D,MATCH('BG Justif'!Q25,Tables!F:F,0)))<>"",HYPERLINK(INDEX(Tables!D:D,MATCH('BG Justif'!Q25,Tables!F:F,0)),"Tableau de variation"),"") -> #N/A | Z25: =+Q25 | AA25: =+A25 -> 0 | AB25: =+B25 -> 0 | AC25: =+C25 -> 0 | AD25: =+D25 -> 0 | AE25: =+E25 -> 0 | AF25: =+F25 -> 0 | AG25: =+G25 -> 0 | AH25: =+H25 -> 0 | ... AR25: =+R25 -> 0
L26: =+C26-D26 -> 0 | M26: =+G26-H26 -> 0 | N26: =-L26+M26 -> 0 | Q26: =IFERROR(VLOOKUP(A26,Table_Cptes,5,TRUE),"") | S26: =IF(HYPERLINK(INDEX(Tables!D:D,MATCH('BG Justif'!Q26,Tables!F:F,0)))<>"",HYPERLINK(INDEX(Tables!D:D,MATCH('BG Justif'!Q26,Tables!F:F,0)),"Tableau de variation"),"") -> #N/A | Z26: =+Q26 | AA26: =+A26 -> 0 | AB26: =+B26 -> 0 | AC26: =+C26 -> 0 | AD26: =+D26 -> 0 | AE26: =+E26 -> 0 | AF26: =+F26 -> 0 | AG26: =+G26 -> 0 | AH26: =+H26 -> 0 | ... AR26: =+R26 -> 0
L27: =+C27-D27 -> 0 | M27: =+G27-H27 -> 0 | N27: =-L27+M27 -> 0 | Q27: =IFERROR(VLOOKUP(A27,Table_Cptes,5,TRUE),"") | S27: =IF(HYPERLINK(INDEX(Tables!D:D,MATCH('BG Justif'!Q27,Tables!F:F,0)))<>"",HYPERLINK(INDEX(Tables!D:D,MATCH('BG Justif'!Q27,Tables!F:F,0)),"Tableau de variation"),"") -> #N/A | Z27: =+Q27 | AA27: =+A27 -> 0 | AB27: =+B27 -> 0 | AC27: =+C27 -> 0 | AD27: =+D27 -> 0 | AE27: =+E27 -> 0 | AF27: =+F27 -> 0 | AG27: =+G27 -> 0 | AH27: =+H27 -> 0 | ... AR27: =+R27 -> 0
L28: =+C28-D28 -> 0 | M28: =+G28-H28 -> 0 | N28: =-L28+M28 -> 0 | Q28: =IFERROR(VLOOKUP(A28,Table_Cptes,5,TRUE),"") | S28: =IF(HYPERLINK(INDEX(Tables!D:D,MATCH('BG Justif'!Q28,Tables!F:F,0)))<>"",HYPERLINK(INDEX(Tables!D:D,MATCH('BG Justif'!Q28,Tables!F:F,0)),"Tableau de variation"),"") -> #N/A | Z28: =+Q28 | AA28: =+A28 -> 0 | AB28: =+B28 -> 0 | AC28: =+C28 -> 0 | AD28: =+D28 -> 0 | AE28: =+E28 -> 0 | AF28: =+F28 -> 0 | AG28: =+G28 -> 0 | AH28: =+H28 -> 0 | ... AR28: =+R28 -> 0
L29: =+C29-D29 -> 0 | M29: =+G29-H29 -> 0 | N29: =-L29+M29 -> 0 | Q29: =IFERROR(VLOOKUP(A29,Table_Cptes,5,TRUE),"") | S29: =IF(HYPERLINK(INDEX(Tables!D:D,MATCH('BG Justif'!Q29,Tables!F:F,0)))<>"",HYPERLINK(INDEX(Tables!D:D,MATCH('BG Justif'!Q29,Tables!F:F,0)),"Tableau de variation"),"") -> #N/A | Z29: =+Q29 | AA29: =+A29 -> 0 | AB29: =+B29 -> 0 | AC29: =+C29 -> 0 | AD29: =+D29 -> 0 | AE29: =+E29 -> 0 | AF29: =+F29 -> 0 | AG29: =+G29 -> 0 | AH29: =+H29 -> 0 | ... AR29: =+R29 -> 0
... L995: =+C995-D995 -> 0 | M995: =+G995-H995 -> 0 | N995: =-L995+M995 -> 0 | Q995: =IFERROR(VLOOKUP(A995,Table_Cptes,5,TRUE),"") | S995: =IF(HYPERLINK(INDEX(Tables!D:D,MATCH('BG Justif'!Q995,Tables!F:F,0)))<>"",HYPERLINK(INDEX(Tables!D:D,MATCH('BG Justif'!Q995,Tables!F:F,0)),"Tableau de variation"),"") -> #N/A | Z995: =+Q995 | AA995: =+A995 -> 0 | AB995: =+B995 -> 0 | AC995: =+C995 -> 0 | AD995: =+D995 -> 0 | AE995: =+E995 -> 0 | AF995: =+F995 -> 0 | AG995: =+G995 -> 0 | AH995: =+H995 -> 0 | ... AR995: =+R995 -> 0
C998: =ROUND(SUM(C5:C995),2) -> 1092094.8 | D998: =ROUND(SUM(D5:D995),2) -> 362513.98 | E998: =ROUND(SUM(E5:E995),2) -> 11108.73 | F998: =ROUND(SUM(F5:F995),2) -> 0 | G998: =ROUND(SUM(G5:G995),2) -> 1103203.5 | H998: =ROUND(SUM(H5:H995),2) -> 362513.98 | N998: =SUM(N5:N995) -> 11108.73

Sheet 1-Fds Asso
B1: 1 | C1: Tableau de variation des fonds propres
C3: FONDS ASSOCIATIFS Situation nette | D3: Solde Compta 31/12/2016 | E3: Résultat N-2 | F3: Résultat N-1 | G3: Reclass. et Retraitements Consolidation | H3: Solde à la fin de l'exercice | I3: Solde Compta 31/12/2017 | J3: Ctrl | K3: Ref
A4: =IF(OR(D4<>0,H4<>0,I4<>0,C4<>0),"VRAI","FAUX") -> VRAI | B4: {=IF(ROWS(B$4:B4)<=COUNTIF('BG Justif'!$Q$5:$Q$995,$B$1),INDEX('BG Justif'!$A$5:$A$995,SMALL(IF('BG Justif'!$Q$5:$Q$995=$B$1,ROW('BG Justif'!$Q$5:$Q$995)-ROW('BG Justif'!$Q$5)+1),ROWS(B$4:B4))),"")} -> 10240000 | C4: =IF(ISNA(VLOOKUP($B4,'BG Justif'!$A$5:$M$897,2,0)),0,VLOOKUP($B4,'BG Justif'!$A$5:$M$897,2,0)) -> APP. SANS DROIT DE REPRISE | D4: =IF(ISNA(VLOOKUP($B4,'BG Justif'!$A$5:$M$897,12,0)),0,VLOOKUP(B4,'BG Justif'!$A$5:$M$897,12,0)) -> -2835.55 | H4: =IF(ISNUMBER(D4+E4-F4),(D4+E4-F4),0) -> -2835.55 | I4: =IF(ISNA(VLOOKUP($B4,'BG Justif'!$A$5:$M$897,13,0)),0,VLOOKUP($B4,'BG Justif'!$A$5:$M$897,13,0)) -> -2835.55 | J4: =H4-I4 -> 0
A5: =IF(OR(D5<>0,H5<>0,I5<>0,C5<>0),"VRAI","FAUX") -> VRAI | B5: {=IF(ROWS(B$4:B5)<=COUNTIF('BG Justif'!$Q$5:$Q$995,$B$1),INDEX('BG Justif'!$A$5:$A$995,SMALL(IF('BG Justif'!$Q$5:$Q$995=$B$1,ROW('BG Justif'!$Q$5:$Q$995)-ROW('BG Justif'!$Q$5)+1),ROWS(B$4:B5))),"")} -> 10682000 | C5: =IF(ISNA(VLOOKUP($B5,'BG Justif'!$A$5:$M$897,2,0)),0,VLOOKUP($B5,'BG Justif'!$A$5:$M$897,2,0)) -> RESERVE INVESTISSEMENT | D5: =IF(ISNA(VLOOKUP($B5,'BG Justif'!$A$5:$M$897,12,0)),0,VLOOKUP(B5,'BG Justif'!$A$5:$M$897,12,0)) -> -359678.43 | H5: =IF(ISNUMBER(D5+E5-F5),(D5+E5-F5),0) -> -359678.43 | I5: =IF(ISNA(VLOOKUP($B5,'BG Justif'!$A$5:$M$897,13,0)),0,VLOOKUP($B5,'BG Justif'!$A$5:$M$897,13,0)) -> -359678.43 | J5: =H5-I5 -> 0
A6: =IF(OR(D6<>0,H6<>0,I6<>0,C6<>0),"VRAI","FAUX") -> FAUX | B6: {=IF(ROWS(B$4:B6)<=COUNTIF('BG Justif'!$Q$5:$Q$995,$B$1),INDEX('BG Justif'!$A$5:$A$995,SMALL(IF('BG Justif'!$Q$5:$Q$995=$B$1,ROW('BG Justif'!$Q$5:$Q$995)-ROW('BG Justif'!$Q$5)+1),ROWS(B$4:B6))),"")} | C6: =IF(ISNA(VLOOKUP($B6,'BG Justif'!$A$5:$M$897,2,0)),0,VLOOKUP($B6,'BG Justif'!$A$5:$M$897,2,0)) -> 0 | D6: =IF(ISNA(VLOOKUP($B6,'BG Justif'!$A$5:$M$897,12,0)),0,VLOOKUP(B6,'BG Justif'!$A$5:$M$897,12,0)) -> 0 | H6: =IF(ISNUMBER(D6+E6-F6),(D6+E6-F6),0) -> 0 | I6: =IF(ISNA(VLOOKUP($B6,'BG Justif'!$A$5:$M$897,13,0)),0,VLOOKUP($B6,'BG Justif'!$A$5:$M$897,13,0)) -> 0 | J6: =H6-I6 -> 0
A7: =IF(OR(D7<>0,H7<>0,I7<>0,C7<>0),"VRAI","FAUX") -> FAUX | B7: {=IF(ROWS(B$4:B7)<=COUNTIF('BG Justif'!$Q$5:$Q$995,$B$1),INDEX('BG Justif'!$A$5:$A$995,SMALL(IF('BG Justif'!$Q$5:$Q$995=$B$1,ROW('BG Justif'!$Q$5:$Q$995)-ROW('BG Justif'!$Q$5)+1),ROWS(B$4:B7))),"")} | C7: =IF(ISNA(VLOOKUP($B7,'BG Justif'!$A$5:$M$897,2,0)),0,VLOOKUP($B7,'BG Justif'!$A$5:$M$897,2,0)) -> 0 | D7: =IF(ISNA(VLOOKUP($B7,'BG Justif'!$A$5:$M$897,12,0)),0,VLOOKUP(B7,'BG Justif'!$A$5:$M$897,12,0)) -> 0 | H7: =IF(ISNUMBER(D7+E7-F7),(D7+E7-F7),0) -> 0 | I7: =IF(ISNA(VLOOKUP($B7,'BG Justif'!$A$5:$M$897,13,0)),0,VLOOKUP($B7,'BG Justif'!$A$5:$M$897,13,0)) -> 0 | J7: =H7-I7 -> 0
A8: =IF(OR(D8<>0,H8<>0,I8<>0,C8<>0),"VRAI","FAUX") -> FAUX | B8: {=IF(ROWS(B$4:B8)<=COUNTIF('BG Justif'!$Q$5:$Q$995,$B$1),INDEX('BG Justif'!$A$5:$A$995,SMALL(IF('BG Justif'!$Q$5:$Q$995=$B$1,ROW('BG Justif'!$Q$5:$Q$995)-ROW('BG Justif'!$Q$5)+1),ROWS(B$4:B8))),"")} | C8: =IF(ISNA(VLOOKUP($B8,'BG Justif'!$A$5:$M$897,2,0)),0,VLOOKUP($B8,'BG Justif'!$A$5:$M$897,2,0)) -> 0 | D8: =IF(ISNA(VLOOKUP($B8,'BG Justif'!$A$5:$M$897,12,0)),0,VLOOKUP(B8,'BG Justif'!$A$5:$M$897,12,0)) -> 0 | H8: =IF(ISNUMBER(D8+E8-F8),(D8+E8-F8),0) -> 0 | I8: =IF(ISNA(VLOOKUP($B8,'BG Justif'!$A$5:$M$897,13,0)),0,VLOOKUP($B8,'BG Justif'!$A$5:$M$897,13,0)) -> 0 | J8: =H8-I8 -> 0
A9: =IF(OR(D9<>0,H9<>0,I9<>0,C9<>0),"VRAI","FAUX") -> FAUX | B9: {=IF(ROWS(B$4:B9)<=COUNTIF('BG Justif'!$Q$5:$Q$995,$B$1),INDEX('BG Justif'!$A$5:$A$995,SMALL(IF('BG Justif'!$Q$5:$Q$995=$B$1,ROW('BG Justif'!$Q$5:$Q$995)-ROW('BG Justif'!$Q$5)+1),ROWS(B$4:B9))),"")} | C9: =IF(ISNA(VLOOKUP($B9,'BG Justif'!$A$5:$M$897,2,0)),0,VLOOKUP($B9,'BG Justif'!$A$5:$M$897,2,0)) -> 0 | D9: =IF(ISNA(VLOOKUP($B9,'BG Justif'!$A$5:$M$897,12,0)),0,VLOOKUP(B9,'BG Justif'!$A$5:$M$897,12,0)) -> 0 | H9: =IF(ISNUMBER(D9+E9-F9),(D9+E9-F9),0) -> 0 | I9: =IF(ISNA(VLOOKUP($B9,'BG Justif'!$A$5:$M$897,13,0)),0,VLOOKUP($B9,'BG Justif'!$A$5:$M$897,13,0)) -> 0 | J9: =H9-I9 -> 0
A10: =IF(OR(D10<>0,H10<>0,I10<>0,C10<>0),"VRAI","FAUX") -> FAUX | B10: {=IF(ROWS(B$4:B10)<=COUNTIF('BG Justif'!$Q$5:$Q$995,$B$1),INDEX('BG Justif'!$A$5:$A$995,SMALL(IF('BG Justif'!$Q$5:$Q$995=$B$1,ROW('BG Justif'!$Q$5:$Q$995)-ROW('BG Justif'!$Q$5)+1),ROWS(B$4:B10))),"")} | C10: =IF(ISNA(VLOOKUP($B10,'BG Justif'!$A$5:$M$897,2,0)),0,VLOOKUP($B10,'BG Justif'!$A$5:$M$897,2,0)) -> 0 | D10: =IF(ISNA(VLOOKUP($B10,'BG Justif'!$A$5:$M$897,12,0)),0,VLOOKUP(B10,'BG Justif'!$A$5:$M$897,12,0)) -> 0 | H10: =IF(ISNUMBER(D10+E10-F10),(D10+E10-F10),0) -> 0 | I10: =IF(ISNA(VLOOKUP($B10,'BG Justif'!$A$5:$M$897,13,0)),0,VLOOKUP($B10,'BG Justif'!$A$5:$M$897,13,0)) -> 0 | J10: =H10-I10 -> 0
A11: =IF(OR(D11<>0,H11<>0,I11<>0,C11<>0),"VRAI","FAUX") -> FAUX | B11: {=IF(ROWS(B$4:B11)<=COUNTIF('BG Justif'!$Q$5:$Q$995,$B$1),INDEX('BG Justif'!$A$5:$A$995,SMALL(IF('BG Justif'!$Q$5:$Q$995=$B$1,ROW('BG Justif'!$Q$5:$Q$995)-ROW('BG Justif'!$Q$5)+1),ROWS(B$4:B11))),"")} | C11: =IF(ISNA(VLOOKUP($B11,'BG Justif'!$A$5:$M$897,2,0)),0,VLOOKUP($B11,'BG Justif'!$A$5:$M$897,2,0)) -> 0 | D11: =IF(ISNA(VLOOKUP($B11,'BG Justif'!$A$5:$M$897,12,0)),0,VLOOKUP(B11,'BG Justif'!$A$5:$M$897,12,0)) -> 0 | H11: =IF(ISNUMBER(D11+E11-F11),(D11+E11-F11),0) -> 0 | I11: =IF(ISNA(VLOOKUP($B11,'BG Justif'!$A$5:$M$897,13,0)),0,VLOOKUP($B11,'BG Justif'!$A$5:$M$897,13,0)) -> 0 | J11: =H11-I11 -> 0
A12: =IF(OR(D12<>0,H12<>0,I12<>0,C12<>0),"VRAI","FAUX") -> FAUX | B12: {=IF(ROWS(B$4:B12)<=COUNTIF('BG Justif'!$Q$5:$Q$995,$B$1),INDEX('BG Justif'!$A$5:$A$995,SMALL(IF('BG Justif'!$Q$5:$Q$995=$B$1,ROW('BG Justif'!$Q$5:$Q$995)-ROW('BG Justif'!$Q$5)+1),ROWS(B$4:B12))),"")} | C12: =IF(ISNA(VLOOKUP($B12,'BG Justif'!$A$5:$M$897,2,0)),0,VLOOKUP($B12,'BG Justif'!$A$5:$M$897,2,0)) -> 0 | D12: =IF(ISNA(VLOOKUP($B12,'BG Justif'!$A$5:$M$897,12,0)),0,VLOOKUP(B12,'BG Justif'!$A$5:$M$897,12,0)) -> 0 | H12: =IF(ISNUMBER(D12+E12-F12),(D12+E12-F12),0) -> 0 | I12: =IF(ISNA(VLOOKUP($B12,'BG Justif'!$A$5:$M$897,13,0)),0,VLOOKUP($B12,'BG Justif'!$A$5:$M$897,13,0)) -> 0 | J12: =H12-I12 -> 0
A13: =IF(OR(D13<>0,H13<>0,I13<>0,C13<>0),"VRAI","FAUX") -> FAUX | B13: {=IF(ROWS(B$4:B13)<=COUNTIF('BG Justif'!$Q$5:$Q$995,$B$1),INDEX('BG Justif'!$A$5:$A$995,SMALL(IF('BG Justif'!$Q$5:$Q$995=$B$1,ROW('BG Justif'!$Q$5:$Q$995)-ROW('BG Justif'!$Q$5)+1),ROWS(B$4:B13))),"")} | C13: =IF(ISNA(VLOOKUP($B13,'BG Justif'!$A$5:$M$897,2,0)),0,VLOOKUP($B13,'BG Justif'!$A$5:$M$897,2,0)) -> 0 | D13: =IF(ISNA(VLOOKUP($B13,'BG Justif'!$A$5:$M$897,12,0)),0,VLOOKUP(B13,'BG Justif'!$A$5:$M$897,12,0)) -> 0 | H13: =IF(ISNUMBER(D13+E13-F13),(D13+E13-F13),0) -> 0 | I13: =IF(ISNA(VLOOKUP($B13,'BG Justif'!$A$5:$M$897,13,0)),0,VLOOKUP($B13,'BG Justif'!$A$5:$M$897,13,0)) -> 0 | J13: =H13-I13 -> 0
A14: =IF(OR(D14<>0,H14<>0,I14<>0,C14<>0),"VRAI","FAUX") -> FAUX | B14: {=IF(ROWS(B$4:B14)<=COUNTIF('BG Justif'!$Q$5:$Q$995,$B$1),INDEX('BG Justif'!$A$5:$A$995,SMALL(IF('BG Justif'!$Q$5:$Q$995=$B$1,ROW('BG Justif'!$Q$5:$Q$995)-ROW('BG Justif'!$Q$5)+1),ROWS(B$4:B14))),"")} | C14: =IF(ISNA(VLOOKUP($B14,'BG Justif'!$A$5:$M$897,2,0)),0,VLOOKUP($B14,'BG Justif'!$A$5:$M$897,2,0)) -> 0 | D14: =IF(ISNA(VLOOKUP($B14,'BG Justif'!$A$5:$M$897,12,0)),0,VLOOKUP(B14,'BG Justif'!$A$5:$M$897,12,0)) -> 0 | H14: =IF(ISNUMBER(D14+E14-F14),(D14+E14-F14),0) -> 0 | I14: =IF(ISNA(VLOOKUP($B14,'BG Justif'!$A$5:$M$897,13,0)),0,VLOOKUP($B14,'BG Justif'!$A$5:$M$897,13,0)) -> 0 | J14: =H14-I14 -> 0
A15: =IF(OR(D15<>0,H15<>0,I15<>0,C15<>0),"VRAI","FAUX") -> FAUX | B15: {=IF(ROWS(B$4:B15)<=COUNTIF('BG Justif'!$Q$5:$Q$995,$B$1),INDEX('BG Justif'!$A$5:$A$995,SMALL(IF('BG Justif'!$Q$5:$Q$995=$B$1,ROW('BG Justif'!$Q$5:$Q$995)-ROW('BG Justif'!$Q$5)+1),ROWS(B$4:B15))),"")} | C15: =IF(ISNA(VLOOKUP($B15,'BG Justif'!$A$5:$M$897,2,0)),0,VLOOKUP($B15,'BG Justif'!$A$5:$M$897,2,0)) -> 0 | D15: =IF(ISNA(VLOOKUP($B15,'BG Justif'!$A$5:$M$897,12,0)),0,VLOOKUP(B15,'BG Justif'!$A$5:$M$897,12,0)) -> 0 | H15: =IF(ISNUMBER(D15+E15-F15),(D15+E15-F15),0) -> 0 | I15: =IF(ISNA(VLOOKUP($B15,'BG Justif'!$A$5:$M$897,13,0)),0,VLOOKUP($B15,'BG Justif'!$A$5:$M$897,13,0)) -> 0 | J15: =H15-I15 -> 0
... A56: =IF(OR(D56<>0,H56<>0,I56<>0,C56<>0),"VRAI","FAUX") -> FAUX | B56: {=IF(ROWS(B$4:B56)<=COUNTIF('BG Justif'!$Q$5:$Q$995,$B$1),INDEX('BG Justif'!$A$5:$A$995,SMALL(IF('BG Justif'!$Q$5:$Q$995=$B$1,ROW('BG Justif'!$Q$5:$Q$995)-ROW('BG Justif'!$Q$5)+1),ROWS(B$4:B56))),"")} | C56: =IF(ISNA(VLOOKUP($B56,'BG Justif'!$A$5:$M$897,2,0)),0,VLOOKUP($B56,'BG Justif'!$A$5:$M$897,2,0)) -> 0 | D56: =IF(ISNA(VLOOKUP($B56,'BG Justif'!$A$5:$M$897,12,0)),0,VLOOKUP(B56,'BG Justif'!$A$5:$M$897,12,0)) -> 0 | H56: =IF(ISNUMBER(D56+E56-F56),(D56+E56-F56),0) -> 0 | I56: =IF(ISNA(VLOOKUP($B56,'BG Justif'!$A$5:$M$897,13,0)),0,VLOOKUP($B56,'BG Justif'!$A$5:$M$897,13,0)) -> 0 | J56: =H56-I56 -> 0
A57: =IF(OR(D57<>0,H57<>0,I57<>0,C57<>0),"VRAI","FAUX") -> VRAI | C57: Provisions réglementées
A58: =IF(OR(D58<>0,H58<>0,I58<>0,C58<>0),"VRAI","FAUX") -> FAUX | B58: 14100000 | C58: =IF(ISNA(VLOOKUP($B58,'BG Justif'!$A$5:$M$897,2,0)),0,VLOOKUP($B58,'BG Justif'!$A$5:$M$897,2,0)) -> 0 | D58: =IF(ISNA(VLOOKUP($B58,'BG Justif'!$A$5:$M$897,12,0)),0,VLOOKUP(B58,'BG Justif'!$A$5:$M$897,12,0)) -> 0 | H58: =IF(ISNUMBER(D58+E58-F58),(D58+E58-F58),0) -> 0 | I58: =IF(ISNA(VLOOKUP($B58,'BG Justif'!$A$5:$M$897,13,0)),0,VLOOKUP($B58,'BG Justif'!$A$5:$M$897,13,0)) -> 0 | J58: =H58-I58 -> 0
A59: =IF(OR(D59<>0,H59<>0,I59<>0,C59<>0),"VRAI","FAUX") -> FAUX | B59: 14200000 | C59: =IF(ISNA(VLOOKUP($B59,'BG Justif'!$A$5:$M$897,2,0)),0,VLOOKUP($B59,'BG Justif'!$A$5:$M$897,2,0)) -> 0 | D59: =IF(ISNA(VLOOKUP($B59,'BG Justif'!$A$5:$M$897,12,0)),0,VLOOKUP(B59,'BG Justif'!$A$5:$M$897,12,0)) -> 0 | H59: =IF(ISNUMBER(D59+E59-F59),(D59+E59-F59),0) -> 0 | I59: =IF(ISNA(VLOOKUP($B59,'BG Justif'!$A$5:$M$897,13,0)),0,VLOOKUP($B59,'BG Justif'!$A$5:$M$897,13,0)) -> 0 | J59: =H59-I59 -> 0
A60: =IF(OR(D60<>0,H60<>0,I60<>0,C60<>0),"VRAI","FAUX") -> FAUX | B60: 14860000 | C60: =IF(ISNA(VLOOKUP($B60,'BG Justif'!$A$5:$M$897,2,0)),0,VLOOKUP($B60,'BG Justif'!$A$5:$M$897,2,0)) -> 0 | D60: =IF(ISNA(VLOOKUP($B60,'BG Justif'!$A$5:$M$897,12,0)),0,VLOOKUP(B60,'BG Justif'!$A$5:$M$897,12,0)) -> 0 | H60: =IF(ISNUMBER(D60+E60-F60),(D60+E60-F60),0) -> 0 | I60: =IF(ISNA(VLOOKUP($B60,'BG Justif'!$A$5:$M$897,13,0)),0,VLOOKUP($B60,'BG Justif'!$A$5:$M$897,13,0)) -> 0 | J60: =H60-I60 -> 0
A61: =IF(OR(D61<>0,H61<>0,I61<>0,C61<>0),"VRAI","FAUX") -> FAUX | B61: 14861000 | C61: =IF(ISNA(VLOOKUP($B61,'BG Justif'!$A$5:$M$897,2,0)),0,VLOOKUP($B61,'BG Justif'!$A$5:$M$897,2,0)) -> 0 | D61: =IF(ISNA(VLOOKUP($B61,'BG Justif'!$A$5:$M$897,12,0)),0,VLOOKUP(B61,'BG Justif'!$A$5:$M$897,12,0)) -> 0 | H61: =IF(ISNUMBER(D61+E61-F61),(D61+E61-F61),0) -> 0 | I61: =IF(ISNA(VLOOKUP($B61,'BG Justif'!$A$5:$M$897,13,0)),0,VLOOKUP($B61,'BG Justif'!$A$5:$M$897,13,0)) -> 0 | J61: =H61-I61 -> 0
A62: =IF(OR(D62<>0,H62<>0,I62<>0,C62<>0,B62=""),"VRAI","FAUX") -> VRAI | C62: TOTAL | D62: =SUM(D4:D61) -> -362513.98 | E62: =SUM(E4:E61) -> 0 | F62: =SUM(F4:F61) -> 0 | G62: =SUM(G4:G61) -> 0 | H62: =SUM(H4:H61) -> -362513.98 | I62: =SUM(I4:I61) -> -362513.98 | J62: =SUM(J4:J61) -> 0
A63: =IF(OR(D63<>0,H63<>0,I63<>0,C63<>0,B63=""),"VRAI","FAUX") -> VRAI
A64: =IF(OR(D64<>0,H64<>0,I64<>0,C64<>0,B64=""),"VRAI","FAUX") -> FAUX | B64: 68742000 | C64: =IF(ISNA(VLOOKUP($B64,'BG Justif'!$A$5:$M$897,2,0)),0,VLOOKUP($B64,'BG Justif'!$A$5:$M$897,2,0)) -> 0 | D64: =IF(ISNA(VLOOKUP($B64,'BG Justif'!$A$5:$M$897,12,0)),0,VLOOKUP(B64,'BG Justif'!$A$5:$M$897,12,0)) -> 0 | H64: =IF(ISNUMBER(D64+E64-F64),(D64+E64-F64),0) -> 0 | I64: =IF(ISNA(VLOOKUP($B64,'BG Justif'!$A$5:$M$897,13,0)),0,VLOOKUP($B64,'BG Justif'!$A$5:$M$897,13,0)) -> 0 | J64: =H64-I64 -> 0
A65: =IF(OR(D65<>0,H65<>0,I65<>0,C65<>0,B65=""),"VRAI","FAUX") -> FAUX | B65: 68746000 | C65: =IF(ISNA(VLOOKUP($B65,'BG Justif'!$A$5:$M$897,2,0)),0,VLOOKUP($B65,'BG Justif'!$A$5:$M$897,2,0)) -> 0 | D65: =IF(ISNA(VLOOKUP($B65,'BG Justif'!$A$5:$M$897,12,0)),0,VLOOKUP(B65,'BG Justif'!$A$5:$M$897,12,0)) -> 0 | H65: =IF(ISNUMBER(D65+E65-F65),(D65+E65-F65),0) -> 0 | I65: =IF(ISNA(VLOOKUP($B65,'BG Justif'!$A$5:$M$897,13,0)),0,VLOOKUP($B65,'BG Justif'!$A$5:$M$897,13,0)) -> 0 | J65: =H65-I65 -> 0
A66: =IF(OR(D66<>0,H66<>0,I66<>0,C66<>0,B66=""),"VRAI","FAUX") -> FAUX | B66: 78742000 | C66: =IF(ISNA(VLOOKUP($B66,'BG Justif'!$A$5:$M$897,2,0)),0,VLOOKUP($B66,'BG Justif'!$A$5:$M$897,2,0)) -> 0 | D66: =IF(ISNA(VLOOKUP($B66,'BG Justif'!$A$5:$M$897,12,0)),0,VLOOKUP(B66,'BG Justif'!$A$5:$M$897,12,0)) -> 0 | H66: =IF(ISNUMBER(D66+E66-F66),(D66+E66-F66),0) -> 0 | I66: =IF(ISNA(VLOOKUP($B66,'BG Justif'!$A$5:$M$897,13,0)),0,VLOOKUP($B66,'BG Justif'!$A$5:$M$897,13,0)) -> 0 | J66: =H66-I66 -> 0
A67: =IF(OR(D67<>0,H67<>0,I67<>0,C67<>0,B67=""),"VRAI","FAUX") -> FAUX | B67: 78746000 | C67: =IF(ISNA(VLOOKUP($B67,'BG Justif'!$A$5:$M$897,2,0)),0,VLOOKUP($B67,'BG Justif'!$A$5:$M$897,2,0)) -> 0 | D67: =IF(ISNA(VLOOKUP($B67,'BG Justif'!$A$5:$M$897,12,0)),0,VLOOKUP(B67,'BG Justif'!$A$5:$M$897,12,0)) -> 0 | H67: =IF(ISNUMBER(D67+E67-F67),(D67+E67-F67),0) -> 0 | I67: =IF(ISNA(VLOOKUP($B67,'BG Justif'!$A$5:$M$897,13,0)),0,VLOOKUP($B67,'BG Justif'!$A$5:$M$897,13,0)) -> 0 | J67: =H67-I67 -> 0
A68: =IF(OR(D68<>0,H68<>0,I68<>0,C68<>0,B68=""),"VRAI","FAUX") -> VRAI | C68: TOTAL | D68: =SUM(D64:D67) -> 0 | E68: =SUM(E64:E67) -> 0 | F68: =SUM(F64:F67) -> 0 | G68: =SUM(G64:G67) -> 0 | H68: =SUM(H64:H67) -> 0 | I68: =SUM(I64:I67) -> 0 | J68: =SUM(J64:J67) -> 0
A69: =IF(OR(D69<>0,H69<>0,I69<>0,C69<>0,B69=""),"VRAI","FAUX") -> VRAI
A70: =IF(OR(D70<>0,H70<>0,I70<>0,C70<>0,B70=""),"VRAI","FAUX") -> VRAI
A71: =IF(OR(D71<>0,H71<>0,I71<>0,C71<>0,B71=""),"VRAI","FAUX") -> VRAI
A72: =IF(OR(D72<>0,H72<>0,I72<>0,C72<>0,B72=""),"VRAI","FAUX") -> VRAI
A73: =IF(OR(D73<>0,H73<>0,I73<>0,C73<>0,B73=""),"VRAI","FAUX") -> VRAI
A74: =IF(OR(D74<>0,H74<>0,I74<>0,C74<>0,B74=""),"VRAI","FAUX") -> VRAI
A75: =IF(OR(D75<>0,H75<>0,I75<>0,C75<>0,B75=""),"VRAI","FAUX") -> VRAI
A76: =IF(OR(D76<>0,H76<>0,I76<>0,C76<>0,B76=""),"VRAI","FAUX") -> VRAI
A77: =IF(OR(D77<>0,H77<>0,I77<>0,C77<>0,B77=""),"VRAI","FAUX") -> VRAI
A78: =IF(OR(D78<>0,H78<>0,I78<>0,C78<>0,B78=""),"VRAI","FAUX") -> VRAI
A79: =IF(OR(D79<>0,H79<>0,I79<>0,C79<>0,B79=""),"VRAI","FAUX") -> VRAI
A80: =IF(OR(D80<>0,H80<>0,I80<>0,C80<>0,B80=""),"VRAI","FAUX") -> VRAI | C80: Tableau de variation des fonds dédiés
A81: =IF(OR(D81<>0,H81<>0,I81<>0,C81<>0,B81=""),"VRAI","FAUX") -> VRAI
...

Sheet 6-Immo Incorp
B1: 6 | C1: Immobilisations incorporelles : variation des valeurs brutes et amortissements | K1: 6.0
C3: IMMOBILISATIONS INCORPORELLES | D3: Brut au début de l'exercice | E3: Augmentations de l'exercice | F3: Diminutions de l'exercice | G3: Reclasst | H3: Brut à la fin de l'exercice | I3: =+'1-Fds Asso'!I3 -> Solde Compta 31/12/2017 | J3: Ctrl | K3: Ref | L3: Commentaire
A4: =IF(OR(D4<>0,I4<>0,J4<>0,C4<>0,B4=""),"VRAI","FAUX") -> VRAI | B4: {=IF(ROWS(B$4:B4)<=COUNTIF('BG Justif'!$Q$5:$Q$995,$B$1),INDEX('BG Justif'!$A$5:$A$995,SMALL(IF('BG Justif'!$Q$5:$Q$995=$B$1,ROW('BG Justif'!$Q$5:$Q$995)-ROW('BG Justif'!$Q$5)+1),ROWS(B$4:B4))),"")} -> 20500000 | C4: =IF(ISNA(VLOOKUP($B4,'BG Justif'!$A$5:$M$897,2,0)),0,VLOOKUP($B4,'BG Justif'!$A$5:$M$897,2,0)) -> LOGICIELS | D4: =IF(ISNA(VLOOKUP($B4,'BG Justif'!$A$5:$M$897,12,0)),0,VLOOKUP(B4,'BG Justif'!$A$5:$M$897,12,0)) -> 143526.93 | H4: =IF(ISNUMBER(C4+D4-E4),(C4+D4-E4),0) -> 0 | I4: =IF(ISNA(VLOOKUP($B4,'BG Justif'!$A$5:$M$897,13,0)),0,VLOOKUP($B4,'BG Justif'!$A$5:$M$897,13,0)) -> 143747.03 | J4: =H4-I4 -> -143747.03
A5: =IF(OR(D5<>0,I5<>0,J5<>0,C5<>0,B5=""),"VRAI","FAUX") -> VRAI | B5: {=IF(ROWS(B$4:B5)<=COUNTIF('BG Justif'!$Q$5:$Q$995,$B$1),INDEX('BG Justif'!$A$5:$A$995,SMALL(IF('BG Justif'!$Q$5:$Q$995=$B$1,ROW('BG Justif'!$Q$5:$Q$995)-ROW('BG Justif'!$Q$5)+1),ROWS(B$4:B5))),"")} | C5: =IF(ISNA(VLOOKUP($B5,'BG Justif'!$A$5:$M$897,2,0)),0,VLOOKUP($B5,'BG Justif'!$A$5:$M$897,2,0)) -> 0 | D5: =IF(ISNA(VLOOKUP($B5,'BG Justif'!$A$5:$M$897,12,0)),0,VLOOKUP(B5,'BG Justif'!$A$5:$M$897,12,0)) -> 0 | H5: =IF(ISNUMBER(C5+D5-E5),(C5+D5-E5),0) -> 0 | I5: =IF(ISNA(VLOOKUP($B5,'BG Justif'!$A$5:$M$897,13,0)),0,VLOOKUP($B5,'BG Justif'!$A$5:$M$897,13,0)) -> 0 | J5: =H5-I5 -> 0
A6: =IF(OR(D6<>0,I6<>0,J6<>0,C6<>0,B6=""),"VRAI","FAUX") -> VRAI | B6: {=IF(ROWS(B$4:B6)<=COUNTIF('BG Justif'!$Q$5:$Q$995,$B$1),INDEX('BG Justif'!$A$5:$A$995,SMALL(IF('BG Justif'!$Q$5:$Q$995=$B$1,ROW('BG Justif'!$Q$5:$Q$995)-ROW('BG Justif'!$Q$5)+1),ROWS(B$4:B6))),"")} | C6: =IF(ISNA(VLOOKUP($B6,'BG Justif'!$A$5:$M$897,2,0)),0,VLOOKUP($B6,'BG Justif'!$A$5:$M$897,2,0)) -> 0 | D6: =IF(ISNA(VLOOKUP($B6,'BG Justif'!$A$5:$M$897,12,0)),0,VLOOKUP(B6,'BG Justif'!$A$5:$M$897,12,0)) -> 0 | H6: =IF(ISNUMBER(C6+D6-E6),(C6+D6-E6),0) -> 0 | I6: =IF(ISNA(VLOOKUP($B6,'BG Justif'!$A$5:$M$897,13,0)),0,VLOOKUP($B6,'BG Justif'!$A$5:$M$897,13,0)) -> 0 | J6: =H6-I6 -> 0
A7: =IF(OR(D7<>0,I7<>0,J7<>0,C7<>0,B7=""),"VRAI","FAUX") -> VRAI | B7: {=IF(ROWS(B$4:B7)<=COUNTIF('BG Justif'!$Q$5:$Q$995,$B$1),INDEX('BG Justif'!$A$5:$A$995,SMALL(IF('BG Justif'!$Q$5:$Q$995=$B$1,ROW('BG Justif'!$Q$5:$Q$995)-ROW('BG Justif'!$Q$5)+1),ROWS(B$4:B7))),"")} | C7: =IF(ISNA(VLOOKUP($B7,'BG Justif'!$A$5:$M$897,2,0)),0,VLOOKUP($B7,'BG Justif'!$A$5:$M$897,2,0)) -> 0 | D7: =IF(ISNA(VLOOKUP($B7,'BG Justif'!$A$5:$M$897,12,0)),0,VLOOKUP(B7,'BG Justif'!$A$5:$M$897,12,0)) -> 0 | H7: =IF(ISNUMBER(C7+D7-E7),(C7+D7-E7),0) -> 0 | I7: =IF(ISNA(VLOOKUP($B7,'BG Justif'!$A$5:$M$897,13,0)),0,VLOOKUP($B7,'BG Justif'!$A$5:$M$897,13,0)) -> 0 | J7: =H7-I7 -> 0
A8: =IF(OR(D8<>0,I8<>0,J8<>0,C8<>0,B8=""),"VRAI","FAUX") -> VRAI | B8: {=IF(ROWS(B$4:B8)<=COUNTIF('BG Justif'!$Q$5:$Q$995,$B$1),INDEX('BG Justif'!$A$5:$A$995,SMALL(IF('BG Justif'!$Q$5:$Q$995=$B$1,ROW('BG Justif'!$Q$5:$Q$995)-ROW('BG Justif'!$Q$5)+1),ROWS(B$4:B8))),"")} | C8: =IF(ISNA(VLOOKUP($B8,'BG Justif'!$A$5:$M$897,2,0)),0,VLOOKUP($B8,'BG Justif'!$A$5:$M$897,2,0)) -> 0 | D8: =IF(ISNA(VLOOKUP($B8,'BG Justif'!$A$5:$M$897,12,0)),0,VLOOKUP(B8,'BG Justif'!$A$5:$M$897,12,0)) -> 0 | H8: =IF(ISNUMBER(C8+D8-E8),(C8+D8-E8),0) -> 0 | I8: =IF(ISNA(VLOOKUP($B8,'BG Justif'!$A$5:$M$897,13,0)),0,VLOOKUP($B8,'BG Justif'!$A$5:$M$897,13,0)) -> 0 | J8: =H8-I8 -> 0
A9: =IF(OR(D9<>0,I9<>0,J9<>0,C9<>0,B9=""),"VRAI","FAUX") -> VRAI | B9: {=IF(ROWS(B$4:B9)<=COUNTIF('BG Justif'!$Q$5:$Q$995,$B$1),INDEX('BG Justif'!$A$5:$A$995,SMALL(IF('BG Justif'!$Q$5:$Q$995=$B$1,ROW('BG Justif'!$Q$5:$Q$995)-ROW('BG Justif'!$Q$5)+1),ROWS(B$4:B9))),"")} | C9: =IF(ISNA(VLOOKUP($B9,'BG Justif'!$A$5:$M$897,2,0)),0,VLOOKUP($B9,'BG Justif'!$A$5:$M$897,2,0)) -> 0 | D9: =IF(ISNA(VLOOKUP($B9,'BG Justif'!$A$5:$M$897,12,0)),0,VLOOKUP(B9,'BG Justif'!$A$5:$M$897,12,0)) -> 0 | H9: =IF(ISNUMBER(C9+D9-E9),(C9+D9-E9),0) -> 0 | I9: =IF(ISNA(VLOOKUP($B9,'BG Justif'!$A$5:$M$897,13,0)),0,VLOOKUP($B9,'BG Justif'!$A$5:$M$897,13,0)) -> 0 | J9: =H9-I9 -> 0
A10: =IF(OR(D10<>0,I10<>0,J10<>0,C10<>0,B10=""),"VRAI","FAUX") -> VRAI | C10: TOTAL | D10: =SUM(D4:D9) -> 143526.93 | E10: =SUM(E4:E9) -> 0 | F10: =SUM(F4:F9) -> 0 | G10: =SUM(G4:G9) -> 0 | H10: =SUM(H4:H9) -> 0 | I10: =SUM(I4:I9) -> 143747.03 | J10: =SUM(J4:J9) -> -143747.03
A11: =IF(OR(D11<>0,I11<>0,J11<>0,C11<>0,B11=""),"VRAI","FAUX") -> VRAI
A12: =IF(OR(D12<>0,I12<>0,J12<>0,C12<>0,B12=""),"VRAI","FAUX") -> VRAI | C12: Immobilisations incorporelles : variation des amortissements | I12: =IF(ISNA(VLOOKUP($B12,'BG Justif'!$A$5:$M$897,14,0)),"",VLOOKUP($B12,'BG Justif'!$A$5:$M$897,14,0))
A13: =IF(OR(D13<>0,I13<>0,J13<>0,C13<>0,B13=""),"VRAI","FAUX") -> VRAI | I13: =IF(ISNA(VLOOKUP($B13,'BG Justif'!$A$5:$M$897,14,0)),"",VLOOKUP($B13,'BG Justif'!$A$5:$M$897,14,0))
A14: =IF(OR(D14<>0,I14<>0,J14<>0,C14<>0,B14=""),"VRAI","FAUX") -> VRAI | C14: AMORTISSEMENTS IMMOBILISATIONS INCORPORELLES | D14: Montant au début de l'exercice | E14: Augmentations de l'exercice | F14: Diminutions de l'exercice | G14: Reclasst | H14: Montant à la fin de l'exercice | I14: =+I3 -> Solde Compta 31/12/2017 | J14: Ctrl | K14: Ref | L14: Commentaire
A15: =IF(OR(D15<>0,I15<>0,J15<>0,C15<>0,B15=""),"VRAI","FAUX") -> VRAI | C15: =IF(ISNA(VLOOKUP($B15,'BG Justif'!$A$5:$M$897,2,0)),0,VLOOKUP($B15,'BG Justif'!$A$5:$M$897,2,0)) -> 0 | D15: =IF(ISNA(VLOOKUP($B15,'BG Justif'!$A$5:$M$897,12,0)),0,VLOOKUP(B15,'BG Justif'!$A$5:$M$897,12,0)) -> 0 | H15: =IF(ISNUMBER(C15+D15-E15),(C15+D15-E15),0) -> 0 | I15: =IF(ISNA(VLOOKUP($B15,'BG Justif'!$A$5:$M$897,13,0)),0,VLOOKUP($B15,'BG Justif'!$A$5:$M$897,13,0)) -> 0 | J15: =H15-I15 -> 0
A16: =IF(OR(D16<>0,I16<>0,J16<>0,C16<>0,B16=""),"VRAI","FAUX") -> VRAI | C16: =IF(ISNA(VLOOKUP($B16,'BG Justif'!$A$5:$M$897,2,0)),0,VLOOKUP($B16,'BG Justif'!$A$5:$M$897,2,0)) -> 0 | D16: =IF(ISNA(VLOOKUP($B16,'BG Justif'!$A$5:$M$897,12,0)),0,VLOOKUP(B16,'BG Justif'!$A$5:$M$897,12,0)) -> 0 | H16: =IF(ISNUMBER(C16+D16-E16),(C16+D16-E16),0) -> 0 | I16: =IF(ISNA(VLOOKUP($B16,'BG Justif'!$A$5:$M$897,13,0)),0,VLOOKUP($B16,'BG Justif'!$A$5:$M$897,13,0)) -> 0 | J16: =H16-I16 -> 0
A17: =IF(OR(D17<>0,I17<>0,J17<>0,C17<>0,B17=""),"VRAI","FAUX") -> VRAI | C17: =IF(ISNA(VLOOKUP($B17,'BG Justif'!$A$5:$M$897,2,0)),0,VLOOKUP($B17,'BG Justif'!$A$5:$M$897,2,0)) -> 0 | D17: =IF(ISNA(VLOOKUP($B17,'BG Justif'!$A$5:$M$897,12,0)),0,VLOOKUP(B17,'BG Justif'!$A$5:$M$897,12,0)) -> 0 | H17: =IF(ISNUMBER(C17+D17-E17),(C17+D17-E17),0) -> 0 | I17: =IF(ISNA(VLOOKUP($B17,'BG Justif'!$A$5:$M$897,13,0)),0,VLOOKUP($B17,'BG Justif'!$A$5:$M$897,13,0)) -> 0 | J17: =H17-I17 -> 0
A18: =IF(OR(D18<>0,I18<>0,J18<>0,C18<>0,B18=""),"VRAI","FAUX") -> VRAI | C18: =IF(ISNA(VLOOKUP($B18,'BG Justif'!$A$5:$M$897,2,0)),0,VLOOKUP($B18,'BG Justif'!$A$5:$M$897,2,0)) -> 0 | D18: =IF(ISNA(VLOOKUP($B18,'BG Justif'!$A$5:$M$897,12,0)),0,VLOOKUP(B18,'BG Justif'!$A$5:$M$897,12,0)) -> 0 | H18: =IF(ISNUMBER(C18+D18-E18),(C18+D18-E18),0) -> 0 | I18: =IF(ISNA(VLOOKUP($B18,'BG Justif'!$A$5:$M$897,13,0)),0,VLOOKUP($B18,'BG Justif'!$A$5:$M$897,13,0)) -> 0 | J18: =H18-I18 -> 0
A19: =IF(OR(D19<>0,I19<>0,J19<>0,C19<>0,B19=""),"VRAI","FAUX") -> VRAI | C19: =IF(ISNA(VLOOKUP($B19,'BG Justif'!$A$5:$M$897,2,0)),0,VLOOKUP($B19,'BG Justif'!$A$5:$M$897,2,0)) -> 0 | D19: =IF(ISNA(VLOOKUP($B19,'BG Justif'!$A$5:$M$897,12,0)),0,VLOOKUP(B19,'BG Justif'!$A$5:$M$897,12,0)) -> 0 | H19: =IF(ISNUMBER(C19+D19-E19),(C19+D19-E19),0) -> 0 | I19: =IF(ISNA(VLOOKUP($B19,'BG Justif'!$A$5:$M$897,13,0)),0,VLOOKUP($B19,'BG Justif'!$A$5:$M$897,13,0)) -> 0 | J19: =H19-I19 -> 0
A20: =IF(OR(D20<>0,I20<>0,J20<>0,C20<>0,B20=""),"VRAI","FAUX") -> VRAI | C20: TOTAL | D20: =SUM(D15:D19) -> 0 | E20: =SUM(E15:E19) -> 0 | F20: =SUM(F15:F19) -> 0 | G20: =SUM(G15:G19) -> 0 | H20: =SUM(H15:H19) -> 0 | I20: =SUM(I15:I19) -> 0
A21: =IF(OR(D21<>0,I21<>0,J21<>0,C21<>0,B21=""),"VRAI","FAUX") -> VRAI
A22: =IF(OR(D22<>0,I22<>0,J22<>0,C22<>0,B22=""),"VRAI","FAUX") -> VRAI | C22: =IF(ISNA(VLOOKUP($B22,'BG Justif'!$A$5:$M$897,2,0)),0,VLOOKUP($B22,'BG Justif'!$A$5:$M$897,2,0)) -> 0 | D22: =IF(ISNA(VLOOKUP($B22,'BG Justif'!$A$5:$M$897,12,0)),0,VLOOKUP(B22,'BG Justif'!$A$5:$M$897,12,0)) -> 0 | H22: =IF(ISNUMBER(C22+D22-E22),(C22+D22-E22),0) -> 0 | I22: =IF(ISNA(VLOOKUP($B22,'BG Justif'!$A$5:$M$897,13,0)),0,VLOOKUP($B22,'BG Justif'!$A$5:$M$897,13,0)) -> 0 | J22: =H22-I22 -> 0
A23: =IF(OR(D23<>0,I23<>0,J23<>0,C23<>0,B23=""),"VRAI","FAUX") -> VRAI | C23: =IF(ISNA(VLOOKUP($B23,'BG Justif'!$A$5:$M$897,2,0)),0,VLOOKUP($B23,'BG Justif'!$A$5:$M$897,2,0)) -> 0 | D23: =IF(ISNA(VLOOKUP($B23,'BG Justif'!$A$5:$M$897,12,0)),0,VLOOKUP(B23,'BG Justif'!$A$5:$M$897,12,0)) -> 0 | H23: =IF(ISNUMBER(C23+D23-E23),(C23+D23-E23),0) -> 0 | I23: =IF(ISNA(VLOOKUP($B23,'BG Justif'!$A$5:$M$897,13,0)),0,VLOOKUP($B23,'BG Justif'!$A$5:$M$897,13,0)) -> 0 | J23: =H23-I23 -> 0
A24: =IF(OR(D24<>0,I24<>0,J24<>0,C24<>0,B24=""),"VRAI","FAUX") -> VRAI | C24: =IF(ISNA(VLOOKUP($B24,'BG Justif'!$A$5:$M$897,2,0)),0,VLOOKUP($B24,'BG Justif'!$A$5:$M$897,2,0)) -> 0 | D24: =IF(ISNA(VLOOKUP($B24,'BG Justif'!$A$5:$M$897,12,0)),0,VLOOKUP(B24,'BG Justif'!$A$5:$M$897,12,0)) -> 0 | H24: =IF(ISNUMBER(C24+D24-E24),(C24+D24-E24),0) -> 0 | I24: =IF(ISNA(VLOOKUP($B24,'BG Justif'!$A$5:$M$897,13,0)),0,VLOOKUP($B24,'BG Justif'!$A$5:$M$897,13,0)) -> 0 | J24: =H24-I24 -> 0 | L24: écart correspond aux immos corp.
A25: =IF(OR(D25<>0,I25<>0,J25<>0,C25<>0,B25=""),"VRAI","FAUX") -> FAUX | B25: 68710000 | C25: =IF(ISNA(VLOOKUP($B25,'BG Justif'!$A$5:$M$897,2,0)),0,VLOOKUP($B25,'BG Justif'!$A$5:$M$897,2,0)) -> 0 | D25: =IF(ISNA(VLOOKUP($B25,'BG Justif'!$A$5:$M$897,12,0)),0,VLOOKUP(B25,'BG Justif'!$A$5:$M$897,12,0)) -> 0 | H25: =IF(ISNUMBER(C25+D25-E25),(C25+D25-E25),0) -> 0 | I25: =IF(ISNA(VLOOKUP($B25,'BG Justif'!$A$5:$M$897,13,0)),0,VLOOKUP($B25,'BG Justif'!$A$5:$M$897,13,0)) -> 0 | J25: =H25-I25 -> 0
A26: =IF(OR(D26<>0,I26<>0,J26<>0,C26<>0,B26=""),"VRAI","FAUX") -> VRAI | C26: TOTAL | D26: =SUM(D22:D25) -> 0 | E26: =SUM(E22:E25) -> 0 | F26: =SUM(F22:F25) -> 0 | G26: =SUM(G22:G25) -> 0 | H26: =SUM(H22:H25) -> 0 | I26: =SUM(I22:I25) -> 0 | J26: =SUM(J22:J25) -> 0
A27: =IF(OR(D27<>0,I27<>0,J27<>0,C27<>0,B27=""),"VRAI","FAUX") -> VRAI
A28: =IF(OR(D28<>0,I28<>0,J28<>0,C28<>0,B28=""),"VRAI","FAUX") -> VRAI
A29: =IF(OR(D29<>0,I29<>0,J29<>0,C29<>0,B29=""),"VRAI","FAUX") -> VRAI
A30: =IF(OR(D30<>0,I30<>0,J30<>0,C30<>0,B30=""),"VRAI","FAUX") -> VRAI
A31: =IF(OR(D31<>0,I31<>0,J31<>0,C31<>0,B31=""),"VRAI","FAUX") -> VRAI
A32: =IF(OR(D32<>0,I32<>0,J32<>0,C32<>0,B32=""),"VRAI","FAUX") -> VRAI
A33: =IF(OR(D33<>0,I33<>0,J33<>0,C33<>0,B33=""),"VRAI","FAUX") -> VRAI
A34: =IF(OR(D34<>0,I34<>0,J34<>0,C34<>0,B34=""),"VRAI","FAUX") -> VRAI
A35: =IF(OR(D35<>0,I35<>0,J35<>0,C35<>0,B35=""),"VRAI","FAUX") -> VRAI
A36: =IF(OR(D36<>0,I36<>0,J36<>0,C36<>0,B36=""),"VRAI","FAUX") -> VRAI
A37: =IF(OR(D37<>0,I37<>0,J37<>0,C37<>0,B37=""),"VRAI","FAUX") -> VRAI

Sheet 7-Immo Corp
B1: 7 | C1: Immobilisations corporelles : variation des valeurs brutes et amortissements | K1: 7.0
C3: IMMOBILISATIONS CORPORELLES | D3: Brut au début de l'exercice | E3: Augmentations de l'exercice | F3: Diminutions de l'exercice | G3: Reclassement | H3: Brut à la fin de l'exercice | I3: =+'1-Fds Asso'!I3 -> Solde Compta 31/12/2017 | J3: Ctrl | K3: Ref | L3: Commentaire
A4: =IF(OR(D4<>0,H4<>0,I4<>0,C4<>0,B4=""),"VRAI","FAUX") -> VRAI | B4: {=IF(ROWS(B$4:B4)<=COUNTIF('BG Justif'!$Q$5:$Q$995,$B$1),INDEX('BG Justif'!$A$5:$A$995,SMALL(IF('BG Justif'!$Q$5:$Q$995=$B$1,ROW('BG Justif'!$Q$5:$Q$995)-ROW('BG Justif'!$Q$5)+1),ROWS(B$4:B4))),"")} -> 21150000 | C4: =IF(ISNA(VLOOKUP($B4,'BG Justif'!$A$5:$M$897,2,0)),0,VLOOKUP($B4,'BG Justif'!$A$5:$M$897,2,0)) -> TERRAINS BATIS | D4: =IF(ISNA(VLOOKUP($B4,'BG Justif'!$A$5:$M$897,12,0)),0,VLOOKUP(B4,'BG Justif'!$A$5:$M$897,12,0)) -> 92000 | H4: =+D4+E4-F4+G4 -> 92000 | I4: =IF(ISNA(VLOOKUP($B4,'BG Justif'!$A$5:$M$897,13,0)),0,VLOOKUP($B4,'BG Justif'!$A$5:$M$897,13,0)) -> 92000 | J4: =+H4-I4 -> 0
A5: =IF(OR(D5<>0,H5<>0,I5<>0,C5<>0,B5=""),"VRAI","FAUX") -> VRAI | B5: {=IF(ROWS(B$4:B5)<=COUNTIF('BG Justif'!$Q$5:$Q$995,$B$1),INDEX('BG Justif'!$A$5:$A$995,SMALL(IF('BG Justif'!$Q$5:$Q$995=$B$1,ROW('BG Justif'!$Q$5:$Q$995)-ROW('BG Justif'!$Q$5)+1),ROWS(B$4:B5))),"")} -> 21210000 | C5: =IF(ISNA(VLOOKUP($B5,'BG Justif'!$A$5:$M$897,2,0)),0,VLOOKUP($B5,'BG Justif'!$A$5:$M$897,2,0)) -> AGENC. AMEN. TERRAINS NUS | D5: =IF(ISNA(VLOOKUP($B5,'BG Justif'!$A$5:$M$897,12,0)),0,VLOOKUP(B5,'BG Justif'!$A$5:$M$897,12,0)) -> 8602.47 | H5: =+D5+E5-F5+G5 -> 8602.47 | I5: =IF(ISNA(VLOOKUP($B5,'BG Justif'!$A$5:$M$897,13,0)),0,VLOOKUP($B5,'BG Justif'!$A$5:$M$897,13,0)) -> 8602.47 | J5: =+H5-I5 -> 0
A6: =IF(OR(D6<>0,H6<>0,I6<>0,C6<>0,B6=""),"VRAI","FAUX") -> VRAI | B6: {=IF(ROWS(B$4:B6)<=COUNTIF('BG Justif'!$Q$5:$Q$995,$B$1),INDEX('BG Justif'!$A$5:$A$995,SMALL(IF('BG Justif'!$Q$5:$Q$995=$B$1,ROW('BG Justif'!$Q$5:$Q$995)-ROW('BG Justif'!$Q$5)+1),ROWS(B$4:B6))),"")} -> 21310000 | C6: =IF(ISNA(VLOOKUP($B6,'BG Justif'!$A$5:$M$897,2,0)),0,VLOOKUP($B6,'BG Justif'!$A$5:$M$897,2,0)) -> BATIMENTS | D6: =IF(ISNA(VLOOKUP($B6,'BG Justif'!$A$5:$M$897,12,0)),0,VLOOKUP(B6,'BG Justif'!$A$5:$M$897,12,0)) -> 385786.35 | H6: =+D6+E6-F6+G6 -> 385786.35 | I6: =IF(ISNA(VLOOKUP($B6,'BG Justif'!$A$5:$M$897,13,0)),0,VLOOKUP($B6,'BG Justif'!$A$5:$M$897,13,0)) -> 385786.35 | J6: =+H6-I6 -> 0
A7: =IF(OR(D7<>0,H7<>0,I7<>0,C7<>0,B7=""),"VRAI","FAUX") -> VRAI | B7: {=IF(ROWS(B$4:B7)<=COUNTIF('BG Justif'!$Q$5:$Q$995,$B$1),INDEX('BG Justif'!$A$5:$A$995,SMALL(IF('BG Justif'!$Q$5:$Q$995=$B$1,ROW('BG Justif'!$Q$5:$Q$995)-ROW('BG Justif'!$Q$5)+1),ROWS(B$4:B7))),"")} -> 21350000 | C7: =IF(ISNA(VLOOKUP($B7,'BG Justif'!$A$5:$M$897,2,0)),0,VLOOKUP($B7,'BG Justif'!$A$5:$M$897,2,0)) -> INST. AGENC. AMEN. CONSTR. | D7: =IF(ISNA(VLOOKUP($B7,'BG Justif'!$A$5:$M$897,12,0)),0,VLOOKUP(B7,'BG Justif'!$A$5:$M$897,12,0)) -> 250882.51 | H7: =+D7+E7-F7+G7 -> 250882.51 | I7: =IF(ISNA(VLOOKUP($B7,'BG Justif'!$A$5:$M$897,13,0)),0,VLOOKUP($B7,'BG Justif'!$A$5:$M$897,13,0)) -> 250882.51 | J7: =+H7-I7 -> 0
A8: =IF(OR(D8<>0,H8<>0,I8<>0,C8<>0,B8=""),"VRAI","FAUX") -> VRAI | B8: {=IF(ROWS(B$4:B8)<=COUNTIF('BG Justif'!$Q$5:$Q$995,$B$1),INDEX('BG Justif'!$A$5:$A$995,SMALL(IF('BG Justif'!$Q$5:$Q$995=$B$1,ROW('BG Justif'!$Q$5:$Q$995)-ROW('BG Justif'!$Q$5)+1),ROWS(B$4:B8))),"")} -> 21540000 | C8: =IF(ISNA(VLOOKUP($B8,'BG Justif'!$A$5:$M$897,2,0)),0,VLOOKUP($B8,'BG Justif'!$A$5:$M$897,2,0)) -> MATERIEL & OUTILLAGE | D8: =IF(ISNA(VLOOKUP($B8,'BG Justif'!$A$5:$M$897,12,0)),0,VLOOKUP(B8,'BG Justif'!$A$5:$M$897,12,0)) -> 1631.92 | H8: =+D8+E8-F8+G8 -> 1631.92 | I8: =IF(ISNA(VLOOKUP($B8,'BG Justif'!$A$5:$M$897,13,0)),0,VLOOKUP($B8,'BG Justif'!$A$5:$M$897,13,0)) -> 4962.54 | J8: =+H8-I8 -> -3330.62
A9: =IF(OR(D9<>0,H9<>0,I9<>0,C9<>0,B9=""),"VRAI","FAUX") -> VRAI | B9: {=IF(ROWS(B$4:B9)<=COUNTIF('BG Justif'!$Q$5:$Q$995,$B$1),INDEX('BG Justif'!$A$5:$A$995,SMALL(IF('BG Justif'!$Q$5:$Q$995=$B$1,ROW('BG Justif'!$Q$5:$Q$995)-ROW('BG Justif'!$Q$5)+1),ROWS(B$4:B9))),"")} -> 21541700 | C9: =IF(ISNA(VLOOKUP($B9,'BG Justif'!$A$5:$M$897,2,0)),0,VLOOKUP($B9,'BG Justif'!$A$5:$M$897,2,0)) -> MATERIEL MEDICAL | D9: =IF(ISNA(VLOOKUP($B9,'BG Justif'!$A$5:$M$897,12,0)),0,VLOOKUP(B9,'BG Justif'!$A$5:$M$897,12,0)) -> 1620 | H9: =+D9+E9-F9+G9 -> 1620 | I9: =IF(ISNA(VLOOKUP($B9,'BG Justif'!$A$5:$M$897,13,0)),0,VLOOKUP($B9,'BG Justif'!$A$5:$M$897,13,0)) -> 1620 | J9: =+H9-I9 -> 0
A10: =IF(OR(D10<>0,H10<>0,I10<>0,C10<>0,B10=""),"VRAI","FAUX") -> VRAI | B10: {=IF(ROWS(B$4:B10)<=COUNTIF('BG Justif'!$Q$5:$Q$995,$B$1),INDEX('BG Justif'!$A$5:$A$995,SMALL(IF('BG Justif'!$Q$5:$Q$995=$B$1,ROW('BG Justif'!$Q$5:$Q$995)-ROW('BG Justif'!$Q$5)+1),ROWS(B$4:B10))),"")} -> 21810000 | C10: =IF(ISNA(VLOOKUP($B10,'BG Justif'!$A$5:$M$897,2,0)),0,VLOOKUP($B10,'BG Justif'!$A$5:$M$897,2,0)) -> INST. AGENC. AMEN. DIVERS | D10: =IF(ISNA(VLOOKUP($B10,'BG Justif'!$A$5:$M$897,12,0)),0,VLOOKUP(B10,'BG Justif'!$A$5:$M$897,12,0)) -> 64315.39 | H10: =+D10+E10-F10+G10 -> 64315.39 | I10: =IF(ISNA(VLOOKUP($B10,'BG Justif'!$A$5:$M$897,13,0)),0,VLOOKUP($B10,'BG Justif'!$A$5:$M$897,13,0)) -> 64989.18 | J10: =+H10-I10 -> -673.79
A11: =IF(OR(D11<>0,H11<>0,I11<>0,C11<>0,B11=""),"VRAI","FAUX") -> VRAI | B11: {=IF(ROWS(B$4:B11)<=COUNTIF('BG Justif'!$Q$5:$Q$995,$B$1),INDEX('BG Justif'!$A$5:$A$995,SMALL(IF('BG Justif'!$Q$5:$Q$995=$B$1,ROW('BG Justif'!$Q$5:$Q$995)-ROW('BG Justif'!$Q$5)+1),ROWS(B$4:B11))),"")} -> 21820000 | C11: =IF(ISNA(VLOOKUP($B11,'BG Justif'!$A$5:$M$897,2,0)),0,VLOOKUP($B11,'BG Justif'!$A$5:$M$897,2,0)) -> MATERIEL DE TRANSPORT | D11: =IF(ISNA(VLOOKUP($B11,'BG Justif'!$A$5:$M$897,12,0)),0,VLOOKUP(B11,'BG Justif'!$A$5:$M$897,12,0)) -> 12790.94 | H11: =+D11+E11-F11+G11 -> 12790.94 | I11: =IF(ISNA(VLOOKUP($B11,'BG Justif'!$A$5:$M$897,13,0)),0,VLOOKUP($B11,'BG Justif'!$A$5:$M$897,13,0)) -> 12790.94 | J11: =+H11-I11 -> 0
A12: =IF(OR(D12<>0,H12<>0,I12<>0,C12<>0,B12=""),"VRAI","FAUX") -> VRAI | B12: {=IF(ROWS(B$4:B12)<=COUNTIF('BG Justif'!$Q$5:$Q$995,$B$1),INDEX('BG Justif'!$A$5:$A$995,SMALL(IF('BG Justif'!$Q$5:$Q$995=$B$1,ROW('BG Justif'!$Q$5:$Q$995)-ROW('BG Justif'!$Q$5)+1),ROWS(B$4:B12))),"")} -> 21830000 | C12: =IF(ISNA(VLOOKUP($B12,'BG Justif'!$A$5:$M$897,2,0)),0,VLOOKUP($B12,'BG Justif'!$A$5:$M$897,2,0)) -> MAT. BUREAU & INFORMATIQUE | D12: =IF(ISNA(VLOOKUP($B12,'BG Justif'!$A$5:$M$897,12,0)),0,VLOOKUP(B12,'BG Justif'!$A$5:$M$897,12,0)) -> 98392.69 | H12: =+D12+E12-F12+G12 -> 98392.69 | I12: =IF(ISNA(VLOOKUP($B12,'BG Justif'!$A$5:$M$897,13,0)),0,VLOOKUP($B12,'BG Justif'!$A$5:$M$897,13,0)) -> 103047.31 | J12: =+H12-I12 -> -4654.62
A13: =IF(OR(D13<>0,H13<>0,I13<>0,C13<>0,B13=""),"VRAI","FAUX") -> VRAI | B13: {=IF(ROWS(B$4:B13)<=COUNTIF('BG Justif'!$Q$5:$Q$995,$B$1),INDEX('BG Justif'!$A$5:$A$995,SMALL(IF('BG Justif'!$Q$5:$Q$995=$B$1,ROW('BG Justif'!$Q$5:$Q$995)-ROW('BG Justif'!$Q$5)+1),ROWS(B$4:B13))),"")} -> 21840000 | C13: =IF(ISNA(VLOOKUP($B13,'BG Justif'!$A$5:$M$897,2,0)),0,VLOOKUP($B13,'BG Justif'!$A$5:$M$897,2,0)) -> MOBILIER | D13: =IF(ISNA(VLOOKUP($B13,'BG Justif'!$A$5:$M$897,12,0)),0,VLOOKUP(B13,'BG Justif'!$A$5:$M$897,12,0)) -> 32545.6 | H13: =+D13+E13-F13+G13 -> 32545.6 | I13: =IF(ISNA(VLOOKUP($B13,'BG Justif'!$A$5:$M$897,13,0)),0,VLOOKUP($B13,'BG Justif'!$A$5:$M$897,13,0)) -> 34775.2 | J13: =+H13-I13 -> -2229.6
A14: =IF(OR(D14<>0,H14<>0,I14<>0,C14<>0,B14=""),"VRAI","FAUX") -> VRAI | B14: {=IF(ROWS(B$4:B14)<=COUNTIF('BG Justif'!$Q$5:$Q$995,$B$1),INDEX('BG Justif'!$A$5:$A$995,SMALL(IF('BG Justif'!$Q$5:$Q$995=$B$1,ROW('BG Justif'!$Q$5:$Q$995)-ROW('BG Justif'!$Q$5)+1),ROWS(B$4:B14))),"")} | C14: =IF(ISNA(VLOOKUP($B14,'BG Justif'!$A$5:$M$897,2,0)),0,VLOOKUP($B14,'BG Justif'!$A$5:$M$897,2,0)) -> 0 | D14: =IF(ISNA(VLOOKUP($B14,'BG Justif'!$A$5:$M$897,12,0)),0,VLOOKUP(B14,'BG Justif'!$A$5:$M$897,12,0)) -> 0 | H14: =+D14+E14-F14+G14 -> 0 | I14: =IF(ISNA(VLOOKUP($B14,'BG Justif'!$A$5:$M$897,13,0)),0,VLOOKUP($B14,'BG Justif'!$A$5:$M$897,13,0)) -> 0 | J14: =+H14-I14 -> 0
A15: =IF(OR(D15<>0,H15<>0,I15<>0,C15<>0,B15=""),"VRAI","FAUX") -> VRAI | B15: {=IF(ROWS(B$4:B15)<=COUNTIF('BG Justif'!$Q$5:$Q$995,$B$1),INDEX('BG Justif'!$A$5:$A$995,SMALL(IF('BG Justif'!$Q$5:$Q$995=$B$1,ROW('BG Justif'!$Q$5:$Q$995)-ROW('BG Justif'!$Q$5)+1),ROWS(B$4:B15))),"")} | C15: =IF(ISNA(VLOOKUP($B15,'BG Justif'!$A$5:$M$897,2,0)),0,VLOOKUP($B15,'BG Justif'!$A$5:$M$897,2,0)) -> 0 | D15: =IF(ISNA(VLOOKUP($B15,'BG Justif'!$A$5:$M$897,12,0)),0,VLOOKUP(B15,'BG Justif'!$A$5:$M$897,12,0)) -> 0 | H15: =+D15+E15-F15+G15 -> 0 | I15: =IF(ISNA(VLOOKUP($B15,'BG Justif'!$A$5:$M$897,13,0)),0,VLOOKUP($B15,'BG Justif'!$A$5:$M$897,13,0)) -> 0 | J15: =+H15-I15 -> 0
A16: =IF(OR(D16<>0,H16<>0,I16<>0,C16<>0,B16=""),"VRAI","FAUX") -> FAUX | B16: 21311000 | C16: =IF(ISNA(VLOOKUP($B16,'BG Justif'!$A$5:$M$897,2,0)),0,VLOOKUP($B16,'BG Justif'!$A$5:$M$897,2,0)) -> 0 | D16: =IF(ISNA(VLOOKUP($B16,'BG Justif'!$A$5:$M$897,12,0)),0,VLOOKUP(B16,'BG Justif'!$A$5:$M$897,12,0)) -> 0 | H16: =+D16+E16-F16+G16 -> 0 | I16: =IF(ISNA(VLOOKUP($B16,'BG Justif'!$A$5:$M$897,13,0)),0,VLOOKUP($B16,'BG Justif'!$A$5:$M$897,13,0)) -> 0 | J16: =+H16-I16 -> 0
A17: =IF(OR(D17<>0,H17<>0,I17<>0,C17<>0,B17=""),"VRAI","FAUX") -> VRAI | B17: {=IF(ROWS(B$4:B17)<=COUNTIF('BG Justif'!$Q$5:$Q$995,$B$1),INDEX('BG Justif'!$A$5:$A$995,SMALL(IF('BG Justif'!$Q$5:$Q$995=$B$1,ROW('BG Justif'!$Q$5:$Q$995)-ROW('BG Justif'!$Q$5)+1),ROWS(B$4:B17))),"")} | C17: =IF(ISNA(VLOOKUP($B17,'BG Justif'!$A$5:$M$897,2,0)),0,VLOOKUP($B17,'BG Justif'!$A$5:$M$897,2,0)) -> 0 | D17: =IF(ISNA(VLOOKUP($B17,'BG Justif'!$A$5:$M$897,12,0)),0,VLOOKUP(B17,'BG Justif'!$A$5:$M$897,12,0)) -> 0 | H17: =+D17+E17-F17+G17 -> 0 | I17: =IF(ISNA(VLOOKUP($B17,'BG Justif'!$A$5:$M$897,13,0)),0,VLOOKUP($B17,'BG Justif'!$A$5:$M$897,13,0)) -> 0 | J17: =+H17-I17 -> 0
A18: =IF(OR(D18<>0,H18<>0,I18<>0,C18<>0,B18=""),"VRAI","FAUX") -> VRAI | B18: {=IF(ROWS(B$4:B18)<=COUNTIF('BG Justif'!$Q$5:$Q$995,$B$1),INDEX('BG Justif'!$A$5:$A$995,SMALL(IF('BG Justif'!$Q$5:$Q$995=$B$1,ROW('BG Justif'!$Q$5:$Q$995)-ROW('BG Justif'!$Q$5)+1),ROWS(B$4:B18))),"")} | C18: =IF(ISNA(VLOOKUP($B18,'BG Justif'!$A$5:$M$897,2,0)),0,VLOOKUP($B18,'BG Justif'!$A$5:$M$897,2,0)) -> 0 | D18: =IF(ISNA(VLOOKUP($B18,'BG Justif'!$A$5:$M$897,12,0)),0,VLOOKUP(B18,'BG Justif'!$A$5:$M$897,12,0)) -> 0 | H18: =+D18+E18-F18+G18 -> 0 | I18: =IF(ISNA(VLOOKUP($B18,'BG Justif'!$A$5:$M$897,13,0)),0,VLOOKUP($B18,'BG Justif'!$A$5:$M$897,13,0)) -> 0 | J18: =+H18-I18 -> 0
A19: =IF(OR(D19<>0,H19<>0,I19<>0,C19<>0,B19=""),"VRAI","FAUX") -> VRAI | B19: {=IF(ROWS(B$4:B19)<=COUNTIF('BG Justif'!$Q$5:$Q$995,$B$1),INDEX('BG Justif'!$A$5:$A$995,SMALL(IF('BG Justif'!$Q$5:$Q$995=$B$1,ROW('BG Justif'!$Q$5:$Q$995)-ROW('BG Justif'!$Q$5)+1),ROWS(B$4:B19))),"")} | C19: =IF(ISNA(VLOOKUP($B19,'BG Justif'!$A$5:$M$897,2,0)),0,VLOOKUP($B19,'BG Justif'!$A$5:$M$897,2,0)) -> 0 | D19: =IF(ISNA(VLOOKUP($B19,'BG Justif'!$A$5:$M$897,12,0)),0,VLOOKUP(B19,'BG Justif'!$A$5:$M$897,12,0)) -> 0 | H19: =+D19+E19-F19+G19 -> 0 | I19: =IF(ISNA(VLOOKUP($B19,'BG Justif'!$A$5:$M$897,13,0)),0,VLOOKUP($B19,'BG Justif'!$A$5:$M$897,13,0)) -> 0 | J19: =+H19-I19 -> 0
A20: =IF(OR(D20<>0,H20<>0,I20<>0,C20<>0,B20=""),"VRAI","FAUX") -> VRAI | B20: {=IF(ROWS(B$4:B20)<=COUNTIF('BG Justif'!$Q$5:$Q$995,$B$1),INDEX('BG Justif'!$A$5:$A$995,SMALL(IF('BG Justif'!$Q$5:$Q$995=$B$1,ROW('BG Justif'!$Q$5:$Q$995)-ROW('BG Justif'!$Q$5)+1),ROWS(B$4:B20))),"")} | C20: =IF(ISNA(VLOOKUP($B20,'BG Justif'!$A$5:$M$897,2,0)),0,VLOOKUP($B20,'BG Justif'!$A$5:$M$897,2,0)) -> 0 | D20: =IF(ISNA(VLOOKUP($B20,'BG Justif'!$A$5:$M$897,12,0)),0,VLOOKUP(B20,'BG Justif'!$A$5:$M$897,12,0)) -> 0 | H20: =+D20+E20-F20+G20 -> 0 | I20: =IF(ISNA(VLOOKUP($B20,'BG Justif'!$A$5:$M$897,13,0)),0,VLOOKUP($B20,'BG Justif'!$A$5:$M$897,13,0)) -> 0 | J20: =+H20-I20 -> 0
