Workbook
Name ÉlémentsClients: #REF!
Name ÉlémentsProd: #REF!
Name Nat_Prest: #REF!
Name PERIODE: Tables!#REF!
Name Table_Cptes: Tables!$B$7:$F$80
Name Type: #REF!

Sheet Tables
B1: Début | C1: Fin
A2: COMPARAISON | B2: 31/12/2016 | C2: 31/12/2017
A3: VARIATION | B3: 31/12/2016 | C3: 31/12/2017
B6: min | C6: max | D6: lien | F6: cycle
B7: 10000000 | C7: 10999999 | D7: =IF(G7="OUI",HYPERLINK("#"&CELL("address",'1-Fds Asso'!$B$1)),"1") -> #'[0.1-2017-XX-Tableaux de variations W.xlsx]1-Fds Asso'!$B$1 | F7: 1 | G7: OUI
B8: =+B7+1000000 -> 11000000 | C8: =+C7+1000000 -> 11999999 | D8: =IF(F8<>0,HYPERLINK("#"&CELL("address",'1-Fds Asso'!$B$1)),"1") -> #'[0.1-2017-XX-Tableaux de variations W.xlsx]1-Fds Asso'!$B$1 | F8: 1 | G8: OUI
B9: =+B8+1000000 -> 12000000 | C9: =+C8+1000000 -> 12999999 | D9: =IF(F9<>0,HYPERLINK("#"&CELL("address",'1-Fds Asso'!$B$1)),"1") -> #'[0.1-2017-XX-Tableaux de variations W.xlsx]1-Fds Asso'!$B$1 | F9: 1 | G9: OUI
B10: =+B9+1000000 -> 13000000 | C10: =+C9+1000000 -> 13999999 | D10: =IF(F10<>0,HYPERLINK("#"&CELL("address",#REF!)),"1") -> #REF! | F10: 2 | G10: OUI
B11: =+B10+1000000 -> 14000000 | C11: =+C10+1000000 -> 14999999 | D11: =IF(F11<>0,HYPERLINK("#"&CELL("address",'1-Fds Asso'!$B$1)),"1") -> #'[0.1-2017-XX-Tableaux de variations W.xlsx]1-Fds Asso'!$B$1 | F11: 1 | G11: OUI
B12: =+B11+1000000 -> 15000000 | C12: =+C11+1000000 -> 15999999 | D12: =IF(F12<>0,HYPERLINK("#"&CELL("address",#REF!)),"1") -> #REF! | F12: 3 | G12: OUI
B13: =+B12+1000000 -> 16000000 | C13: =+C12+1000000 -> 16999999 | D13: =IF(F13<>0,HYPERLINK("#"&CELL("address",#REF!)),"1") -> #REF! | F13: 4 | G13: OUI
B14: =+B13+1000000 -> 17000000 | C14: =+C13+1000000 -> 17999999 | F14: N/A
B15: =+B14+1000000 -> 18000000 | C15: =+C14+1000000 -> 18999999 | F15: 5
B16: =+B15+1000000 -> 19000000 | C16: =+C15+1000000 -> 19999999 | D16: =IF(F16<>0,HYPERLINK("#"&CELL("address",'1-Fds Asso'!$B$1)),"1") -> #'[0.1-2017-XX-Tableaux de variations W.xlsx]1-Fds Asso'!$B$1 | F16: 1 | G16: OUI
B17: =+B16+1000000 -> 20000000 | C17: =+C16+1000000 -> 20999999 | D17: =IF(F17<>0,HYPERLINK("#"&CELL("address",'6-Immo Incorp'!$B$1)),"1") -> #'[0.1-2017-XX-Tableaux de variations W.xlsx]6-Immo Incorp'!$B$1 | F17: 6 | G17: OUI
B18: =+B17+1000000 -> 21000000 | C18: =+C17+1000000 -> 21999999 | D18: =IF(F18<>0,HYPERLINK("#"&CELL("address",'7-Immo Corp'!$B$1)),"1") -> #'[0.1-2017-XX-Tableaux de variations W.xlsx]7-Immo Corp'!$B$1 | F18: 7 | G18: OUI
B19: =+B18+1000000 -> 22000000 | C19: =+C18+1000000 -> 22999999 | D19: =IF(F19<>0,HYPERLINK("#"&CELL("address",'7-Immo Corp'!$B$1)),"1") -> #'[0.1-2017-XX-Tableaux de variations W.xlsx]7-Immo Corp'!$B$1 | F19: 7 | G19: OUI
B20: =+B19+1000000 -> 23000000 | C20: 23099999 | F20: N/A
B21: 23100000 | C21: 23199999 | D21: =IF(F21<>0,HYPERLINK("#"&CELL("address",'7-Immo Corp'!$B$1)),"1") -> #'[0.1-2017-XX-Tableaux de variations W.xlsx]7-Immo Corp'!$B$1 | F21: 7 | G21: OUI
B22: 23200000 | C22: 23299999 | D22: =IF(F22<>0,HYPERLINK("#"&CELL("address",'6-Immo Incorp'!$B$1)),"1") -> #'[0.1-2017-XX-Tableaux de variations W.xlsx]6-Immo Incorp'!$B$1 | F22: 6 | G22: OUI
B23: 23700000 | C23: 23799999 | D23: =IF(F23<>0,HYPERLINK("#"&CELL("address",'6-Immo Incorp'!$B$1)),"1") -> #'[0.1-2017-XX-Tableaux de variations W.xlsx]6-Immo Incorp'!$B$1 | F23: 6 | G23: OUI
B24: 23800000 | C24: 23999999 | D24: =IF(F24<>0,HYPERLINK("#"&CELL("address",'7-Immo Corp'!$B$1)),"1") -> #'[0.1-2017-XX-Tableaux de variations W.xlsx]7-Immo Corp'!$B$1 | F24: 7 | G24: OUI
B25: =+B20+1000000 -> 24000000 | C25: =+C20+1000000 -> 24099999 | F25: N/A
B26: =+B25+1000000 -> 25000000 | C26: =+C25+1000000 -> 25099999 | F26: N/A
B27: =+B26+1000000 -> 26000000 | C27: =+C26+1000000 -> 26099999 | D27: =IF(F27<>0,HYPERLINK("#"&CELL("address",#REF!)),"1") -> #REF! | F27: 8 | G27: OUI
B28: =+B27+1000000 -> 27000000 | C28: =+C27+1000000 -> 27099999 | D28: =IF(F28<>0,HYPERLINK("#"&CELL("address",#REF!)),"1") -> #REF! | F28: 8 | G28: OUI
B29: =+B28+1000000 -> 28000000 | C29: =+C28+1000000 -> 28099999 | D29: =IF(F29<>0,HYPERLINK("#"&CELL("address",'6-Immo Incorp'!$B$1)),"1") -> #'[0.1-2017-XX-Tableaux de variations W.xlsx]6-Immo Incorp'!$B$1 | F29: 6 | G29: OUI
B30: 28100000 | C30: 28199999 | D30: =IF(F30<>0,HYPERLINK("#"&CELL("address",'7-Immo Corp'!$B$1)),"1") -> #'[0.1-2017-XX-Tableaux de variations W.xlsx]7-Immo Corp'!$B$1 | F30: 7 | G30: OUI
B31: 28200000 | C31: 28299999 | F31: N/A
B32: =+B29+1000000 -> 29000000 | C32: =+C29+1000000 -> 29099999 | D32: =IF(F32<>0,HYPERLINK("#"&CELL("address",'6-Immo Incorp'!$B$1)),"1") -> #'[0.1-2017-XX-Tableaux de variations W.xlsx]6-Immo Incorp'!$B$1 | F32: 6 | G32: OUI
B33: 29100000 | C33: 29199999 | D33: =IF(F33<>0,HYPERLINK("#"&CELL("address",'7-Immo Corp'!$B$1)),"1") -> #'[0.1-2017-XX-Tableaux de variations W.xlsx]7-Immo Corp'!$B$1 | F33: 7 | G33: OUI
B34: 29200000 | C34: 29299999 | F34: N/A
B35: 29300000 | C35: 29319999 | D35: =IF(F35<>0,HYPERLINK("#"&CELL("address",'7-Immo Corp'!$B$1)),"1") -> #'[0.1-2017-XX-Tableaux de variations W.xlsx]7-Immo Corp'!$B$1 | F35: 7 | G35: OUI
B36: 29320000 | C36: 29329999 | D36: =IF(F36<>0,HYPERLINK("#"&CELL("address",'6-Immo Incorp'!$B$1)),"1") -> #'[0.1-2017-XX-Tableaux de variations W.xlsx]6-Immo Incorp'!$B$1 | F36: 6 | G36: OUI
B37: 29400000 | C37: 29799999 | D37: =IF(F37<>0,HYPERLINK("#"&CELL("address",#REF!)),"1") -> #REF! | F37: 8 | G37: OUI
B38: =+B32+1000000 -> 30000000 | C38: 38999999 | F38: 9
B39: 39000000 | C39: 39999999 | F39: 9
B40: =+B39+1000000 -> 40000000 | C40: 40799999 | F40: 10
B41: 40800000 | C41: 40899999 | D41: =IF(G41="OUI",HYPERLINK("#"&CELL("address",#REF!)),"1") -> #REF! | F41: 10.4 | G41: OUI
B42: 40900000 | C42: 40999999 | F42: 13.1
B43: =+B40+1000000 -> 41000000 | C43: =+C40+1000000 -> 41799999 | F43: 11
B44: 41800000 | C44: 41899999 | D44: =IF(F44<>0,HYPERLINK("#"&CELL("address",#REF!)),"1") -> #REF! | F44: 11.3 | G44: OUI
B45: 41900000 | C45: 41999999 | F45: 11
B46: =+B43+1000000 -> 42000000 | C46: =+C43+1000000 -> 42799999 | F46: 12
B47: =+B46+1000000 -> 43000000 | C47: =+C46+1000000 -> 43799999 | F47: 12
B48: =+B47+1000000 -> 44000000 | C48: =+C47+1000000 -> 44799999 | F48: 12
B49: =+B48+1000000 -> 45000000 | C49: =+C48+1000000 -> 45799999 | F49: N/A
B50: =+B49+1000000 -> 46000000 | C50: =+C49+1000000 -> 46799999 | F50: 10-11-12-13
B51: =+B50+1000000 -> 47000000 | C51: =+C50+1000000 -> 47799999 | F51: A SOLDER
B52: =+B51+1000000 -> 48000000 | C52: 48199999 | F52: A SOLDER
B53: 48200000 | C53: 48699999 | F53: 14
B54: 48700000 | C54: 48799999 | F54: 15
B55: 48800000 | C55: 48999999 | F55: A SOLDER AU 31/12
B56: =+B52+1000000 -> 49000000 | C56: 49199999 | F56: 11
B57: 49299999 | C57: 49999999 | F57: 12
B58: =+B56+1000000 -> 50000000 | C58: 57999999 | F58: 16
B59: 58000000 | C59: =+C58+1000000 -> 58999999 | F59: A SOLDER
B60: =+B59+1000000 -> 59000000 | C60: =+C59+1000000 -> 59999999 | F60: 16
B61: =+B60+1000000 -> 60000000 | C61: =+C60+1000000 -> 60999999 | F61: 17
B62: =+B61+1000000 -> 61000000 | C62: =+C61+1000000 -> 61999999 | F62: 17
B63: =+B62+1000000 -> 62000000 | C63: =+C62+1000000 -> 62999999 | F63: 17
B64: =+B63+1000000 -> 63000000 | C64: =+C63+1000000 -> 63999999 | F64: 17
B65: =+B64+1000000 -> 64000000 | C65: =+C64+1000000 -> 64999999 | D65: =IF(F65<>0,HYPERLINK("#"&CELL("address",#REF!)),"1") -> #REF! | F65: 12.2 - 17
B66: =+B65+1000000 -> 65000000 | C66: =+C65+1000000 -> 65999999 | F66: 17
B67: =+B66+1000000 -> 66000000 | C67: =+C66+1000000 -> 66999999 | F67: 17
B68: =+B67+1000000 -> 67000000 | C68: =+C67+1000000 -> 67999999 | F68: 17
B69: =+B68+1000000 -> 68000000 | C69: =+C68+1000000 -> 68999999 | F69: 17
B70: =+B69+1000000 -> 69000000 | C70: =+C69+1000000 -> 69999999 | F70: 17
B71: =+B70+1000000 -> 70000000 | C71: =+C70+1000000 -> 70999999 | F71: 17
B72: =+B71+1000000 -> 71000000 | C72: =+C71+1000000 -> 71999999 | F72: 17
B73: =+B72+1000000 -> 72000000 | C73: =+C72+1000000 -> 72999999 | F73: 17
B74: =+B73+1000000 -> 73000000 | C74: =+C73+1000000 -> 73999999 | F74: 19
B75: =+B74+1000000 -> 74000000 | C75: =+C74+1000000 -> 74999999 | F75: 17
B76: =+B75+1000000 -> 75000000 | C76: =+C75+1000000 -> 75999999 | F76: 17
B77: =+B76+1000000 -> 76000000 | C77: =+C76+1000000 -> 76999999 | F77: 17
... B80: =+B79+1000000 -> 79000000 | C80: =+C79+1000000 -> 79999999 | F80: 17

Sheet BG Justif
A2: COMPTE | B2: LIBELLE | C2: CUMUL DE L'EXERCICE N-1 | E2: MVTS DE L'EXERCICE N | G2: CUMUL DE L'EXERCICE N | L2: Solde N-1 | M2: Solde N | N2: Var N / N-1 | P2: S/Totaux | Q2: Cycle | R2: XRef | S2: Raccourci | T2: Commentaire | U2: Fichiers
C3: DEBIT | D3: CREDIT | E3: DEBIT | F3: CREDIT | G3: DEBIT | H3: CREDIT | L3: 2016 | M3: 2017 | AC3: CUMUL DE L'EXERCICE N-1 | AE3: MVTS DE L'EXERCICE N | AG3: CUMUL DE L'EXERCICE N | AL3: Solde N-1 | AM3: Solde N | AN3: Var N / N-1 | AP3: S/Totaux | AQ3: Cycle
Z4: Cycle | AA4: COMPTE | AB4: LIBELLE | AC4: Cum_Débit_N-1 | AD4: Cum_Crédit_N-1 | AE4: Mvts_Débit_N | AF4: Mvts_Crédit_N | AG4: Cum_Débit_N | AH4: Cum_Crédit_N | AL4: Solde_N-1 | AM4: Solde_N | AN4: Var_N_N-1 | AQ4: Cycle
A5: 10240000 | B5: APP. SANS DROIT DE REPRISE | C5: 0 | D5: 2835.55 | E5: 0 | F5: 0 | G5: 0 | H5: 2835.55 | L5: =+C5-D5 -> -2835.55 | M5: =+G5-H5 -> -2835.55 | N5: =ROUND(-L5+M5,0) -> 0 | Q5: =IFERROR(VLOOKUP(A5,Table_Cptes,5,TRUE)," ") -> 1 | S5: =IF(ISNA(HYPERLINK(INDEX(Tables!D:D,MATCH('BG Justif'!Q5,Tables!F:F,0))))<>" ",HYPERLINK(INDEX(Tables!D:D,MATCH('BG Justif'!Q5,Tables!F:F,0)),"Tableau de variation")," ") -> Tableau de variation | Z5: =+Q5 -> 1 | AA5: =+A5 -> 10240000 | AB5: =+B5 -> APP. SANS DROIT DE REPRISE | AC5: =+C5 -> 0 | AD5: =+D5 -> 2835.55 | AE5: =+E5 -> 0 | AF5: =+F5 -> 0 | AG5: =+G5 -> 0 | AH5: =+H5 -> 2835.55 | ... AR5: =+R5 -> 0
A6: 10682000 | B6: RESERVE INVESTISSEMENT | C6: 0 | D6: 359678.43 | E6: 0 | F6: 0 | G6: 0 | H6: 359678.43 | L6: =+C6-D6 -> -359678.43 | M6: =+G6-H6 -> -359678.43 | N6: =-L6+M6 -> 0 | Q6: =IFERROR(VLOOKUP(A6,Table_Cptes,5,TRUE),"") -> 1 | S6: =IF(HYPERLINK(INDEX(Tables!D:D,MATCH('BG Justif'!Q6,Tables!F:F,0)))<>"",HYPERLINK(INDEX(Tables!D:D,MATCH('BG Justif'!Q6,Tables!F:F,0)),"Tableau de variation"),"") -> Tableau de variation | Z6: =+Q6 -> 1 | AA6: =+A6 -> 10682000 | AB6: =+B6 -> RESERVE INVESTISSEMENT | AC6: =+C6 -> 0 | AD6: =+D6 -> 359678.43 | AE6: =+E6 -> 0 | AF6: =+F6 -> 0 | AG6: =+G6 -> 0 | AH6: =+H6 -> 359678.43 | ... AR6: =+R6 -> 0
A7: 20500000 | B7: LOGICIELS | C7: 143526.93 | D7: 0 | E7: 220.1 | F7: 0 | G7: 143747.03 | H7: 0 | L7: =+C7-D7 -> 143526.93 | M7: =+G7-H7 -> 143747.03 | N7: =-L7+M7 -> 220.1 | Q7: =IFERROR(VLOOKUP(A7,Table_Cptes,5,TRUE),"") -> 6 | S7: =IF(HYPERLINK(INDEX(Tables!D:D,MATCH('BG Justif'!Q7,Tables!F:F,0)))<>"",HYPERLINK(INDEX(Tables!D:D,MATCH('BG Justif'!Q7,Tables!F:F,0)),"Tableau de variation"),"") -> Tableau de variation | Z7: =+Q7 -> 6 | AA7: =+A7 -> 20500000 | AB7: =+B7 -> LOGICIELS | AC7: =+C7 -> 143526.93 | AD7: =+D7 -> 0 | AE7: =+E7 -> 220.1 | AF7: =+F7 -> 0 | AG7: =+G7 -> 143747.03 | AH7: =+H7 -> 0 | ... AR7: =+R7 -> 0
A8: 21150000 | B8: TERRAINS BATIS | C8: 92000 | D8: 0 | E8: 0 | F8: 0 | G8: 92000 | H8: 0 | L8: =+C8-D8 -> 92000 | M8: =+G8-H8 -> 92000 | N8: =-L8+M8 -> 0 | Q8: =IFERROR(VLOOKUP(A8,Table_Cptes,5,TRUE),"") -> 7 | S8: =IF(HYPERLINK(INDEX(Tables!D:D,MATCH('BG Justif'!Q8,Tables!F:F,0)))<>"",HYPERLINK(INDEX(Tables!D:D,MATCH('BG Justif'!Q8,Tables!F:F,0)),"Tableau de variation"),"") -> Tableau de variation | Z8: =+Q8 -> 7 | AA8: =+A8 -> 21150000 | AB8: =+B8 -> TERRAINS BATIS | AC8: =+C8 -> 92000 | AD8: =+D8 -> 0 | AE8: =+E8 -> 0 | AF8: =+F8 -> 0 | AG8: =+G8 -> 92000 | AH8: =+H8 -> 0 | ... AR8: =+R8 -> 0
A9: 21210000 | B9: AGENC. AMEN. TERRAINS NUS | C9: 8602.47 | D9: 0 | E9: 0 | F9: 0 | G9: 8602.47 | H9: 0 | L9: =+C9-D9 -> 8602.47 | M9: =+G9-H9 -> 8602.47 | N9: =-L9+M9 -> 0 | Q9: =IFERROR(VLOOKUP(A9,Table_Cptes,5,TRUE),"") -> 7 | S9: =IF(HYPERLINK(INDEX(Tables!D:D,MATCH('BG Justif'!Q9,Tables!F:F,0)))<>"",HYPERLINK(INDEX(Tables!D:D,MATCH('BG Justif'!Q9,Tables!F:F,0)),"Tableau de variation"),"") -> Tableau de variation | Z9: =+Q9 -> 7 | AA9: =+A9 -> 21210000 | AB9: =+B9 -> AGENC. AMEN. TERRAINS NUS | AC9: =+C9 -> 8602.47 | AD9: =+D9 -> 0 | AE9: =+E9 -> 0 | AF9: =+F9 -> 0 | AG9: =+G9 -> 8602.47 | AH9: =+H9 -> 0 | ... AR9: =+R9 -> 0
A10: 21310000 | B10: BATIMENTS | C10: 385786.35 | D10: 0 | E10: 0 | F10: 0 | G10: 385786.35 | H10: 0 | L10: =+C10-D10 -> 385786.35 | M10: =+G10-H10 -> 385786.35 | N10: =-L10+M10 -> 0 | Q10: =IFERROR(VLOOKUP(A10,Table_Cptes,5,TRUE),"") -> 7 | S10: =IF(HYPERLINK(INDEX(Tables!D:D,MATCH('BG Justif'!Q10,Tables!F:F,0)))<>"",HYPERLINK(INDEX(Tables!D:D,MATCH('BG Justif'!Q10,Tables!F:F,0)),"Tableau de variation"),"") -> Tableau de variation | Z10: =+Q10 -> 7 | AA10: =+A10 -> 21310000 | AB10: =+B10 -> BATIMENTS | AC10: =+C10 -> 385786.35 | AD10: =+D10 -> 0 | AE10: =+E10 -> 0 | AF10: =+F10 -> 0 | AG10: =+G10 -> 385786.35 | AH10: =+H10 -> 0 | ... AR10: =+R10 -> 0
A11: 21350000 | B11: INST. AGENC. AMEN. CONSTR. | C11: 250882.51 | D11: 0 | E11: 0 | F11: 0 | G11: 250882.51 | H11: 0 | L11: =+C11-D11 -> 250882.51 | M11: =+G11-H11 -> 250882.51 | N11: =-L11+M11 -> 0 | Q11: =IFERROR(VLOOKUP(A11,Table_Cptes,5,TRUE),"") -> 7 | S11: =IF(HYPERLINK(INDEX(Tables!D:D,MATCH('BG Justif'!Q11,Tables!F:F,0)))<>"",HYPERLINK(INDEX(Tables!D:D,MATCH('BG Justif'!Q11,Tables!F:F,0)),"Tableau de variation"),"") -> Tableau de variation | Z11: =+Q11 -> 7 | AA11: =+A11 -> 21350000 | AB11: =+B11 -> INST. AGENC. AMEN. CONSTR. | AC11: =+C11 -> 250882.51 | AD11: =+D11 -> 0 | AE11: =+E11 -> 0 | AF11: =+F11 -> 0 | AG11: =+G11 -> 250882.51 | AH11: =+H11 -> 0 | ... AR11: =+R11 -> 0
A12: 21540000 | B12: MATERIEL & OUTILLAGE | C12: 1631.92 | D12: 0 | E12: 3330.62 | F12: 0 | G12: 4962.54 | H12: 0 | L12: =+C12-D12 -> 1631.92 | M12: =+G12-H12 -> 4962.54 | N12: =-L12+M12 -> 3330.62 | Q12: =IFERROR(VLOOKUP(A12,Table_Cptes,5,TRUE),"") -> 7 | S12: =IF(HYPERLINK(INDEX(Tables!D:D,MATCH('BG Justif'!Q12,Tables!F:F,0)))<>"",HYPERLINK(INDEX(Tables!D:D,MATCH('BG Justif'!Q12,Tables!F:F,0)),"Tableau de variation"),"") -> Tableau de variation | Z12: =+Q12 -> 7 | AA12: =+A12 -> 21540000 | AB12: =+B12 -> MATERIEL & OUTILLAGE | AC12: =+C12 -> 1631.92 | AD12: =+D12 -> 0 | AE12: =+E12 -> 3330.62 | AF12: =+F12 -> 0 | AG12: =+G12 -> 4962.54 | AH12: =+H12 -> 0 | ... AR12: =+R12 -> 0
A13: 21541700 | B13: MATERIEL MEDICAL | C13: 1620 | D13: 0 | E13: 0 | F13: 0 | G13: 1620 | H13: 0 | L13: =+C13-D13 -> 1620 | M13: =+G13-H13 -> 1620 | N13: =-L13+M13 -> 0 | Q13: =IFERROR(VLOOKUP(A13,Table_Cptes,5,TRUE),"") -> 7 | S13: =IF(HYPERLINK(INDEX(Tables!D:D,MATCH('BG Justif'!Q13,Tables!F:F,0)))<>"",HYPERLINK(INDEX(Tables!D:D,MATCH('BG Justif'!Q13,Tables!F:F,0)),"Tableau de variation"),"") -> Tableau de variation | Z13: =+Q13 -> 7 | AA13: =+A13 -> 21541700 | AB13: =+B13 -> MATERIEL MEDICAL | AC13: =+C13 -> 1620 | AD13: =+D13 -> 0 | AE13: =+E13 -> 0 | AF13: =+F13 -> 0 | AG13: =+G13 -> 1620 | AH13: =+H13 -> 0 | ... AR13: =+R13 -> 0
A14: 21810000 | B14: INST. AGENC. AMEN. DIVERS | C14: 64315.39 | D14: 0 | E14: 673.79 | F14: 0 | G14: 64989.18 | H14: 0 | L14: =+C14-D14 -> 64315.39 | M14: =+G14-H14 -> 64989.18 | N14: =-L14+M14 -> 673.79 | Q14: =IFERROR(VLOOKUP(A14,Table_Cptes,5,TRUE),"") -> 7 | S14: =IF(HYPERLINK(INDEX(Tables!D:D,MATCH('BG Justif'!Q14,Tables!F:F,0)))<>"",HYPERLINK(INDEX(Tables!D:D,MATCH('BG Justif'!Q14,Tables!F:F,0)),"Tableau de variation"),"") -> Tableau de variation | Z14: =+Q14 -> 7 | AA14: =+A14 -> 21810000 | AB14: =+B14 -> INST. AGENC. AMEN. DIVERS | AC14: =+C14 -> 64315.39 | AD14: =+D14 -> 0 | AE14: =+E14 -> 673.79 | AF14: =+F14 -> 0 | AG14: =+G14 -> 64989.18 | AH14: =+H14 -> 0 | ... AR14: =+R14 -> 0
A15: 21820000 | B15: MATERIEL DE TRANSPORT | C15: 12790.94 | D15: 0 | E15: 0 | F15: 0 | G15: 12790.94 | H15: 0 | L15: =+C15-D15 -> 12790.94 | M15: =+G15-H15 -> 12790.94 | N15: =-L15+M15 -> 0 | Q15: =IFERROR(VLOOKUP(A15,Table_Cptes,5,TRUE),"") -> 7 | S15: =IF(HYPERLINK(INDEX(Tables!D:D,MATCH('BG Justif'!Q15,Tables!F:F,0)))<>"",HYPERLINK(INDEX(Tables!D:D,MATCH('BG Justif'!Q15,Tables!F:F,0)),"Tableau de variation"),"") -> Tableau de variation | Z15: =+Q15 -> 7 | AA15: =+A15 -> 21820000 | AB15: =+B15 -> MATERIEL DE TRANSPORT | AC15: =+C15 -> 12790.94 | AD15: =+D15 -> 0 | AE15: =+E15 -> 0 | AF15: =+F15 -> 0 | AG15: =+G15 -> 12790.94 | AH15: =+H15 -> 0 | ... AR15: =+R15 -> 0
A16: 21830000 | B16: MAT. BUREAU & INFORMATIQUE | C16: 98392.69 | D16: 0 | E16: 4654.62 | F16: 0 | G16: 103047.31 | H16: 0 | L16: =+C16-D16 -> 98392.69 | M16: =+G16-H16 -> 103047.31 | N16: =-L16+M16 -> 4654.62 | Q16: =IFERROR(VLOOKUP(A16,Table_Cptes,5,TRUE),"") -> 7 | S16: =IF(HYPERLINK(INDEX(Tables!D:D,MATCH('BG Justif'!Q16,Tables!F:F,0)))<>"",HYPERLINK(INDEX(Tables!D:D,MATCH('BG Justif'!Q16,Tables!F:F,0)),"Tableau de variation"),"") -> Tableau de variation | Z16: =+Q16 -> 7 | AA16: =+A16 -> 21830000 | AB16: =+B16 -> MAT. BUREAU & INFORMATIQUE | AC16: =+C16 -> 98392.69 | AD16: =+D16 -> 0 | AE16: =+E16 -> 4654.62 | AF16: =+F16 -> 0 | AG16: =+G16 -> 103047.31 | AH16: =+H16 -> 0 | ... AR16: =+R16 -> 0
A17: 21840000 | B17: MOBILIER | C17: 32545.6 | D17: 0 | E17: 2229.6 | F17: 0 | G17: 34775.2 | H17: 0 | L17: =+C17-D17 -> 32545.6 | M17: =+G17-H17 -> 34775.2 | N17: =-L17+M17 -> 2229.6 | Q17: =IFERROR(VLOOKUP(A17,Table_Cptes,5,TRUE),"") -> 7 | S17: =IF(HYPERLINK(INDEX(Tables!D:D,MATCH('BG Justif'!Q17,Tables!F:F,0)))<>"",HYPERLINK(INDEX(Tables!D:D,MATCH('BG Justif'!Q17,Tables!F:F,0)),"Tableau de variation"),"") -> Tableau de variation | Z17: =+Q17 -> 7 | AA17: =+A17 -> 21840000 | AB17: =+B17 -> MOBILIER | AC17: =+C17 -> 32545.6 | AD17: =+D17 -> 0 | AE17: =+E17 -> 2229.6 | AF17: =+F17 -> 0 | AG17: =+G17 -> 34775.2 | AH17: =+H17 -> 0 | ... AR17: =+R17 -> 0
L18: =+C18-D18 -> 0 | M18: =+G18-H18 -> 0 | N18: =-L18+M18 -> 0 | Q18: =IFERROR(VLOOKUP(A18,Table_Cptes,5,TRUE),"") | S18: =IF(HYPERLINK(INDEX(Tables!D:D,MATCH('BG Justif'!Q18,Tables!F:F,0)))<>"",HYPERLINK(INDEX(Tables!D:D,MATCH('BG Justif'!Q18,Tables!F:F,0)),"Tableau de variation"),"") -> #N/A | Z18: =+Q18 | AA18: =+A18 -> 0 | AB18: =+B18 -> 0 | AC18: =+C18 -> 0 | AD18: =+D18 -> 0 | AE18: =+E18 -> 0 | AF18: =+F18 -> 0 | AG18: =+G18 -> 0 | AH18: =+H18 -> 0 | ... AR18: =+R18 -> 0
L19: =+C19-D19 -> 0 | M19: =+G19-H19 -> 0 | N19: =-L19+M19 -> 0 | Q19: =IFERROR(VLOOKUP(A19,Table_Cptes,5,TRUE),"") | S19: =IF(HYPERLINK(INDEX(Tables!D:D,MATCH('BG Justif'!Q19,Tables!F:F,0)))<>"",HYPERLINK(INDEX(Tables!D:D,MATCH('BG Justif'!Q19,Tables!F:F,0)),"Tableau de variation"),"") -> #N/A | Z19: =+Q19 | AA19: =+A19 -> 0 | AB19: =+B19 -> 0 | AC19: =+C19 -> 0 | AD19: =+D19 -> 0 | AE19: =+E19 -> 0 | AF19: =+F19 -> 0 | AG19: =+G19 -> 0 | AH19: =+H19 -> 0 | ... AR19: =+R19 -> 0
L20: =+C20-D20 -> 0 | M20: =+G20-H20 -> 0 | N20: =-L20+M20 -> 0 | Q20: =IFERROR(VLOOKUP(A20,Table_Cptes,5,TRUE),"") | S20: =IF(HYPERLINK(INDEX(Tables!D:D,MATCH('BG Justif'!Q20,Tables!F:F,0)))<>"",HYPERLINK(INDEX(Tables!D:D,MATCH('BG Justif'!Q20,Tables!F:F,0)),"Tableau de variation"),"") -> #N/A | Z20: =+Q20 | AA20: =+A20 -> 0 | AB20: =+B20 -> 0 | AC20: =+C20 -> 0 | AD20: =+D20 -> 0 | AE20: =+E20 -> 0 | AF20: =+F20 -> 0 | AG20: =+G20 -> 0 | AH20: =+H20 -> 0 | ... AR20: =+R20 -> 0
L21: =+C21-D21 -> 0 | M21: =+G21-H21 -> 0 | N21: =-L21+M21 -> 0 | Q21: =IFERROR(VLOOKUP(A21,Table_Cptes,5,TRUE),"") | S21: =IF(HYPERLINK(INDEX(Tables!D:D,MATCH('BG Justif'!Q21,Tables!F:F,0)))<>"",HYPERLINK(INDEX(Tables!D:D,MATCH('BG Justif'!Q21,Tables!F:F,0)),"Tableau de variation"),"") -> #N/A | Z21: =+Q21 | AA21: =+A21 -> 0 | AB21: =+B21 -> 0 | AC21: =+C21 -> 0 | AD21: =+D21 -> 0 | AE21: =+E21 -> 0 | AF21: =+F21 -> 0 | AG21: =+G21 -> 0 | AH21: =+H21 -> 0 | ... AR21: =+R21 -> 0
L22: =+C22-D22 -> 0 | M22: =+G22-H22 -> 0 | N22: =-L22+M22 -> 0 | Q22: =IFERROR(VLOOKUP(A22,Table_Cptes,5,TRUE),"") | S22: =IF(HYPERLINK(INDEX(Tables!D:D,MATCH('BG Justif'!Q22,Tables!F:F,0)))<>"",HYPERLINK(INDEX(Tables!D:D,MATCH('BG Justif'!Q22,Tables!F:F,0)),"Tableau de variation"),"") -> #N/A | Z22: =+Q22 | AA22: =+A22 -> 0 | AB22: =+B22 -> 0 | AC22: =+C22 -> 0 | AD22: =+D22 -> 0 | AE22: =+E22 -> 0 | AF22: =+F22 -> 0 | AG22: =+G22 -> 0 | AH22: =+H22 -> 0 | ... AR22: =+R22 -> 0
L23: =+C23-D23 -> 0 | M23: =+G23-H23 -> 0 | N23: =-L23+M23 -> 0 | Q23: =IFERROR(VLOOKUP(A23,Table_Cptes,5,TRUE),"") | S23: =IF(HYPERLINK(INDEX(Tables!D:D,MATCH('BG Justif'!Q23,Tables!F:F,0)))<>"",HYPERLINK(INDEX(Tables!D:D,MATCH('BG Justif'!Q23,Tables!F:F,0)),"Tableau de variation"),"") -> #N/A | Z23: =+Q23 | AA23: =+A23 -> 0 | AB23: =+B23 -> 0 | AC23: =+C23 -> 0 | AD23: =+D23 -> 0 | AE23: =+E23 -> 0 | AF23: =+F23 -> 0 | AG23: =+G23 -> 0 | AH23: =+H23 -> 0 | ... AR23: =+R23 -> 0
L24: =+C24-D24 -> 0 | M24: =+G24-H24 -> 0 | N24: =-L24+M24 -> 0 | Q24: =IFERROR(VLOOKUP(A24,Table_Cptes,5,TRUE),"") | S24: =IF(HYPERLINK(INDEX(Tables!D:D,MATCH('BG Justif'!Q24,Tables!F:F,0)))<>"",HYPERLINK(INDEX(Tables!D:D,MATCH('BG Justif'!Q24,Tables!F:F,0)),"Tableau de variation"),"") -> #N/A | Z24: =+Q24 | AA24: =+A24 -> 0 | AB24: =+B24 -> 0 | AC24: =+C24 -> 0 | AD24: =+D24 -> 0 | AE24: =+E24 -> 0 | AF24: =+F24 -> 0 | AG24: =+G24 -> 0 | AH24: =+H24 -> 0 | ... AR24: =+R24 -> 0
L25: =+C25-D25 -> 0 | M25: =+G25-H25 -> 0 | N25: =-L25+M25 -> 0 | Q25: =IFERROR(VLOOKUP(A25,Table_Cptes,5,TRUE),"") | S25: =IF(HYPERLINK(INDEX(Tables!D:D,MATCH('BG Justif'!Q25,Tables!F:F,0)))<>"",HYPERLINK(INDEX(Tables!D:D,MATCH('BG Justif'!Q25,Tables!F:F,0)),"Tableau de variation"),"") -> #N/A | Z25: =+Q25 | AA25: =+A25 -> 0 | AB25: =+B25 -> 0 | AC25: =+C25 -> 0 | AD25: =+D25 -> 0 | AE25: =+E25 -> 0 | AF25: =+F25 -> 0 | AG25: =+G25 -> 0 | AH25: =+H25 -> 0 | ... AR25: =+R25 -> 0
L26: =+C26-D26 -> 0 | M26: =+G26-H26 -> 0 | N26: =-L26+M26 -> 0 | Q26: =IFERROR(VLOOKUP(A26,Table_Cptes,5,TRUE),"") | S26: =IF(HYPERLINK(INDEX(Tables!D:D,MATCH('BG Justif'!Q26,Tables!F:F,0)))<>"",HYPERLINK(INDEX(Tables!D:D,MATCH('BG Justif'!Q26,Tables!F:F,0)),"Tableau de variation"),"") -> #N/A | Z26: =+Q26 | AA26: =+A26 -> 0 | AB26: =+B26 -> 0 | AC26: =+C26 -> 0 | AD26: =+D26 -> 0 | AE26: =+E26 -> 0 | AF26: =+F26 -> 0 | AG26: =+G26 -> 0 | AH26: =+H26 -> 0 | ... AR26: =+R26 -> 0
L27: =+C27-D27 -> 0 | M27: =+G27-H27 -> 0 | N27: =-L27+M27 -> 0 | Q27: =IFERROR(VLOOKUP(A27,Table_Cptes,5,TRUE),"") | S27: =IF(HYPERLINK(INDEX(Tables!D:D,MATCH('BG Justif'!Q27,Tables!F:F,0)))<>"",HYPERLINK(INDEX(Tables!D:D,MATCH('BG Justif'!Q27,Tables!F:F,0)),"Tableau de variation"),"") -> #N/A | Z27: =+Q27 | AA27: =+A27 -> 0 | AB27: =+B27 -> 0 | AC27: =+C27 -> 0 | AD27: =+D27 -> 0 | AE27: =+E27 -> 0 | AF27: =+F27 -> 0 | AG27: =+G27 -> 0 | AH27: =+H27 -> 0 | ... AR27: =+R27 -> 0
L28: =+C28-D28 -> 0 | M28: =+G28-H28 -> 0 | N28: =-L28+M28 -> 0 | Q28: =IFERROR(VLOOKUP(A28,Table_Cptes,5,TRUE),"") | S28: =IF(HYPERLINK(INDEX(Tables!D:D,MATCH('BG Justif'!Q28,Tables!F:F,0)))<>"",HYPERLINK(INDEX(Tables!D:D,MATCH('BG Justif'!Q28,Tables!F:F,0)),"Tableau de variation"),"") -> #N/A | Z28: =+Q28 | AA28: =+A28 -> 0 | AB28: =+B28 -> 0 | AC28: =+C28 -> 0 | AD28: =+D28 -> 0 | AE28: =+E28 -> 0 | AF28: =+F28 -> 0 | AG28: =+G28 -> 0 | AH28: =+H28 -> 0 | ... AR28: =+R28 -> 0
L29: =+C29-D29 -> 0 | M29: =+G29-H29 -> 0 | N29: =-L29+M29 -> 0 | Q29: =IFERROR(VLOOKUP(A29,Table_Cptes,5,TRUE),"") | S29: =IF(HYPERLINK(INDEX(Tables!D:D,MATCH('BG Justif'!Q29,Tables!F:F,0)))<>"",HYPERLINK(INDEX(Tables!D:D,MATCH('BG Justif'!Q29,Tables!F:F,0)),"Tableau de variation"),"") -> #N/A | Z29: =+Q29 | AA29: =+A29 -> 0 | AB29: =+B29 -> 0 | AC29: =+C29 -> 0 | AD29: =+D29 -> 0 | AE29: =+E29 -> 0 | AF29: =+F29 -> 0 | AG29: =+G29 -> 0 | AH29: =+H29 -> 0 | ... AR29: =+R29 -> 0
... L995: =+C995-D995 -> 0 | M995: =+G995-H995 -> 0 | N995: =-L995+M995 -> 0 | Q995: =IFERROR(VLOOKUP(A995,Table_Cptes,5,TRUE),"") | S995: =IF(HYPERLINK(INDEX(Tables!D:D,MATCH('BG Justif'!Q995,Tables!F:F,0)))<>"",HYPERLINK(INDEX(Tables!D:D,MATCH('BG Justif'!Q995,Tables!F:F,0)),"Tableau de variation"),"") -> #N/A | Z995: =+Q995 | AA995: =+A995 -> 0 | AB995: =+B995 -> 0 | AC995: =+C995 -> 0 | AD995: =+D995 -> 0 | AE995: =+E995 -> 0 | AF995: =+F995 -> 0 | AG995: =+G995 -> 0 | AH995: =+H995 -> 0 | ... AR995: =+R995 -> 0
C998: =ROUND(SUM(C5:C995),2) -> 1092094.8 | D998: =ROUND(SUM(D5:D995),2) -> 362513.98 | E998: =ROUND(SUM(E5:E995),2) -> 11108.73 | F998: =ROUND(SUM(F5:F995),2) -> 0 | G998: =ROUND(SUM(G5:G995),2) -> 1103203.5 | H998: =ROUND(SUM(H5:H995),2) -> 362513.98 | N998: =SUM(N5:N995) -> 11108.73

Sheet 1-Fds Asso
B1: 1 | C1: Tableau de variation des fonds propres
C3: FONDS ASSOCIATIFS Situation nette | D3: Solde Compta 31/12/2016 | E3: Résultat N-2 | F3: Résultat N-1 | G3: Reclass. et Retraitements Consolidation | H3: Solde à la fin de l'exercice | I3: Solde Compta 31/12/2017 | J3: Ctrl | K3: Ref
A4: =IF(OR(D4<>0,H4<>0,I4<>0,C4<>0),"VRAI","FAUX") -> VRAI | B4: {=IF(ROWS(B$4:B4)<=COUNTIF('BG Justif'!$Q$5:$Q$995,$B$1),INDEX('BG Justif'!$A$5:$A$995,SMALL(IF('BG Justif'!$Q$5:$Q$995=$B$1,ROW('BG Justif'!$Q$5:$Q$995)-ROW('BG Justif'!$Q$5)+1),ROWS(B$4:B4))),"")} -> 10240000 | C4: =IF(ISNA(VLOOKUP($B4,'BG Justif'!$A$5:$M$897,2,0)),0,VLOOKUP($B4,'BG Justif'!$A$5:$M$897,2,0)) -> APP. SANS DROIT DE REPRISE | D4: =IF(ISNA(VLOOKUP($B4,'BG Justif'!$A$5:$M$897,12,0)),0,VLOOKUP(B4,'BG Justif'!$A$5:$M$897,12,0)) -> -2835.55 | H4: =IF(ISNUMBER(D4+E4-F4),(D4+E4-F4),0) -> -2835.55 | I4: =IF(ISNA(VLOOKUP($B4,'BG Justif'!$A$5:$M$897,13,0)),0,VLOOKUP($B4,'BG Justif'!$A$5:$M$897,13,0)) -> -2835.55 | J4: =H4-I4 -> 0
A5: =IF(OR(D5<>0,H5<>0,I5<>0,C5<>0),"VRAI","FAUX") -> VRAI | B5: {=IF(ROWS(B$4:B5)<=COUNTIF('BG Justif'!$Q$5:$Q$995,$B$1),INDEX('BG Justif'!$A$5:$A$995,SMALL(IF('BG Justif'!$Q$5:$Q$995=$B$1,ROW('BG Justif'!$Q$5:$Q$995)-ROW('BG Justif'!$Q$5)+1),ROWS(B$4:B5))),"")} -> 10682000 | C5: =IF(ISNA(VLOOKUP($B5,'BG Justif'!$A$5:$M$897,2,0)),0,VLOOKUP($B5,'BG Justif'!$A$5:$M$897,2,0)) -> RESERVE INVESTISSEMENT | D5: =IF(ISNA(VLOOKUP($B5,'BG Justif'!$A$5:$M$897,12,0)),0,VLOOKUP(B5,'BG Justif'!$A$5:$M$897,12,0)) -> -359678.43 | H5: =IF(ISNUMBER(D5+E5-F5),(D5+E5-F5),0) -> -359678.43 | I5: =IF(ISNA(VLOOKUP($B5,'BG Justif'!$A$5:$M$897,13,0)),0,VLOOKUP($B5,'BG Justif'!$A$5:$M$897,13,0)) -> -359678.43 | J5: =H5-I5 -> 0
A6: =IF(OR(D6<>0,H6<>0,I6<>0,C6<>0),"VRAI","FAUX") -> FAUX | B6: {=IF(ROWS(B$4:B6)<=COUNTIF('BG Justif'!$Q$5:$Q$995,$B$1),INDEX('BG Justif'!$A$5:$A$995,SMALL(IF('BG Justif'!$Q$5:$Q$995=$B$1,ROW('BG Justif'!$Q$5:$Q$995)-ROW('BG Justif'!$Q$5)+1),ROWS(B$4:B6))),"")} | C6: =IF(ISNA(VLOOKUP($B6,'BG Justif'!$A$5:$M$897,2,0)),0,VLOOKUP($B6,'BG Justif'!$A$5:$M$897,2,0)) -> 0 | D6: =IF(ISNA(VLOOKUP($B6,'BG Justif'!$A$5:$M$897,12,0)),0,VLOOKUP(B6,'BG Justif'!$A$5:$M$897,12,0)) -> 0 | H6: =IF(ISNUMBER(D6+E6-F6),(D6+E6-F6),0) -> 0 | I6: =IF(ISNA(VLOOKUP($B6,'BG Justif'!$A$5:$M$897,13,0)),0,VLOOKUP($B6,'BG Justif'!$A$5:$M$897,13,0)) -> 0 | J6: =H6-I6 -> 0
A7: =IF(OR(D7<>0,H7<>0,I7<>0,C7<>0),"VRAI","FAUX") -> FAUX | B7: {=IF(ROWS(B$4:B7)<=COUNTIF('BG Justif'!$Q$5:$Q$995,$B$1),INDEX('BG Justif'!$A$5:$A$995,SMALL(IF('BG Justif'!$Q$5:$Q$995=$B$1,ROW('BG Justif'!$Q$5:$Q$995)-ROW('BG Justif'!$Q$5)+1),ROWS(B$4:B7))),"")} | C7: =IF(ISNA(VLOOKUP($B7,'BG Justif'!$A$5:$M$897,2,0)),0,VLOOKUP($B7,'BG Justif'!$A$5:$M$897,2,0)) -> 0 | D7: =IF(ISNA(VLOOKUP($B7,'BG Justif'!$A$5:$M$897,12,0)),0,VLOOKUP(B7,'BG Justif'!$A$5:$M$897,12,0)) -> 0 | H7: =IF(ISNUMBER(D7+E7-F7),(D7+E7-F7),0) -> 0 | I7: =IF(ISNA(VLOOKUP($B7,'BG Justif'!$A$5:$M$897,13,0)),0,VLOOKUP($B7,'BG Justif'!$A$5:$M$897,13,0)) -> 0 | J7: =H7-I7 -> 0
A8: =IF(OR(D8<>0,H8<>0,I8<>0,C8<>0),"VRAI","FAUX") -> FAUX | B8: {=IF(ROWS(B$4:B8)<=COUNTIF('BG Justif'!$Q$5:$Q$995,$B$1),INDEX('BG Justif'!$A$5:$A$995,SMALL(IF('BG Justif'!$Q$5:$Q$995=$B$1,ROW('BG Justif'!$Q$5:$Q$995)-ROW('BG Justif'!$Q$5)+1),ROWS(B$4:B8))),"")} | C8: =IF(ISNA(VLOOKUP($B8,'BG Justif'!$A$5:$M$897,2,0)),0,VLOOKUP($B8,'BG Justif'!$A$5:$M$897,2,0)) -> 0 | D8: =IF(ISNA(VLOOKUP($B8,'BG Justif'!$A$5:$M$897,12,0)),0,VLOOKUP(B8,'BG Justif'!$A$5:$M$897,12,0)) -> 0 | H8: =IF(ISNUMBER(D8+E8-F8),(D8+E8-F8),0) -> 0 | I8: =IF(ISNA(VLOOKUP($B8,'BG Justif'!$A$5:$M$897,13,0)),0,VLOOKUP($B8,'BG Justif'!$A$5:$M$897,13,0)) -> 0 | J8: =H8-I8 -> 0
A9: =IF(OR(D9<>0,H9<>0,I9<>0,C9<>0),"VRAI","FAUX") -> FAUX | B9: {=IF(ROWS(B$4:B9)<=COUNTIF('BG Justif'!$Q$5:$Q$995,$B$1),INDEX('BG Justif'!$A$5:$A$995,SMALL(IF('BG Justif'!$Q$5:$Q$995=$B$1,ROW('BG Justif'!$Q$5:$Q$995)-ROW('BG Justif'!$Q$5)+1),ROWS(B$4:B9))),"")} | C9: =IF(ISNA(VLOOKUP($B9,'BG Justif'!$A$5:$M$897,2,0)),0,VLOOKUP($B9,'BG Justif'!$A$5:$M$897,2,0)) -> 0 | D9: =IF(ISNA(VLOOKUP($B9,'BG Justif'!$A$5:$M$897,12,0)),0,VLOOKUP(B9,'BG Justif'!$A$5:$M$897,12,0)) -> 0 | H9: =IF(ISNUMBER(D9+E9-F9),(D9+E9-F9),0) -> 0 | I9: =IF(ISNA(VLOOKUP($B9,'BG Justif'!$A$5:$M$897,13,0)),0,VLOOKUP($B9,'BG Justif'!$A$5:$M$897,13,0)) -> 0 | J9: =H9-I9 -> 0
A10: =IF(OR(D10<>0,H10<>0,I10<>0,C10<>0),"VRAI","FAUX") -> FAUX | B10: {=IF(ROWS(B$4:B10)<=COUNTIF('BG Justif'!$Q$5:$Q$995,$B$1),INDEX('BG Justif'!$A$5:$A$995,SMALL(IF('BG Justif'!$Q$5:$Q$995=$B$1,ROW('BG Justif'!$Q$5:$Q$995)-ROW('BG Justif'!$Q$5)+1),ROWS(B$4:B10))),"")} | C10: =IF(ISNA(VLOOKUP($B10,'BG Justif'!$A$5:$M$897,2,0)),0,VLOOKUP($B10,'BG Justif'!$A$5:$M$897,2,0)) -> 0 | D10: =IF(ISNA(VLOOKUP($B10,'BG Justif'!$A$5:$M$897,12,0)),0,VLOOKUP(B10,'BG Justif'!$A$5:$M$897,12,0)) -> 0 | H10: =IF(ISNUMBER(D10+E10-F10),(D10+E10-F10),0) -> 0 | I10: =IF(ISNA(VLOOKUP($B10,'BG Justif'!$A$5:$M$897,13,0)),0,VLOOKUP($B10,'BG Justif'!$A$5:$M$897,13,0)) -> 0 | J10: =H10-I10 -> 0
A11: =IF(OR(D11<>0,H11<>0,I11<>0,C11<>0),"VRAI","FAUX") -> FAUX | B11: {=IF(ROWS(B$4:B11)<=COUNTIF('BG Justif'!$Q$5:$Q$995,$B$1),INDEX('BG Justif'!$A$5:$A$995,SMALL(IF('BG Justif'!$Q$5:$Q$995=$B$1,ROW('BG Justif'!$Q$5:$Q$995)-ROW('BG Justif'!$Q$5)+1),ROWS(B$4:B11))),"")} | C11: =IF(ISNA(VLOOKUP($B11,'BG Justif'!$A$5:$M$897,2,0)),0,VLOOKUP($B11,'BG Justif'!$A$5:$M$897,2,0)) -> 0 | D11: =IF(ISNA(VLOOKUP($B11,'BG Justif'!$A$5:$M$897,12,0)),0,VLOOKUP(B11,'BG Justif'!$A$5:$M$897,12,0)) -> 0 | H11: =IF(ISNUMBER(D11+E11-F11),(D11+E11-F11),0) -> 0 | I11: =IF(ISNA(VLOOKUP($B11,'BG Justif'!$A$5:$M$897,13,0)),0,VLOOKUP($B11,'BG Justif'!$A$5:$M$897,13,0)) -> 0 | J11: =H11-I11 -> 0
A12: =IF(OR(D12<>0,H12<>0,I12<>0,C12<>0),"VRAI","FAUX") -> FAUX | B12: {=IF(ROWS(B$4:B12)<=COUNTIF('BG Justif'!$Q$5:$Q$995,$B$1),INDEX('BG Justif'!$A$5:$A$995,SMALL(IF('BG Justif'!$Q$5:$Q$995=$B$1,ROW('BG Justif'!$Q$5:$Q$995)-ROW('BG Justif'!$Q$5)+1),ROWS(B$4:B12))),"")} | C12: =IF(ISNA(VLOOKUP($B12,'BG Justif'!$A$5:$M$897,2,0)),0,VLOOKUP($B12,'BG Justif'!$A$5:$M$897,2,0)) -> 0 | D12: =IF(ISNA(VLOOKUP($B12,'BG Justif'!$A$5:$M$897,12,0)),0,VLOOKUP(B12,'BG Justif'!$A$5:$M$897,12,0)) -> 0 | H12: =IF(ISNUMBER(D12+E12-F12),(D12+E12-F12),0) -> 0 | I12: =IF(ISNA(VLOOKUP($B12,'BG Justif'!$A$5:$M$897,13,0)),0,VLOOKUP($B12,'BG Justif'!$A$5:$M$897,13,0)) -> 0 | J12: =H12-I12 -> 0
A13: =IF(OR(D13<>0,H13<>0,I13<>0,C13<>0),"VRAI","FAUX") -> FAUX | B13: {=IF(ROWS(B$4:B13)<=COUNTIF('BG Justif'!$Q$5:$Q$995,$B$1),INDEX('BG Justif'!$A$5:$A$995,SMALL(IF('BG Justif'!$Q$5:$Q$995=$B$1,ROW('BG Justif'!$Q$5:$Q$995)-ROW('BG Justif'!$Q$5)+1),ROWS(B$4:B13))),"")} | C13: =IF(ISNA(VLOOKUP($B13,'BG Justif'!$A$5:$M$897,2,0)),0,VLOOKUP($B13,'BG Justif'!$A$5:$M$897,2,0)) -> 0 | D13: =IF(ISNA(VLOOKUP($B13,'BG Justif'!$A$5:$M$897,12,0)),0,VLOOKUP(B13,'BG Justif'!$A$5:$M$897,12,0)) -> 0 | H13: =IF(ISNUMBER(D13+E13-F13),(D13+E13-F13),0) -> 0 | I13: =IF(ISNA(VLOOKUP($B13,'BG Justif'!$A$5:$M$897,13,0)),0,VLOOKUP($B13,'BG Justif'!$A$5:$M$897,13,0)) -> 0 | J13: =H13-I13 -> 0
A14: =IF(OR(D14<>0,H14<>0,I14<>0,C14<>0),"VRAI","FAUX") -> FAUX | B14: {=IF(ROWS(B$4:B14)<=COUNTIF('BG Justif'!$Q$5:$Q$995,$B$1),INDEX('BG Justif'!$A$5:$A$995,SMALL(IF('BG Justif'!$Q$5:$Q$995=$B$1,ROW('BG Justif'!$Q$5:$Q$995)-ROW('BG Justif'!$Q$5)+1),ROWS(B$4:B14))),"")} | C14: =IF(ISNA(VLOOKUP($B14,'BG Justif'!$A$5:$M$897,2,0)),0,VLOOKUP($B14,'BG Justif'!$A$5:$M$897,2,0)) -> 0 | D14: =IF(ISNA(VLOOKUP($B14,'BG Justif'!$A$5:$M$897,12,0)),0,VLOOKUP(B14,'BG Justif'!$A$5:$M$897,12,0)) -> 0 | H14: =IF(ISNUMBER(D14+E14-F14),(D14+E14-F14),0) -> 0 | I14: =IF(ISNA(VLOOKUP($B14,'BG Justif'!$A$5:$M$897,13,0)),0,VLOOKUP($B14,'BG Justif'!$A$5:$M$897,13,0)) -> 0 | J14: =H14-I14 -> 0
A15: =IF(OR(D15<>0,H15<>0,I15<>0,C15<>0),"VRAI","FAUX") -> FAUX | B15: {=IF(ROWS(B$4:B15)<=COUNTIF('BG Justif'!$Q$5:$Q$995,$B$1),INDEX('BG Justif'!$A$5:$A$995,SMALL(IF('BG Justif'!$Q$5:$Q$995=$B$1,ROW('BG Justif'!$Q$5:$Q$995)-ROW('BG Justif'!$Q$5)+1),ROWS(B$4:B15))),"")} | C15: =IF(ISNA(VLOOKUP($B15,'BG Justif'!$A$5:$M$897,2,0)),0,VLOOKUP($B15,'BG Justif'!$A$5:$M$897,2,0)) -> 0 | D15: =IF(ISNA(VLOOKUP($B15,'BG Justif'!$A$5:$M$897,12,0)),0,VLOOKUP(B15,'BG Justif'!$A$5:$M$897,12,0)) -> 0 | H15: =IF(ISNUMBER(D15+E15-F15),(D15+E15-F15),0) -> 0 | I15: =IF(ISNA(VLOOKUP($B15,'BG Justif'!$A$5:$M$897,13,0)),0,VLOOKUP($B15,'BG Justif'!$A$5:$M$897,13,0)) -> 0 | J15: =H15-I15 -> 0
... A56: =IF(OR(D56<>0,H56<>0,I56<>0,C56<>0),"VRAI","FAUX") -> FAUX | B56: {=IF(ROWS(B$4:B56)<=COUNTIF('BG Justif'!$Q$5:$Q$995,$B$1),INDEX('BG Justif'!$A$5:$A$995,SMALL(IF('BG Justif'!$Q$5:$Q$995=$B$1,ROW('BG Justif'!$Q$5:$Q$995)-ROW('BG Justif'!$Q$5)+1),ROWS(B$4:B56))),"")} | C56: =IF(ISNA(VLOOKUP($B56,'BG Justif'!$A$5:$M$897,2,0)),0,VLOOKUP($B56,'BG Justif'!$A$5:$M$897,2,0)) -> 0 | D56: =IF(ISNA(VLOOKUP($B56,'BG Justif'!$A$5:$M$897,12,0)),0,VLOOKUP(B56,'BG Justif'!$A$5:$M$897,12,0)) -> 0 | H56: =IF(ISNUMBER(D56+E56-F56),(D56+E56-F56),0) -> 0 | I56: =IF(ISNA(VLOOKUP($B56,'BG Justif'!$A$5:$M$897,13,0)),0,VLOOKUP($B56,'BG Justif'!$A$5:$M$897,13,0)) -> 0 | J56: =H56-I56 -> 0
A57: =IF(OR(D57<>0,H57<>0,I57<>0,C57<>0),"VRAI","FAUX") -> VRAI | C57: Provisions réglementées
A58: =IF(OR(D58<>0,H58<>0,I58<>0,C58<>0),"VRAI","FAUX") -> FAUX | B58: 14100000 | C58: =IF(ISNA(VLOOKUP($B58,'BG Justif'!$A$5:$M$897,2,0)),0,VLOOKUP($B58,'BG Justif'!$A$5:$M$897,2,0)) -> 0 | D58: =IF(ISNA(VLOOKUP($B58,'BG Justif'!$A$5:$M$897,12,0)),0,VLOOKUP(B58,'BG Justif'!$A$5:$M$897,12,0)) -> 0 | H58: =IF(ISNUMBER(D58+E58-F58),(D58+E58-F58),0) -> 0 | I58: =IF(ISNA(VLOOKUP($B58,'BG Justif'!$A$5:$M$897,13,0)),0,VLOOKUP($B58,'BG Justif'!$A$5:$M$897,13,0)) -> 0 | J58: =H58-I58 -> 0
A59: =IF(OR(D59<>0,H59<>0,I59<>0,C59<>0),"VRAI","FAUX") -> FAUX | B59: 14200000 | C59: =IF(ISNA(VLOOKUP($B59,'BG Justif'!$A$5:$M$897,2,0)),0,VLOOKUP($B59,'BG Justif'!$A$5:$M$897,2,0)) -> 0 | D59: =IF(ISNA(VLOOKUP($B59,'BG Justif'!$A$5:$M$897,12,0)),0,VLOOKUP(B59,'BG Justif'!$A$5:$M$897,12,0)) -> 0 | H59: =IF(ISNUMBER(D59+E59-F59),(D59+E59-F59),0) -> 0 | I59: =IF(ISNA(VLOOKUP($B59,'BG Justif'!$A$5:$M$897,13,0)),0,VLOOKUP($B59,'BG Justif'!$A$5:$M$897,13,0)) -> 0 | J59: =H59-I59 -> 0
A60: =IF(OR(D60<>0,H60<>0,I60<>0,C60<>0),"VRAI","FAUX") -> FAUX | B60: 14860000 | C60: =IF(ISNA(VLOOKUP($B60,'BG Justif'!$A$5:$M$897,2,0)),0,VLOOKUP($B60,'BG Justif'!$A$5:$M$897,2,0)) -> 0 | D60: =IF(ISNA(VLOOKUP($B60,'BG Justif'!$A$5:$M$897,12,0)),0,VLOOKUP(B60,'BG Justif'!$A$5:$M$897,12,0)) -> 0 | H60: =IF(ISNUMBER(D60+E60-F60),(D60+E60-F60),0) -> 0 | I60: =IF(ISNA(VLOOKUP($B60,'BG Justif'!$A$5:$M$897,13,0)),0,VLOOKUP($B60,'BG Justif'!$A$5:$M$897,13,0)) -> 0 | J60: =H60-I60 -> 0
A61: =IF(OR(D61<>0,H61<>0,I61<>0,C61<>0),"VRAI","FAUX") -> FAUX | B61: 14861000 | C61: =IF(ISNA(VLOOKUP($B61,'BG Justif'!$A$5:$M$897,2,0)),0,VLOOKUP($B61,'BG Justif'!$A$5:$M$897,2,0)) -> 0 | D61: =IF(ISNA(VLOOKUP($B61,'BG Justif'!$A$5:$M$897,12,0)),0,VLOOKUP(B61,'BG Justif'!$A$5:$M$897,12,0)) -> 0 | H61: =IF(ISNUMBER(D61+E61-F61),(D61+E61-F61),0) -> 0 | I61: =IF(ISNA(VLOOKUP($B61,'BG Justif'!$A$5:$M$897,13,0)),0,VLOOKUP($B61,'BG Justif'!$A$5:$M$897,13,0)) -> 0 | J61: =H61-I61 -> 0
A62: =IF(OR(D62<>0,H62<>0,I62<>0,C62<>0,B62=""),"VRAI","FAUX") -> VRAI | C62: TOTAL | D62: =SUM(D4:D61) -> -362513.98 | E62: =SUM(E4:E61) -> 0 | F62: =SUM(F4:F61) -> 0 | G62: =SUM(G4:G61) -> 0 | H62: =SUM(H4:H61) -> -362513.98 | I62: =SUM(I4:I61) -> -362513.98 | J62: =SUM(J4:J61) -> 0
A63: =IF(OR(D63<>0,H63<>0,I63<>0,C63<>0,B63=""),"VRAI","FAUX") -> VRAI
A64: =IF(OR(D64<>0,H64<>0,I64<>0,C64<>0,B64=""),"VRAI","FAUX") -> FAUX | B64: 68742000 | C64: =IF(ISNA(VLOOKUP($B64,'BG Justif'!$A$5:$M$897,2,0)),0,VLOOKUP($B64,'BG Justif'!$A$5:$M$897,2,0)) -> 0 | D64: =IF(ISNA(VLOOKUP($B64,'BG Justif'!$A$5:$M$897,12,0)),0,VLOOKUP(B64,'BG Justif'!$A$5:$M$897,12,0)) -> 0 | H64: =IF(ISNUMBER(D64+E64-F64),(D64+E64-F64),0) -> 0 | I64: =IF(ISNA(VLOOKUP($B64,'BG Justif'!$A$5:$M$897,13,0)),0,VLOOKUP($B64,'BG Justif'!$A$5:$M$897,13,0)) -> 0 | J64: =H64-I64 -> 0
A65: =IF(OR(D65<>0,H65<>0,I65<>0,C65<>0,B65=""),"VRAI","FAUX") -> FAUX | B65: 68746000 | C65: =IF(ISNA(VLOOKUP($B65,'BG Justif'!$A$5:$M$897,2,0)),0,VLOOKUP($B65,'BG Justif'!$A$5:$M$897,2,0)) -> 0 | D65: =IF(ISNA(VLOOKUP($B65,'BG Justif'!$A$5:$M$897,12,0)),0,VLOOKUP(B65,'BG Justif'!$A$5:$M$897,12,0)) -> 0 | H65: =IF(ISNUMBER(D65+E65-F65),(D65+E65-F65),0) -> 0 | I65: =IF(ISNA(VLOOKUP($B65,'BG Justif'!$A$5:$M$897,13,0)),0,VLOOKUP($B65,'BG Justif'!$A$5:$M$897,13,0)) -> 0 | J65: =H65-I65 -> 0
A66: =IF(OR(D66<>0,H66<>0,I66<>0,C66<>0,B66=""),"VRAI","FAUX") -> FAUX | B66: 78742000 | C66: =IF(ISNA(VLOOKUP($B66,'BG Justif'!$A$5:$M$897,2,0)),0,VLOOKUP($B66,'BG Justif'!$A$5:$M$897,2,0)) -> 0 | D66: =IF(ISNA(VLOOKUP($B66,'BG Justif'!$A$5:$M$897,12,0)),0,VLOOKUP(B66,'BG Justif'!$A$5:$M$897,12,0)) -> 0 | H66: =IF(ISNUMBER(D66+E66-F66),(D66+E66-F66),0) -> 0 | I66: =IF(ISNA(VLOOKUP($B66,'BG Justif'!$A$5:$M$897,13,0)),0,VLOOKUP($B66,'BG Justif'!$A$5:$M$897,13,0)) -> 0 | J66: =H66-I66 -> 0
A67: =IF(OR(D67<>0,H67<>0,I67<>0,C67<>0,B67=""),"VRAI","FAUX") -> FAUX | B67: 78746000 | C67: =IF(ISNA(VLOOKUP($B67,'BG Justif'!$A$5:$M$897,2,0)),0,VLOOKUP($B67,'BG Justif'!$A$5:$M$897,2,0)) -> 0 | D67: =IF(ISNA(VLOOKUP($B67,'BG Justif'!$A$5:$M$897,12,0)),0,VLOOKUP(B67,'BG Justif'!$A$5:$M$897,12,0)) -> 0 | H67: =IF(ISNUMBER(D67+E67-F67),(D67+E67-F67),0) -> 0 | I67: =IF(ISNA(VLOOKUP($B67,'BG Justif'!$A$5:$M$897,13,0)),0,VLOOKUP($B67,'BG Justif'!$A$5:$M$897,13,0)) -> 0 | J67: =H67-I67 -> 0
A68: =IF(OR(D68<>0,H68<>0,I68<>0,C68<>0,B68=""),"VRAI","FAUX") -> VRAI | C68: TOTAL | D68: =SUM(D64:D67) -> 0 | E68: =SUM(E64:E67) -> 0 | F68: =SUM(F64:F67) -> 0 | G68: =SUM(G64:G67) -> 0 | H68: =SUM(H64:H67) -> 0 | I68: =SUM(I64:I67) -> 0 | J68: =SUM(J64:J67) -> 0
A69: =IF(OR(D69<>0,H69<>0,I69<>0,C69<>0,B69=""),"VRAI","FAUX") -> VRAI
A70: =IF(OR(D70<>0,H70<>0,I70<>0,C70<>0,B70=""),"VRAI","FAUX") -> VRAI
A71: =IF(OR(D71<>0,H71<>0,I71<>0,C71<>0,B71=""),"VRAI","FAUX") -> VRAI
A72: =IF(OR(D72<>0,H72<>0,I72<>0,C72<>0,B72=""),"VRAI","FAUX") -> VRAI
A73: =IF(OR(D73<>0,H73<>0,I73<>0,C73<>0,B73=""),"VRAI","FAUX") -> VRAI
A74: =IF(OR(D74<>0,H74<>0,I74<>0,C74<>0,B74=""),"VRAI","FAUX") -> VRAI
A75: =IF(OR(D75<>0,H75<>0,I75<>0,C75<>0,B75=""),"VRAI","FAUX") -> VRAI
A76: =IF(OR(D76<>0,H76<>0,I76<>0,C76<>0,B76=""),"VRAI","FAUX") -> VRAI
A77: =IF(OR(D77<>0,H77<>0,I77<>0,C77<>0,B77=""),"VRAI","FAUX") -> VRAI
A78: =IF(OR(D78<>0,H78<>0,I78<>0,C78<>0,B78=""),"VRAI","FAUX") -> VRAI
A79: =IF(OR(D79<>0,H79<>0,I79<>0,C79<>0,B79=""),"VRAI","FAUX") -> VRAI
A80: =IF(OR(D80<>0,H80<>0,I80<>0,C80<>0,B80=""),"VRAI","FAUX") -> VRAI | C80: Tableau de variation des fonds dédiés
A81: =IF(OR(D81<>0,H81<>0,I81<>0,C81<>0,B81=""),"VRAI","FAUX") -> VRAI
A82: =IF(OR(D82<>0,H82<>0,I82<>0,C82<>0,B82=""),"VRAI","FAUX") -> VRAI | C82: RESSOURCES | D82: Fonds à engager au début de l'exercice | E82: Augmentation | F82: Diminution | G82: Reclass. et Retraitements Consolidation | H82: Fonds restant à engager en fin d'exercice | I82: ="Solde Compta "&+Tables!C3 -> Solde Compta 31/12/2017 | J82: écart
A83: =IF(OR(D83<>0,H83<>0,I83<>0,C83<>0,B83=""),"VRAI","FAUX") -> FAUX | B83: 19400000 | C83: =IF(ISNA(VLOOKUP($B83,'BG Justif'!$A$5:$M$897,2,0)),0,VLOOKUP($B83,'BG Justif'!$A$5:$M$897,2,0)) -> 0 | D83: =IF(ISNA(VLOOKUP($B83,'BG Justif'!$A$5:$M$897,12,0)),0,VLOOKUP(B83,'BG Justif'!$A$5:$M$897,12,0)) -> 0 | H83: =IF(ISNUMBER(D83+E83-F83),(D83+E83-F83),0) -> 0 | I83: =IF(ISNA(VLOOKUP($B83,'BG Justif'!$A$5:$M$897,13,0)),0,VLOOKUP($B83,'BG Justif'!$A$5:$M$897,13,0)) -> 0 | J83: =H83-I83 -> 0
A84: =IF(OR(D84<>0,H84<>0,I84<>0,C84<>0,B84=""),"VRAI","FAUX") -> FAUX | B84: 19500000 | C84: =IF(ISNA(VLOOKUP($B84,'BG Justif'!$A$5:$M$897,2,0)),0,VLOOKUP($B84,'BG Justif'!$A$5:$M$897,2,0)) -> 0 | D84: =IF(ISNA(VLOOKUP($B84,'BG Justif'!$A$5:$M$897,12,0)),0,VLOOKUP(B84,'BG Justif'!$A$5:$M$897,12,0)) -> 0 | H84: =IF(ISNUMBER(D84+E84-F84),(D84+E84-F84),0) -> 0 | I84: =IF(ISNA(VLOOKUP($B84,'BG Justif'!$A$5:$M$897,13,0)),0,VLOOKUP($B84,'BG Justif'!$A$5:$M$897,13,0)) -> 0 | J84: =H84-I84 -> 0
A85: =IF(OR(D85<>0,H85<>0,I85<>0,C85<>0,B85=""),"VRAI","FAUX") -> VRAI | C85: TOTAL | D85: =SUM(D83:D84) -> 0 | E85: =SUM(E83:E84) -> 0 | F85: =SUM(F83:F84) -> 0 | G85: =SUM(G83:G84) -> 0 | H85: =SUM(H83:H84) -> 0 | I85: =SUM(I83:I84) -> 0 | J85: =SUM(J83:J84) -> 0
A86: =IF(OR(D86<>0,H86<>0,I86<>0,C86<>0,B86=""),"VRAI","FAUX") -> VRAI
A87: =IF(OR(D87<>0,H87<>0,I87<>0,C87<>0,B87=""),"VRAI","FAUX") -> FAUX | B87: 68940000 | C87: =IF(ISNA(VLOOKUP($B87,'BG Justif'!$A$5:$M$897,2,0)),0,VLOOKUP($B87,'BG Justif'!$A$5:$M$897,2,0)) -> 0 | G87: =IF(ISNUMBER(D87+E87-F87),(D87+E87-F87),0) -> 0 | H87: =+D87+E87-F87 -> 0 | I87: =IF(ISNA(VLOOKUP($B87,'BG Justif'!$A$5:$M$897,13,0)),0,VLOOKUP($B87,'BG Justif'!$A$5:$M$897,13,0)) -> 0 | J87: =H87-I87 -> 0
A88: =IF(OR(D88<>0,H88<>0,I88<>0,C88<>0,B88=""),"VRAI","FAUX") -> FAUX | B88: 68950000 | C88: =IF(ISNA(VLOOKUP($B88,'BG Justif'!$A$5:$M$897,2,0)),0,VLOOKUP($B88,'BG Justif'!$A$5:$M$897,2,0)) -> 0 | G88: =IF(ISNUMBER(D88+E88-F88),(D88+E88-F88),0) -> 0 | H88: =+D88+E88-F88 -> 0 | I88: =IF(ISNA(VLOOKUP($B88,'BG Justif'!$A$5:$M$897,13,0)),0,VLOOKUP($B88,'BG Justif'!$A$5:$M$897,13,0)) -> 0 | J88: =H88-I88 -> 0
A89: =IF(OR(D89<>0,H89<>0,I89<>0,C89<>0,B89=""),"VRAI","FAUX") -> FAUX | B89: 78940000 | C89: =IF(ISNA(VLOOKUP($B89,'BG Justif'!$A$5:$M$897,2,0)),0,VLOOKUP($B89,'BG Justif'!$A$5:$M$897,2,0)) -> 0 | G89: =IF(ISNUMBER(D89+E89-F89),(D89+E89-F89),0) -> 0 | H89: =+D89+E89-F89 -> 0 | I89: =IF(ISNA(VLOOKUP($B89,'BG Justif'!$A$5:$M$897,13,0)),0,VLOOKUP($B89,'BG Justif'!$A$5:$M$897,13,0)) -> 0 | J89: =H89-I89 -> 0
A90: =IF(OR(D90<>0,H90<>0,I90<>0,C90<>0,B90=""),"VRAI","FAUX") -> FAUX | B90: 78950000 | C90: =IF(ISNA(VLOOKUP($B90,'BG Justif'!$A$5:$M$897,2,0)),0,VLOOKUP($B90,'BG Justif'!$A$5:$M$897,2,0)) -> 0 | G90: =IF(ISNUMBER(D90+E90-F90),(D90+E90-F90),0) -> 0 | H90: =+D90+E90-F90 -> 0 | I90: =IF(ISNA(VLOOKUP($B90,'BG Justif'!$A$5:$M$897,13,0)),0,VLOOKUP($B90,'BG Justif'!$A$5:$M$897,13,0)) -> 0 | J90: =H90-I90 -> 0
A91: =IF(OR(D91<>0,H91<>0,I91<>0,C91<>0,B91=""),"VRAI","FAUX") -> VRAI | C91: TOTAL | D91: =SUM(D87:D90) -> 0 | E91: =SUM(E87:E90) -> 0 | F91: =SUM(F87:F90) -> 0 | G91: =SUM(G87:G90) -> 0 | H91: =SUM(H87:H90) -> 0 | I91: =SUM(I87:I90) -> 0 | J91: =SUM(J87:J90) -> 0
A92: =IF(OR(D92<>0,H92<>0,I92<>0,C92<>0,B92=""),"VRAI","FAUX") -> VRAI
A93: =IF(OR(D93<>0,H93<>0,I93<>0,C93<>0,B93=""),"VRAI","FAUX") -> VRAI
A94: =IF(OR(D94<>0,H94<>0,I94<>0,C94<>0,B94=""),"VRAI","FAUX") -> VRAI
A95: =IF(OR(D95<>0,H95<>0,I95<>0,C95<>0,B95=""),"VRAI","FAUX") -> VRAI
A96: =IF(OR(D96<>0,H96<>0,I96<>0,C96<>0,B96=""),"VRAI","FAUX") -> VRAI
A97: =IF(OR(D97<>0,H97<>0,I97<>0,C97<>0,B97=""),"VRAI","FAUX") -> VRAI
A98: =IF(OR(D98<>0,H98<>0,I98<>0,C98<>0,B98=""),"VRAI","FAUX") -> VRAI
A99: =IF(OR(D99<>0,H99<>0,I99<>0,C99<>0,B99=""),"VRAI","FAUX") -> VRAI
A100: =IF(OR(D100<>0,H100<>0,I100<>0,C100<>0,B100=""),"VRAI","FAUX") -> VRAI
A101: =IF(OR(D101<>0,H101<>0,I101<>0,C101<>0,B101=""),"VRAI","FAUX") -> VRAI
A102: =IF(OR(D102<>0,H102<>0,I102<>0,C102<>0,B102=""),"VRAI","FAUX") -> VRAI
A103: =IF(OR(D103<>0,H103<>0,I103<>0,C103<>0,B103=""),"VRAI","FAUX") -> VRAI
... A250: =IF(OR(D250<>0,H250<>0,I250<>0,C250<>0,B250=""),"VRAI","FAUX") -> VRAI

Sheet 6-Immo Incorp
B1: 6 | C1: Immobilisations incorporelles : variation des valeurs brutes et amortissements | K1: 6.0
C3: IMMOBILISATIONS INCORPORELLES | D3: Brut au début de l'exercice | E3: Augmentations de l'exercice | F3: Diminutions de l'exercice | G3: Reclasst | H3: Brut à la fin de l'exercice | I3: =+'1-Fds Asso'!I3 -> Solde Compta 31/12/2017 | J3: Ctrl | K3: Ref | L3: Commentaire
A4: =IF(OR(D4<>0,I4<>0,J4<>0,C4<>0,B4=""),"VRAI","FAUX") -> VRAI | B4: {=IF(ROWS(B$4:B4)<=COUNTIF('BG Justif'!$Q$5:$Q$995,$B$1),INDEX('BG Justif'!$A$5:$A$995,SMALL(IF('BG Justif'!$Q$5:$Q$995=$B$1,ROW('BG Justif'!$Q$5:$Q$995)-ROW('BG Justif'!$Q$5)+1),ROWS(B$4:B4))),"")} -> 20500000 | C4: =IF(ISNA(VLOOKUP($B4,'BG Justif'!$A$5:$M$897,2,0)),0,VLOOKUP($B4,'BG Justif'!$A$5:$M$897,2,0)) -> LOGICIELS | D4: =IF(ISNA(VLOOKUP($B4,'BG Justif'!$A$5:$M$897,12,0)),0,VLOOKUP(B4,'BG Justif'!$A$5:$M$897,12,0)) -> 143526.93 | H4: =IF(ISNUMBER(C4+D4-E4),(C4+D4-E4),0) -> 0 | I4: =IF(ISNA(VLOOKUP($B4,'BG Justif'!$A$5:$M$897,13,0)),0,VLOOKUP($B4,'BG Justif'!$A$5:$M$897,13,0)) -> 143747.03 | J4: =H4-I4 -> -143747.03
A5: =IF(OR(D5<>0,I5<>0,J5<>0,C5<>0,B5=""),"VRAI","FAUX") -> VRAI | B5: {=IF(ROWS(B$4:B5)<=COUNTIF('BG Justif'!$Q$5:$Q$995,$B$1),INDEX('BG Justif'!$A$5:$A$995,SMALL(IF('BG Justif'!$Q$5:$Q$995=$B$1,ROW('BG Justif'!$Q$5:$Q$995)-ROW('BG Justif'!$Q$5)+1),ROWS(B$4:B5))),"")} | C5: =IF(ISNA(VLOOKUP($B5,'BG Justif'!$A$5:$M$897,2,0)),0,VLOOKUP($B5,'BG Justif'!$A$5:$M$897,2,0)) -> 0 | D5: =IF(ISNA(VLOOKUP($B5,'BG Justif'!$A$5:$M$897,12,0)),0,VLOOKUP(B5,'BG Justif'!$A$5:$M$897,12,0)) -> 0 | H5: =IF(ISNUMBER(C5+D5-E5),(C5+D5-E5),0) -> 0 | I5: =IF(ISNA(VLOOKUP($B5,'BG Justif'!$A$5:$M$897,13,0)),0,VLOOKUP($B5,'BG Justif'!$A$5:$M$897,13,0)) -> 0 | J5: =H5-I5 -> 0
A6: =IF(OR(D6<>0,I6<>0,J6<>0,C6<>0,B6=""),"VRAI","FAUX") -> VRAI | B6: {=IF(ROWS(B$4:B6)<=COUNTIF('BG Justif'!$Q$5:$Q$995,$B$1),INDEX('BG Justif'!$A$5:$A$995,SMALL(IF('BG Justif'!$Q$5:$Q$995=$B$1,ROW('BG Justif'!$Q$5:$Q$995)-ROW('BG Justif'!$Q$5)+1),ROWS(B$4:B6))),"")} | C6: =IF(ISNA(VLOOKUP($B6,'BG Justif'!$A$5:$M$897,2,0)),0,VLOOKUP($B6,'BG Justif'!$A$5:$M$897,2,0)) -> 0 | D6: =IF(ISNA(VLOOKUP($B6,'BG Justif'!$A$5:$M$897,12,0)),0,VLOOKUP(B6,'BG Justif'!$A$5:$M$897,12,0)) -> 0 | H6: =IF(ISNUMBER(C6+D6-E6),(C6+D6-E6),0) -> 0 | I6: =IF(ISNA(VLOOKUP($B6,'BG Justif'!$A$5:$M$897,13,0)),0,VLOOKUP($B6,'BG Justif'!$A$5:$M$897,13,0)) -> 0 | J6: =H6-I6 -> 0
A7: =IF(OR(D7<>0,I7<>0,J7<>0,C7<>0,B7=""),"VRAI","FAUX") -> VRAI | B7: {=IF(ROWS(B$4:B7)<=COUNTIF('BG Justif'!$Q$5:$Q$995,$B$1),INDEX('BG Justif'!$A$5:$A$995,SMALL(IF('BG Justif'!$Q$5:$Q$995=$B$1,ROW('BG Justif'!$Q$5:$Q$995)-ROW('BG Justif'!$Q$5)+1),ROWS(B$4:B7))),"")} | C7: =IF(ISNA(VLOOKUP($B7,'BG Justif'!$A$5:$M$897,2,0)),0,VLOOKUP($B7,'BG Justif'!$A$5:$M$897,2,0)) -> 0 | D7: =IF(ISNA(VLOOKUP($B7,'BG Justif'!$A$5:$M$897,12,0)),0,VLOOKUP(B7,'BG Justif'!$A$5:$M$897,12,0)) -> 0 | H7: =IF(ISNUMBER(C7+D7-E7),(C7+D7-E7),0) -> 0 | I7: =IF(ISNA(VLOOKUP($B7,'BG Justif'!$A$5:$M$897,13,0)),0,VLOOKUP($B7,'BG Justif'!$A$5:$M$897,13,0)) -> 0 | J7: =H7-I7 -> 0
A8: =IF(OR(D8<>0,I8<>0,J8<>0,C8<>0,B8=""),"VRAI","FAUX") -> VRAI | B8: {=IF(ROWS(B$4:B8)<=COUNTIF('BG Justif'!$Q$5:$Q$995,$B$1),INDEX('BG Justif'!$A$5:$A$995,SMALL(IF('BG Justif'!$Q$5:$Q$995=$B$1,ROW('BG Justif'!$Q$5:$Q$995)-ROW('BG Justif'!$Q$5)+1),ROWS(B$4:B8))),"")} | C8: =IF(ISNA(VLOOKUP($B8,'BG Justif'!$A$5:$M$897,2,0)),0,VLOOKUP($B8,'BG Justif'!$A$5:$M$897,2,0)) -> 0 | D8: =IF(ISNA(VLOOKUP($B8,'BG Justif'!$A$5:$M$897,12,0)),0,VLOOKUP(B8,'BG Justif'!$A$5:$M$897,12,0)) -> 0 | H8: =IF(ISNUMBER(C8+D8-E8),(C8+D8-E8),0) -> 0 | I8: =IF(ISNA(VLOOKUP($B8,'BG Justif'!$A$5:$M$897,13,0)),0,VLOOKUP($B8,'BG Justif'!$A$5:$M$897,13,0)) -> 0 | J8: =H8-I8 -> 0
A9: =IF(OR(D9<>0,I9<>0,J9<>0,C9<>0,B9=""),"VRAI","FAUX") -> VRAI | B9: {=IF(ROWS(B$4:B9)<=COUNTIF('BG Justif'!$Q$5:$Q$995,$B$1),INDEX('BG Justif'!$A$5:$A$995,SMALL(IF('BG Justif'!$Q$5:$Q$995=$B$1,ROW('BG Justif'!$Q$5:$Q$995)-ROW('BG Justif'!$Q$5)+1),ROWS(B$4:B9))),"")} | C9: =IF(ISNA(VLOOKUP($B9,'BG Justif'!$A$5:$M$897,2,0)),0,VLOOKUP($B9,'BG Justif'!$A$5:$M$897,2,0)) -> 0 | D9: =IF(ISNA(VLOOKUP($B9,'BG Justif'!$A$5:$M$897,12,0)),0,VLOOKUP(B9,'BG Justif'!$A$5:$M$897,12,0)) -> 0 | H9: =IF(ISNUMBER(C9+D9-E9),(C9+D9-E9),0) -> 0 | I9: =IF(ISNA(VLOOKUP($B9,'BG Justif'!$A$5:$M$897,13,0)),0,VLOOKUP($B9,'BG Justif'!$A$5:$M$897,13,0)) -> 0 | J9: =H9-I9 -> 0
A10: =IF(OR(D10<>0,I10<>0,J10<>0,C10<>0,B10=""),"VRAI","FAUX") -> VRAI | C10: TOTAL | D10: =SUM(D4:D9) -> 143526.93 | E10: =SUM(E4:E9) -> 0 | F10: =SUM(F4:F9) -> 0 | G10: =SUM(G4:G9) -> 0 | H10: =SUM(H4:H9) -> 0 | I10: =SUM(I4:I9) -> 143747.03 | J10: =SUM(J4:J9) -> -143747.03
A11: =IF(OR(D11<>0,I11<>0,J11<>0,C11<>0,B11=""),"VRAI","FAUX") -> VRAI
A12: =IF(OR(D12<>0,I12<>0,J12<>0,C12<>0,B12=""),"VRAI","FAUX") -> VRAI | C12: Immobilisations incorporelles : variation des amortissements | I12: =IF(ISNA(VLOOKUP($B12,'BG Justif'!$A$5:$M$897,14,0)),"",VLOOKUP($B12,'BG Justif'!$A$5:$M$897,14,0))
A13: =IF(OR(D13<>0,I13<>0,J13<>0,C13<>0,B13=""),"VRAI","FAUX") -> VRAI | I13: =IF(ISNA(VLOOKUP($B13,'BG Justif'!$A$5:$M$897,14,0)),"",VLOOKUP($B13,'BG Justif'!$A$5:$M$897,14,0))
A14: =IF(OR(D14<>0,I14<>0,J14<>0,C14<>0,B14=""),"VRAI","FAUX") -> VRAI | C14: AMORTISSEMENTS IMMOBILISATIONS INCORPORELLES | D14: Montant au début de l'exercice | E14: Augmentations de l'exercice | F14: Diminutions de l'exercice | G14: Reclasst | H14: Montant à la fin de l'exercice | I14: =+I3 -> Solde Compta 31/12/2017 | J14: Ctrl | K14: Ref | L14: Commentaire
A15: =IF(OR(D15<>0,I15<>0,J15<>0,C15<>0,B15=""),"VRAI","FAUX") -> VRAI | C15: =IF(ISNA(VLOOKUP($B15,'BG Justif'!$A$5:$M$897,2,0)),0,VLOOKUP($B15,'BG Justif'!$A$5:$M$897,2,0)) -> 0 | D15: =IF(ISNA(VLOOKUP($B15,'BG Justif'!$A$5:$M$897,12,0)),0,VLOOKUP(B15,'BG Justif'!$A$5:$M$897,12,0)) -> 0 | H15: =IF(ISNUMBER(C15+D15-E15),(C15+D15-E15),0) -> 0 | I15: =IF(ISNA(VLOOKUP($B15,'BG Justif'!$A$5:$M$897,13,0)),0,VLOOKUP($B15,'BG Justif'!$A$5:$M$897,13,0)) -> 0 | J15: =H15-I15 -> 0
A16: =IF(OR(D16<>0,I16<>0,J16<>0,C16<>0,B16=""),"VRAI","FAUX") -> VRAI | C16: =IF(ISNA(VLOOKUP($B16,'BG Justif'!$A$5:$M$897,2,0)),0,VLOOKUP($B16,'BG Justif'!$A$5:$M$897,2,0)) -> 0 | D16: =IF(ISNA(VLOOKUP($B16,'BG Justif'!$A$5:$M$897,12,0)),0,VLOOKUP(B16,'BG Justif'!$A$5:$M$897,12,0)) -> 0 | H16: =IF(ISNUMBER(C16+D16-E16),(C16+D16-E16),0) -> 0 | I16: =IF(ISNA(VLOOKUP($B16,'BG Justif'!$A$5:$M$897,13,0)),0,VLOOKUP($B16,'BG Justif'!$A$5:$M$897,13,0)) -> 0 | J16: =H16-I16 -> 0
A17: =IF(OR(D17<>0,I17<>0,J17<>0,C17<>0,B17=""),"VRAI","FAUX") -> VRAI | C17: =IF(ISNA(VLOOKUP($B17,'BG Justif'!$A$5:$M$897,2,0)),0,VLOOKUP($B17,'BG Justif'!$A$5:$M$897,2,0)) -> 0 | D17: =IF(ISNA(VLOOKUP($B17,'BG Justif'!$A$5:$M$897,12,0)),0,VLOOKUP(B17,'BG Justif'!$A$5:$M$897,12,0)) -> 0 | H17: =IF(ISNUMBER(C17+D17-E17),(C17+D17-E17),0) -> 0 | I17: =IF(ISNA(VLOOKUP($B17,'BG Justif'!$A$5:$M$897,13,0)),0,VLOOKUP($B17,'BG Justif'!$A$5:$M$897,13,0)) -> 0 | J17: =H17-I17 -> 0
A18: =IF(OR(D18<>0,I18<>0,J18<>0,C18<>0,B18=""),"VRAI","FAUX") -> VRAI | C18: =IF(ISNA(VLOOKUP($B18,'BG Justif'!$A$5:$M$897,2,0)),0,VLOOKUP($B18,'BG Justif'!$A$5:$M$897,2,0)) -> 0 | D18: =IF(ISNA(VLOOKUP($B18,'BG Justif'!$A$5:$M$897,12,0)),0,VLOOKUP(B18,'BG Justif'!$A$5:$M$897,12,0)) -> 0 | H18: =IF(ISNUMBER(C18+D18-E18),(C18+D18-E18),0) -> 0 | I18: =IF(ISNA(VLOOKUP($B18,'BG Justif'!$A$5:$M$897,13,0)),0,VLOOKUP($B18,'BG Justif'!$A$5:$M$897,13,0)) -> 0 | J18: =H18-I18 -> 0
A19: =IF(OR(D19<>0,I19<>0,J19<>0,C19<>0,B19=""),"VRAI","FAUX") -> VRAI | C19: =IF(ISNA(VLOOKUP($B19,'BG Justif'!$A$5:$M$897,2,0)),0,VLOOKUP($B19,'BG Justif'!$A$5:$M$897,2,0)) -> 0 | D19: =IF(ISNA(VLOOKUP($B19,'BG Justif'!$A$5:$M$897,12,0)),0,VLOOKUP(B19,'BG Justif'!$A$5:$M$897,12,0)) -> 0 | H19: =IF(ISNUMBER(C19+D19-E19),(C19+D19-E19),0) -> 0 | I19: =IF(ISNA(VLOOKUP($B19,'BG Justif'!$A$5:$M$897,13,0)),0,VLOOKUP($B19,'BG Justif'!$A$5:$M$897,13,0)) -> 0 | J19: =H19-I19 -> 0
A20: =IF(OR(D20<>0,I20<>0,J20<>0,C20<>0,B20=""),"VRAI","FAUX") -> VRAI | C20: TOTAL | D20: =SUM(D15:D19) -> 0 | E20: =SUM(E15:E19) -> 0 | F20: =SUM(F15:F19) -> 0 | G20: =SUM(G15:G19) -> 0 | H20: =SUM(H15:H19) -> 0 | I20: =SUM(I15:I19) -> 0
A21: =IF(OR(D21<>0,I21<>0,J21<>0,C21<>0,B21=""),"VRAI","FAUX") -> VRAI
A22: =IF(OR(D22<>0,I22<>0,J22<>0,C22<>0,B22=""),"VRAI","FAUX") -> VRAI | C22: =IF(ISNA(VLOOKUP($B22,'BG Justif'!$A$5:$M$897,2,0)),0,VLOOKUP($B22,'BG Justif'!$A$5:$M$897,2,0)) -> 0 | D22: =IF(ISNA(VLOOKUP($B22,'BG Justif'!$A$5:$M$897,12,0)),0,VLOOKUP(B22,'BG Justif'!$A$5:$M$897,12,0)) -> 0 | H22: =IF(ISNUMBER(C22+D22-E22),(C22+D22-E22),0) -> 0 | I22: =IF(ISNA(VLOOKUP($B22,'BG Justif'!$A$5:$M$897,13,0)),0,VLOOKUP($B22,'BG Justif'!$A$5:$M$897,13,0)) -> 0 | J22: =H22-I22 -> 0
A23: =IF(OR(D23<>0,I23<>0,J23<>0,C23<>0,B23=""),"VRAI","FAUX") -> VRAI | C23: =IF(ISNA(VLOOKUP($B23,'BG Justif'!$A$5:$M$897,2,0)),0,VLOOKUP($B23,'BG Justif'!$A$5:$M$897,2,0)) -> 0 | D23: =IF(ISNA(VLOOKUP($B23,'BG Justif'!$A$5:$M$897,12,0)),0,VLOOKUP(B23,'BG Justif'!$A$5:$M$897,12,0)) -> 0 | H23: =IF(ISNUMBER(C23+D23-E23),(C23+D23-E23),0) -> 0 | I23: =IF(ISNA(VLOOKUP($B23,'BG Justif'!$A$5:$M$897,13,0)),0,VLOOKUP($B23,'BG Justif'!$A$5:$M$897,13,0)) -> 0 | J23: =H23-I23 -> 0
A24: =IF(OR(D24<>0,I24<>0,J24<>0,C24<>0,B24=""),"VRAI","FAUX") -> VRAI | C24: =IF(ISNA(VLOOKUP($B24,'BG Justif'!$A$5:$M$897,2,0)),0,VLOOKUP($B24,'BG Justif'!$A$5:$M$897,2,0)) -> 0 | D24: =IF(ISNA(VLOOKUP($B24,'BG Justif'!$A$5:$M$897,12,0)),0,VLOOKUP(B24,'BG Justif'!$A$5:$M$897,12,0)) -> 0 | H24: =IF(ISNUMBER(C24+D24-E24),(C24+D24-E24),0) -> 0 | I24: =IF(ISNA(VLOOKUP($B24,'BG Justif'!$A$5:$M$897,13,0)),0,VLOOKUP($B24,'BG Justif'!$A$5:$M$897,13,0)) -> 0 | J24: =H24-I24 -> 0 | L24: écart correspond aux immos corp.
A25: =IF(OR(D25<>0,I25<>0,J25<>0,C25<>0,B25=""),"VRAI","FAUX") -> FAUX | B25: 68710000 | C25: =IF(ISNA(VLOOKUP($B25,'BG Justif'!$A$5:$M$897,2,0)),0,VLOOKUP($B25,'BG Justif'!$A$5:$M$897,2,0)) -> 0 | D25: =IF(ISNA(VLOOKUP($B25,'BG Justif'!$A$5:$M$897,12,0)),0,VLOOKUP(B25,'BG Justif'!$A$5:$M$897,12,0)) -> 0 | H25: =IF(ISNUMBER(C25+D25-E25),(C25+D25-E25),0) -> 0 | I25: =IF(ISNA(VLOOKUP($B25,'BG Justif'!$A$5:$M$897,13,0)),0,VLOOKUP($B25,'BG Justif'!$A$5:$M$897,13,0)) -> 0 | J25: =H25-I25 -> 0
A26: =IF(OR(D26<>0,I26<>0,J26<>0,C26<>0,B26=""),"VRAI","FAUX") -> VRAI | C26: TOTAL | D26: =SUM(D22:D25) -> 0 | E26: =SUM(E22:E25) -> 0 | F26: =SUM(F22:F25) -> 0 | G26: =SUM(G22:G25) -> 0 | H26: =SUM(H22:H25) -> 0 | I26: =SUM(I22:I25) -> 0 | J26: =SUM(J22:J25) -> 0
A27: =IF(OR(D27<>0,I27<>0,J27<>0,C27<>0,B27=""),"VRAI","FAUX") -> VRAI
A28: =IF(OR(D28<>0,I28<>0,J28<>0,C28<>0,B28=""),"VRAI","FAUX") -> VRAI
A29: =IF(OR(D29<>0,I29<>0,J29<>0,C29<>0,B29=""),"VRAI","FAUX") -> VRAI
A30: =IF(OR(D30<>0,I30<>0,J30<>0,C30<>0,B30=""),"VRAI","FAUX") -> VRAI
A31: =IF(OR(D31<>0,I31<>0,J31<>0,C31<>0,B31=""),"VRAI","FAUX") -> VRAI
A32: =IF(OR(D32<>0,I32<>0,J32<>0,C32<>0,B32=""),"VRAI","FAUX") -> VRAI
A33: =IF(OR(D33<>0,I33<>0,J33<>0,C33<>0,B33=""),"VRAI","FAUX") -> VRAI
A34: =IF(OR(D34<>0,I34<>0,J34<>0,C34<>0,B34=""),"VRAI","FAUX") -> VRAI
A35: =IF(OR(D35<>0,I35<>0,J35<>0,C35<>0,B35=""),"VRAI","FAUX") -> VRAI
A36: =IF(OR(D36<>0,I36<>0,J36<>0,C36<>0,B36=""),"VRAI","FAUX") -> VRAI
A37: =IF(OR(D37<>0,I37<>0,J37<>0,C37<>0,B37=""),"VRAI","FAUX") -> VRAI

Sheet 7-Immo Corp
B1: 7 | C1: Immobilisations corporelles : variation des valeurs brutes et amortissements | K1: 7.0
C3: IMMOBILISATIONS CORPORELLES | D3: Brut au début de l'exercice | E3: Augmentations de l'exercice | F3: Diminutions de l'exercice | G3: Reclassement | H3: Brut à la fin de l'exercice | I3: =+'1-Fds Asso'!I3 -> Solde Compta 31/12/2017 | J3: Ctrl | K3: Ref | L3: Commentaire
A4: =IF(OR(D4<>0,H4<>0,I4<>0,C4<>0,B4=""),"VRAI","FAUX") -> VRAI | B4: {=IF(ROWS(B$4:B4)<=COUNTIF('BG Justif'!$Q$5:$Q$995,$B$1),INDEX('BG Justif'!$A$5:$A$995,SMALL(IF('BG Justif'!$Q$5:$Q$995=$B$1,ROW('BG Justif'!$Q$5:$Q$995)-ROW('BG Justif'!$Q$5)+1),ROWS(B$4:B4))),"")} -> 21150000 | C4: =IF(ISNA(VLOOKUP($B4,'BG Justif'!$A$5:$M$897,2,0)),0,VLOOKUP($B4,'BG Justif'!$A$5:$M$897,2,0)) -> TERRAINS BATIS | D4: =IF(ISNA(VLOOKUP($B4,'BG Justif'!$A$5:$M$897,12,0)),0,VLOOKUP(B4,'BG Justif'!$A$5:$M$897,12,0)) -> 92000 | H4: =+D4+E4-F4+G4 -> 92000 | I4: =IF(ISNA(VLOOKUP($B4,'BG Justif'!$A$5:$M$897,13,0)),0,VLOOKUP($B4,'BG Justif'!$A$5:$M$897,13,0)) -> 92000 | J4: =+H4-I4 -> 0
A5: =IF(OR(D5<>0,H5<>0,I5<>0,C5<>0,B5=""),"VRAI","FAUX") -> VRAI | B5: {=IF(ROWS(B$4:B5)<=COUNTIF('BG Justif'!$Q$5:$Q$995,$B$1),INDEX('BG Justif'!$A$5:$A$995,SMALL(IF('BG Justif'!$Q$5:$Q$995=$B$1,ROW('BG Justif'!$Q$5:$Q$995)-ROW('BG Justif'!$Q$5)+1),ROWS(B$4:B5))),"")} -> 21210000 | C5: =IF(ISNA(VLOOKUP($B5,'BG Justif'!$A$5:$M$897,2,0)),0,VLOOKUP($B5,'BG Justif'!$A$5:$M$897,2,0)) -> AGENC. AMEN. TERRAINS NUS | D5: =IF(ISNA(VLOOKUP($B5,'BG Justif'!$A$5:$M$897,12,0)),0,VLOOKUP(B5,'BG Justif'!$A$5:$M$897,12,0)) -> 8602.47 | H5: =+D5+E5-F5+G5 -> 8602.47 | I5: =IF(ISNA(VLOOKUP($B5,'BG Justif'!$A$5:$M$897,13,0)),0,VLOOKUP($B5,'BG Justif'!$A$5:$M$897,13,0)) -> 8602.47 | J5: =+H5-I5 -> 0
A6: =IF(OR(D6<>0,H6<>0,I6<>0,C6<>0,B6=""),"VRAI","FAUX") -> VRAI | B6: {=IF(ROWS(B$4:B6)<=COUNTIF('BG Justif'!$Q$5:$Q$995,$B$1),INDEX('BG Justif'!$A$5:$A$995,SMALL(IF('BG Justif'!$Q$5:$Q$995=$B$1,ROW('BG Justif'!$Q$5:$Q$995)-ROW('BG Justif'!$Q$5)+1),ROWS(B$4:B6))),"")} -> 21310000 | C6: =IF(ISNA(VLOOKUP($B6,'BG Justif'!$A$5:$M$897,2,0)),0,VLOOKUP($B6,'BG Justif'!$A$5:$M$897,2,0)) -> BATIMENTS | D6: =IF(ISNA(VLOOKUP($B6,'BG Justif'!$A$5:$M$897,12,0)),0,VLOOKUP(B6,'BG Justif'!$A$5:$M$897,12,0)) -> 385786.35 | H6: =+D6+E6-F6+G6 -> 385786.35 | I6: =IF(ISNA(VLOOKUP($B6,'BG Justif'!$A$5:$M$897,13,0)),0,VLOOKUP($B6,'BG Justif'!$A$5:$M$897,13,0)) -> 385786.35 | J6: =+H6-I6 -> 0
A7: =IF(OR(D7<>0,H7<>0,I7<>0,C7<>0,B7=""),"VRAI","FAUX") -> VRAI | B7: {=IF(ROWS(B$4:B7)<=COUNTIF('BG Justif'!$Q$5:$Q$995,$B$1),INDEX('BG Justif'!$A$5:$A$995,SMALL(IF('BG Justif'!$Q$5:$Q$995=$B$1,ROW('BG Justif'!$Q$5:$Q$995)-ROW('BG Justif'!$Q$5)+1),ROWS(B$4:B7))),"")} -> 21350000 | C7: =IF(ISNA(VLOOKUP($B7,'BG Justif'!$A$5:$M$897,2,0)),0,VLOOKUP($B7,'BG Justif'!$A$5:$M$897,2,0)) -> INST. AGENC. AMEN. CONSTR. | D7: =IF(ISNA(VLOOKUP($B7,'BG Justif'!$A$5:$M$897,12,0)),0,VLOOKUP(B7,'BG Justif'!$A$5:$M$897,12,0)) -> 250882.51 | H7: =+D7+E7-F7+G7 -> 250882.51 | I7: =IF(ISNA(VLOOKUP($B7,'BG Justif'!$A$5:$M$897,13,0)),0,VLOOKUP($B7,'BG Justif'!$A$5:$M$897,13,0)) -> 250882.51 | J7: =+H7-I7 -> 0
A8: =IF(OR(D8<>0,H8<>0,I8<>0,C8<>0,B8=""),"VRAI","FAUX") -> VRAI | B8: {=IF(ROWS(B$4:B8)<=COUNTIF('BG Justif'!$Q$5:$Q$995,$B$1),INDEX('BG Justif'!$A$5:$A$995,SMALL(IF('BG Justif'!$Q$5:$Q$995=$B$1,ROW('BG Justif'!$Q$5:$Q$995)-ROW('BG Justif'!$Q$5)+1),ROWS(B$4:B8))),"")} -> 21540000 | C8: =IF(ISNA(VLOOKUP($B8,'BG Justif'!$A$5:$M$897,2,0)),0,VLOOKUP($B8,'BG Justif'!$A$5:$M$897,2,0)) -> MATERIEL & OUTILLAGE | D8: =IF(ISNA(VLOOKUP($B8,'BG Justif'!$A$5:$M$897,12,0)),0,VLOOKUP(B8,'BG Justif'!$A$5:$M$897,12,0)) -> 1631.92 | H8: =+D8+E8-F8+G8 -> 1631.92 | I8: =IF(ISNA(VLOOKUP($B8,'BG Justif'!$A$5:$M$897,13,0)),0,VLOOKUP($B8,'BG Justif'!$A$5:$M$897,13,0)) -> 4962.54 | J8: =+H8-I8 -> -3330.62
A9: =IF(OR(D9<>0,H9<>0,I9<>0,C9<>0,B9=""),"VRAI","FAUX") -> VRAI | B9: {=IF(ROWS(B$4:B9)<=COUNTIF('BG Justif'!$Q$5:$Q$995,$B$1),INDEX('BG Justif'!$A$5:$A$995,SMALL(IF('BG Justif'!$Q$5:$Q$995=$B$1,ROW('BG Justif'!$Q$5:$Q$995)-ROW('BG Justif'!$Q$5)+1),ROWS(B$4:B9))),"")} -> 21541700 | C9: =IF(ISNA(VLOOKUP($B9,'BG Justif'!$A$5:$M$897,2,0)),0,VLOOKUP($B9,'BG Justif'!$A$5:$M$897,2,0)) -> MATERIEL MEDICAL | D9: =IF(ISNA(VLOOKUP($B9,'BG Justif'!$A$5:$M$897,12,0)),0,VLOOKUP(B9,'BG Justif'!$A$5:$M$897,12,0)) -> 1620 | H9: =+D9+E9-F9+G9 -> 1620 | I9: =IF(ISNA(VLOOKUP($B9,'BG Justif'!$A$5:$M$897,13,0)),0,VLOOKUP($B9,'BG Justif'!$A$5:$M$897,13,0)) -> 1620 | J9: =+H9-I9 -> 0
A10: =IF(OR(D10<>0,H10<>0,I10<>0,C10<>0,B10=""),"VRAI","FAUX") -> VRAI | B10: {=IF(ROWS(B$4:B10)<=COUNTIF('BG Justif'!$Q$5:$Q$995,$B$1),INDEX('BG Justif'!$A$5:$A$995,SMALL(IF('BG Justif'!$Q$5:$Q$995=$B$1,ROW('BG Justif'!$Q$5:$Q$995)-ROW('BG Justif'!$Q$5)+1),ROWS(B$4:B10))),"")} -> 21810000 | C10: =IF(ISNA(VLOOKUP($B10,'BG Justif'!$A$5:$M$897,2,0)),0,VLOOKUP($B10,'BG Justif'!$A$5:$M$897,2,0)) -> INST. AGENC. AMEN. DIVERS | D10: =IF(ISNA(VLOOKUP($B10,'BG Justif'!$A$5:$M$897,12,0)),0,VLOOKUP(B10,'BG Justif'!$A$5:$M$897,12,0)) -> 64315.39 | H10: =+D10+E10-F10+G10 -> 64315.39 | I10: =IF(ISNA(VLOOKUP($B10,'BG Justif'!$A$5:$M$897,13,0)),0,VLOOKUP($B10,'BG Justif'!$A$5:$M$897,13,0)) -> 64989.18 | J10: =+H10-I10 -> -673.79
A11: =IF(OR(D11<>0,H11<>0,I11<>0,C11<>0,B11=""),"VRAI","FAUX") -> VRAI | B11: {=IF(ROWS(B$4:B11)<=COUNTIF('BG Justif'!$Q$5:$Q$995,$B$1),INDEX('BG Justif'!$A$5:$A$995,SMALL(IF('BG Justif'!$Q$5:$Q$995=$B$1,ROW('BG Justif'!$Q$5:$Q$995)-ROW('BG Justif'!$Q$5)+1),ROWS(B$4:B11))),"")} -> 21820000 | C11: =IF(ISNA(VLOOKUP($B11,'BG Justif'!$A$5:$M$897,2,0)),0,VLOOKUP($B11,'BG Justif'!$A$5:$M$897,2,0)) -> MATERIEL DE TRANSPORT | D11: =IF(ISNA(VLOOKUP($B11,'BG Justif'!$A$5:$M$897,12,0)),0,VLOOKUP(B11,'BG Justif'!$A$5:$M$897,12,0)) -> 12790.94 | H11: =+D11+E11-F11+G11 -> 12790.94 | I11: =IF(ISNA(VLOOKUP($B11,'BG Justif'!$A$5:$M$897,13,0)),0,VLOOKUP($B11,'BG Justif'!$A$5:$M$897,13,0)) -> 12790.94 | J11: =+H11-I11 -> 0
A12: =IF(OR(D12<>0,H12<>0,I12<>0,C12<>0,B12=""),"VRAI","FAUX") -> VRAI | B12: {=IF(ROWS(B$4:B12)<=COUNTIF('BG Justif'!$Q$5:$Q$995,$B$1),INDEX('BG Justif'!$A$5:$A$995,SMALL(IF('BG Justif'!$Q$5:$Q$995=$B$1,ROW('BG Justif'!$Q$5:$Q$995)-ROW('BG Justif'!$Q$5)+1),ROWS(B$4:B12))),"")} -> 21830000 | C12: =IF(ISNA(VLOOKUP($B12,'BG Justif'!$A$5:$M$897,2,0)),0,VLOOKUP($B12,'BG Justif'!$A$5:$M$897,2,0)) -> MAT. BUREAU & INFORMATIQUE | D12: =IF(ISNA(VLOOKUP($B12,'BG Justif'!$A$5:$M$897,12,0)),0,VLOOKUP(B12,'BG Justif'!$A$5:$M$897,12,0)) -> 98392.69 | H12: =+D12+E12-F12+G12 -> 98392.69 | I12: =IF(ISNA(VLOOKUP($B12,'BG Justif'!$A$5:$M$897,13,0)),0,VLOOKUP($B12,'BG Justif'!$A$5:$M$897,13,0)) -> 103047.31 | J12: =+H12-I12 -> -4654.62
A13: =IF(OR(D13<>0,H13<>0,I13<>0,C13<>0,B13=""),"VRAI","FAUX") -> VRAI | B13: {=IF(ROWS(B$4:B13)<=COUNTIF('BG Justif'!$Q$5:$Q$995,$B$1),INDEX('BG Justif'!$A$5:$A$995,SMALL(IF('BG Justif'!$Q$5:$Q$995=$B$1,ROW('BG Justif'!$Q$5:$Q$995)-ROW('BG Justif'!$Q$5)+1),ROWS(B$4:B13))),"")} -> 21840000 | C13: =IF(ISNA(VLOOKUP($B13,'BG Justif'!$A$5:$M$897,2,0)),0,VLOOKUP($B13,'BG Justif'!$A$5:$M$897,2,0)) -> MOBILIER | D13: =IF(ISNA(VLOOKUP($B13,'BG Justif'!$A$5:$M$897,12,0)),0,VLOOKUP(B13,'BG Justif'!$A$5:$M$897,12,0)) -> 32545.6 | H13: =+D13+E13-F13+G13 -> 32545.6 | I13: =IF(ISNA(VLOOKUP($B13,'BG Justif'!$A$5:$M$897,13,0)),0,VLOOKUP($B13,'BG Justif'!$A$5:$M$897,13,0)) -> 34775.2 | J13: =+H13-I13 -> -2229.6
A14: =IF(OR(D14<>0,H14<>0,I14<>0,C14<>0,B14=""),"VRAI","FAUX") -> VRAI | B14: {=IF(ROWS(B$4:B14)<=COUNTIF('BG Justif'!$Q$5:$Q$995,$B$1),INDEX('BG Justif'!$A$5:$A$995,SMALL(IF('BG Justif'!$Q$5:$Q$995=$B$1,ROW('BG Justif'!$Q$5:$Q$995)-ROW('BG Justif'!$Q$5)+1),ROWS(B$4:B14))),"")} | C14: =IF(ISNA(VLOOKUP($B14,'BG Justif'!$A$5:$M$897,2,0)),0,VLOOKUP($B14,'BG Justif'!$A$5:$M$897,2,0)) -> 0 | D14: =IF(ISNA(VLOOKUP($B14,'BG Justif'!$A$5:$M$897,12,0)),0,VLOOKUP(B14,'BG Justif'!$A$5:$M$897,12,0)) -> 0 | H14: =+D14+E14-F14+G14 -> 0 | I14: =IF(ISNA(VLOOKUP($B14,'BG Justif'!$A$5:$M$897,13,0)),0,VLOOKUP($B14,'BG Justif'!$A$5:$M$897,13,0)) -> 0 | J14: =+H14-I14 -> 0
A15: =IF(OR(D15<>0,H15<>0,I15<>0,C15<>0,B15=""),"VRAI","FAUX") -> VRAI | B15: {=IF(ROWS(B$4:B15)<=COUNTIF('BG Justif'!$Q$5:$Q$995,$B$1),INDEX('BG Justif'!$A$5:$A$995,SMALL(IF('BG Justif'!$Q$5:$Q$995=$B$1,ROW('BG Justif'!$Q$5:$Q$995)-ROW('BG Justif'!$Q$5)+1),ROWS(B$4:B15))),"")} | C15: =IF(ISNA(VLOOKUP($B15,'BG Justif'!$A$5:$M$897,2,0)),0,VLOOKUP($B15,'BG Justif'!$A$5:$M$897,2,0)) -> 0 | D15: =IF(ISNA(VLOOKUP($B15,'BG Justif'!$A$5:$M$897,12,0)),0,VLOOKUP(B15,'BG Justif'!$A$5:$M$897,12,0)) -> 0 | H15: =+D15+E15-F15+G15 -> 0 | I15: =IF(ISNA(VLOOKUP($B15,'BG Justif'!$A$5:$M$897,13,0)),0,VLOOKUP($B15,'BG Justif'!$A$5:$M$897,13,0)) -> 0 | J15: =+H15-I15 -> 0
A16: =IF(OR(D16<>0,H16<>0,I16<>0,C16<>0,B16=""),"VRAI","FAUX") -> FAUX | B16: 21311000 | C16: =IF(ISNA(VLOOKUP($B16,'BG Justif'!$A$5:$M$897,2,0)),0,VLOOKUP($B16,'BG Justif'!$A$5:$M$897,2,0)) -> 0 | D16: =IF(ISNA(VLOOKUP($B16,'BG Justif'!$A$5:$M$897,12,0)),0,VLOOKUP(B16,'BG Justif'!$A$5:$M$897,12,0)) -> 0 | H16: =+D16+E16-F16+G16 -> 0 | I16: =IF(ISNA(VLOOKUP($B16,'BG Justif'!$A$5:$M$897,13,0)),0,VLOOKUP($B16,'BG Justif'!$A$5:$M$897,13,0)) -> 0 | J16: =+H16-I16 -> 0
A17: =IF(OR(D17<>0,H17<>0,I17<>0,C17<>0,B17=""),"VRAI","FAUX") -> VRAI | B17: {=IF(ROWS(B$4:B17)<=COUNTIF('BG Justif'!$Q$5:$Q$995,$B$1),INDEX('BG Justif'!$A$5:$A$995,SMALL(IF('BG Justif'!$Q$5:$Q$995=$B$1,ROW('BG Justif'!$Q$5:$Q$995)-ROW('BG Justif'!$Q$5)+1),ROWS(B$4:B17))),"")} | C17: =IF(ISNA(VLOOKUP($B17,'BG Justif'!$A$5:$M$897,2,0)),0,VLOOKUP($B17,'BG Justif'!$A$5:$M$897,2,0)) -> 0 | D17: =IF(ISNA(VLOOKUP($B17,'BG Justif'!$A$5:$M$897,12,0)),0,VLOOKUP(B17,'BG Justif'!$A$5:$M$897,12,0)) -> 0 | H17: =+D17+E17-F17+G17 -> 0 | I17: =IF(ISNA(VLOOKUP($B17,'BG Justif'!$A$5:$M$897,13,0)),0,VLOOKUP($B17,'BG Justif'!$A$5:$M$897,13,0)) -> 0 | J17: =+H17-I17 -> 0
A18: =IF(OR(D18<>0,H18<>0,I18<>0,C18<>0,B18=""),"VRAI","FAUX") -> VRAI | B18: {=IF(ROWS(B$4:B18)<=COUNTIF('BG Justif'!$Q$5:$Q$995,$B$1),INDEX('BG Justif'!$A$5:$A$995,SMALL(IF('BG Justif'!$Q$5:$Q$995=$B$1,ROW('BG Justif'!$Q$5:$Q$995)-ROW('BG Justif'!$Q$5)+1),ROWS(B$4:B18))),"")} | C18: =IF(ISNA(VLOOKUP($B18,'BG Justif'!$A$5:$M$897,2,0)),0,VLOOKUP($B18,'BG Justif'!$A$5:$M$897,2,0)) -> 0 | D18: =IF(ISNA(VLOOKUP($B18,'BG Justif'!$A$5:$M$897,12,0)),0,VLOOKUP(B18,'BG Justif'!$A$5:$M$897,12,0)) -> 0 | H18: =+D18+E18-F18+G18 -> 0 | I18: =IF(ISNA(VLOOKUP($B18,'BG Justif'!$A$5:$M$897,13,0)),0,VLOOKUP($B18,'BG Justif'!$A$5:$M$897,13,0)) -> 0 | J18: =+H18-I18 -> 0
A19: =IF(OR(D19<>0,H19<>0,I19<>0,C19<>0,B19=""),"VRAI","FAUX") -> VRAI | B19: {=IF(ROWS(B$4:B19)<=COUNTIF('BG Justif'!$Q$5:$Q$995,$B$1),INDEX('BG Justif'!$A$5:$A$995,SMALL(IF('BG Justif'!$Q$5:$Q$995=$B$1,ROW('BG Justif'!$Q$5:$Q$995)-ROW('BG Justif'!$Q$5)+1),ROWS(B$4:B19))),"")} | C19: =IF(ISNA(VLOOKUP($B19,'BG Justif'!$A$5:$M$897,2,0)),0,VLOOKUP($B19,'BG Justif'!$A$5:$M$897,2,0)) -> 0 | D19: =IF(ISNA(VLOOKUP($B19,'BG Justif'!$A$5:$M$897,12,0)),0,VLOOKUP(B19,'BG Justif'!$A$5:$M$897,12,0)) -> 0 | H19: =+D19+E19-F19+G19 -> 0 | I19: =IF(ISNA(VLOOKUP($B19,'BG Justif'!$A$5:$M$897,13,0)),0,VLOOKUP($B19,'BG Justif'!$A$5:$M$897,13,0)) -> 0 | J19: =+H19-I19 -> 0
A20: =IF(OR(D20<>0,H20<>0,I20<>0,C20<>0,B20=""),"VRAI","FAUX") -> VRAI | B20: {=IF(ROWS(B$4:B20)<=COUNTIF('BG Justif'!$Q$5:$Q$995,$B$1),INDEX('BG Justif'!$A$5:$A$995,SMALL(IF('BG Justif'!$Q$5:$Q$995=$B$1,ROW('BG Justif'!$Q$5:$Q$995)-ROW('BG Justif'!$Q$5)+1),ROWS(B$4:B20))),"")} | C20: =IF(ISNA(VLOOKUP($B20,'BG Justif'!$A$5:$M$897,2,0)),0,VLOOKUP($B20,'BG Justif'!$A$5:$M$897,2,0)) -> 0 | D20: =IF(ISNA(VLOOKUP($B20,'BG Justif'!$A$5:$M$897,12,0)),0,VLOOKUP(B20,'BG Justif'!$A$5:$M$897,12,0)) -> 0 | H20: =+D20+E20-F20+G20 -> 0 | I20: =IF(ISNA(VLOOKUP($B20,'BG Justif'!$A$5:$M$897,13,0)),0,VLOOKUP($B20,'BG Justif'!$A$5:$M$897,13,0)) -> 0 | J20: =+H20-I20 -> 0
A21: =IF(OR(D21<>0,H21<>0,I21<>0,C21<>0,B21=""),"VRAI","FAUX") -> VRAI | B21: {=IF(ROWS(B$4:B21)<=COUNTIF('BG Justif'!$Q$5:$Q$995,$B$1),INDEX('BG Justif'!$A$5:$A$995,SMALL(IF('BG Justif'!$Q$5:$Q$995=$B$1,ROW('BG Justif'!$Q$5:$Q$995)-ROW('BG Justif'!$Q$5)+1),ROWS(B$4:B21))),"")} | C21: =IF(ISNA(VLOOKUP($B21,'BG Justif'!$A$5:$M$897,2,0)),0,VLOOKUP($B21,'BG Justif'!$A$5:$M$897,2,0)) -> 0 | D21: =IF(ISNA(VLOOKUP($B21,'BG Justif'!$A$5:$M$897,12,0)),0,VLOOKUP(B21,'BG Justif'!$A$5:$M$897,12,0)) -> 0 | H21: =+D21+E21-F21+G21 -> 0 | I21: =IF(ISNA(VLOOKUP($B21,'BG Justif'!$A$5:$M$897,13,0)),0,VLOOKUP($B21,'BG Justif'!$A$5:$M$897,13,0)) -> 0 | J21: =+H21-I21 -> 0
A22: =IF(OR(D22<>0,H22<>0,I22<>0,C22<>0,B22=""),"VRAI","FAUX") -> VRAI | B22: {=IF(ROWS(B$4:B22)<=COUNTIF('BG Justif'!$Q$5:$Q$995,$B$1),INDEX('BG Justif'!$A$5:$A$995,SMALL(IF('BG Justif'!$Q$5:$Q$995=$B$1,ROW('BG Justif'!$Q$5:$Q$995)-ROW('BG Justif'!$Q$5)+1),ROWS(B$4:B22))),"")} | C22: =IF(ISNA(VLOOKUP($B22,'BG Justif'!$A$5:$M$897,2,0)),0,VLOOKUP($B22,'BG Justif'!$A$5:$M$897,2,0)) -> 0 | D22: =IF(ISNA(VLOOKUP($B22,'BG Justif'!$A$5:$M$897,12,0)),0,VLOOKUP(B22,'BG Justif'!$A$5:$M$897,12,0)) -> 0 | H22: =+D22+E22-F22+G22 -> 0 | I22: =IF(ISNA(VLOOKUP($B22,'BG Justif'!$A$5:$M$897,13,0)),0,VLOOKUP($B22,'BG Justif'!$A$5:$M$897,13,0)) -> 0 | J22: =+H22-I22 -> 0
A23: =IF(OR(D23<>0,H23<>0,I23<>0,C23<>0,B23=""),"VRAI","FAUX") -> VRAI | B23: {=IF(ROWS(B$4:B23)<=COUNTIF('BG Justif'!$Q$5:$Q$995,$B$1),INDEX('BG Justif'!$A$5:$A$995,SMALL(IF('BG Justif'!$Q$5:$Q$995=$B$1,ROW('BG Justif'!$Q$5:$Q$995)-ROW('BG Justif'!$Q$5)+1),ROWS(B$4:B23))),"")} | C23: =IF(ISNA(VLOOKUP($B23,'BG Justif'!$A$5:$M$897,2,0)),0,VLOOKUP($B23,'BG Justif'!$A$5:$M$897,2,0)) -> 0 | D23: =IF(ISNA(VLOOKUP($B23,'BG Justif'!$A$5:$M$897,12,0)),0,VLOOKUP(B23,'BG Justif'!$A$5:$M$897,12,0)) -> 0 | H23: =+D23+E23-F23+G23 -> 0 | I23: =IF(ISNA(VLOOKUP($B23,'BG Justif'!$A$5:$M$897,13,0)),0,VLOOKUP($B23,'BG Justif'!$A$5:$M$897,13,0)) -> 0 | J23: =+H23-I23 -> 0
A24: =IF(OR(D24<>0,H24<>0,I24<>0,C24<>0,B24=""),"VRAI","FAUX") -> VRAI | B24: {=IF(ROWS(B$4:B24)<=COUNTIF('BG Justif'!$Q$5:$Q$995,$B$1),INDEX('BG Justif'!$A$5:$A$995,SMALL(IF('BG Justif'!$Q$5:$Q$995=$B$1,ROW('BG Justif'!$Q$5:$Q$995)-ROW('BG Justif'!$Q$5)+1),ROWS(B$4:B24))),"")} | C24: =IF(ISNA(VLOOKUP($B24,'BG Justif'!$A$5:$M$897,2,0)),0,VLOOKUP($B24,'BG Justif'!$A$5:$M$897,2,0)) -> 0 | D24: =IF(ISNA(VLOOKUP($B24,'BG Justif'!$A$5:$M$897,12,0)),0,VLOOKUP(B24,'BG Justif'!$A$5:$M$897,12,0)) -> 0 | H24: =+D24+E24-F24+G24 -> 0 | I24: =IF(ISNA(VLOOKUP($B24,'BG Justif'!$A$5:$M$897,13,0)),0,VLOOKUP($B24,'BG Justif'!$A$5:$M$897,13,0)) -> 0 | J24: =+H24-I24 -> 0
A25: =IF(OR(D25<>0,H25<>0,I25<>0,C25<>0,B25=""),"VRAI","FAUX") -> VRAI | B25: {=IF(ROWS(B$4:B25)<=COUNTIF('BG Justif'!$Q$5:$Q$995,$B$1),INDEX('BG Justif'!$A$5:$A$995,SMALL(IF('BG Justif'!$Q$5:$Q$995=$B$1,ROW('BG Justif'!$Q$5:$Q$995)-ROW('BG Justif'!$Q$5)+1),ROWS(B$4:B25))),"")} | C25: =IF(ISNA(VLOOKUP($B25,'BG Justif'!$A$5:$M$897,2,0)),0,VLOOKUP($B25,'BG Justif'!$A$5:$M$897,2,0)) -> 0 | D25: =IF(ISNA(VLOOKUP($B25,'BG Justif'!$A$5:$M$897,12,0)),0,VLOOKUP(B25,'BG Justif'!$A$5:$M$897,12,0)) -> 0 | H25: =+D25+E25-F25+G25 -> 0 | I25: =IF(ISNA(VLOOKUP($B25,'BG Justif'!$A$5:$M$897,13,0)),0,VLOOKUP($B25,'BG Justif'!$A$5:$M$897,13,0)) -> 0 | J25: =+H25-I25 -> 0
A26: =IF(OR(D26<>0,H26<>0,I26<>0,C26<>0,B26=""),"VRAI","FAUX") -> VRAI | B26: {=IF(ROWS(B$4:B26)<=COUNTIF('BG Justif'!$Q$5:$Q$995,$B$1),INDEX('BG Justif'!$A$5:$A$995,SMALL(IF('BG Justif'!$Q$5:$Q$995=$B$1,ROW('BG Justif'!$Q$5:$Q$995)-ROW('BG Justif'!$Q$5)+1),ROWS(B$4:B26))),"")} | C26: =IF(ISNA(VLOOKUP($B26,'BG Justif'!$A$5:$M$897,2,0)),0,VLOOKUP($B26,'BG Justif'!$A$5:$M$897,2,0)) -> 0 | D26: =IF(ISNA(VLOOKUP($B26,'BG Justif'!$A$5:$M$897,12,0)),0,VLOOKUP(B26,'BG Justif'!$A$5:$M$897,12,0)) -> 0 | H26: =+D26+E26-F26+G26 -> 0 | I26: =IF(ISNA(VLOOKUP($B26,'BG Justif'!$A$5:$M$897,13,0)),0,VLOOKUP($B26,'BG Justif'!$A$5:$M$897,13,0)) -> 0 | J26: =+H26-I26 -> 0
A27: =IF(OR(D27<>0,H27<>0,I27<>0,C27<>0,B27=""),"VRAI","FAUX") -> VRAI | B27: {=IF(ROWS(B$4:B27)<=COUNTIF('BG Justif'!$Q$5:$Q$995,$B$1),INDEX('BG Justif'!$A$5:$A$995,SMALL(IF('BG Justif'!$Q$5:$Q$995=$B$1,ROW('BG Justif'!$Q$5:$Q$995)-ROW('BG Justif'!$Q$5)+1),ROWS(B$4:B27))),"")} | C27: =IF(ISNA(VLOOKUP($B27,'BG Justif'!$A$5:$M$897,2,0)),0,VLOOKUP($B27,'BG Justif'!$A$5:$M$897,2,0)) -> 0 | D27: =IF(ISNA(VLOOKUP($B27,'BG Justif'!$A$5:$M$897,12,0)),0,VLOOKUP(B27,'BG Justif'!$A$5:$M$897,12,0)) -> 0 | H27: =+D27+E27-F27+G27 -> 0 | I27: =IF(ISNA(VLOOKUP($B27,'BG Justif'!$A$5:$M$897,13,0)),0,VLOOKUP($B27,'BG Justif'!$A$5:$M$897,13,0)) -> 0 | J27: =+H27-I27 -> 0
A28: =IF(OR(D28<>0,H28<>0,I28<>0,C28<>0,B28=""),"VRAI","FAUX") -> VRAI | B28: {=IF(ROWS(B$4:B28)<=COUNTIF('BG Justif'!$Q$5:$Q$995,$B$1),INDEX('BG Justif'!$A$5:$A$995,SMALL(IF('BG Justif'!$Q$5:$Q$995=$B$1,ROW('BG Justif'!$Q$5:$Q$995)-ROW('BG Justif'!$Q$5)+1),ROWS(B$4:B28))),"")} | C28: =IF(ISNA(VLOOKUP($B28,'BG Justif'!$A$5:$M$897,2,0)),0,VLOOKUP($B28,'BG Justif'!$A$5:$M$897,2,0)) -> 0 | D28: =IF(ISNA(VLOOKUP($B28,'BG Justif'!$A$5:$M$897,12,0)),0,VLOOKUP(B28,'BG Justif'!$A$5:$M$897,12,0)) -> 0 | H28: =+D28+E28-F28+G28 -> 0 | I28: =IF(ISNA(VLOOKUP($B28,'BG Justif'!$A$5:$M$897,13,0)),0,VLOOKUP($B28,'BG Justif'!$A$5:$M$897,13,0)) -> 0 | J28: =+H28-I28 -> 0
... A39: =IF(OR(D39<>0,H39<>0,I39<>0,C39<>0,B39=""),"VRAI","FAUX") -> VRAI | B39: {=IF(ROWS(B$4:B39)<=COUNTIF('BG Justif'!$Q$5:$Q$995,$B$1),INDEX('BG Justif'!$A$5:$A$995,SMALL(IF('BG Justif'!$Q$5:$Q$995=$B$1,ROW('BG Justif'!$Q$5:$Q$995)-ROW('BG Justif'!$Q$5)+1),ROWS(B$4:B39))),"")} | C39: =IF(ISNA(VLOOKUP($B39,'BG Justif'!$A$5:$M$897,2,0)),0,VLOOKUP($B39,'BG Justif'!$A$5:$M$897,2,0)) -> 0 | D39: =IF(ISNA(VLOOKUP($B39,'BG Justif'!$A$5:$M$897,12,0)),0,VLOOKUP(B39,'BG Justif'!$A$5:$M$897,12,0)) -> 0 | H39: =+D39+E39-F39+G39 -> 0 | I39: =IF(ISNA(VLOOKUP($B39,'BG Justif'!$A$5:$M$897,13,0)),0,VLOOKUP($B39,'BG Justif'!$A$5:$M$897,13,0)) -> 0 | J39: =+H39-I39 -> 0
A40: =IF(OR(D40<>0,H40<>0,I40<>0,C40<>0,B40=""),"VRAI","FAUX") -> FAUX | B40: 21540002 | C40: =IF(ISNA(VLOOKUP($B40,'BG Justif'!$A$5:$M$897,2,0)),0,VLOOKUP($B40,'BG Justif'!$A$5:$M$897,2,0)) -> 0 | D40: =IF(ISNA(VLOOKUP($B40,'BG Justif'!$A$5:$M$897,12,0)),0,VLOOKUP(B40,'BG Justif'!$A$5:$M$897,12,0)) -> 0 | H40: =+D40+E40-F40+G40 -> 0 | I40: =IF(ISNA(VLOOKUP($B40,'BG Justif'!$A$5:$M$897,13,0)),0,VLOOKUP($B40,'BG Justif'!$A$5:$M$897,13,0)) -> 0 | J40: =+H40-I40 -> 0
A41: =IF(OR(D41<>0,H41<>0,I41<>0,C41<>0,B41=""),"VRAI","FAUX") -> VRAI | B41: {=IF(ROWS(B$4:B41)<=COUNTIF('BG Justif'!$Q$5:$Q$995,$B$1),INDEX('BG Justif'!$A$5:$A$995,SMALL(IF('BG Justif'!$Q$5:$Q$995=$B$1,ROW('BG Justif'!$Q$5:$Q$995)-ROW('BG Justif'!$Q$5)+1),ROWS(B$4:B41))),"")} | C41: =IF(ISNA(VLOOKUP($B41,'BG Justif'!$A$5:$M$897,2,0)),0,VLOOKUP($B41,'BG Justif'!$A$5:$M$897,2,0)) -> 0 | D41: =IF(ISNA(VLOOKUP($B41,'BG Justif'!$A$5:$M$897,12,0)),0,VLOOKUP(B41,'BG Justif'!$A$5:$M$897,12,0)) -> 0 | H41: =+D41+E41-F41+G41 -> 0 | I41: =IF(ISNA(VLOOKUP($B41,'BG Justif'!$A$5:$M$897,13,0)),0,VLOOKUP($B41,'BG Justif'!$A$5:$M$897,13,0)) -> 0 | J41: =+H41-I41 -> 0
A42: =IF(OR(D42<>0,H42<>0,I42<>0,C42<>0,B42=""),"VRAI","FAUX") -> VRAI | B42: {=IF(ROWS(B$4:B42)<=COUNTIF('BG Justif'!$Q$5:$Q$995,$B$1),INDEX('BG Justif'!$A$5:$A$995,SMALL(IF('BG Justif'!$Q$5:$Q$995=$B$1,ROW('BG Justif'!$Q$5:$Q$995)-ROW('BG Justif'!$Q$5)+1),ROWS(B$4:B42))),"")} | C42: =IF(ISNA(VLOOKUP($B42,'BG Justif'!$A$5:$M$897,2,0)),0,VLOOKUP($B42,'BG Justif'!$A$5:$M$897,2,0)) -> 0 | D42: =IF(ISNA(VLOOKUP($B42,'BG Justif'!$A$5:$M$897,12,0)),0,VLOOKUP(B42,'BG Justif'!$A$5:$M$897,12,0)) -> 0 | H42: =+D42+E42-F42+G42 -> 0 | I42: =IF(ISNA(VLOOKUP($B42,'BG Justif'!$A$5:$M$897,13,0)),0,VLOOKUP($B42,'BG Justif'!$A$5:$M$897,13,0)) -> 0 | J42: =+H42-I42 -> 0
A43: =IF(OR(D43<>0,H43<>0,I43<>0,C43<>0,B43=""),"VRAI","FAUX") -> VRAI | B43: {=IF(ROWS(B$4:B43)<=COUNTIF('BG Justif'!$Q$5:$Q$995,$B$1),INDEX('BG Justif'!$A$5:$A$995,SMALL(IF('BG Justif'!$Q$5:$Q$995=$B$1,ROW('BG Justif'!$Q$5:$Q$995)-ROW('BG Justif'!$Q$5)+1),ROWS(B$4:B43))),"")} | C43: =IF(ISNA(VLOOKUP($B43,'BG Justif'!$A$5:$M$897,2,0)),0,VLOOKUP($B43,'BG Justif'!$A$5:$M$897,2,0)) -> 0 | D43: =IF(ISNA(VLOOKUP($B43,'BG Justif'!$A$5:$M$897,12,0)),0,VLOOKUP(B43,'BG Justif'!$A$5:$M$897,12,0)) -> 0 | H43: =+D43+E43-F43+G43 -> 0 | I43: =IF(ISNA(VLOOKUP($B43,'BG Justif'!$A$5:$M$897,13,0)),0,VLOOKUP($B43,'BG Justif'!$A$5:$M$897,13,0)) -> 0 | J43: =+H43-I43 -> 0
A44: =IF(OR(D44<>0,H44<>0,I44<>0,C44<>0,B44=""),"VRAI","FAUX") -> VRAI | B44: {=IF(ROWS(B$4:B44)<=COUNTIF('BG Justif'!$Q$5:$Q$995,$B$1),INDEX('BG Justif'!$A$5:$A$995,SMALL(IF('BG Justif'!$Q$5:$Q$995=$B$1,ROW('BG Justif'!$Q$5:$Q$995)-ROW('BG Justif'!$Q$5)+1),ROWS(B$4:B44))),"")} | C44: =IF(ISNA(VLOOKUP($B44,'BG Justif'!$A$5:$M$897,2,0)),0,VLOOKUP($B44,'BG Justif'!$A$5:$M$897,2,0)) -> 0 | D44: =IF(ISNA(VLOOKUP($B44,'BG Justif'!$A$5:$M$897,12,0)),0,VLOOKUP(B44,'BG Justif'!$A$5:$M$897,12,0)) -> 0 | H44: =+D44+E44-F44+G44 -> 0 | I44: =IF(ISNA(VLOOKUP($B44,'BG Justif'!$A$5:$M$897,13,0)),0,VLOOKUP($B44,'BG Justif'!$A$5:$M$897,13,0)) -> 0 | J44: =+H44-I44 -> 0
A45: =IF(OR(D45<>0,H45<>0,I45<>0,C45<>0,B45=""),"VRAI","FAUX") -> VRAI | B45: {=IF(ROWS(B$4:B45)<=COUNTIF('BG Justif'!$Q$5:$Q$995,$B$1),INDEX('BG Justif'!$A$5:$A$995,SMALL(IF('BG Justif'!$Q$5:$Q$995=$B$1,ROW('BG Justif'!$Q$5:$Q$995)-ROW('BG Justif'!$Q$5)+1),ROWS(B$4:B45))),"")} | C45: =IF(ISNA(VLOOKUP($B45,'BG Justif'!$A$5:$M$897,2,0)),0,VLOOKUP($B45,'BG Justif'!$A$5:$M$897,2,0)) -> 0 | D45: =IF(ISNA(VLOOKUP($B45,'BG Justif'!$A$5:$M$897,12,0)),0,VLOOKUP(B45,'BG Justif'!$A$5:$M$897,12,0)) -> 0 | H45: =+D45+E45-F45+G45 -> 0 | I45: =IF(ISNA(VLOOKUP($B45,'BG Justif'!$A$5:$M$897,13,0)),0,VLOOKUP($B45,'BG Justif'!$A$5:$M$897,13,0)) -> 0 | J45: =+H45-I45 -> 0
A46: =IF(OR(D46<>0,H46<>0,I46<>0,C46<>0,B46=""),"VRAI","FAUX") -> VRAI | B46: {=IF(ROWS(B$4:B46)<=COUNTIF('BG Justif'!$Q$5:$Q$995,$B$1),INDEX('BG Justif'!$A$5:$A$995,SMALL(IF('BG Justif'!$Q$5:$Q$995=$B$1,ROW('BG Justif'!$Q$5:$Q$995)-ROW('BG Justif'!$Q$5)+1),ROWS(B$4:B46))),"")} | C46: =IF(ISNA(VLOOKUP($B46,'BG Justif'!$A$5:$M$897,2,0)),0,VLOOKUP($B46,'BG Justif'!$A$5:$M$897,2,0)) -> 0 | D46: =IF(ISNA(VLOOKUP($B46,'BG Justif'!$A$5:$M$897,12,0)),0,VLOOKUP(B46,'BG Justif'!$A$5:$M$897,12,0)) -> 0 | H46: =+D46+E46-F46+G46 -> 0 | I46: =IF(ISNA(VLOOKUP($B46,'BG Justif'!$A$5:$M$897,13,0)),0,VLOOKUP($B46,'BG Justif'!$A$5:$M$897,13,0)) -> 0 | J46: =+H46-I46 -> 0
A47: =IF(OR(D47<>0,H47<>0,I47<>0,C47<>0,B47=""),"VRAI","FAUX") -> VRAI | B47: {=IF(ROWS(B$4:B47)<=COUNTIF('BG Justif'!$Q$5:$Q$995,$B$1),INDEX('BG Justif'!$A$5:$A$995,SMALL(IF('BG Justif'!$Q$5:$Q$995=$B$1,ROW('BG Justif'!$Q$5:$Q$995)-ROW('BG Justif'!$Q$5)+1),ROWS(B$4:B47))),"")} | C47: =IF(ISNA(VLOOKUP($B47,'BG Justif'!$A$5:$M$897,2,0)),0,VLOOKUP($B47,'BG Justif'!$A$5:$M$897,2,0)) -> 0 | D47: =IF(ISNA(VLOOKUP($B47,'BG Justif'!$A$5:$M$897,12,0)),0,VLOOKUP(B47,'BG Justif'!$A$5:$M$897,12,0)) -> 0 | H47: =+D47+E47-F47+G47 -> 0 | I47: =IF(ISNA(VLOOKUP($B47,'BG Justif'!$A$5:$M$897,13,0)),0,VLOOKUP($B47,'BG Justif'!$A$5:$M$897,13,0)) -> 0 | J47: =+H47-I47 -> 0
A48: =IF(OR(D48<>0,H48<>0,I48<>0,C48<>0,B48=""),"VRAI","FAUX") -> VRAI | B48: {=IF(ROWS(B$4:B48)<=COUNTIF('BG Justif'!$Q$5:$Q$995,$B$1),INDEX('BG Justif'!$A$5:$A$995,SMALL(IF('BG Justif'!$Q$5:$Q$995=$B$1,ROW('BG Justif'!$Q$5:$Q$995)-ROW('BG Justif'!$Q$5)+1),ROWS(B$4:B48))),"")} | C48: =IF(ISNA(VLOOKUP($B48,'BG Justif'!$A$5:$M$897,2,0)),0,VLOOKUP($B48,'BG Justif'!$A$5:$M$897,2,0)) -> 0 | D48: =IF(ISNA(VLOOKUP($B48,'BG Justif'!$A$5:$M$897,12,0)),0,VLOOKUP(B48,'BG Justif'!$A$5:$M$897,12,0)) -> 0 | H48: =+D48+E48-F48+G48 -> 0 | I48: =IF(ISNA(VLOOKUP($B48,'BG Justif'!$A$5:$M$897,13,0)),0,VLOOKUP($B48,'BG Justif'!$A$5:$M$897,13,0)) -> 0 | J48: =+H48-I48 -> 0
A49: =IF(OR(D49<>0,H49<>0,I49<>0,C49<>0,B49=""),"VRAI","FAUX") -> VRAI | B49: {=IF(ROWS(B$4:B49)<=COUNTIF('BG Justif'!$Q$5:$Q$995,$B$1),INDEX('BG Justif'!$A$5:$A$995,SMALL(IF('BG Justif'!$Q$5:$Q$995=$B$1,ROW('BG Justif'!$Q$5:$Q$995)-ROW('BG Justif'!$Q$5)+1),ROWS(B$4:B49))),"")} | C49: =IF(ISNA(VLOOKUP($B49,'BG Justif'!$A$5:$M$897,2,0)),0,VLOOKUP($B49,'BG Justif'!$A$5:$M$897,2,0)) -> 0 | D49: =IF(ISNA(VLOOKUP($B49,'BG Justif'!$A$5:$M$897,12,0)),0,VLOOKUP(B49,'BG Justif'!$A$5:$M$897,12,0)) -> 0 | H49: =+D49+E49-F49+G49 -> 0 | I49: =IF(ISNA(VLOOKUP($B49,'BG Justif'!$A$5:$M$897,13,0)),0,VLOOKUP($B49,'BG Justif'!$A$5:$M$897,13,0)) -> 0 | J49: =+H49-I49 -> 0
A50: =IF(OR(D50<>0,H50<>0,I50<>0,C50<>0,B50=""),"VRAI","FAUX") -> VRAI | B50: {=IF(ROWS(B$4:B50)<=COUNTIF('BG Justif'!$Q$5:$Q$995,$B$1),INDEX('BG Justif'!$A$5:$A$995,SMALL(IF('BG Justif'!$Q$5:$Q$995=$B$1,ROW('BG Justif'!$Q$5:$Q$995)-ROW('BG Justif'!$Q$5)+1),ROWS(B$4:B50))),"")} | C50: =IF(ISNA(VLOOKUP($B50,'BG Justif'!$A$5:$M$897,2,0)),0,VLOOKUP($B50,'BG Justif'!$A$5:$M$897,2,0)) -> 0 | D50: =IF(ISNA(VLOOKUP($B50,'BG Justif'!$A$5:$M$897,12,0)),0,VLOOKUP(B50,'BG Justif'!$A$5:$M$897,12,0)) -> 0 | H50: =+D50+E50-F50+G50 -> 0 | I50: =IF(ISNA(VLOOKUP($B50,'BG Justif'!$A$5:$M$897,13,0)),0,VLOOKUP($B50,'BG Justif'!$A$5:$M$897,13,0)) -> 0 | J50: =+H50-I50 -> 0
A51: =IF(OR(D51<>0,H51<>0,I51<>0,C51<>0,B51=""),"VRAI","FAUX") -> VRAI | B51: {=IF(ROWS(B$4:B51)<=COUNTIF('BG Justif'!$Q$5:$Q$995,$B$1),INDEX('BG Justif'!$A$5:$A$995,SMALL(IF('BG Justif'!$Q$5:$Q$995=$B$1,ROW('BG Justif'!$Q$5:$Q$995)-ROW('BG Justif'!$Q$5)+1),ROWS(B$4:B51))),"")} | C51: =IF(ISNA(VLOOKUP($B51,'BG Justif'!$A$5:$M$897,2,0)),0,VLOOKUP($B51,'BG Justif'!$A$5:$M$897,2,0)) -> 0 | D51: =IF(ISNA(VLOOKUP($B51,'BG Justif'!$A$5:$M$897,12,0)),0,VLOOKUP(B51,'BG Justif'!$A$5:$M$897,12,0)) -> 0 | H51: =+D51+E51-F51+G51 -> 0 | I51: =IF(ISNA(VLOOKUP($B51,'BG Justif'!$A$5:$M$897,13,0)),0,VLOOKUP($B51,'BG Justif'!$A$5:$M$897,13,0)) -> 0 | J51: =+H51-I51 -> 0
A52: =IF(OR(D52<>0,H52<>0,I52<>0,C52<>0,B52=""),"VRAI","FAUX") -> VRAI | B52: {=IF(ROWS(B$4:B52)<=COUNTIF('BG Justif'!$Q$5:$Q$995,$B$1),INDEX('BG Justif'!$A$5:$A$995,SMALL(IF('BG Justif'!$Q$5:$Q$995=$B$1,ROW('BG Justif'!$Q$5:$Q$995)-ROW('BG Justif'!$Q$5)+1),ROWS(B$4:B52))),"")} | C52: =IF(ISNA(VLOOKUP($B52,'BG Justif'!$A$5:$M$897,2,0)),0,VLOOKUP($B52,'BG Justif'!$A$5:$M$897,2,0)) -> 0 | D52: =IF(ISNA(VLOOKUP($B52,'BG Justif'!$A$5:$M$897,12,0)),0,VLOOKUP(B52,'BG Justif'!$A$5:$M$897,12,0)) -> 0 | H52: =+D52+E52-F52+G52 -> 0 | I52: =IF(ISNA(VLOOKUP($B52,'BG Justif'!$A$5:$M$897,13,0)),0,VLOOKUP($B52,'BG Justif'!$A$5:$M$897,13,0)) -> 0 | J52: =+H52-I52 -> 0
... A72: =IF(OR(D72<>0,H72<>0,I72<>0,C72<>0,B72=""),"VRAI","FAUX") -> VRAI | B72: {=IF(ROWS(B$4:B72)<=COUNTIF('BG Justif'!$Q$5:$Q$995,$B$1),INDEX('BG Justif'!$A$5:$A$995,SMALL(IF('BG Justif'!$Q$5:$Q$995=$B$1,ROW('BG Justif'!$Q$5:$Q$995)-ROW('BG Justif'!$Q$5)+1),ROWS(B$4:B72))),"")} | C72: =IF(ISNA(VLOOKUP($B72,'BG Justif'!$A$5:$M$897,2,0)),0,VLOOKUP($B72,'BG Justif'!$A$5:$M$897,2,0)) -> 0 | D72: =IF(ISNA(VLOOKUP($B72,'BG Justif'!$A$5:$M$897,12,0)),0,VLOOKUP(B72,'BG Justif'!$A$5:$M$897,12,0)) -> 0 | H72: =+D72+E72-F72+G72 -> 0 | I72: =IF(ISNA(VLOOKUP($B72,'BG Justif'!$A$5:$M$897,13,0)),0,VLOOKUP($B72,'BG Justif'!$A$5:$M$897,13,0)) -> 0 | J72: =+H72-I72 -> 0
A73: =IF(OR(D73<>0,H73<>0,I73<>0,C73<>0,B73=""),"VRAI","FAUX") -> FAUX | B73: 21541909 | C73: =IF(ISNA(VLOOKUP($B73,'BG Justif'!$A$5:$M$897,2,0)),0,VLOOKUP($B73,'BG Justif'!$A$5:$M$897,2,0)) -> 0 | D73: =IF(ISNA(VLOOKUP($B73,'BG Justif'!$A$5:$M$897,12,0)),0,VLOOKUP(B73,'BG Justif'!$A$5:$M$897,12,0)) -> 0 | H73: =+D73+E73-F73+G73 -> 0 | I73: =IF(ISNA(VLOOKUP($B73,'BG Justif'!$A$5:$M$897,13,0)),0,VLOOKUP($B73,'BG Justif'!$A$5:$M$897,13,0)) -> 0 | J73: =+H73-I73 -> 0
A74: =IF(OR(D74<>0,H74<>0,I74<>0,C74<>0,B74=""),"VRAI","FAUX") -> VRAI | B74: {=IF(ROWS(B$4:B74)<=COUNTIF('BG Justif'!$Q$5:$Q$995,$B$1),INDEX('BG Justif'!$A$5:$A$995,SMALL(IF('BG Justif'!$Q$5:$Q$995=$B$1,ROW('BG Justif'!$Q$5:$Q$995)-ROW('BG Justif'!$Q$5)+1),ROWS(B$4:B74))),"")} | C74: =IF(ISNA(VLOOKUP($B74,'BG Justif'!$A$5:$M$897,2,0)),0,VLOOKUP($B74,'BG Justif'!$A$5:$M$897,2,0)) -> 0 | D74: =IF(ISNA(VLOOKUP($B74,'BG Justif'!$A$5:$M$897,12,0)),0,VLOOKUP(B74,'BG Justif'!$A$5:$M$897,12,0)) -> 0 | H74: =+D74+E74-F74+G74 -> 0 | I74: =IF(ISNA(VLOOKUP($B74,'BG Justif'!$A$5:$M$897,13,0)),0,VLOOKUP($B74,'BG Justif'!$A$5:$M$897,13,0)) -> 0 | J74: =+H74-I74 -> 0
A75: =IF(OR(D75<>0,H75<>0,I75<>0,C75<>0,B75=""),"VRAI","FAUX") -> VRAI | B75: {=IF(ROWS(B$4:B75)<=COUNTIF('BG Justif'!$Q$5:$Q$995,$B$1),INDEX('BG Justif'!$A$5:$A$995,SMALL(IF('BG Justif'!$Q$5:$Q$995=$B$1,ROW('BG Justif'!$Q$5:$Q$995)-ROW('BG Justif'!$Q$5)+1),ROWS(B$4:B75))),"")} | C75: =IF(ISNA(VLOOKUP($B75,'BG Justif'!$A$5:$M$897,2,0)),0,VLOOKUP($B75,'BG Justif'!$A$5:$M$897,2,0)) -> 0 | D75: =IF(ISNA(VLOOKUP($B75,'BG Justif'!$A$5:$M$897,12,0)),0,VLOOKUP(B75,'BG Justif'!$A$5:$M$897,12,0)) -> 0 | H75: =+D75+E75-F75+G75 -> 0 | I75: =IF(ISNA(VLOOKUP($B75,'BG Justif'!$A$5:$M$897,13,0)),0,VLOOKUP($B75,'BG Justif'!$A$5:$M$897,13,0)) -> 0 | J75: =+H75-I75 -> 0
A76: =IF(OR(D76<>0,H76<>0,I76<>0,C76<>0,B76=""),"VRAI","FAUX") -> VRAI | B76: {=IF(ROWS(B$4:B76)<=COUNTIF('BG Justif'!$Q$5:$Q$995,$B$1),INDEX('BG Justif'!$A$5:$A$995,SMALL(IF('BG Justif'!$Q$5:$Q$995=$B$1,ROW('BG Justif'!$Q$5:$Q$995)-ROW('BG Justif'!$Q$5)+1),ROWS(B$4:B76))),"")} | C76: =IF(ISNA(VLOOKUP($B76,'BG Justif'!$A$5:$M$897,2,0)),0,VLOOKUP($B76,'BG Justif'!$A$5:$M$897,2,0)) -> 0 | D76: =IF(ISNA(VLOOKUP($B76,'BG Justif'!$A$5:$M$897,12,0)),0,VLOOKUP(B76,'BG Justif'!$A$5:$M$897,12,0)) -> 0 | H76: =+D76+E76-F76+G76 -> 0 | I76: =IF(ISNA(VLOOKUP($B76,'BG Justif'!$A$5:$M$897,13,0)),0,VLOOKUP($B76,'BG Justif'!$A$5:$M$897,13,0)) -> 0 | J76: =+H76-I76 -> 0
A77: =IF(OR(D77<>0,H77<>0,I77<>0,C77<>0,B77=""),"VRAI","FAUX") -> VRAI | B77: {=IF(ROWS(B$4:B77)<=COUNTIF('BG Justif'!$Q$5:$Q$995,$B$1),INDEX('BG Justif'!$A$5:$A$995,SMALL(IF('BG Justif'!$Q$5:$Q$995=$B$1,ROW('BG Justif'!$Q$5:$Q$995)-ROW('BG Justif'!$Q$5)+1),ROWS(B$4:B77))),"")} | C77: =IF(ISNA(VLOOKUP($B77,'BG Justif'!$A$5:$M$897,2,0)),0,VLOOKUP($B77,'BG Justif'!$A$5:$M$897,2,0)) -> 0 | D77: =IF(ISNA(VLOOKUP($B77,'BG Justif'!$A$5:$M$897,12,0)),0,VLOOKUP(B77,'BG Justif'!$A$5:$M$897,12,0)) -> 0 | H77: =+D77+E77-F77+G77 -> 0 | I77: =IF(ISNA(VLOOKUP($B77,'BG Justif'!$A$5:$M$897,13,0)),0,VLOOKUP($B77,'BG Justif'!$A$5:$M$897,13,0)) -> 0 | J77: =+H77-I77 -> 0
A78: =IF(OR(D78<>0,H78<>0,I78<>0,C78<>0,B78=""),"VRAI","FAUX") -> VRAI | B78: {=IF(ROWS(B$4:B78)<=COUNTIF('BG Justif'!$Q$5:$Q$995,$B$1),INDEX('BG Justif'!$A$5:$A$995,SMALL(IF('BG Justif'!$Q$5:$Q$995=$B$1,ROW('BG Justif'!$Q$5:$Q$995)-ROW('BG Justif'!$Q$5)+1),ROWS(B$4:B78))),"")} | C78: =IF(ISNA(VLOOKUP($B78,'BG Justif'!$A$5:$M$897,2,0)),0,VLOOKUP($B78,'BG Justif'!$A$5:$M$897,2,0)) -> 0 | D78: =IF(ISNA(VLOOKUP($B78,'BG Justif'!$A$5:$M$897,12,0)),0,VLOOKUP(B78,'BG Justif'!$A$5:$M$897,12,0)) -> 0 | H78: =+D78+E78-F78+G78 -> 0 | I78: =IF(ISNA(VLOOKUP($B78,'BG Justif'!$A$5:$M$897,13,0)),0,VLOOKUP($B78,'BG Justif'!$A$5:$M$897,13,0)) -> 0 | J78: =+H78-I78 -> 0
A79: =IF(OR(D79<>0,H79<>0,I79<>0,C79<>0,B79=""),"VRAI","FAUX") -> VRAI | B79: {=IF(ROWS(B$4:B79)<=COUNTIF('BG Justif'!$Q$5:$Q$995,$B$1),INDEX('BG Justif'!$A$5:$A$995,SMALL(IF('BG Justif'!$Q$5:$Q$995=$B$1,ROW('BG Justif'!$Q$5:$Q$995)-ROW('BG Justif'!$Q$5)+1),ROWS(B$4:B79))),"")} | C79: =IF(ISNA(VLOOKUP($B79,'BG Justif'!$A$5:$M$897,2,0)),0,VLOOKUP($B79,'BG Justif'!$A$5:$M$897,2,0)) -> 0 | D79: =IF(ISNA(VLOOKUP($B79,'BG Justif'!$A$5:$M$897,12,0)),0,VLOOKUP(B79,'BG Justif'!$A$5:$M$897,12,0)) -> 0 | H79: =+D79+E79-F79+G79 -> 0 | I79: =IF(ISNA(VLOOKUP($B79,'BG Justif'!$A$5:$M$897,13,0)),0,VLOOKUP($B79,'BG Justif'!$A$5:$M$897,13,0)) -> 0 | J79: =+H79-I79 -> 0
A80: =IF(OR(D80<>0,H80<>0,I80<>0,C80<>0,B80=""),"VRAI","FAUX") -> VRAI | B80: {=IF(ROWS(B$4:B80)<=COUNTIF('BG Justif'!$Q$5:$Q$995,$B$1),INDEX('BG Justif'!$A$5:$A$995,SMALL(IF('BG Justif'!$Q$5:$Q$995=$B$1,ROW('BG Justif'!$Q$5:$Q$995)-ROW('BG Justif'!$Q$5)+1),ROWS(B$4:B80))),"")} | C80: =IF(ISNA(VLOOKUP($B80,'BG Justif'!$A$5:$M$897,2,0)),0,VLOOKUP($B80,'BG Justif'!$A$5:$M$897,2,0)) -> 0 | D80: =IF(ISNA(VLOOKUP($B80,'BG Justif'!$A$5:$M$897,12,0)),0,VLOOKUP(B80,'BG Justif'!$A$5:$M$897,12,0)) -> 0 | H80: =+D80+E80-F80+G80 -> 0 | I80: =IF(ISNA(VLOOKUP($B80,'BG Justif'!$A$5:$M$897,13,0)),0,VLOOKUP($B80,'BG Justif'!$A$5:$M$897,13,0)) -> 0 | J80: =+H80-I80 -> 0
A81: =IF(OR(D81<>0,H81<>0,I81<>0,C81<>0,B81=""),"VRAI","FAUX") -> VRAI | B81: {=IF(ROWS(B$4:B81)<=COUNTIF('BG Justif'!$Q$5:$Q$995,$B$1),INDEX('BG Justif'!$A$5:$A$995,SMALL(IF('BG Justif'!$Q$5:$Q$995=$B$1,ROW('BG Justif'!$Q$5:$Q$995)-ROW('BG Justif'!$Q$5)+1),ROWS(B$4:B81))),"")} | C81: =IF(ISNA(VLOOKUP($B81,'BG Justif'!$A$5:$M$897,2,0)),0,VLOOKUP($B81,'BG Justif'!$A$5:$M$897,2,0)) -> 0 | D81: =IF(ISNA(VLOOKUP($B81,'BG Justif'!$A$5:$M$897,12,0)),0,VLOOKUP(B81,'BG Justif'!$A$5:$M$897,12,0)) -> 0 | H81: =+D81+E81-F81+G81 -> 0 | I81: =IF(ISNA(VLOOKUP($B81,'BG Justif'!$A$5:$M$897,13,0)),0,VLOOKUP($B81,'BG Justif'!$A$5:$M$897,13,0)) -> 0 | J81: =+H81-I81 -> 0
A82: =IF(OR(D82<>0,H82<>0,I82<>0,C82<>0,B82=""),"VRAI","FAUX") -> VRAI | B82: {=IF(ROWS(B$4:B82)<=COUNTIF('BG Justif'!$Q$5:$Q$995,$B$1),INDEX('BG Justif'!$A$5:$A$995,SMALL(IF('BG Justif'!$Q$5:$Q$995=$B$1,ROW('BG Justif'!$Q$5:$Q$995)-ROW('BG Justif'!$Q$5)+1),ROWS(B$4:B82))),"")} | C82: =IF(ISNA(VLOOKUP($B82,'BG Justif'!$A$5:$M$897,2,0)),0,VLOOKUP($B82,'BG Justif'!$A$5:$M$897,2,0)) -> 0 | D82: =IF(ISNA(VLOOKUP($B82,'BG Justif'!$A$5:$M$897,12,0)),0,VLOOKUP(B82,'BG Justif'!$A$5:$M$897,12,0)) -> 0 | H82: =+D82+E82-F82+G82 -> 0 | I82: =IF(ISNA(VLOOKUP($B82,'BG Justif'!$A$5:$M$897,13,0)),0,VLOOKUP($B82,'BG Justif'!$A$5:$M$897,13,0)) -> 0 | J82: =+H82-I82 -> 0
A83: =IF(OR(D83<>0,H83<>0,I83<>0,C83<>0,B83=""),"VRAI","FAUX") -> VRAI | B83: {=IF(ROWS(B$4:B83)<=COUNTIF('BG Justif'!$Q$5:$Q$995,$B$1),INDEX('BG Justif'!$A$5:$A$995,SMALL(IF('BG Justif'!$Q$5:$Q$995=$B$1,ROW('BG Justif'!$Q$5:$Q$995)-ROW('BG Justif'!$Q$5)+1),ROWS(B$4:B83))),"")} | C83: =IF(ISNA(VLOOKUP($B83,'BG Justif'!$A$5:$M$897,2,0)),0,VLOOKUP($B83,'BG Justif'!$A$5:$M$897,2,0)) -> 0 | D83: =IF(ISNA(VLOOKUP($B83,'BG Justif'!$A$5:$M$897,12,0)),0,VLOOKUP(B83,'BG Justif'!$A$5:$M$897,12,0)) -> 0 | H83: =+D83+E83-F83+G83 -> 0 | I83: =IF(ISNA(VLOOKUP($B83,'BG Justif'!$A$5:$M$897,13,0)),0,VLOOKUP($B83,'BG Justif'!$A$5:$M$897,13,0)) -> 0 | J83: =+H83-I83 -> 0
A84: =IF(OR(D84<>0,H84<>0,I84<>0,C84<>0,B84=""),"VRAI","FAUX") -> VRAI | B84: {=IF(ROWS(B$4:B84)<=COUNTIF('BG Justif'!$Q$5:$Q$995,$B$1),INDEX('BG Justif'!$A$5:$A$995,SMALL(IF('BG Justif'!$Q$5:$Q$995=$B$1,ROW('BG Justif'!$Q$5:$Q$995)-ROW('BG Justif'!$Q$5)+1),ROWS(B$4:B84))),"")} | C84: =IF(ISNA(VLOOKUP($B84,'BG Justif'!$A$5:$M$897,2,0)),0,VLOOKUP($B84,'BG Justif'!$A$5:$M$897,2,0)) -> 0 | D84: =IF(ISNA(VLOOKUP($B84,'BG Justif'!$A$5:$M$897,12,0)),0,VLOOKUP(B84,'BG Justif'!$A$5:$M$897,12,0)) -> 0 | H84: =+D84+E84-F84+G84 -> 0 | I84: =IF(ISNA(VLOOKUP($B84,'BG Justif'!$A$5:$M$897,13,0)),0,VLOOKUP($B84,'BG Justif'!$A$5:$M$897,13,0)) -> 0 | J84: =+H84-I84 -> 0
A85: =IF(OR(D85<>0,H85<>0,I85<>0,C85<>0,B85=""),"VRAI","FAUX") -> VRAI | B85: {=IF(ROWS(B$4:B85)<=COUNTIF('BG Justif'!$Q$5:$Q$995,$B$1),INDEX('BG Justif'!$A$5:$A$995,SMALL(IF('BG Justif'!$Q$5:$Q$995=$B$1,ROW('BG Justif'!$Q$5:$Q$995)-ROW('BG Justif'!$Q$5)+1),ROWS(B$4:B85))),"")} | C85: =IF(ISNA(VLOOKUP($B85,'BG Justif'!$A$5:$M$897,2,0)),0,VLOOKUP($B85,'BG Justif'!$A$5:$M$897,2,0)) -> 0 | D85: =IF(ISNA(VLOOKUP($B85,'BG Justif'!$A$5:$M$897,12,0)),0,VLOOKUP(B85,'BG Justif'!$A$5:$M$897,12,0)) -> 0 | H85: =+D85+E85-F85+G85 -> 0 | I85: =IF(ISNA(VLOOKUP($B85,'BG Justif'!$A$5:$M$897,13,0)),0,VLOOKUP($B85,'BG Justif'!$A$5:$M$897,13,0)) -> 0 | J85: =+H85-I85 -> 0
... A104: =IF(OR(D104<>0,H104<>0,I104<>0,C104<>0,B104=""),"VRAI","FAUX") -> VRAI | B104: {=IF(ROWS(B$4:B104)<=COUNTIF('BG Justif'!$Q$5:$Q$995,$B$1),INDEX('BG Justif'!$A$5:$A$995,SMALL(IF('BG Justif'!$Q$5:$Q$995=$B$1,ROW('BG Justif'!$Q$5:$Q$995)-ROW('BG Justif'!$Q$5)+1),ROWS(B$4:B104))),"")} | C104: =IF(ISNA(VLOOKUP($B104,'BG Justif'!$A$5:$M$897,2,0)),0,VLOOKUP($B104,'BG Justif'!$A$5:$M$897,2,0)) -> 0 | D104: =IF(ISNA(VLOOKUP($B104,'BG Justif'!$A$5:$M$897,12,0)),0,VLOOKUP(B104,'BG Justif'!$A$5:$M$897,12,0)) -> 0 | H104: =+D104+E104-F104+G104 -> 0 | I104: =IF(ISNA(VLOOKUP($B104,'BG Justif'!$A$5:$M$897,13,0)),0,VLOOKUP($B104,'BG Justif'!$A$5:$M$897,13,0)) -> 0 | J104: =+H104-I104 -> 0
A105: =IF(OR(D105<>0,H105<>0,I105<>0,C105<>0,B105=""),"VRAI","FAUX") -> FAUX | B105: 21820003 | C105: =IF(ISNA(VLOOKUP($B105,'BG Justif'!$A$5:$M$897,2,0)),0,VLOOKUP($B105,'BG Justif'!$A$5:$M$897,2,0)) -> 0 | D105: =IF(ISNA(VLOOKUP($B105,'BG Justif'!$A$5:$M$897,12,0)),0,VLOOKUP(B105,'BG Justif'!$A$5:$M$897,12,0)) -> 0 | H105: =+D105+E105-F105+G105 -> 0 | I105: =IF(ISNA(VLOOKUP($B105,'BG Justif'!$A$5:$M$897,13,0)),0,VLOOKUP($B105,'BG Justif'!$A$5:$M$897,13,0)) -> 0 | J105: =+H105-I105 -> 0
A106: =IF(OR(D106<>0,H106<>0,I106<>0,C106<>0,B106=""),"VRAI","FAUX") -> VRAI | B106: {=IF(ROWS(B$4:B106)<=COUNTIF('BG Justif'!$Q$5:$Q$995,$B$1),INDEX('BG Justif'!$A$5:$A$995,SMALL(IF('BG Justif'!$Q$5:$Q$995=$B$1,ROW('BG Justif'!$Q$5:$Q$995)-ROW('BG Justif'!$Q$5)+1),ROWS(B$4:B106))),"")} | C106: =IF(ISNA(VLOOKUP($B106,'BG Justif'!$A$5:$M$897,2,0)),0,VLOOKUP($B106,'BG Justif'!$A$5:$M$897,2,0)) -> 0 | D106: =IF(ISNA(VLOOKUP($B106,'BG Justif'!$A$5:$M$897,12,0)),0,VLOOKUP(B106,'BG Justif'!$A$5:$M$897,12,0)) -> 0 | H106: =+D106+E106-F106+G106 -> 0 | I106: =IF(ISNA(VLOOKUP($B106,'BG Justif'!$A$5:$M$897,13,0)),0,VLOOKUP($B106,'BG Justif'!$A$5:$M$897,13,0)) -> 0 | J106: =+H106-I106 -> 0
A107: =IF(OR(D107<>0,H107<>0,I107<>0,C107<>0,B107=""),"VRAI","FAUX") -> VRAI | B107: {=IF(ROWS(B$4:B107)<=COUNTIF('BG Justif'!$Q$5:$Q$995,$B$1),INDEX('BG Justif'!$A$5:$A$995,SMALL(IF('BG Justif'!$Q$5:$Q$995=$B$1,ROW('BG Justif'!$Q$5:$Q$995)-ROW('BG Justif'!$Q$5)+1),ROWS(B$4:B107))),"")} | C107: =IF(ISNA(VLOOKUP($B107,'BG Justif'!$A$5:$M$897,2,0)),0,VLOOKUP($B107,'BG Justif'!$A$5:$M$897,2,0)) -> 0 | D107: =IF(ISNA(VLOOKUP($B107,'BG Justif'!$A$5:$M$897,12,0)),0,VLOOKUP(B107,'BG Justif'!$A$5:$M$897,12,0)) -> 0 | H107: =+D107+E107-F107+G107 -> 0 | I107: =IF(ISNA(VLOOKUP($B107,'BG Justif'!$A$5:$M$897,13,0)),0,VLOOKUP($B107,'BG Justif'!$A$5:$M$897,13,0)) -> 0 | J107: =+H107-I107 -> 0
A108: =IF(OR(D108<>0,H108<>0,I108<>0,C108<>0,B108=""),"VRAI","FAUX") -> VRAI | B108: {=IF(ROWS(B$4:B108)<=COUNTIF('BG Justif'!$Q$5:$Q$995,$B$1),INDEX('BG Justif'!$A$5:$A$995,SMALL(IF('BG Justif'!$Q$5:$Q$995=$B$1,ROW('BG Justif'!$Q$5:$Q$995)-ROW('BG Justif'!$Q$5)+1),ROWS(B$4:B108))),"")} | C108: =IF(ISNA(VLOOKUP($B108,'BG Justif'!$A$5:$M$897,2,0)),0,VLOOKUP($B108,'BG Justif'!$A$5:$M$897,2,0)) -> 0 | D108: =IF(ISNA(VLOOKUP($B108,'BG Justif'!$A$5:$M$897,12,0)),0,VLOOKUP(B108,'BG Justif'!$A$5:$M$897,12,0)) -> 0 | H108: =+D108+E108-F108+G108 -> 0 | I108: =IF(ISNA(VLOOKUP($B108,'BG Justif'!$A$5:$M$897,13,0)),0,VLOOKUP($B108,'BG Justif'!$A$5:$M$897,13,0)) -> 0 | J108: =+H108-I108 -> 0
A109: =IF(OR(D109<>0,H109<>0,I109<>0,C109<>0,B109=""),"VRAI","FAUX") -> VRAI | B109: {=IF(ROWS(B$4:B109)<=COUNTIF('BG Justif'!$Q$5:$Q$995,$B$1),INDEX('BG Justif'!$A$5:$A$995,SMALL(IF('BG Justif'!$Q$5:$Q$995=$B$1,ROW('BG Justif'!$Q$5:$Q$995)-ROW('BG Justif'!$Q$5)+1),ROWS(B$4:B109))),"")} | C109: =IF(ISNA(VLOOKUP($B109,'BG Justif'!$A$5:$M$897,2,0)),0,VLOOKUP($B109,'BG Justif'!$A$5:$M$897,2,0)) -> 0 | D109: =IF(ISNA(VLOOKUP($B109,'BG Justif'!$A$5:$M$897,12,0)),0,VLOOKUP(B109,'BG Justif'!$A$5:$M$897,12,0)) -> 0 | H109: =+D109+E109-F109+G109 -> 0 | I109: =IF(ISNA(VLOOKUP($B109,'BG Justif'!$A$5:$M$897,13,0)),0,VLOOKUP($B109,'BG Justif'!$A$5:$M$897,13,0)) -> 0 | J109: =+H109-I109 -> 0
A110: =IF(OR(D110<>0,H110<>0,I110<>0,C110<>0,B110=""),"VRAI","FAUX") -> VRAI | B110: {=IF(ROWS(B$4:B110)<=COUNTIF('BG Justif'!$Q$5:$Q$995,$B$1),INDEX('BG Justif'!$A$5:$A$995,SMALL(IF('BG Justif'!$Q$5:$Q$995=$B$1,ROW('BG Justif'!$Q$5:$Q$995)-ROW('BG Justif'!$Q$5)+1),ROWS(B$4:B110))),"")} | C110: =IF(ISNA(VLOOKUP($B110,'BG Justif'!$A$5:$M$897,2,0)),0,VLOOKUP($B110,'BG Justif'!$A$5:$M$897,2,0)) -> 0 | D110: =IF(ISNA(VLOOKUP($B110,'BG Justif'!$A$5:$M$897,12,0)),0,VLOOKUP(B110,'BG Justif'!$A$5:$M$897,12,0)) -> 0 | H110: =+D110+E110-F110+G110 -> 0 | I110: =IF(ISNA(VLOOKUP($B110,'BG Justif'!$A$5:$M$897,13,0)),0,VLOOKUP($B110,'BG Justif'!$A$5:$M$897,13,0)) -> 0 | J110: =+H110-I110 -> 0
A111: =IF(OR(D111<>0,H111<>0,I111<>0,C111<>0,B111=""),"VRAI","FAUX") -> VRAI | B111: {=IF(ROWS(B$4:B111)<=COUNTIF('BG Justif'!$Q$5:$Q$995,$B$1),INDEX('BG Justif'!$A$5:$A$995,SMALL(IF('BG Justif'!$Q$5:$Q$995=$B$1,ROW('BG Justif'!$Q$5:$Q$995)-ROW('BG Justif'!$Q$5)+1),ROWS(B$4:B111))),"")} | C111: =IF(ISNA(VLOOKUP($B111,'BG Justif'!$A$5:$M$897,2,0)),0,VLOOKUP($B111,'BG Justif'!$A$5:$M$897,2,0)) -> 0 | D111: =IF(ISNA(VLOOKUP($B111,'BG Justif'!$A$5:$M$897,12,0)),0,VLOOKUP(B111,'BG Justif'!$A$5:$M$897,12,0)) -> 0 | H111: =+D111+E111-F111+G111 -> 0 | I111: =IF(ISNA(VLOOKUP($B111,'BG Justif'!$A$5:$M$897,13,0)),0,VLOOKUP($B111,'BG Justif'!$A$5:$M$897,13,0)) -> 0 | J111: =+H111-I111 -> 0
A112: =IF(OR(D112<>0,H112<>0,I112<>0,C112<>0,B112=""),"VRAI","FAUX") -> VRAI | B112: {=IF(ROWS(B$4:B112)<=COUNTIF('BG Justif'!$Q$5:$Q$995,$B$1),INDEX('BG Justif'!$A$5:$A$995,SMALL(IF('BG Justif'!$Q$5:$Q$995=$B$1,ROW('BG Justif'!$Q$5:$Q$995)-ROW('BG Justif'!$Q$5)+1),ROWS(B$4:B112))),"")} | C112: =IF(ISNA(VLOOKUP($B112,'BG Justif'!$A$5:$M$897,2,0)),0,VLOOKUP($B112,'BG Justif'!$A$5:$M$897,2,0)) -> 0 | D112: =IF(ISNA(VLOOKUP($B112,'BG Justif'!$A$5:$M$897,12,0)),0,VLOOKUP(B112,'BG Justif'!$A$5:$M$897,12,0)) -> 0 | H112: =+D112+E112-F112+G112 -> 0 | I112: =IF(ISNA(VLOOKUP($B112,'BG Justif'!$A$5:$M$897,13,0)),0,VLOOKUP($B112,'BG Justif'!$A$5:$M$897,13,0)) -> 0 | J112: =+H112-I112 -> 0
A113: =IF(OR(D113<>0,H113<>0,I113<>0,C113<>0,B113=""),"VRAI","FAUX") -> VRAI | B113: {=IF(ROWS(B$4:B113)<=COUNTIF('BG Justif'!$Q$5:$Q$995,$B$1),INDEX('BG Justif'!$A$5:$A$995,SMALL(IF('BG Justif'!$Q$5:$Q$995=$B$1,ROW('BG Justif'!$Q$5:$Q$995)-ROW('BG Justif'!$Q$5)+1),ROWS(B$4:B113))),"")} | C113: =IF(ISNA(VLOOKUP($B113,'BG Justif'!$A$5:$M$897,2,0)),0,VLOOKUP($B113,'BG Justif'!$A$5:$M$897,2,0)) -> 0 | D113: =IF(ISNA(VLOOKUP($B113,'BG Justif'!$A$5:$M$897,12,0)),0,VLOOKUP(B113,'BG Justif'!$A$5:$M$897,12,0)) -> 0 | H113: =+D113+E113-F113+G113 -> 0 | I113: =IF(ISNA(VLOOKUP($B113,'BG Justif'!$A$5:$M$897,13,0)),0,VLOOKUP($B113,'BG Justif'!$A$5:$M$897,13,0)) -> 0 | J113: =+H113-I113 -> 0
A114: =IF(OR(D114<>0,H114<>0,I114<>0,C114<>0,B114=""),"VRAI","FAUX") -> VRAI | B114: {=IF(ROWS(B$4:B114)<=COUNTIF('BG Justif'!$Q$5:$Q$995,$B$1),INDEX('BG Justif'!$A$5:$A$995,SMALL(IF('BG Justif'!$Q$5:$Q$995=$B$1,ROW('BG Justif'!$Q$5:$Q$995)-ROW('BG Justif'!$Q$5)+1),ROWS(B$4:B114))),"")} | C114: =IF(ISNA(VLOOKUP($B114,'BG Justif'!$A$5:$M$897,2,0)),0,VLOOKUP($B114,'BG Justif'!$A$5:$M$897,2,0)) -> 0 | D114: =IF(ISNA(VLOOKUP($B114,'BG Justif'!$A$5:$M$897,12,0)),0,VLOOKUP(B114,'BG Justif'!$A$5:$M$897,12,0)) -> 0 | H114: =+D114+E114-F114+G114 -> 0 | I114: =IF(ISNA(VLOOKUP($B114,'BG Justif'!$A$5:$M$897,13,0)),0,VLOOKUP($B114,'BG Justif'!$A$5:$M$897,13,0)) -> 0 | J114: =+H114-I114 -> 0
A115: =IF(OR(D115<>0,H115<>0,I115<>0,C115<>0,B115=""),"VRAI","FAUX") -> VRAI | B115: {=IF(ROWS(B$4:B115)<=COUNTIF('BG Justif'!$Q$5:$Q$995,$B$1),INDEX('BG Justif'!$A$5:$A$995,SMALL(IF('BG Justif'!$Q$5:$Q$995=$B$1,ROW('BG Justif'!$Q$5:$Q$995)-ROW('BG Justif'!$Q$5)+1),ROWS(B$4:B115))),"")} | C115: =IF(ISNA(VLOOKUP($B115,'BG Justif'!$A$5:$M$897,2,0)),0,VLOOKUP($B115,'BG Justif'!$A$5:$M$897,2,0)) -> 0 | D115: =IF(ISNA(VLOOKUP($B115,'BG Justif'!$A$5:$M$897,12,0)),0,VLOOKUP(B115,'BG Justif'!$A$5:$M$897,12,0)) -> 0 | H115: =+D115+E115-F115+G115 -> 0 | I115: =IF(ISNA(VLOOKUP($B115,'BG Justif'!$A$5:$M$897,13,0)),0,VLOOKUP($B115,'BG Justif'!$A$5:$M$897,13,0)) -> 0 | J115: =+H115-I115 -> 0
A116: =IF(OR(D116<>0,H116<>0,I116<>0,C116<>0,B116=""),"VRAI","FAUX") -> VRAI | B116: {=IF(ROWS(B$4:B116)<=COUNTIF('BG Justif'!$Q$5:$Q$995,$B$1),INDEX('BG Justif'!$A$5:$A$995,SMALL(IF('BG Justif'!$Q$5:$Q$995=$B$1,ROW('BG Justif'!$Q$5:$Q$995)-ROW('BG Justif'!$Q$5)+1),ROWS(B$4:B116))),"")} | C116: =IF(ISNA(VLOOKUP($B116,'BG Justif'!$A$5:$M$897,2,0)),0,VLOOKUP($B116,'BG Justif'!$A$5:$M$897,2,0)) -> 0 | D116: =IF(ISNA(VLOOKUP($B116,'BG Justif'!$A$5:$M$897,12,0)),0,VLOOKUP(B116,'BG Justif'!$A$5:$M$897,12,0)) -> 0 | H116: =+D116+E116-F116+G116 -> 0 | I116: =IF(ISNA(VLOOKUP($B116,'BG Justif'!$A$5:$M$897,13,0)),0,VLOOKUP($B116,'BG Justif'!$A$5:$M$897,13,0)) -> 0 | J116: =+H116-I116 -> 0
A117: =IF(OR(D117<>0,H117<>0,I117<>0,C117<>0,B117=""),"VRAI","FAUX") -> VRAI | B117: {=IF(ROWS(B$4:B117)<=COUNTIF('BG Justif'!$Q$5:$Q$995,$B$1),INDEX('BG Justif'!$A$5:$A$995,SMALL(IF('BG Justif'!$Q$5:$Q$995=$B$1,ROW('BG Justif'!$Q$5:$Q$995)-ROW('BG Justif'!$Q$5)+1),ROWS(B$4:B117))),"")} | C117: =IF(ISNA(VLOOKUP($B117,'BG Justif'!$A$5:$M$897,2,0)),0,VLOOKUP($B117,'BG Justif'!$A$5:$M$897,2,0)) -> 0 | D117: =IF(ISNA(VLOOKUP($B117,'BG Justif'!$A$5:$M$897,12,0)),0,VLOOKUP(B117,'BG Justif'!$A$5:$M$897,12,0)) -> 0 | H117: =+D117+E117-F117+G117 -> 0 | I117: =IF(ISNA(VLOOKUP($B117,'BG Justif'!$A$5:$M$897,13,0)),0,VLOOKUP($B117,'BG Justif'!$A$5:$M$897,13,0)) -> 0 | J117: =+H117-I117 -> 0
... A119: =IF(OR(D119<>0,H119<>0,I119<>0,C119<>0,B119=""),"VRAI","FAUX") -> VRAI | B119: {=IF(ROWS(B$4:B119)<=COUNTIF('BG Justif'!$Q$5:$Q$995,$B$1),INDEX('BG Justif'!$A$5:$A$995,SMALL(IF('BG Justif'!$Q$5:$Q$995=$B$1,ROW('BG Justif'!$Q$5:$Q$995)-ROW('BG Justif'!$Q$5)+1),ROWS(B$4:B119))),"")} | C119: =IF(ISNA(VLOOKUP($B119,'BG Justif'!$A$5:$M$897,2,0)),0,VLOOKUP($B119,'BG Justif'!$A$5:$M$897,2,0)) -> 0 | D119: =IF(ISNA(VLOOKUP($B119,'BG Justif'!$A$5:$M$897,12,0)),0,VLOOKUP(B119,'BG Justif'!$A$5:$M$897,12,0)) -> 0 | H119: =+D119+E119-F119+G119 -> 0 | I119: =IF(ISNA(VLOOKUP($B119,'BG Justif'!$A$5:$M$897,13,0)),0,VLOOKUP($B119,'BG Justif'!$A$5:$M$897,13,0)) -> 0 | J119: =+H119-I119 -> 0
A120: =IF(OR(D120<>0,H120<>0,I120<>0,C120<>0,B120=""),"VRAI","FAUX") -> FAUX | B120: 21840007 | C120: =IF(ISNA(VLOOKUP($B120,'BG Justif'!$A$5:$M$897,2,0)),0,VLOOKUP($B120,'BG Justif'!$A$5:$M$897,2,0)) -> 0 | D120: =IF(ISNA(VLOOKUP($B120,'BG Justif'!$A$5:$M$897,12,0)),0,VLOOKUP(B120,'BG Justif'!$A$5:$M$897,12,0)) -> 0 | H120: =+D120+E120-F120+G120 -> 0 | I120: =IF(ISNA(VLOOKUP($B120,'BG Justif'!$A$5:$M$897,13,0)),0,VLOOKUP($B120,'BG Justif'!$A$5:$M$897,13,0)) -> 0 | J120: =+H120-I120 -> 0
A121: =IF(OR(D121<>0,H121<>0,I121<>0,C121<>0,B121=""),"VRAI","FAUX") -> VRAI | B121: {=IF(ROWS(B$4:B121)<=COUNTIF('BG Justif'!$Q$5:$Q$995,$B$1),INDEX('BG Justif'!$A$5:$A$995,SMALL(IF('BG Justif'!$Q$5:$Q$995=$B$1,ROW('BG Justif'!$Q$5:$Q$995)-ROW('BG Justif'!$Q$5)+1),ROWS(B$4:B121))),"")} | C121: =IF(ISNA(VLOOKUP($B121,'BG Justif'!$A$5:$M$897,2,0)),0,VLOOKUP($B121,'BG Justif'!$A$5:$M$897,2,0)) -> 0 | D121: =IF(ISNA(VLOOKUP($B121,'BG Justif'!$A$5:$M$897,12,0)),0,VLOOKUP(B121,'BG Justif'!$A$5:$M$897,12,0)) -> 0 | H121: =+D121+E121-F121+G121 -> 0 | I121: =IF(ISNA(VLOOKUP($B121,'BG Justif'!$A$5:$M$897,13,0)),0,VLOOKUP($B121,'BG Justif'!$A$5:$M$897,13,0)) -> 0 | J121: =+H121-I121 -> 0
A122: =IF(OR(D122<>0,H122<>0,I122<>0,C122<>0,B122=""),"VRAI","FAUX") -> VRAI | B122: {=IF(ROWS(B$4:B122)<=COUNTIF('BG Justif'!$Q$5:$Q$995,$B$1),INDEX('BG Justif'!$A$5:$A$995,SMALL(IF('BG Justif'!$Q$5:$Q$995=$B$1,ROW('BG Justif'!$Q$5:$Q$995)-ROW('BG Justif'!$Q$5)+1),ROWS(B$4:B122))),"")} | C122: =IF(ISNA(VLOOKUP($B122,'BG Justif'!$A$5:$M$897,2,0)),0,VLOOKUP($B122,'BG Justif'!$A$5:$M$897,2,0)) -> 0 | D122: =IF(ISNA(VLOOKUP($B122,'BG Justif'!$A$5:$M$897,12,0)),0,VLOOKUP(B122,'BG Justif'!$A$5:$M$897,12,0)) -> 0 | H122: =+D122+E122-F122+G122 -> 0 | I122: =IF(ISNA(VLOOKUP($B122,'BG Justif'!$A$5:$M$897,13,0)),0,VLOOKUP($B122,'BG Justif'!$A$5:$M$897,13,0)) -> 0 | J122: =+H122-I122 -> 0
A123: =IF(OR(D123<>0,H123<>0,I123<>0,C123<>0,B123=""),"VRAI","FAUX") -> VRAI | B123: {=IF(ROWS(B$4:B123)<=COUNTIF('BG Justif'!$Q$5:$Q$995,$B$1),INDEX('BG Justif'!$A$5:$A$995,SMALL(IF('BG Justif'!$Q$5:$Q$995=$B$1,ROW('BG Justif'!$Q$5:$Q$995)-ROW('BG Justif'!$Q$5)+1),ROWS(B$4:B123))),"")} | C123: =IF(ISNA(VLOOKUP($B123,'BG Justif'!$A$5:$M$897,2,0)),0,VLOOKUP($B123,'BG Justif'!$A$5:$M$897,2,0)) -> 0 | D123: =IF(ISNA(VLOOKUP($B123,'BG Justif'!$A$5:$M$897,12,0)),0,VLOOKUP(B123,'BG Justif'!$A$5:$M$897,12,0)) -> 0 | H123: =+D123+E123-F123+G123 -> 0 | I123: =IF(ISNA(VLOOKUP($B123,'BG Justif'!$A$5:$M$897,13,0)),0,VLOOKUP($B123,'BG Justif'!$A$5:$M$897,13,0)) -> 0 | J123: =+H123-I123 -> 0
A124: =IF(OR(D124<>0,H124<>0,I124<>0,C124<>0,B124=""),"VRAI","FAUX") -> VRAI | B124: {=IF(ROWS(B$4:B124)<=COUNTIF('BG Justif'!$Q$5:$Q$995,$B$1),INDEX('BG Justif'!$A$5:$A$995,SMALL(IF('BG Justif'!$Q$5:$Q$995=$B$1,ROW('BG Justif'!$Q$5:$Q$995)-ROW('BG Justif'!$Q$5)+1),ROWS(B$4:B124))),"")} | C124: =IF(ISNA(VLOOKUP($B124,'BG Justif'!$A$5:$M$897,2,0)),0,VLOOKUP($B124,'BG Justif'!$A$5:$M$897,2,0)) -> 0 | D124: =IF(ISNA(VLOOKUP($B124,'BG Justif'!$A$5:$M$897,12,0)),0,VLOOKUP(B124,'BG Justif'!$A$5:$M$897,12,0)) -> 0 | H124: =+D124+E124-F124+G124 -> 0 | I124: =IF(ISNA(VLOOKUP($B124,'BG Justif'!$A$5:$M$897,13,0)),0,VLOOKUP($B124,'BG Justif'!$A$5:$M$897,13,0)) -> 0 | J124: =+H124-I124 -> 0
A125: =IF(OR(D125<>0,H125<>0,I125<>0,C125<>0,B125=""),"VRAI","FAUX") -> VRAI | B125: {=IF(ROWS(B$4:B125)<=COUNTIF('BG Justif'!$Q$5:$Q$995,$B$1),INDEX('BG Justif'!$A$5:$A$995,SMALL(IF('BG Justif'!$Q$5:$Q$995=$B$1,ROW('BG Justif'!$Q$5:$Q$995)-ROW('BG Justif'!$Q$5)+1),ROWS(B$4:B125))),"")} | C125: =IF(ISNA(VLOOKUP($B125,'BG Justif'!$A$5:$M$897,2,0)),0,VLOOKUP($B125,'BG Justif'!$A$5:$M$897,2,0)) -> 0 | D125: =IF(ISNA(VLOOKUP($B125,'BG Justif'!$A$5:$M$897,12,0)),0,VLOOKUP(B125,'BG Justif'!$A$5:$M$897,12,0)) -> 0 | H125: =+D125+E125-F125+G125 -> 0 | I125: =IF(ISNA(VLOOKUP($B125,'BG Justif'!$A$5:$M$897,13,0)),0,VLOOKUP($B125,'BG Justif'!$A$5:$M$897,13,0)) -> 0 | J125: =+H125-I125 -> 0
A126: =IF(OR(D126<>0,H126<>0,I126<>0,C126<>0,B126=""),"VRAI","FAUX") -> VRAI | B126: {=IF(ROWS(B$4:B126)<=COUNTIF('BG Justif'!$Q$5:$Q$995,$B$1),INDEX('BG Justif'!$A$5:$A$995,SMALL(IF('BG Justif'!$Q$5:$Q$995=$B$1,ROW('BG Justif'!$Q$5:$Q$995)-ROW('BG Justif'!$Q$5)+1),ROWS(B$4:B126))),"")} | C126: =IF(ISNA(VLOOKUP($B126,'BG Justif'!$A$5:$M$897,2,0)),0,VLOOKUP($B126,'BG Justif'!$A$5:$M$897,2,0)) -> 0 | D126: =IF(ISNA(VLOOKUP($B126,'BG Justif'!$A$5:$M$897,12,0)),0,VLOOKUP(B126,'BG Justif'!$A$5:$M$897,12,0)) -> 0 | H126: =+D126+E126-F126+G126 -> 0 | I126: =IF(ISNA(VLOOKUP($B126,'BG Justif'!$A$5:$M$897,13,0)),0,VLOOKUP($B126,'BG Justif'!$A$5:$M$897,13,0)) -> 0 | J126: =+H126-I126 -> 0
A127: =IF(OR(D127<>0,H127<>0,I127<>0,C127<>0,B127=""),"VRAI","FAUX") -> VRAI | B127: {=IF(ROWS(B$4:B127)<=COUNTIF('BG Justif'!$Q$5:$Q$995,$B$1),INDEX('BG Justif'!$A$5:$A$995,SMALL(IF('BG Justif'!$Q$5:$Q$995=$B$1,ROW('BG Justif'!$Q$5:$Q$995)-ROW('BG Justif'!$Q$5)+1),ROWS(B$4:B127))),"")} | C127: =IF(ISNA(VLOOKUP($B127,'BG Justif'!$A$5:$M$897,2,0)),0,VLOOKUP($B127,'BG Justif'!$A$5:$M$897,2,0)) -> 0 | D127: =IF(ISNA(VLOOKUP($B127,'BG Justif'!$A$5:$M$897,12,0)),0,VLOOKUP(B127,'BG Justif'!$A$5:$M$897,12,0)) -> 0 | H127: =+D127+E127-F127+G127 -> 0 | I127: =IF(ISNA(VLOOKUP($B127,'BG Justif'!$A$5:$M$897,13,0)),0,VLOOKUP($B127,'BG Justif'!$A$5:$M$897,13,0)) -> 0 | J127: =+H127-I127 -> 0
A128: =IF(OR(D128<>0,H128<>0,I128<>0,C128<>0,B128=""),"VRAI","FAUX") -> VRAI | B128: {=IF(ROWS(B$4:B128)<=COUNTIF('BG Justif'!$Q$5:$Q$995,$B$1),INDEX('BG Justif'!$A$5:$A$995,SMALL(IF('BG Justif'!$Q$5:$Q$995=$B$1,ROW('BG Justif'!$Q$5:$Q$995)-ROW('BG Justif'!$Q$5)+1),ROWS(B$4:B128))),"")} | C128: =IF(ISNA(VLOOKUP($B128,'BG Justif'!$A$5:$M$897,2,0)),0,VLOOKUP($B128,'BG Justif'!$A$5:$M$897,2,0)) -> 0 | D128: =IF(ISNA(VLOOKUP($B128,'BG Justif'!$A$5:$M$897,12,0)),0,VLOOKUP(B128,'BG Justif'!$A$5:$M$897,12,0)) -> 0 | H128: =+D128+E128-F128+G128 -> 0 | I128: =IF(ISNA(VLOOKUP($B128,'BG Justif'!$A$5:$M$897,13,0)),0,VLOOKUP($B128,'BG Justif'!$A$5:$M$897,13,0)) -> 0 | J128: =+H128-I128 -> 0
A129: =IF(OR(D129<>0,H129<>0,I129<>0,C129<>0,B129=""),"VRAI","FAUX") -> VRAI | B129: {=IF(ROWS(B$4:B129)<=COUNTIF('BG Justif'!$Q$5:$Q$995,$B$1),INDEX('BG Justif'!$A$5:$A$995,SMALL(IF('BG Justif'!$Q$5:$Q$995=$B$1,ROW('BG Justif'!$Q$5:$Q$995)-ROW('BG Justif'!$Q$5)+1),ROWS(B$4:B129))),"")} | C129: =IF(ISNA(VLOOKUP($B129,'BG Justif'!$A$5:$M$897,2,0)),0,VLOOKUP($B129,'BG Justif'!$A$5:$M$897,2,0)) -> 0 | D129: =IF(ISNA(VLOOKUP($B129,'BG Justif'!$A$5:$M$897,12,0)),0,VLOOKUP(B129,'BG Justif'!$A$5:$M$897,12,0)) -> 0 | H129: =+D129+E129-F129+G129 -> 0 | I129: =IF(ISNA(VLOOKUP($B129,'BG Justif'!$A$5:$M$897,13,0)),0,VLOOKUP($B129,'BG Justif'!$A$5:$M$897,13,0)) -> 0 | J129: =+H129-I129 -> 0
A130: =IF(OR(D130<>0,H130<>0,I130<>0,C130<>0,B130=""),"VRAI","FAUX") -> VRAI | B130: {=IF(ROWS(B$4:B130)<=COUNTIF('BG Justif'!$Q$5:$Q$995,$B$1),INDEX('BG Justif'!$A$5:$A$995,SMALL(IF('BG Justif'!$Q$5:$Q$995=$B$1,ROW('BG Justif'!$Q$5:$Q$995)-ROW('BG Justif'!$Q$5)+1),ROWS(B$4:B130))),"")} | C130: =IF(ISNA(VLOOKUP($B130,'BG Justif'!$A$5:$M$897,2,0)),0,VLOOKUP($B130,'BG Justif'!$A$5:$M$897,2,0)) -> 0 | D130: =IF(ISNA(VLOOKUP($B130,'BG Justif'!$A$5:$M$897,12,0)),0,VLOOKUP(B130,'BG Justif'!$A$5:$M$897,12,0)) -> 0 | H130: =+D130+E130-F130+G130 -> 0 | I130: =IF(ISNA(VLOOKUP($B130,'BG Justif'!$A$5:$M$897,13,0)),0,VLOOKUP($B130,'BG Justif'!$A$5:$M$897,13,0)) -> 0 | J130: =+H130-I130 -> 0
A131: =IF(OR(D131<>0,H131<>0,I131<>0,C131<>0,B131=""),"VRAI","FAUX") -> VRAI | B131: {=IF(ROWS(B$4:B131)<=COUNTIF('BG Justif'!$Q$5:$Q$995,$B$1),INDEX('BG Justif'!$A$5:$A$995,SMALL(IF('BG Justif'!$Q$5:$Q$995=$B$1,ROW('BG Justif'!$Q$5:$Q$995)-ROW('BG Justif'!$Q$5)+1),ROWS(B$4:B131))),"")} | C131: =IF(ISNA(VLOOKUP($B131,'BG Justif'!$A$5:$M$897,2,0)),0,VLOOKUP($B131,'BG Justif'!$A$5:$M$897,2,0)) -> 0 | D131: =IF(ISNA(VLOOKUP($B131,'BG Justif'!$A$5:$M$897,12,0)),0,VLOOKUP(B131,'BG Justif'!$A$5:$M$897,12,0)) -> 0 | H131: =+D131+E131-F131+G131 -> 0 | I131: =IF(ISNA(VLOOKUP($B131,'BG Justif'!$A$5:$M$897,13,0)),0,VLOOKUP($B131,'BG Justif'!$A$5:$M$897,13,0)) -> 0 | J131: =+H131-I131 -> 0
A132: =IF(OR(D132<>0,H132<>0,I132<>0,C132<>0,B132=""),"VRAI","FAUX") -> VRAI | B132: {=IF(ROWS(B$4:B132)<=COUNTIF('BG Justif'!$Q$5:$Q$995,$B$1),INDEX('BG Justif'!$A$5:$A$995,SMALL(IF('BG Justif'!$Q$5:$Q$995=$B$1,ROW('BG Justif'!$Q$5:$Q$995)-ROW('BG Justif'!$Q$5)+1),ROWS(B$4:B132))),"")} | C132: =IF(ISNA(VLOOKUP($B132,'BG Justif'!$A$5:$M$897,2,0)),0,VLOOKUP($B132,'BG Justif'!$A$5:$M$897,2,0)) -> 0 | D132: =IF(ISNA(VLOOKUP($B132,'BG Justif'!$A$5:$M$897,12,0)),0,VLOOKUP(B132,'BG Justif'!$A$5:$M$897,12,0)) -> 0 | H132: =+D132+E132-F132+G132 -> 0 | I132: =IF(ISNA(VLOOKUP($B132,'BG Justif'!$A$5:$M$897,13,0)),0,VLOOKUP($B132,'BG Justif'!$A$5:$M$897,13,0)) -> 0 | J132: =+H132-I132 -> 0
... A141: =IF(OR(D141<>0,H141<>0,I141<>0,C141<>0,B141=""),"VRAI","FAUX") -> VRAI | B141: {=IF(ROWS(B$4:B141)<=COUNTIF('BG Justif'!$Q$5:$Q$995,$B$1),INDEX('BG Justif'!$A$5:$A$995,SMALL(IF('BG Justif'!$Q$5:$Q$995=$B$1,ROW('BG Justif'!$Q$5:$Q$995)-ROW('BG Justif'!$Q$5)+1),ROWS(B$4:B141))),"")} | C141: =IF(ISNA(VLOOKUP($B141,'BG Justif'!$A$5:$M$897,2,0)),0,VLOOKUP($B141,'BG Justif'!$A$5:$M$897,2,0)) -> 0 | D141: =IF(ISNA(VLOOKUP($B141,'BG Justif'!$A$5:$M$897,12,0)),0,VLOOKUP(B141,'BG Justif'!$A$5:$M$897,12,0)) -> 0 | H141: =+D141+E141-F141+G141 -> 0 | I141: =IF(ISNA(VLOOKUP($B141,'BG Justif'!$A$5:$M$897,13,0)),0,VLOOKUP($B141,'BG Justif'!$A$5:$M$897,13,0)) -> 0 | J141: =+H141-I141 -> 0
A142: =IF(OR(D142<>0,H142<>0,I142<>0,C142<>0,B142=""),"VRAI","FAUX") -> VRAI | C142: =IF(ISNA(VLOOKUP($B142,'BG Justif'!$A$5:$M$897,2,0)),0,VLOOKUP($B142,'BG Justif'!$A$5:$M$897,2,0)) -> 0 | D142: =IF(ISNA(VLOOKUP($B142,'BG Justif'!$A$5:$M$897,12,0)),0,VLOOKUP(B142,'BG Justif'!$A$5:$M$897,12,0)) -> 0 | H142: =+D142+E142-F142+G142 -> 0 | I142: =IF(ISNA(VLOOKUP($B142,'BG Justif'!$A$5:$M$897,13,0)),0,VLOOKUP($B142,'BG Justif'!$A$5:$M$897,13,0)) -> 0 | J142: =+H142-I142 -> 0
A143: =IF(OR(D143<>0,H143<>0,I143<>0,C143<>0,B143=""),"VRAI","FAUX") -> VRAI | C143: TOTAL | D143: =SUM(D4:D142) -> 948567.87 | E143: =SUM(E4:E142) -> 0 | F143: =SUM(F4:F142) -> 0 | G143: =SUM(G4:G142) -> 0 | H143: =SUM(H4:H142) -> 948567.87 | I143: =SUM(I4:I142) -> 959456.5 | J143: =SUM(J4:J142) -> -10888.63 | K143: 7.4 | L143: OK Liste des Entrées d'immos
A144: =IF(OR(D144<>0,H144<>0,I144<>0,C144<>0,B144=""),"VRAI","FAUX") -> VRAI
A145: =IF(OR(D145<>0,H145<>0,I145<>0,C145<>0,B145=""),"VRAI","FAUX") -> VRAI | C145: Immobilisations corporelles : variation des amortissements
A146: =IF(OR(D146<>0,H146<>0,I146<>0,C146<>0,B146=""),"VRAI","FAUX") -> VRAI
A147: =IF(OR(D147<>0,H147<>0,I147<>0,C147<>0,B147=""),"VRAI","FAUX") -> VRAI | C147: AMORTISSEMENTS et PROVISIONS IMMOBILISATIONS CORPORELLES | D147: Brut au début de l'exercice | E147: Augmentations de l'exercice | F147: Diminutions de l'exercice | G147: Reclassement | H147: Brut à la fin de l'exercice | I147: =+I3 -> Solde Compta 31/12/2017 | J147: Ctrl | K147: Ref | L147: Commentaire
A148: =IF(OR(D148<>0,H148<>0,I148<>0,C148<>0,B148=""),"VRAI","FAUX") -> FAUX | B148: 28121000 | C148: =IF(ISNA(VLOOKUP($B148,'BG Justif'!$A$5:$M$897,2,0)),0,VLOOKUP($B148,'BG Justif'!$A$5:$M$897,2,0)) -> 0 | D148: =IF(ISNA(VLOOKUP($B148,'BG Justif'!$A$5:$M$897,12,0)),0,VLOOKUP(B148,'BG Justif'!$A$5:$M$897,12,0)) -> 0 | H148: =+D148+E148-F148+G148 -> 0 | I148: =IF(ISNA(VLOOKUP($B148,'BG Justif'!$A$5:$M$897,13,0)),0,VLOOKUP($B148,'BG Justif'!$A$5:$M$897,13,0)) -> 0 | J148: =+H148-I148 -> 0
A149: =IF(OR(D149<>0,H149<>0,I149<>0,C149<>0,B149=""),"VRAI","FAUX") -> FAUX | B149: 28125000 | C149: =IF(ISNA(VLOOKUP($B149,'BG Justif'!$A$5:$M$897,2,0)),0,VLOOKUP($B149,'BG Justif'!$A$5:$M$897,2,0)) -> 0 | D149: =IF(ISNA(VLOOKUP($B149,'BG Justif'!$A$5:$M$897,12,0)),0,VLOOKUP(B149,'BG Justif'!$A$5:$M$897,12,0)) -> 0 | H149: =+D149+E149-F149+G149 -> 0 | I149: =IF(ISNA(VLOOKUP($B149,'BG Justif'!$A$5:$M$897,13,0)),0,VLOOKUP($B149,'BG Justif'!$A$5:$M$897,13,0)) -> 0 | J149: =+H149-I149 -> 0
A150: =IF(OR(D150<>0,H150<>0,I150<>0,C150<>0,B150=""),"VRAI","FAUX") -> FAUX | B150: 28131000 | C150: =IF(ISNA(VLOOKUP($B150,'BG Justif'!$A$5:$M$897,2,0)),0,VLOOKUP($B150,'BG Justif'!$A$5:$M$897,2,0)) -> 0 | D150: =IF(ISNA(VLOOKUP($B150,'BG Justif'!$A$5:$M$897,12,0)),0,VLOOKUP(B150,'BG Justif'!$A$5:$M$897,12,0)) -> 0 | H150: =+D150+E150-F150+G150 -> 0 | I150: =IF(ISNA(VLOOKUP($B150,'BG Justif'!$A$5:$M$897,13,0)),0,VLOOKUP($B150,'BG Justif'!$A$5:$M$897,13,0)) -> 0 | J150: =+H150-I150 -> 0
A151: =IF(OR(D151<>0,H151<>0,I151<>0,C151<>0,B151=""),"VRAI","FAUX") -> FAUX | B151: 28131001 | C151: =IF(ISNA(VLOOKUP($B151,'BG Justif'!$A$5:$M$897,2,0)),0,VLOOKUP($B151,'BG Justif'!$A$5:$M$897,2,0)) -> 0 | D151: =IF(ISNA(VLOOKUP($B151,'BG Justif'!$A$5:$M$897,12,0)),0,VLOOKUP(B151,'BG Justif'!$A$5:$M$897,12,0)) -> 0 | H151: =+D151+E151-F151+G151 -> 0 | I151: =IF(ISNA(VLOOKUP($B151,'BG Justif'!$A$5:$M$897,13,0)),0,VLOOKUP($B151,'BG Justif'!$A$5:$M$897,13,0)) -> 0 | J151: =+H151-I151 -> 0
A152: =IF(OR(D152<>0,H152<>0,I152<>0,C152<>0,B152=""),"VRAI","FAUX") -> FAUX | B152: 28131002 | C152: =IF(ISNA(VLOOKUP($B152,'BG Justif'!$A$5:$M$897,2,0)),0,VLOOKUP($B152,'BG Justif'!$A$5:$M$897,2,0)) -> 0 | D152: =IF(ISNA(VLOOKUP($B152,'BG Justif'!$A$5:$M$897,12,0)),0,VLOOKUP(B152,'BG Justif'!$A$5:$M$897,12,0)) -> 0 | H152: =+D152+E152-F152+G152 -> 0 | I152: =IF(ISNA(VLOOKUP($B152,'BG Justif'!$A$5:$M$897,13,0)),0,VLOOKUP($B152,'BG Justif'!$A$5:$M$897,13,0)) -> 0 | J152: =+H152-I152 -> 0
A153: =IF(OR(D153<>0,H153<>0,I153<>0,C153<>0,B153=""),"VRAI","FAUX") -> FAUX | B153: 28131010 | C153: =IF(ISNA(VLOOKUP($B153,'BG Justif'!$A$5:$M$897,2,0)),0,VLOOKUP($B153,'BG Justif'!$A$5:$M$897,2,0)) -> 0 | D153: =IF(ISNA(VLOOKUP($B153,'BG Justif'!$A$5:$M$897,12,0)),0,VLOOKUP(B153,'BG Justif'!$A$5:$M$897,12,0)) -> 0 | H153: =+D153+E153-F153+G153 -> 0 | I153: =IF(ISNA(VLOOKUP($B153,'BG Justif'!$A$5:$M$897,13,0)),0,VLOOKUP($B153,'BG Justif'!$A$5:$M$897,13,0)) -> 0 | J153: =+H153-I153 -> 0
A154: =IF(OR(D154<>0,H154<>0,I154<>0,C154<>0,B154=""),"VRAI","FAUX") -> FAUX | B154: 28131040 | C154: =IF(ISNA(VLOOKUP($B154,'BG Justif'!$A$5:$M$897,2,0)),0,VLOOKUP($B154,'BG Justif'!$A$5:$M$897,2,0)) -> 0 | D154: =IF(ISNA(VLOOKUP($B154,'BG Justif'!$A$5:$M$897,12,0)),0,VLOOKUP(B154,'BG Justif'!$A$5:$M$897,12,0)) -> 0 | H154: =+D154+E154-F154+G154 -> 0 | I154: =IF(ISNA(VLOOKUP($B154,'BG Justif'!$A$5:$M$897,13,0)),0,VLOOKUP($B154,'BG Justif'!$A$5:$M$897,13,0)) -> 0 | J154: =+H154-I154 -> 0
A155: =IF(OR(D155<>0,H155<>0,I155<>0,C155<>0,B155=""),"VRAI","FAUX") -> FAUX | B155: 28131100 | C155: =IF(ISNA(VLOOKUP($B155,'BG Justif'!$A$5:$M$897,2,0)),0,VLOOKUP($B155,'BG Justif'!$A$5:$M$897,2,0)) -> 0 | D155: =IF(ISNA(VLOOKUP($B155,'BG Justif'!$A$5:$M$897,12,0)),0,VLOOKUP(B155,'BG Justif'!$A$5:$M$897,12,0)) -> 0 | H155: =+D155+E155-F155+G155 -> 0 | I155: =IF(ISNA(VLOOKUP($B155,'BG Justif'!$A$5:$M$897,13,0)),0,VLOOKUP($B155,'BG Justif'!$A$5:$M$897,13,0)) -> 0 | J155: =+H155-I155 -> 0
A156: =IF(OR(D156<>0,H156<>0,I156<>0,C156<>0,B156=""),"VRAI","FAUX") -> FAUX | B156: 28131302 | C156: =IF(ISNA(VLOOKUP($B156,'BG Justif'!$A$5:$M$897,2,0)),0,VLOOKUP($B156,'BG Justif'!$A$5:$M$897,2,0)) -> 0 | D156: =IF(ISNA(VLOOKUP($B156,'BG Justif'!$A$5:$M$897,12,0)),0,VLOOKUP(B156,'BG Justif'!$A$5:$M$897,12,0)) -> 0 | H156: =+D156+E156-F156+G156 -> 0 | I156: =IF(ISNA(VLOOKUP($B156,'BG Justif'!$A$5:$M$897,13,0)),0,VLOOKUP($B156,'BG Justif'!$A$5:$M$897,13,0)) -> 0 | J156: =+H156-I156 -> 0
A157: =IF(OR(D157<>0,H157<>0,I157<>0,C157<>0,B157=""),"VRAI","FAUX") -> FAUX | B157: 28135000 | C157: =IF(ISNA(VLOOKUP($B157,'BG Justif'!$A$5:$M$897,2,0)),0,VLOOKUP($B157,'BG Justif'!$A$5:$M$897,2,0)) -> 0 | D157: =IF(ISNA(VLOOKUP($B157,'BG Justif'!$A$5:$M$897,12,0)),0,VLOOKUP(B157,'BG Justif'!$A$5:$M$897,12,0)) -> 0 | H157: =+D157+E157-F157+G157 -> 0 | I157: =IF(ISNA(VLOOKUP($B157,'BG Justif'!$A$5:$M$897,13,0)),0,VLOOKUP($B157,'BG Justif'!$A$5:$M$897,13,0)) -> 0 | J157: =+H157-I157 -> 0
...
