Workbook

Sheet Stock
A2: Index | B2: Date Achat | C2: References | D2: Quantites | E2: Stock Départ | F2: Désignation | G2: Fournisseur | H2: Alerte
A3: 1 | B3: 42005 | D3: =(E3-SUM(Feuil2!E2:E101)) -> 20 | E3: 20 | F3: Caveau Fond 50 | G3: Euro case | H3: =IF(D3<=7,"A commander","")
A4: 2 | B4: 42005 | D4: =(E4-SUM(Feuil2!F2:F101)) -> 20 | E4: 20 | F4: Caveau Couronne 50 | G4: Euro case | H4: =IF(D4<=7,"A commander","")
A5: 3 | B5: 42005 | D5: =(E5-SUM(Feuil2!G2:G101)) -> 20 | E5: 20 | F5: Caveau Sanitaire 27 | G5: Euro case | H5: =IF(D5<=7,"A commander","")
A6: 4 | B6: 42005 | D6: =(E6-SUM(Feuil2!H2:H101)) -> 20 | E6: 20 | F6: Caveau Sanitaire 15 | G6: Euro case | H6: =IF(D6<=7,"A commander","")
A7: 5 | B7: 42005 | D7: =(E7-SUM(Feuil2!J2:J105)) -> 20 | E7: 20 | F7: Caveau Couronne 196 | G7: Euro case | H7: =IF(D7<=3,"A commander","")
A8: 6 | B8: 42005 | D8: =(E8-SUM(Feuil2!K2:K101)) -> 20 | E8: 20 | F8: Caveau Sanitaire 196 | G8: Euro case | H8: =IF(D8<=3,"A commander","")
A9: 7 | B9: 42005 | D9: =(E9-SUM(Feuil2!L2:L101)) -> 20 | E9: 20 | F9: Caveau Fond 176 | G9: Euro case | H9: =IF(D9<=2,"A commander","")
A10: 8 | B10: 42005 | D10: =(E10-SUM(Feuil2!M2:M101)) -> 20 | E10: 20 | F10: Caveau Couronne 176 | G10: Euro case | H10: =IF(D10<=2,"A commander","")
A11: 9 | B11: 42005 | D11: =(E11-SUM(Feuil2!N2:N101)) -> 20 | E11: 20 | F11: Caveau Sanitaire 176 | G11: Euro case | H11: =IF(D11<=2,"A commander","")
A12: 10 | B12: 42005 | D12: =(E12-SUM(Feuil2!O2:O101)) -> 20 | E12: 20 | F12: Caveau Sanitaire 27 pente | G12: Euro case | H12: =IF(D12<=3,"A commander","")
A13: 11 | B13: 42005 | D13: =(E13-SUM(Feuil2!P2:P101)) -> 20 | E13: 20 | F13: Caveau Fond 156 | G13: Euro case | H13: =IF(D13<=2,"A commander","")
A14: 12 | B14: 42005 | D14: =E14-SUM(Feuil2!Q2:Q101) -> 20 | E14: 20 | F14: Caveau Couronne 156 | G14: Euro case | H14: =IF(D14<=2,"A commander","")
A15: 13 | B15: 42005 | D15: =(E15-SUM(Feuil2!R2:R101)) -> 20 | E15: 20 | F15: Caveau Sanitaire 156 | G15: Euro case | H15: =IF(D15<=2,"A commander","")
A16: 14 | B16: 42005 | D16: =(E16-SUM(Feuil2!S2:S101)) -> 20 | E16: 20 | F16: Couvercle 237 | G16: Euro case | H16: =IF(D16<=5,"A commander","")
A17: 15 | B17: 42005 | D17: =(E17-SUM(Feuil2!T2:T101)) -> 20 | E17: 20 | F17: Couvercle 200 | G17: Euro case | H17: =IF(D17<=5,"A commander","")
A18: 16 | B18: 42005 | D18: =(E18-SUM(Feuil2!I2:I101)) -> 20 | E18: 20 | F18: Caveau monobloc | G18: Euro case | H18: =IF(D18<=2,"A commander","")
A19: 17 | B19: 42005 | D19: =(E19-SUM(Feuil2!U2:U101)) -> 40 | E19: 40 | F19: Dalle 78 | G19: Euro case | H19: =IF(D19<=12,"A commander","")
A20: 18 | B20: 42005 | D20: =(E20-SUM(Feuil2!V2:V101)) -> 40 | E20: 40 | F20: Dalle 81 | G20: Euro case | H20: =IF(D20<=12,"A commander","")
A21: 19 | B21: 42005 | D21: =(E21-SUM(Feuil2!W2:W101)) -> 40 | E21: 40 | F21: Dalle 83 | G21: Euro case | H21: =IF(D21<=20,"A commander","")
A22: 20 | B22: 42005 | D22: =(E22-SUM(Feuil2!X2:X101)) -> 10 | E22: 10 | F22: Cavurne | G22: Euro case | H22: =IF(D22<=4,"A commander","")
A23: 21 | B23: 42005 | D23: =(E23-SUM(Feuil2!Y2:Y101)) -> 2 | E23: 2 | F23: Caveau enfant | G23: Euro case | H23: =IF(D23<=1,"A commander","")
A24: 22 | B24: 42005 | H24: =IF(D24<=2,"A commander","") -> A commander
A25: 23 | H25: =IF(D25<=2,"A commander","") -> A commander
A26: 24 | H26: =IF(D26<=2,"A commander","") -> A commander
A27: 25 | H27: =IF(D27<=2,"A commander","") -> A commander
A28: 26 | H28: =IF(D28<=2,"A commander","") -> A commander
A29: 27 | H29: =IF(D29<=2,"A commander","") -> A commander
A30: 28 | H30: =IF(D30<=2,"A commander","") -> A commander
A31: 29 | H31: =IF(D31<=2,"A commander","") -> A commander
A32: 30 | H32: =IF(D32<=2,"A commander","") -> A commander
A33: 31 | H33: =IF(D33<=2,"A commander","") -> A commander
A34: 32 | H34: =IF(D34<=2,"A commander","") -> A commander
A35: 33 | H35: =IF(D35<=2,"A commander","") -> A commander
A36: 34 | H36: =IF(D36<=2,"A commander","") -> A commander
... A52: 50 | H52: =IF(D52<=2,"A commander","") -> A commander

Sheet Feuil2
A1: Index | B1: Date | C1: Cimetière | D1: Nom | E1: Fond 50 | F1: Couronne 50 | G1: Sanitaire 27 | H1: Sanitaire 15 | I1: Monobloc | J1: Couronne 196 | K1: Sanitaire 196 | L1: Fond 176 | M1: Couronne 176 | N1: Sanitaire 176 | O1: Sanitaire 27 pente | P1: Fond 156 | Q1: Couronne 156 | R1: Sanitaire 156 | S1: Couvercle 237 | T1: Couvercle 200 | U1: Dalle 78 | V1: Dalle 81 | W1: Dalle 83 | X1: Cavurne | Y1: Caveau BB
A2: 1 | B2: 42005 | C2: rennes | D2: dupont
A3: 2
A4: 3
A5: 4
A6: 5
A7: 6
A8: 7
A9: 8
A10: 9
A11: 10
A12: 11
A13: 12
A14: 13
... A101: 100

Sheet Feuil3
A1: Date | B1: Cimetière | C1: Nom
A2: =IF(Feuil2!B2<>"",Feuil2!B2,"") -> 42005 | B2: =IF(Feuil2!C2<>"",Feuil2!C2,"") -> rennes | C2: =IF(Feuil2!D2<>"",Feuil2!D2,"") -> dupont
A3: =IF(Feuil2!B3<>"",Feuil2!B3,"") | B3: =IF(Feuil2!C3<>"",Feuil2!C3,"") | C3: =IF(Feuil2!D3<>"",Feuil2!D3,"")
A4: =IF(Feuil2!B4<>"",Feuil2!B4,"") | B4: =IF(Feuil2!C4<>"",Feuil2!C4,"") | C4: =IF(Feuil2!D4<>"",Feuil2!D4,"")
A5: =IF(Feuil2!B5<>"",Feuil2!B5,"") | B5: =IF(Feuil2!C5<>"",Feuil2!C5,"") | C5: =IF(Feuil2!D5<>"",Feuil2!D5,"")
A6: =IF(Feuil2!B6<>"",Feuil2!B6,"") | B6: =IF(Feuil2!C6<>"",Feuil2!C6,"") | C6: =IF(Feuil2!D6<>"",Feuil2!D6,"")
A7: =IF(Feuil2!B7<>"",Feuil2!B7,"") | B7: =IF(Feuil2!C7<>"",Feuil2!C7,"") | C7: =IF(Feuil2!D7<>"",Feuil2!D7,"")
A8: =IF(Feuil2!B8<>"",Feuil2!B8,"") | B8: =IF(Feuil2!C8<>"",Feuil2!C8,"") | C8: =IF(Feuil2!D8<>"",Feuil2!D8,"")
A9: =IF(Feuil2!B9<>"",Feuil2!B9,"") | B9: =IF(Feuil2!C9<>"",Feuil2!C9,"") | C9: =IF(Feuil2!D9<>"",Feuil2!D9,"")
A10: =IF(Feuil2!B10<>"",Feuil2!B10,"") | B10: =IF(Feuil2!C10<>"",Feuil2!C10,"") | C10: =IF(Feuil2!D10<>"",Feuil2!D10,"")
A11: =IF(Feuil2!B11<>"",Feuil2!B11,"") | B11: =IF(Feuil2!C11<>"",Feuil2!C11,"") | C11: =IF(Feuil2!D11<>"",Feuil2!D11,"")
A12: =IF(Feuil2!B12<>"",Feuil2!B12,"") | B12: =IF(Feuil2!C12<>"",Feuil2!C12,"") | C12: =IF(Feuil2!D12<>"",Feuil2!D12,"")
A13: =IF(Feuil2!B13<>"",Feuil2!B13,"") | B13: =IF(Feuil2!C13<>"",Feuil2!C13,"") | C13: =IF(Feuil2!D13<>"",Feuil2!D13,"")
... A101: =IF(Feuil2!B101<>"",Feuil2!B101,"") | B101: =IF(Feuil2!C101<>"",Feuil2!C101,"") | C101: =IF(Feuil2!D101<>"",Feuil2!D101,"")
