Workbook

Sheet BD
A1: numero | B1: nom | C1: prenom | D1: date de naissance | E1: numero d'inscription | F1: numero de salle
A2: 1 | B2: marti1 | C2: Rose1 | D2: 36526 | E2: 7101 | F2: 1
A3: 2 | B3: marti2 | C3: Rose2 | D3: 36527 | E3: 7102 | F3: 1
A4: 3 | B4: marti3 | C4: Rose3 | D4: 36528 | E4: 7103 | F4: 1
A5: 4 | B5: marti4 | C5: Rose4 | D5: 36529 | E5: 7104 | F5: 1
A6: 5 | B6: marti5 | C6: Rose5 | D6: 36530 | E6: 7105 | F6: 1
A7: 6 | B7: marti6 | C7: Rose6 | D7: 36531 | E7: 7106 | F7: 1
A8: 7 | B8: marti7 | C8: Rose7 | D8: 36532 | E8: 7107 | F8: 1
A9: 8 | B9: marti8 | C9: Rose8 | D9: 36533 | E9: 7108 | F9: 1
A10: 9 | B10: marti9 | C10: Rose9 | D10: 36534 | E10: 7109 | F10: 1
A11: 10 | B11: marti10 | C11: Rose10 | D11: 36535 | E11: 7110 | F11: 1
A12: 11 | B12: marti11 | C12: Rose11 | D12: 36536 | E12: 7111 | F12: 1
A13: 12 | B13: marti12 | C13: Rose12 | D13: 36537 | E13: 7112 | F13: 1
... A301: 300 | B301: marti300 | C301: Rose300 | D301: 36825 | E301: 7400 | F301: 15

Sheet listes
D1: numero | E1: nom | F1: prenom | G1: date de naissance | H1: numero d'inscription
A2: N° de salle | B2: 1 | D2: 1 | E2: {=IF(ROWS(E$2:E2)<=COUNTIF(BD!$F$2:$F$301,$B$2),INDEX(BD!$B$2:$B$301,SMALL(IF(BD!$F$2:$F$301=$B$2,ROW(BD!$F$2:$F$301)-ROW(BD!$F$2)+1),ROWS(E$2:E2))),"")} -> marti1 | F2: {=IF(ROWS(F$2:F2)<=COUNTIF(BD!$F$2:$F$301,$B$2),INDEX(BD!$C$2:$C$301,SMALL(IF(BD!$F$2:$F$301=$B$2,ROW(BD!$F$2:$F$301)-ROW(BD!$F$2)+1),ROWS(F$2:F2))),"")} -> Rose1 | G2: {=IF(ROWS(G$2:G2)<=COUNTIF(BD!$F$2:$F$301,$B$2),INDEX(BD!$D$2:$D$301,SMALL(IF(BD!$F$2:$F$301=$B$2,ROW(BD!$F$2:$F$301)-ROW(BD!$F$2)+1),ROWS(G$2:G2))),"")} -> 36526 | H2: {=IF(ROWS(H$2:H2)<=COUNTIF(BD!$F$2:$F$301,$B$2),INDEX(BD!$E$2:$E$301,SMALL(IF(BD!$F$2:$F$301=$B$2,ROW(BD!$F$2:$F$301)-ROW(BD!$F$2)+1),ROWS(H$2:H2))),"")} -> 7101 | J2: =($B$2-1)*20+$D2 -> 1
D3: 2 | E3: {=IF(ROWS(E$2:E3)<=COUNTIF(BD!$F$2:$F$301,$B$2),INDEX(BD!$B$2:$B$301,SMALL(IF(BD!$F$2:$F$301=$B$2,ROW(BD!$F$2:$F$301)-ROW(BD!$F$2)+1),ROWS(E$2:E3))),"")} -> marti2 | F3: {=IF(ROWS(F$2:F3)<=COUNTIF(BD!$F$2:$F$301,$B$2),INDEX(BD!$C$2:$C$301,SMALL(IF(BD!$F$2:$F$301=$B$2,ROW(BD!$F$2:$F$301)-ROW(BD!$F$2)+1),ROWS(F$2:F3))),"")} -> Rose2 | G3: {=IF(ROWS(G$2:G3)<=COUNTIF(BD!$F$2:$F$301,$B$2),INDEX(BD!$D$2:$D$301,SMALL(IF(BD!$F$2:$F$301=$B$2,ROW(BD!$F$2:$F$301)-ROW(BD!$F$2)+1),ROWS(G$2:G3))),"")} -> 36527 | H3: {=IF(ROWS(H$2:H3)<=COUNTIF(BD!$F$2:$F$301,$B$2),INDEX(BD!$E$2:$E$301,SMALL(IF(BD!$F$2:$F$301=$B$2,ROW(BD!$F$2:$F$301)-ROW(BD!$F$2)+1),ROWS(H$2:H3))),"")} -> 7102 | J3: =($B$2-1)*20+$D3 -> 2
D4: 3 | E4: {=IF(ROWS(E$2:E4)<=COUNTIF(BD!$F$2:$F$301,$B$2),INDEX(BD!$B$2:$B$301,SMALL(IF(BD!$F$2:$F$301=$B$2,ROW(BD!$F$2:$F$301)-ROW(BD!$F$2)+1),ROWS(E$2:E4))),"")} -> marti3 | F4: {=IF(ROWS(F$2:F4)<=COUNTIF(BD!$F$2:$F$301,$B$2),INDEX(BD!$C$2:$C$301,SMALL(IF(BD!$F$2:$F$301=$B$2,ROW(BD!$F$2:$F$301)-ROW(BD!$F$2)+1),ROWS(F$2:F4))),"")} -> Rose3 | G4: {=IF(ROWS(G$2:G4)<=COUNTIF(BD!$F$2:$F$301,$B$2),INDEX(BD!$D$2:$D$301,SMALL(IF(BD!$F$2:$F$301=$B$2,ROW(BD!$F$2:$F$301)-ROW(BD!$F$2)+1),ROWS(G$2:G4))),"")} -> 36528 | H4: {=IF(ROWS(H$2:H4)<=COUNTIF(BD!$F$2:$F$301,$B$2),INDEX(BD!$E$2:$E$301,SMALL(IF(BD!$F$2:$F$301=$B$2,ROW(BD!$F$2:$F$301)-ROW(BD!$F$2)+1),ROWS(H$2:H4))),"")} -> 7103 | J4: =($B$2-1)*20+$D4 -> 3
D5: 4 | E5: {=IF(ROWS(E$2:E5)<=COUNTIF(BD!$F$2:$F$301,$B$2),INDEX(BD!$B$2:$B$301,SMALL(IF(BD!$F$2:$F$301=$B$2,ROW(BD!$F$2:$F$301)-ROW(BD!$F$2)+1),ROWS(E$2:E5))),"")} -> marti4 | F5: {=IF(ROWS(F$2:F5)<=COUNTIF(BD!$F$2:$F$301,$B$2),INDEX(BD!$C$2:$C$301,SMALL(IF(BD!$F$2:$F$301=$B$2,ROW(BD!$F$2:$F$301)-ROW(BD!$F$2)+1),ROWS(F$2:F5))),"")} -> Rose4 | G5: {=IF(ROWS(G$2:G5)<=COUNTIF(BD!$F$2:$F$301,$B$2),INDEX(BD!$D$2:$D$301,SMALL(IF(BD!$F$2:$F$301=$B$2,ROW(BD!$F$2:$F$301)-ROW(BD!$F$2)+1),ROWS(G$2:G5))),"")} -> 36529 | H5: {=IF(ROWS(H$2:H5)<=COUNTIF(BD!$F$2:$F$301,$B$2),INDEX(BD!$E$2:$E$301,SMALL(IF(BD!$F$2:$F$301=$B$2,ROW(BD!$F$2:$F$301)-ROW(BD!$F$2)+1),ROWS(H$2:H5))),"")} -> 7104 | J5: =($B$2-1)*20+$D5 -> 4
D6: 5 | E6: {=IF(ROWS(E$2:E6)<=COUNTIF(BD!$F$2:$F$301,$B$2),INDEX(BD!$B$2:$B$301,SMALL(IF(BD!$F$2:$F$301=$B$2,ROW(BD!$F$2:$F$301)-ROW(BD!$F$2)+1),ROWS(E$2:E6))),"")} -> marti5 | F6: {=IF(ROWS(F$2:F6)<=COUNTIF(BD!$F$2:$F$301,$B$2),INDEX(BD!$C$2:$C$301,SMALL(IF(BD!$F$2:$F$301=$B$2,ROW(BD!$F$2:$F$301)-ROW(BD!$F$2)+1),ROWS(F$2:F6))),"")} -> Rose5 | G6: {=IF(ROWS(G$2:G6)<=COUNTIF(BD!$F$2:$F$301,$B$2),INDEX(BD!$D$2:$D$301,SMALL(IF(BD!$F$2:$F$301=$B$2,ROW(BD!$F$2:$F$301)-ROW(BD!$F$2)+1),ROWS(G$2:G6))),"")} -> 36530 | H6: {=IF(ROWS(H$2:H6)<=COUNTIF(BD!$F$2:$F$301,$B$2),INDEX(BD!$E$2:$E$301,SMALL(IF(BD!$F$2:$F$301=$B$2,ROW(BD!$F$2:$F$301)-ROW(BD!$F$2)+1),ROWS(H$2:H6))),"")} -> 7105 | J6: =($B$2-1)*20+$D6 -> 5
D7: 6 | E7: {=IF(ROWS(E$2:E7)<=COUNTIF(BD!$F$2:$F$301,$B$2),INDEX(BD!$B$2:$B$301,SMALL(IF(BD!$F$2:$F$301=$B$2,ROW(BD!$F$2:$F$301)-ROW(BD!$F$2)+1),ROWS(E$2:E7))),"")} -> marti6 | F7: {=IF(ROWS(F$2:F7)<=COUNTIF(BD!$F$2:$F$301,$B$2),INDEX(BD!$C$2:$C$301,SMALL(IF(BD!$F$2:$F$301=$B$2,ROW(BD!$F$2:$F$301)-ROW(BD!$F$2)+1),ROWS(F$2:F7))),"")} -> Rose6 | G7: {=IF(ROWS(G$2:G7)<=COUNTIF(BD!$F$2:$F$301,$B$2),INDEX(BD!$D$2:$D$301,SMALL(IF(BD!$F$2:$F$301=$B$2,ROW(BD!$F$2:$F$301)-ROW(BD!$F$2)+1),ROWS(G$2:G7))),"")} -> 36531 | H7: {=IF(ROWS(H$2:H7)<=COUNTIF(BD!$F$2:$F$301,$B$2),INDEX(BD!$E$2:$E$301,SMALL(IF(BD!$F$2:$F$301=$B$2,ROW(BD!$F$2:$F$301)-ROW(BD!$F$2)+1),ROWS(H$2:H7))),"")} -> 7106 | J7: =($B$2-1)*20+$D7 -> 6
D8: 7 | E8: {=IF(ROWS(E$2:E8)<=COUNTIF(BD!$F$2:$F$301,$B$2),INDEX(BD!$B$2:$B$301,SMALL(IF(BD!$F$2:$F$301=$B$2,ROW(BD!$F$2:$F$301)-ROW(BD!$F$2)+1),ROWS(E$2:E8))),"")} -> marti7 | F8: {=IF(ROWS(F$2:F8)<=COUNTIF(BD!$F$2:$F$301,$B$2),INDEX(BD!$C$2:$C$301,SMALL(IF(BD!$F$2:$F$301=$B$2,ROW(BD!$F$2:$F$301)-ROW(BD!$F$2)+1),ROWS(F$2:F8))),"")} -> Rose7 | G8: {=IF(ROWS(G$2:G8)<=COUNTIF(BD!$F$2:$F$301,$B$2),INDEX(BD!$D$2:$D$301,SMALL(IF(BD!$F$2:$F$301=$B$2,ROW(BD!$F$2:$F$301)-ROW(BD!$F$2)+1),ROWS(G$2:G8))),"")} -> 36532 | H8: {=IF(ROWS(H$2:H8)<=COUNTIF(BD!$F$2:$F$301,$B$2),INDEX(BD!$E$2:$E$301,SMALL(IF(BD!$F$2:$F$301=$B$2,ROW(BD!$F$2:$F$301)-ROW(BD!$F$2)+1),ROWS(H$2:H8))),"")} -> 7107 | J8: =($B$2-1)*20+$D8 -> 7
D9: 8 | E9: {=IF(ROWS(E$2:E9)<=COUNTIF(BD!$F$2:$F$301,$B$2),INDEX(BD!$B$2:$B$301,SMALL(IF(BD!$F$2:$F$301=$B$2,ROW(BD!$F$2:$F$301)-ROW(BD!$F$2)+1),ROWS(E$2:E9))),"")} -> marti8 | F9: {=IF(ROWS(F$2:F9)<=COUNTIF(BD!$F$2:$F$301,$B$2),INDEX(BD!$C$2:$C$301,SMALL(IF(BD!$F$2:$F$301=$B$2,ROW(BD!$F$2:$F$301)-ROW(BD!$F$2)+1),ROWS(F$2:F9))),"")} -> Rose8 | G9: {=IF(ROWS(G$2:G9)<=COUNTIF(BD!$F$2:$F$301,$B$2),INDEX(BD!$D$2:$D$301,SMALL(IF(BD!$F$2:$F$301=$B$2,ROW(BD!$F$2:$F$301)-ROW(BD!$F$2)+1),ROWS(G$2:G9))),"")} -> 36533 | H9: {=IF(ROWS(H$2:H9)<=COUNTIF(BD!$F$2:$F$301,$B$2),INDEX(BD!$E$2:$E$301,SMALL(IF(BD!$F$2:$F$301=$B$2,ROW(BD!$F$2:$F$301)-ROW(BD!$F$2)+1),ROWS(H$2:H9))),"")} -> 7108 | J9: =($B$2-1)*20+$D9 -> 8
D10: 9 | E10: {=IF(ROWS(E$2:E10)<=COUNTIF(BD!$F$2:$F$301,$B$2),INDEX(BD!$B$2:$B$301,SMALL(IF(BD!$F$2:$F$301=$B$2,ROW(BD!$F$2:$F$301)-ROW(BD!$F$2)+1),ROWS(E$2:E10))),"")} -> marti9 | F10: {=IF(ROWS(F$2:F10)<=COUNTIF(BD!$F$2:$F$301,$B$2),INDEX(BD!$C$2:$C$301,SMALL(IF(BD!$F$2:$F$301=$B$2,ROW(BD!$F$2:$F$301)-ROW(BD!$F$2)+1),ROWS(F$2:F10))),"")} -> Rose9 | G10: {=IF(ROWS(G$2:G10)<=COUNTIF(BD!$F$2:$F$301,$B$2),INDEX(BD!$D$2:$D$301,SMALL(IF(BD!$F$2:$F$301=$B$2,ROW(BD!$F$2:$F$301)-ROW(BD!$F$2)+1),ROWS(G$2:G10))),"")} -> 36534 | H10: {=IF(ROWS(H$2:H10)<=COUNTIF(BD!$F$2:$F$301,$B$2),INDEX(BD!$E$2:$E$301,SMALL(IF(BD!$F$2:$F$301=$B$2,ROW(BD!$F$2:$F$301)-ROW(BD!$F$2)+1),ROWS(H$2:H10))),"")} -> 7109 | J10: =($B$2-1)*20+$D10 -> 9
D11: 10 | E11: {=IF(ROWS(E$2:E11)<=COUNTIF(BD!$F$2:$F$301,$B$2),INDEX(BD!$B$2:$B$301,SMALL(IF(BD!$F$2:$F$301=$B$2,ROW(BD!$F$2:$F$301)-ROW(BD!$F$2)+1),ROWS(E$2:E11))),"")} -> marti10 | F11: {=IF(ROWS(F$2:F11)<=COUNTIF(BD!$F$2:$F$301,$B$2),INDEX(BD!$C$2:$C$301,SMALL(IF(BD!$F$2:$F$301=$B$2,ROW(BD!$F$2:$F$301)-ROW(BD!$F$2)+1),ROWS(F$2:F11))),"")} -> Rose10 | G11: {=IF(ROWS(G$2:G11)<=COUNTIF(BD!$F$2:$F$301,$B$2),INDEX(BD!$D$2:$D$301,SMALL(IF(BD!$F$2:$F$301=$B$2,ROW(BD!$F$2:$F$301)-ROW(BD!$F$2)+1),ROWS(G$2:G11))),"")} -> 36535 | H11: {=IF(ROWS(H$2:H11)<=COUNTIF(BD!$F$2:$F$301,$B$2),INDEX(BD!$E$2:$E$301,SMALL(IF(BD!$F$2:$F$301=$B$2,ROW(BD!$F$2:$F$301)-ROW(BD!$F$2)+1),ROWS(H$2:H11))),"")} -> 7110 | J11: =($B$2-1)*20+$D11 -> 10
D12: 11 | E12: {=IF(ROWS(E$2:E12)<=COUNTIF(BD!$F$2:$F$301,$B$2),INDEX(BD!$B$2:$B$301,SMALL(IF(BD!$F$2:$F$301=$B$2,ROW(BD!$F$2:$F$301)-ROW(BD!$F$2)+1),ROWS(E$2:E12))),"")} -> marti11 | F12: {=IF(ROWS(F$2:F12)<=COUNTIF(BD!$F$2:$F$301,$B$2),INDEX(BD!$C$2:$C$301,SMALL(IF(BD!$F$2:$F$301=$B$2,ROW(BD!$F$2:$F$301)-ROW(BD!$F$2)+1),ROWS(F$2:F12))),"")} -> Rose11 | G12: {=IF(ROWS(G$2:G12)<=COUNTIF(BD!$F$2:$F$301,$B$2),INDEX(BD!$D$2:$D$301,SMALL(IF(BD!$F$2:$F$301=$B$2,ROW(BD!$F$2:$F$301)-ROW(BD!$F$2)+1),ROWS(G$2:G12))),"")} -> 36536 | H12: {=IF(ROWS(H$2:H12)<=COUNTIF(BD!$F$2:$F$301,$B$2),INDEX(BD!$E$2:$E$301,SMALL(IF(BD!$F$2:$F$301=$B$2,ROW(BD!$F$2:$F$301)-ROW(BD!$F$2)+1),ROWS(H$2:H12))),"")} -> 7111 | J12: =($B$2-1)*20+$D12 -> 11
D13: 12 | E13: {=IF(ROWS(E$2:E13)<=COUNTIF(BD!$F$2:$F$301,$B$2),INDEX(BD!$B$2:$B$301,SMALL(IF(BD!$F$2:$F$301=$B$2,ROW(BD!$F$2:$F$301)-ROW(BD!$F$2)+1),ROWS(E$2:E13))),"")} -> marti12 | F13: {=IF(ROWS(F$2:F13)<=COUNTIF(BD!$F$2:$F$301,$B$2),INDEX(BD!$C$2:$C$301,SMALL(IF(BD!$F$2:$F$301=$B$2,ROW(BD!$F$2:$F$301)-ROW(BD!$F$2)+1),ROWS(F$2:F13))),"")} -> Rose12 | G13: {=IF(ROWS(G$2:G13)<=COUNTIF(BD!$F$2:$F$301,$B$2),INDEX(BD!$D$2:$D$301,SMALL(IF(BD!$F$2:$F$301=$B$2,ROW(BD!$F$2:$F$301)-ROW(BD!$F$2)+1),ROWS(G$2:G13))),"")} -> 36537 | H13: {=IF(ROWS(H$2:H13)<=COUNTIF(BD!$F$2:$F$301,$B$2),INDEX(BD!$E$2:$E$301,SMALL(IF(BD!$F$2:$F$301=$B$2,ROW(BD!$F$2:$F$301)-ROW(BD!$F$2)+1),ROWS(H$2:H13))),"")} -> 7112 | J13: =($B$2-1)*20+$D13 -> 12
D14: 13 | E14: {=IF(ROWS(E$2:E14)<=COUNTIF(BD!$F$2:$F$301,$B$2),INDEX(BD!$B$2:$B$301,SMALL(IF(BD!$F$2:$F$301=$B$2,ROW(BD!$F$2:$F$301)-ROW(BD!$F$2)+1),ROWS(E$2:E14))),"")} -> marti13 | F14: {=IF(ROWS(F$2:F14)<=COUNTIF(BD!$F$2:$F$301,$B$2),INDEX(BD!$C$2:$C$301,SMALL(IF(BD!$F$2:$F$301=$B$2,ROW(BD!$F$2:$F$301)-ROW(BD!$F$2)+1),ROWS(F$2:F14))),"")} -> Rose13 | G14: {=IF(ROWS(G$2:G14)<=COUNTIF(BD!$F$2:$F$301,$B$2),INDEX(BD!$D$2:$D$301,SMALL(IF(BD!$F$2:$F$301=$B$2,ROW(BD!$F$2:$F$301)-ROW(BD!$F$2)+1),ROWS(G$2:G14))),"")} -> 36538 | H14: {=IF(ROWS(H$2:H14)<=COUNTIF(BD!$F$2:$F$301,$B$2),INDEX(BD!$E$2:$E$301,SMALL(IF(BD!$F$2:$F$301=$B$2,ROW(BD!$F$2:$F$301)-ROW(BD!$F$2)+1),ROWS(H$2:H14))),"")} -> 7113 | J14: =($B$2-1)*20+$D14 -> 13
... D21: 20 | E21: {=IF(ROWS(E$2:E21)<=COUNTIF(BD!$F$2:$F$301,$B$2),INDEX(BD!$B$2:$B$301,SMALL(IF(BD!$F$2:$F$301=$B$2,ROW(BD!$F$2:$F$301)-ROW(BD!$F$2)+1),ROWS(E$2:E21))),"")} -> marti20 | F21: {=IF(ROWS(F$2:F21)<=COUNTIF(BD!$F$2:$F$301,$B$2),INDEX(BD!$C$2:$C$301,SMALL(IF(BD!$F$2:$F$301=$B$2,ROW(BD!$F$2:$F$301)-ROW(BD!$F$2)+1),ROWS(F$2:F21))),"")} -> Rose20 | G21: {=IF(ROWS(G$2:G21)<=COUNTIF(BD!$F$2:$F$301,$B$2),INDEX(BD!$D$2:$D$301,SMALL(IF(BD!$F$2:$F$301=$B$2,ROW(BD!$F$2:$F$301)-ROW(BD!$F$2)+1),ROWS(G$2:G21))),"")} -> 36545 | H21: {=IF(ROWS(H$2:H21)<=COUNTIF(BD!$F$2:$F$301,$B$2),INDEX(BD!$E$2:$E$301,SMALL(IF(BD!$F$2:$F$301=$B$2,ROW(BD!$F$2:$F$301)-ROW(BD!$F$2)+1),ROWS(H$2:H21))),"")} -> 7120 | J21: =($B$2-1)*20+$D21 -> 20
J22: =($B$2-1)*20+$D22 -> 0

Sheet etiquettes
B1: numero de salle | C1: =listes!$B$2 -> 1 | F1: numero de salle | G1: =listes!$B$2 -> 1 | J1: numero de salle | K1: =listes!$B$2 -> 1 | N1: numero de salle | O1: =listes!$B$2 -> 1
B2: nom | C2: =listes!E2 -> marti1 | F2: nom | G2: =listes!E3 -> marti2 | J2: nom | K2: =listes!E4 -> marti3 | N2: nom | O2: =listes!E5 -> marti4
B3: prenom | C3: =listes!F2 -> Rose1 | F3: prenom | G3: =listes!F3 -> Rose2 | J3: prenom | K3: =listes!F4 -> Rose3 | N3: prenom | O3: =listes!F5 -> Rose4
B4: date de naissance | C4: =listes!G2 -> 36526 | F4: date de naissance | G4: =listes!G3 -> 36527 | J4: date de naissance | K4: =listes!G4 -> 36528 | N4: date de naissance | O4: =listes!G5 -> 36529
B5: n.inscription | C5: =listes!H2 -> 7101 | F5: n.inscription | G5: =listes!H3 -> 7102 | J5: n.inscription | K5: =listes!H4 -> 7103 | N5: n.inscription | O5: =listes!H5 -> 7104
B7: numero de salle | C7: =listes!$B$2 -> 1 | F7: numero de salle | G7: =listes!$B$2 -> 1 | J7: numero de salle | K7: =listes!$B$2 -> 1 | N7: numero de salle | O7: =listes!$B$2 -> 1
B8: nom | C8: =listes!E6 -> marti5 | F8: nom | G8: =listes!E7 -> marti6 | J8: nom | K8: =listes!E8 -> marti7 | N8: prenom
B9: prenom | C9: =listes!F6 -> Rose5 | F9: prenom | G9: =listes!F7 -> Rose6 | J9: prenom | K9: =listes!F8 -> Rose7 | N9: prenom
B10: date de naissance | C10: =listes!G6 -> 36530 | F10: date de naissance | G10: =listes!G7 -> 36531 | J10: date de naissance | K10: =listes!G8 -> 36532 | N10: date de naissance
B11: n.inscription | C11: =listes!H6 -> 7105 | F11: n.inscription | G11: =listes!H7 -> 7106 | J11: n.inscription | K11: =listes!H8 -> 7107 | N11: n.inscription
B13: numero de salle | C13: =listes!$B$2 -> 1 | F13: numero de salle | G13: =listes!$B$2 -> 1 | J13: numero de salle | K13: =listes!$B$2 -> 1 | N13: numero de salle | O13: =listes!$B$2 -> 1
B14: nom | F14: nom | J14: nom | N14: nom
B15: prenom | F15: prenom | J15: prenom | N15: prenom
B16: date de naissance | F16: date de naissance | J16: date de naissance | N16: date de naissance
B17: n.inscription | F17: n.inscription | J17: n.inscription | N17: n.inscription
B19: numero de salle | C19: =listes!$B$2 -> 1 | F19: numero de salle | G19: =listes!$B$2 -> 1 | J19: numero de salle | K19: =listes!$B$2 -> 1 | N19: numero de salle | O19: =listes!$B$2 -> 1
B20: nom | F20: nom | J20: nom | N20: nom
B21: prenom | F21: prenom | J21: prenom | N21: prenom
B22: date de naissance | F22: date de naissance | J22: date de naissance | N22: date de naissance
B23: n.inscription | F23: n.inscription | J23: n.inscription | N23: n.inscription
B25: numero de salle | C25: =listes!$B$2 -> 1 | F25: numero de salle | G25: =listes!$B$2 -> 1 | J25: numero de salle | K25: =listes!$B$2 -> 1 | N25: numero de salle | O25: =listes!$B$2 -> 1
B26: nom | F26: nom | J26: nom | N26: nom
B27: prenom | F27: prenom | J27: prenom | N27: prenom
B28: date de naissance | F28: date de naissance | J28: date de naissance | N28: date de naissance
B29: n.inscription | F29: n.inscription | J29: n.inscription | N29: n.inscription

Sheet planning
D1: n.inscription | E1: =listes!H2 -> 7101 | G1: n.inscription | H1: =listes!H3 -> 7102 | J1: n.inscription | K1: =listes!H4 -> 7103
A2: =listes!A2 -> N° de salle | B2: =listes!B2 -> 1 | D2: couleur de feuille | G2: couleur de feuille | J2: couleur de feuille
D4: n.inscription | E4: =listes!H5 -> 7104 | G4: n.inscription | H4: =listes!H6 -> 7105 | J4: n.inscription | K4: =listes!H7 -> 7106
D5: couleur de feuille | G5: couleur de feuille | J5: couleur de feuille
D7: n.inscription | E7: =listes!H8 -> 7107 | G7: n.inscription | H7: =listes!H9 -> 7108 | J7: n.inscription | K7: =listes!H10 -> 7109
D8: couleur de feuille | G8: couleur de feuille | J8: couleur de feuille
D10: n.inscription | E10: =listes!H11 -> 7110 | G10: n.inscription | H10: =listes!H12 -> 7111 | J10: n.inscription | K10: =listes!H13 -> 7112
D11: couleur de feuille | G11: couleur de feuille | J11: couleur de feuille
D13: n.inscription | E13: =listes!H14 -> 7113 | G13: n.inscription | H13: =listes!H15 -> 7114 | J13: n.inscription | K13: =listes!H16 -> 7115
D14: couleur de feuille | G14: couleur de feuille | J14: couleur de feuille
D16: n.inscription | E16: =listes!H17 -> 7116 | G16: n.inscription | H16: =listes!H18 -> 7117 | J16: n.inscription | K16: =listes!H19 -> 7118
D17: couleur de feuille | G17: couleur de feuille | J17: couleur de feuille
D19: n.inscription | E19: =listes!H20 -> 7119 | G19: n.inscription | H19: =listes!H21 -> 7120
D20: couleur de feuille | G20: couleur de feuille
