Workbook

Sheet Fra
A1: Date | B1: Libellé | C1: Solde
A2: 41640 | B2: A | C2: 1500
A3: 41654 | B3: B | C3: 450
A4: 41669 | B4: C | C4: 680
A5: 41685 | B5: D | C5: 1500
A6: 41698 | B6: E | C6: 64
A7: 41729 | B7: G | C7: 158
A8: 41744 | B8: H | C8: 6543
A9: 41759 | B9: I | C9: 680
A10: 41774 | B10: J | C10: 15900
A11: 41790 | B11: K | C11: 4500
A12: 41805 | B12: L | C12: 7536
A13: 41820 | B13: M | C13: 951
A14: 41835 | B14: N | C14: 4500

Sheet Liban
A1: Date | B1: Libellé | C1: Solde
A2: 41640 | B2: A | C2: 1500
A3: 41654 | B3: B | C3: 450
A4: 41685 | B4: D | C4: 1500
A5: 41698 | B5: E | C5: 64
A6: 41713 | B6: F | C6: 925
A7: 41729 | B7: G | C7: 158
A8: 41744 | B8: H | C8: 6543
A9: 41759 | B9: I | C9: 680
A10: 41774 | B10: J | C10: 15900
A11: 41790 | B11: K | C11: 4500
A12: 41820 | B12: M | C12: 951
A13: 41835 | B13: N | C13: 4500
A14: 41850 | B14: O | C14: 1500

Sheet Delta
A1: Fra | B1: Liban | D1: Dans Liban - Pas dans Fra | F1: Dans Fra - Pas dans Liban | H1: Dans Liban - Pas dans Fra | K1: Dans Fra - Pas dans Liban
A2: =Fra!A2&Fra!C2 -> 416401500 | B2: =Liban!A2&Liban!C2 -> 416401500 | D2: =IF(ISNUMBER(MATCH(B2,A:A,0)),"OK","A Vérifier") -> OK | F2: =IF(ISNUMBER(MATCH(A2,B:B,0)),"OK","A Vérifier") -> OK | H2: =IF($D2="OK","",Liban!A2) | I2: =IF($D2="OK","",Liban!C2) | K2: =IF($F2="OK","",Fra!A2) | L2: =IF($F2="OK","",Fra!C2)
A3: =Fra!A3&Fra!C3 -> 41654450 | B3: =Liban!A3&Liban!C3 -> 41654450 | D3: =IF(ISNUMBER(MATCH(B3,A:A,0)),"OK","A Vérifier") -> OK | F3: =IF(ISNUMBER(MATCH(A3,B:B,0)),"OK","A Vérifier") -> OK | H3: =IF($D3="OK","",Liban!A3) | I3: =IF($D3="OK","",Liban!C3) | K3: =IF($F3="OK","",Fra!A3) | L3: =IF($F3="OK","",Fra!C3)
A4: =Fra!A4&Fra!C4 -> 41669680 | B4: =Liban!A4&Liban!C4 -> 416851500 | D4: =IF(ISNUMBER(MATCH(B4,A:A,0)),"OK","A Vérifier") -> OK | F4: =IF(ISNUMBER(MATCH(A4,B:B,0)),"OK","A Vérifier") -> A Vérifier | H4: =IF($D4="OK","",Liban!A4) | I4: =IF($D4="OK","",Liban!C4) | K4: =IF($F4="OK","",Fra!A4) -> 41669 | L4: =IF($F4="OK","",Fra!C4) -> 680
A5: =Fra!A5&Fra!C5 -> 416851500 | B5: =Liban!A5&Liban!C5 -> 4169864 | D5: =IF(ISNUMBER(MATCH(B5,A:A,0)),"OK","A Vérifier") -> OK | F5: =IF(ISNUMBER(MATCH(A5,B:B,0)),"OK","A Vérifier") -> OK | H5: =IF($D5="OK","",Liban!A5) | I5: =IF($D5="OK","",Liban!C5) | K5: =IF($F5="OK","",Fra!A5) | L5: =IF($F5="OK","",Fra!C5)
A6: =Fra!A6&Fra!C6 -> 4169864 | B6: =Liban!A6&Liban!C6 -> 41713925 | D6: =IF(ISNUMBER(MATCH(B6,A:A,0)),"OK","A Vérifier") -> A Vérifier | F6: =IF(ISNUMBER(MATCH(A6,B:B,0)),"OK","A Vérifier") -> OK | H6: =IF($D6="OK","",Liban!A6) -> 41713 | I6: =IF($D6="OK","",Liban!C6) -> 925 | K6: =IF($F6="OK","",Fra!A6) | L6: =IF($F6="OK","",Fra!C6)
A7: =Fra!A7&Fra!C7 -> 41729158 | B7: =Liban!A7&Liban!C7 -> 41729158 | D7: =IF(ISNUMBER(MATCH(B7,A:A,0)),"OK","A Vérifier") -> OK | F7: =IF(ISNUMBER(MATCH(A7,B:B,0)),"OK","A Vérifier") -> OK | H7: =IF($D7="OK","",Liban!A7) | I7: =IF($D7="OK","",Liban!C7) | K7: =IF($F7="OK","",Fra!A7) | L7: =IF($F7="OK","",Fra!C7)
A8: =Fra!A8&Fra!C8 -> 417446543 | B8: =Liban!A8&Liban!C8 -> 417446543 | D8: =IF(ISNUMBER(MATCH(B8,A:A,0)),"OK","A Vérifier") -> OK | F8: =IF(ISNUMBER(MATCH(A8,B:B,0)),"OK","A Vérifier") -> OK | H8: =IF($D8="OK","",Liban!A8) | I8: =IF($D8="OK","",Liban!C8) | K8: =IF($F8="OK","",Fra!A8) | L8: =IF($F8="OK","",Fra!C8)
A9: =Fra!A9&Fra!C9 -> 41759680 | B9: =Liban!A9&Liban!C9 -> 41759680 | D9: =IF(ISNUMBER(MATCH(B9,A:A,0)),"OK","A Vérifier") -> OK | F9: =IF(ISNUMBER(MATCH(A9,B:B,0)),"OK","A Vérifier") -> OK | H9: =IF($D9="OK","",Liban!A9) | I9: =IF($D9="OK","",Liban!C9) | K9: =IF($F9="OK","",Fra!A9) | L9: =IF($F9="OK","",Fra!C9)
A10: =Fra!A10&Fra!C10 -> 4177415900 | B10: =Liban!A10&Liban!C10 -> 4177415900 | D10: =IF(ISNUMBER(MATCH(B10,A:A,0)),"OK","A Vérifier") -> OK | F10: =IF(ISNUMBER(MATCH(A10,B:B,0)),"OK","A Vérifier") -> OK | H10: =IF($D10="OK","",Liban!A10) | I10: =IF($D10="OK","",Liban!C10) | K10: =IF($F10="OK","",Fra!A10) | L10: =IF($F10="OK","",Fra!C10)
A11: =Fra!A11&Fra!C11 -> 417904500 | B11: =Liban!A11&Liban!C11 -> 417904500 | D11: =IF(ISNUMBER(MATCH(B11,A:A,0)),"OK","A Vérifier") -> OK | F11: =IF(ISNUMBER(MATCH(A11,B:B,0)),"OK","A Vérifier") -> OK | H11: =IF($D11="OK","",Liban!A11) | I11: =IF($D11="OK","",Liban!C11) | K11: =IF($F11="OK","",Fra!A11) | L11: =IF($F11="OK","",Fra!C11)
A12: =Fra!A12&Fra!C12 -> 418057536 | B12: =Liban!A12&Liban!C12 -> 41820951 | D12: =IF(ISNUMBER(MATCH(B12,A:A,0)),"OK","A Vérifier") -> OK | F12: =IF(ISNUMBER(MATCH(A12,B:B,0)),"OK","A Vérifier") -> A Vérifier | H12: =IF($D12="OK","",Liban!A12) | I12: =IF($D12="OK","",Liban!C12) | K12: =IF($F12="OK","",Fra!A12) -> 41805 | L12: =IF($F12="OK","",Fra!C12) -> 7536
A13: =Fra!A13&Fra!C13 -> 41820951 | B13: =Liban!A13&Liban!C13 -> 418354500 | D13: =IF(ISNUMBER(MATCH(B13,A:A,0)),"OK","A Vérifier") -> OK | F13: =IF(ISNUMBER(MATCH(A13,B:B,0)),"OK","A Vérifier") -> OK | H13: =IF($D13="OK","",Liban!A13) | I13: =IF($D13="OK","",Liban!C13) | K13: =IF($F13="OK","",Fra!A13) | L13: =IF($F13="OK","",Fra!C13)
A14: =Fra!A14&Fra!C14 -> 418354500 | B14: =Liban!A14&Liban!C14 -> 418501500 | D14: =IF(ISNUMBER(MATCH(B14,A:A,0)),"OK","A Vérifier") -> A Vérifier | F14: =IF(ISNUMBER(MATCH(A14,B:B,0)),"OK","A Vérifier") -> OK | H14: =IF($D14="OK","",Liban!A14) -> 41850 | I14: =IF($D14="OK","",Liban!C14) -> 1500 | K14: =IF($F14="OK","",Fra!A14) | L14: =IF($F14="OK","",Fra!C14)
A15: =Fra!A15&Fra!C15 | B15: =Liban!A15&Liban!C15
A16: =Fra!A16&Fra!C16 | B16: =Liban!A16&Liban!C16
A17: =Fra!A17&Fra!C17 | B17: =Liban!A17&Liban!C17
A18: =Fra!A18&Fra!C18 | B18: =Liban!A18&Liban!C18
A19: =Fra!A19&Fra!C19 | B19: =Liban!A19&Liban!C19
A20: =Fra!A20&Fra!C20 | B20: =Liban!A20&Liban!C20
A21: =Fra!A21&Fra!C21 | B21: =Liban!A21&Liban!C21
A22: =Fra!A22&Fra!C22 | B22: =Liban!A22&Liban!C22
A23: =Fra!A23&Fra!C23 | B23: =Liban!A23&Liban!C23
A24: =Fra!A24&Fra!C24 | B24: =Liban!A24&Liban!C24
