Workbook
Name AFRICA: OFFSET(AFRICA!$L$3,0,0,COUNTA(AFRICA!$L:$L)-2,3)
Name AIRPORT: OFFSET(AIRPORT!$L$3,0,0,COUNTA(AIRPORT!$L:$L)-2,3)
Name Segment_Analytique: #N/A
Name Segment_Dates_comptabilisation: #N/A

Sheet AFRICA
B1: AFRICA | C1: =HLOOKUP($B$1,'TCD-BI CA'!$B$6:$S$2001,1996,FALSE) -> 2 | K1: Clés de répartition des coûts indirects entre BU : | M1: vers autre BU | O1: depuis autre BU | P1: Total Réaffectations
M2: Taux | N2: Montant | O2: Montant | P2: =SUM(N3:O25) -> -242289.48
B3: CA | C3: Coûts directs | E3: MBO | F3: Coûts indir | G3: Marge contrib | L3: {=TRANSPOSE('TCD-BI CA'!B6:X6)} -> AFRICA | N3: =-$F$9*M3 -> 0
C4: Affectés | D4: Non affectés | L4: AIRPORT | M4: 0.5 | N4: =-$F$9*M4 -> -242289.48
L5: AMIA | N5: =-$F$9*M5 -> 0
B6: =B9+B8 -> 1389365.3 | C6: =C9+C8 -> 944007.21 | D6: =D9+D8 -> 15480.09 | E6: =E9+E8 -> 429877.95 | F6: =F9+F8 -> 242289.48 | G6: =G9+G8 -> 187588.47 | H6: Totaux par BU après réaffectation | L6: ASIA | N6: =-$F$9*M6 -> 0
L7: FRANCE | N7: =-$F$9*M7 -> 0
E8: =B8-C8-D8 -> 0 | F8: =P2 -> -242289.48 | G8: =E8-F8 -> 242289.48 | H8: Réaffectation Coûts indirectes entre BU | L8: HEADQTR | N8: =-$F$9*M8 -> 0
B9: =SUM(B11:B2008) -> 1389365.3 | C9: =SUM(C11:C2008) -> 944007.21 | D9: =SUM(D11:D2008) -> 15480.09 | E9: =SUM(E11:E2008) -> 429877.95 | F9: =SUM(F11:F2008) -> 484578.95 | G9: =SUM(G11:G2008) -> -54701 | H9: Totaux bruts compta par BU | L9: INFRA | N9: =-$F$9*M9 -> 0
L10: INTL | N10: =-$F$9*M10 -> 0
A11: ='TCD-BI Rstt'!A7 -> 11AAL001 | B11: =IF($A11="Total général",0,IF(ISERROR(-VLOOKUP($A11,'TCD-BI CA'!$A$7:$S$2000,$C$1,FALSE)),0,-VLOOKUP($A11,'TCD-BI CA'!$A$7:$S$2000,$C$1,FALSE))) -> 0 | C11: =B11-E11-D11 -> 0 | D11: =IF($A11="Total général",0,IF(ISERROR(VLOOKUP($A11,'TCD-BI Rstt'!$A$7:$S$2000,$C$1,FALSE)),0,IF(OR(LEFT($A11,3)="DIR",$A11="INDSPACAMA",$A11="INDSPACKRU"),VLOOKUP($A11,'TCD-BI Rstt'!$A$7:$S$2000,$C$1,FALSE),0))) -> 0 | E11: =IF(OR(LEFT($A11,1)="1",LEFT($A11,1)="2"),-VLOOKUP($A11,'TCD-BI Rstt'!$A$7:$S$2000,$C$1,FALSE),0)-D11 -> 0 | F11: =IF($A11="Total général",0,IF(ISERROR(VLOOKUP($A11,'TCD-BI Rstt'!$A$7:$S$2000,$C$1,FALSE)),0,IF(OR(LEFT($A11,1)="1",LEFT($A11,1)="2"),0,VLOOKUP($A11,'TCD-BI Rstt'!$A$7:$S$2000,$C$1,FALSE))))-D11 -> 0 | G11: =E11-F11 -> 0 | L11: LATAM | N11: =-$F$9*M11 -> 0
A12: ='TCD-BI Rstt'!A8 -> 11H001 | B12: =IF($A12="Total général",0,IF(ISERROR(-VLOOKUP($A12,'TCD-BI CA'!$A$7:$S$2000,$C$1,FALSE)),0,-VLOOKUP($A12,'TCD-BI CA'!$A$7:$S$2000,$C$1,FALSE))) -> 0 | C12: =B12-E12-D12 -> 0 | D12: =IF($A12="Total général",0,IF(ISERROR(VLOOKUP($A12,'TCD-BI Rstt'!$A$7:$S$2000,$C$1,FALSE)),0,IF(OR(LEFT($A12,3)="DIR",$A12="INDSPACAMA",$A12="INDSPACKRU"),VLOOKUP($A12,'TCD-BI Rstt'!$A$7:$S$2000,$C$1,FALSE),0))) -> 0 | E12: =IF(OR(LEFT($A12,1)="1",LEFT($A12,1)="2"),-VLOOKUP($A12,'TCD-BI Rstt'!$A$7:$S$2000,$C$1,FALSE),0)-D12 -> 0 | F12: =IF($A12="Total général",0,IF(ISERROR(VLOOKUP($A12,'TCD-BI Rstt'!$A$7:$S$2000,$C$1,FALSE)),0,IF(OR(LEFT($A12,1)="1",LEFT($A12,1)="2"),0,VLOOKUP($A12,'TCD-BI Rstt'!$A$7:$S$2000,$C$1,FALSE))))-D12 -> 0 | G12: =E12-F12 -> 0 | L12: MENA | N12: =-$F$9*M12 -> 0
A13: ='TCD-BI Rstt'!A9 -> 12A159 | B13: =IF($A13="Total général",0,IF(ISERROR(-VLOOKUP($A13,'TCD-BI CA'!$A$7:$S$2000,$C$1,FALSE)),0,-VLOOKUP($A13,'TCD-BI CA'!$A$7:$S$2000,$C$1,FALSE))) -> 0 | C13: =B13-E13-D13 -> 0 | D13: =IF($A13="Total général",0,IF(ISERROR(VLOOKUP($A13,'TCD-BI Rstt'!$A$7:$S$2000,$C$1,FALSE)),0,IF(OR(LEFT($A13,3)="DIR",$A13="INDSPACAMA",$A13="INDSPACKRU"),VLOOKUP($A13,'TCD-BI Rstt'!$A$7:$S$2000,$C$1,FALSE),0))) -> 0 | E13: =IF(OR(LEFT($A13,1)="1",LEFT($A13,1)="2"),-VLOOKUP($A13,'TCD-BI Rstt'!$A$7:$S$2000,$C$1,FALSE),0)-D13 -> 0 | F13: =IF($A13="Total général",0,IF(ISERROR(VLOOKUP($A13,'TCD-BI Rstt'!$A$7:$S$2000,$C$1,FALSE)),0,IF(OR(LEFT($A13,1)="1",LEFT($A13,1)="2"),0,VLOOKUP($A13,'TCD-BI Rstt'!$A$7:$S$2000,$C$1,FALSE))))-D13 -> 0 | G13: =E13-F13 -> 0 | L13: N/A | N13: =-$F$9*M13 -> 0
A14: ='TCD-BI Rstt'!A10 -> 12I001 | B14: =IF($A14="Total général",0,IF(ISERROR(-VLOOKUP($A14,'TCD-BI CA'!$A$7:$S$2000,$C$1,FALSE)),0,-VLOOKUP($A14,'TCD-BI CA'!$A$7:$S$2000,$C$1,FALSE))) -> 0 | C14: =B14-E14-D14 -> 0 | D14: =IF($A14="Total général",0,IF(ISERROR(VLOOKUP($A14,'TCD-BI Rstt'!$A$7:$S$2000,$C$1,FALSE)),0,IF(OR(LEFT($A14,3)="DIR",$A14="INDSPACAMA",$A14="INDSPACKRU"),VLOOKUP($A14,'TCD-BI Rstt'!$A$7:$S$2000,$C$1,FALSE),0))) -> 0 | E14: =IF(OR(LEFT($A14,1)="1",LEFT($A14,1)="2"),-VLOOKUP($A14,'TCD-BI Rstt'!$A$7:$S$2000,$C$1,FALSE),0)-D14 -> 0 | F14: =IF($A14="Total général",0,IF(ISERROR(VLOOKUP($A14,'TCD-BI Rstt'!$A$7:$S$2000,$C$1,FALSE)),0,IF(OR(LEFT($A14,1)="1",LEFT($A14,1)="2"),0,VLOOKUP($A14,'TCD-BI Rstt'!$A$7:$S$2000,$C$1,FALSE))))-D14 -> 0 | G14: =E14-F14 -> 0 | L14: RUSSIA | N14: =-$F$9*M14 -> 0
A15: ='TCD-BI Rstt'!A11 -> 13A089 | B15: =IF($A15="Total général",0,IF(ISERROR(-VLOOKUP($A15,'TCD-BI CA'!$A$7:$S$2000,$C$1,FALSE)),0,-VLOOKUP($A15,'TCD-BI CA'!$A$7:$S$2000,$C$1,FALSE))) -> 0 | C15: =B15-E15-D15 -> 0 | D15: =IF($A15="Total général",0,IF(ISERROR(VLOOKUP($A15,'TCD-BI Rstt'!$A$7:$S$2000,$C$1,FALSE)),0,IF(OR(LEFT($A15,3)="DIR",$A15="INDSPACAMA",$A15="INDSPACKRU"),VLOOKUP($A15,'TCD-BI Rstt'!$A$7:$S$2000,$C$1,FALSE),0))) -> 0 | E15: =IF(OR(LEFT($A15,1)="1",LEFT($A15,1)="2"),-VLOOKUP($A15,'TCD-BI Rstt'!$A$7:$S$2000,$C$1,FALSE),0)-D15 -> 0 | F15: =IF($A15="Total général",0,IF(ISERROR(VLOOKUP($A15,'TCD-BI Rstt'!$A$7:$S$2000,$C$1,FALSE)),0,IF(OR(LEFT($A15,1)="1",LEFT($A15,1)="2"),0,VLOOKUP($A15,'TCD-BI Rstt'!$A$7:$S$2000,$C$1,FALSE))))-D15 -> 0 | G15: =E15-F15 -> 0 | L15: SPACE | N15: =-$F$9*M15 -> 0
A16: ='TCD-BI Rstt'!A12 -> 13A223 | B16: =IF($A16="Total général",0,IF(ISERROR(-VLOOKUP($A16,'TCD-BI CA'!$A$7:$S$2000,$C$1,FALSE)),0,-VLOOKUP($A16,'TCD-BI CA'!$A$7:$S$2000,$C$1,FALSE))) -> 0 | C16: =B16-E16-D16 -> 0 | D16: =IF($A16="Total général",0,IF(ISERROR(VLOOKUP($A16,'TCD-BI Rstt'!$A$7:$S$2000,$C$1,FALSE)),0,IF(OR(LEFT($A16,3)="DIR",$A16="INDSPACAMA",$A16="INDSPACKRU"),VLOOKUP($A16,'TCD-BI Rstt'!$A$7:$S$2000,$C$1,FALSE),0))) -> 0 | E16: =IF(OR(LEFT($A16,1)="1",LEFT($A16,1)="2"),-VLOOKUP($A16,'TCD-BI Rstt'!$A$7:$S$2000,$C$1,FALSE),0)-D16 -> 0 | F16: =IF($A16="Total général",0,IF(ISERROR(VLOOKUP($A16,'TCD-BI Rstt'!$A$7:$S$2000,$C$1,FALSE)),0,IF(OR(LEFT($A16,1)="1",LEFT($A16,1)="2"),0,VLOOKUP($A16,'TCD-BI Rstt'!$A$7:$S$2000,$C$1,FALSE))))-D16 -> 0 | G16: =E16-F16 -> 0 | L16: Total général | N16: =-$F$9*M16 -> 0
A17: ='TCD-BI Rstt'!A13 -> 13AALP001 | B17: =IF($A17="Total général",0,IF(ISERROR(-VLOOKUP($A17,'TCD-BI CA'!$A$7:$S$2000,$C$1,FALSE)),0,-VLOOKUP($A17,'TCD-BI CA'!$A$7:$S$2000,$C$1,FALSE))) -> 0 | C17: =B17-E17-D17 -> 0 | D17: =IF($A17="Total général",0,IF(ISERROR(VLOOKUP($A17,'TCD-BI Rstt'!$A$7:$S$2000,$C$1,FALSE)),0,IF(OR(LEFT($A17,3)="DIR",$A17="INDSPACAMA",$A17="INDSPACKRU"),VLOOKUP($A17,'TCD-BI Rstt'!$A$7:$S$2000,$C$1,FALSE),0))) -> 0 | E17: =IF(OR(LEFT($A17,1)="1",LEFT($A17,1)="2"),-VLOOKUP($A17,'TCD-BI Rstt'!$A$7:$S$2000,$C$1,FALSE),0)-D17 -> 0 | F17: =IF($A17="Total général",0,IF(ISERROR(VLOOKUP($A17,'TCD-BI Rstt'!$A$7:$S$2000,$C$1,FALSE)),0,IF(OR(LEFT($A17,1)="1",LEFT($A17,1)="2"),0,VLOOKUP($A17,'TCD-BI Rstt'!$A$7:$S$2000,$C$1,FALSE))))-D17 -> 0 | G17: =E17-F17 -> 0 | L17: 0 | N17: =-$F$9*M17 -> 0
A18: ='TCD-BI Rstt'!A14 -> 13H003 | B18: =IF($A18="Total général",0,IF(ISERROR(-VLOOKUP($A18,'TCD-BI CA'!$A$7:$S$2000,$C$1,FALSE)),0,-VLOOKUP($A18,'TCD-BI CA'!$A$7:$S$2000,$C$1,FALSE))) -> 0 | C18: =B18-E18-D18 -> 0 | D18: =IF($A18="Total général",0,IF(ISERROR(VLOOKUP($A18,'TCD-BI Rstt'!$A$7:$S$2000,$C$1,FALSE)),0,IF(OR(LEFT($A18,3)="DIR",$A18="INDSPACAMA",$A18="INDSPACKRU"),VLOOKUP($A18,'TCD-BI Rstt'!$A$7:$S$2000,$C$1,FALSE),0))) -> 0 | E18: =IF(OR(LEFT($A18,1)="1",LEFT($A18,1)="2"),-VLOOKUP($A18,'TCD-BI Rstt'!$A$7:$S$2000,$C$1,FALSE),0)-D18 -> 0 | F18: =IF($A18="Total général",0,IF(ISERROR(VLOOKUP($A18,'TCD-BI Rstt'!$A$7:$S$2000,$C$1,FALSE)),0,IF(OR(LEFT($A18,1)="1",LEFT($A18,1)="2"),0,VLOOKUP($A18,'TCD-BI Rstt'!$A$7:$S$2000,$C$1,FALSE))))-D18 -> 0 | G18: =E18-F18 -> 0 | L18: 0 | N18: =-$F$9*M18 -> 0
A19: ='TCD-BI Rstt'!A15 -> 13I010 | B19: =IF($A19="Total général",0,IF(ISERROR(-VLOOKUP($A19,'TCD-BI CA'!$A$7:$S$2000,$C$1,FALSE)),0,-VLOOKUP($A19,'TCD-BI CA'!$A$7:$S$2000,$C$1,FALSE))) -> 0 | C19: =B19-E19-D19 -> 0 | D19: =IF($A19="Total général",0,IF(ISERROR(VLOOKUP($A19,'TCD-BI Rstt'!$A$7:$S$2000,$C$1,FALSE)),0,IF(OR(LEFT($A19,3)="DIR",$A19="INDSPACAMA",$A19="INDSPACKRU"),VLOOKUP($A19,'TCD-BI Rstt'!$A$7:$S$2000,$C$1,FALSE),0))) -> 0 | E19: =IF(OR(LEFT($A19,1)="1",LEFT($A19,1)="2"),-VLOOKUP($A19,'TCD-BI Rstt'!$A$7:$S$2000,$C$1,FALSE),0)-D19 -> 0 | F19: =IF($A19="Total général",0,IF(ISERROR(VLOOKUP($A19,'TCD-BI Rstt'!$A$7:$S$2000,$C$1,FALSE)),0,IF(OR(LEFT($A19,1)="1",LEFT($A19,1)="2"),0,VLOOKUP($A19,'TCD-BI Rstt'!$A$7:$S$2000,$C$1,FALSE))))-D19 -> 0 | G19: =E19-F19 -> 0 | L19: 0 | N19: =-$F$9*M19 -> 0
A20: ='TCD-BI Rstt'!A16 -> 13N004 | B20: =IF($A20="Total général",0,IF(ISERROR(-VLOOKUP($A20,'TCD-BI CA'!$A$7:$S$2000,$C$1,FALSE)),0,-VLOOKUP($A20,'TCD-BI CA'!$A$7:$S$2000,$C$1,FALSE))) -> 0 | C20: =B20-E20-D20 -> 0 | D20: =IF($A20="Total général",0,IF(ISERROR(VLOOKUP($A20,'TCD-BI Rstt'!$A$7:$S$2000,$C$1,FALSE)),0,IF(OR(LEFT($A20,3)="DIR",$A20="INDSPACAMA",$A20="INDSPACKRU"),VLOOKUP($A20,'TCD-BI Rstt'!$A$7:$S$2000,$C$1,FALSE),0))) -> 0 | E20: =IF(OR(LEFT($A20,1)="1",LEFT($A20,1)="2"),-VLOOKUP($A20,'TCD-BI Rstt'!$A$7:$S$2000,$C$1,FALSE),0)-D20 -> 0 | F20: =IF($A20="Total général",0,IF(ISERROR(VLOOKUP($A20,'TCD-BI Rstt'!$A$7:$S$2000,$C$1,FALSE)),0,IF(OR(LEFT($A20,1)="1",LEFT($A20,1)="2"),0,VLOOKUP($A20,'TCD-BI Rstt'!$A$7:$S$2000,$C$1,FALSE))))-D20 -> 0 | G20: =E20-F20 -> 0 | L20: 0 | N20: =-$F$9*M20 -> 0
A21: ='TCD-BI Rstt'!A17 -> 14A008 | B21: =IF($A21="Total général",0,IF(ISERROR(-VLOOKUP($A21,'TCD-BI CA'!$A$7:$S$2000,$C$1,FALSE)),0,-VLOOKUP($A21,'TCD-BI CA'!$A$7:$S$2000,$C$1,FALSE))) -> 0 | C21: =B21-E21-D21 -> 0 | D21: =IF($A21="Total général",0,IF(ISERROR(VLOOKUP($A21,'TCD-BI Rstt'!$A$7:$S$2000,$C$1,FALSE)),0,IF(OR(LEFT($A21,3)="DIR",$A21="INDSPACAMA",$A21="INDSPACKRU"),VLOOKUP($A21,'TCD-BI Rstt'!$A$7:$S$2000,$C$1,FALSE),0))) -> 0 | E21: =IF(OR(LEFT($A21,1)="1",LEFT($A21,1)="2"),-VLOOKUP($A21,'TCD-BI Rstt'!$A$7:$S$2000,$C$1,FALSE),0)-D21 -> 0 | F21: =IF($A21="Total général",0,IF(ISERROR(VLOOKUP($A21,'TCD-BI Rstt'!$A$7:$S$2000,$C$1,FALSE)),0,IF(OR(LEFT($A21,1)="1",LEFT($A21,1)="2"),0,VLOOKUP($A21,'TCD-BI Rstt'!$A$7:$S$2000,$C$1,FALSE))))-D21 -> 0 | G21: =E21-F21 -> 0 | L21: 0 | N21: =-$F$9*M21 -> 0
A22: ='TCD-BI Rstt'!A18 -> 14A058 | B22: =IF($A22="Total général",0,IF(ISERROR(-VLOOKUP($A22,'TCD-BI CA'!$A$7:$S$2000,$C$1,FALSE)),0,-VLOOKUP($A22,'TCD-BI CA'!$A$7:$S$2000,$C$1,FALSE))) -> 0 | C22: =B22-E22-D22 -> 0 | D22: =IF($A22="Total général",0,IF(ISERROR(VLOOKUP($A22,'TCD-BI Rstt'!$A$7:$S$2000,$C$1,FALSE)),0,IF(OR(LEFT($A22,3)="DIR",$A22="INDSPACAMA",$A22="INDSPACKRU"),VLOOKUP($A22,'TCD-BI Rstt'!$A$7:$S$2000,$C$1,FALSE),0))) -> 0 | E22: =IF(OR(LEFT($A22,1)="1",LEFT($A22,1)="2"),-VLOOKUP($A22,'TCD-BI Rstt'!$A$7:$S$2000,$C$1,FALSE),0)-D22 -> 0 | F22: =IF($A22="Total général",0,IF(ISERROR(VLOOKUP($A22,'TCD-BI Rstt'!$A$7:$S$2000,$C$1,FALSE)),0,IF(OR(LEFT($A22,1)="1",LEFT($A22,1)="2"),0,VLOOKUP($A22,'TCD-BI Rstt'!$A$7:$S$2000,$C$1,FALSE))))-D22 -> 0 | G22: =E22-F22 -> 0 | L22: 0 | N22: =-$F$9*M22 -> 0
A23: ='TCD-BI Rstt'!A19 -> 14A093 | B23: =IF($A23="Total général",0,IF(ISERROR(-VLOOKUP($A23,'TCD-BI CA'!$A$7:$S$2000,$C$1,FALSE)),0,-VLOOKUP($A23,'TCD-BI CA'!$A$7:$S$2000,$C$1,FALSE))) -> 0 | C23: =B23-E23-D23 -> 0 | D23: =IF($A23="Total général",0,IF(ISERROR(VLOOKUP($A23,'TCD-BI Rstt'!$A$7:$S$2000,$C$1,FALSE)),0,IF(OR(LEFT($A23,3)="DIR",$A23="INDSPACAMA",$A23="INDSPACKRU"),VLOOKUP($A23,'TCD-BI Rstt'!$A$7:$S$2000,$C$1,FALSE),0))) -> 0 | E23: =IF(OR(LEFT($A23,1)="1",LEFT($A23,1)="2"),-VLOOKUP($A23,'TCD-BI Rstt'!$A$7:$S$2000,$C$1,FALSE),0)-D23 -> 0 | F23: =IF($A23="Total général",0,IF(ISERROR(VLOOKUP($A23,'TCD-BI Rstt'!$A$7:$S$2000,$C$1,FALSE)),0,IF(OR(LEFT($A23,1)="1",LEFT($A23,1)="2"),0,VLOOKUP($A23,'TCD-BI Rstt'!$A$7:$S$2000,$C$1,FALSE))))-D23 -> 0 | G23: =E23-F23 -> 0 | L23: 0 | N23: =-$F$9*M23 -> 0
A24: ='TCD-BI Rstt'!A20 -> 14A118 | B24: =IF($A24="Total général",0,IF(ISERROR(-VLOOKUP($A24,'TCD-BI CA'!$A$7:$S$2000,$C$1,FALSE)),0,-VLOOKUP($A24,'TCD-BI CA'!$A$7:$S$2000,$C$1,FALSE))) -> 0 | C24: =B24-E24-D24 -> 0 | D24: =IF($A24="Total général",0,IF(ISERROR(VLOOKUP($A24,'TCD-BI Rstt'!$A$7:$S$2000,$C$1,FALSE)),0,IF(OR(LEFT($A24,3)="DIR",$A24="INDSPACAMA",$A24="INDSPACKRU"),VLOOKUP($A24,'TCD-BI Rstt'!$A$7:$S$2000,$C$1,FALSE),0))) -> 0 | E24: =IF(OR(LEFT($A24,1)="1",LEFT($A24,1)="2"),-VLOOKUP($A24,'TCD-BI Rstt'!$A$7:$S$2000,$C$1,FALSE),0)-D24 -> 0 | F24: =IF($A24="Total général",0,IF(ISERROR(VLOOKUP($A24,'TCD-BI Rstt'!$A$7:$S$2000,$C$1,FALSE)),0,IF(OR(LEFT($A24,1)="1",LEFT($A24,1)="2"),0,VLOOKUP($A24,'TCD-BI Rstt'!$A$7:$S$2000,$C$1,FALSE))))-D24 -> 0 | G24: =E24-F24 -> 0 | L24: 0 | N24: =-$F$9*M24 -> 0
A25: ='TCD-BI Rstt'!A21 -> 14A128 | B25: =IF($A25="Total général",0,IF(ISERROR(-VLOOKUP($A25,'TCD-BI CA'!$A$7:$S$2000,$C$1,FALSE)),0,-VLOOKUP($A25,'TCD-BI CA'!$A$7:$S$2000,$C$1,FALSE))) -> 0 | C25: =B25-E25-D25 -> 0 | D25: =IF($A25="Total général",0,IF(ISERROR(VLOOKUP($A25,'TCD-BI Rstt'!$A$7:$S$2000,$C$1,FALSE)),0,IF(OR(LEFT($A25,3)="DIR",$A25="INDSPACAMA",$A25="INDSPACKRU"),VLOOKUP($A25,'TCD-BI Rstt'!$A$7:$S$2000,$C$1,FALSE),0))) -> 0 | E25: =IF(OR(LEFT($A25,1)="1",LEFT($A25,1)="2"),-VLOOKUP($A25,'TCD-BI Rstt'!$A$7:$S$2000,$C$1,FALSE),0)-D25 -> 0 | F25: =IF($A25="Total général",0,IF(ISERROR(VLOOKUP($A25,'TCD-BI Rstt'!$A$7:$S$2000,$C$1,FALSE)),0,IF(OR(LEFT($A25,1)="1",LEFT($A25,1)="2"),0,VLOOKUP($A25,'TCD-BI Rstt'!$A$7:$S$2000,$C$1,FALSE))))-D25 -> 0 | G25: =E25-F25 -> 0 | L25: 0 | N25: =-$F$9*M25 -> 0
A26: ='TCD-BI Rstt'!A22 -> 14A160 | B26: =IF($A26="Total général",0,IF(ISERROR(-VLOOKUP($A26,'TCD-BI CA'!$A$7:$S$2000,$C$1,FALSE)),0,-VLOOKUP($A26,'TCD-BI CA'!$A$7:$S$2000,$C$1,FALSE))) -> 0 | C26: =B26-E26-D26 -> 0 | D26: =IF($A26="Total général",0,IF(ISERROR(VLOOKUP($A26,'TCD-BI Rstt'!$A$7:$S$2000,$C$1,FALSE)),0,IF(OR(LEFT($A26,3)="DIR",$A26="INDSPACAMA",$A26="INDSPACKRU"),VLOOKUP($A26,'TCD-BI Rstt'!$A$7:$S$2000,$C$1,FALSE),0))) -> 0 | E26: =IF(OR(LEFT($A26,1)="1",LEFT($A26,1)="2"),-VLOOKUP($A26,'TCD-BI Rstt'!$A$7:$S$2000,$C$1,FALSE),0)-D26 -> 0 | F26: =IF($A26="Total général",0,IF(ISERROR(VLOOKUP($A26,'TCD-BI Rstt'!$A$7:$S$2000,$C$1,FALSE)),0,IF(OR(LEFT($A26,1)="1",LEFT($A26,1)="2"),0,VLOOKUP($A26,'TCD-BI Rstt'!$A$7:$S$2000,$C$1,FALSE))))-D26 -> 0 | G26: =E26-F26 -> 0
A27: ='TCD-BI Rstt'!A23 -> 14B015 | B27: =IF($A27="Total général",0,IF(ISERROR(-VLOOKUP($A27,'TCD-BI CA'!$A$7:$S$2000,$C$1,FALSE)),0,-VLOOKUP($A27,'TCD-BI CA'!$A$7:$S$2000,$C$1,FALSE))) -> 0 | C27: =B27-E27-D27 -> 0 | D27: =IF($A27="Total général",0,IF(ISERROR(VLOOKUP($A27,'TCD-BI Rstt'!$A$7:$S$2000,$C$1,FALSE)),0,IF(OR(LEFT($A27,3)="DIR",$A27="INDSPACAMA",$A27="INDSPACKRU"),VLOOKUP($A27,'TCD-BI Rstt'!$A$7:$S$2000,$C$1,FALSE),0))) -> 0 | E27: =IF(OR(LEFT($A27,1)="1",LEFT($A27,1)="2"),-VLOOKUP($A27,'TCD-BI Rstt'!$A$7:$S$2000,$C$1,FALSE),0)-D27 -> 0 | F27: =IF($A27="Total général",0,IF(ISERROR(VLOOKUP($A27,'TCD-BI Rstt'!$A$7:$S$2000,$C$1,FALSE)),0,IF(OR(LEFT($A27,1)="1",LEFT($A27,1)="2"),0,VLOOKUP($A27,'TCD-BI Rstt'!$A$7:$S$2000,$C$1,FALSE))))-D27 -> 0 | G27: =E27-F27 -> 0
A28: ='TCD-BI Rstt'!A24 -> 14F001 | B28: =IF($A28="Total général",0,IF(ISERROR(-VLOOKUP($A28,'TCD-BI CA'!$A$7:$S$2000,$C$1,FALSE)),0,-VLOOKUP($A28,'TCD-BI CA'!$A$7:$S$2000,$C$1,FALSE))) -> 410474.1 | C28: =B28-E28-D28 -> 254455.55 | D28: =IF($A28="Total général",0,IF(ISERROR(VLOOKUP($A28,'TCD-BI Rstt'!$A$7:$S$2000,$C$1,FALSE)),0,IF(OR(LEFT($A28,3)="DIR",$A28="INDSPACAMA",$A28="INDSPACKRU"),VLOOKUP($A28,'TCD-BI Rstt'!$A$7:$S$2000,$C$1,FALSE),0))) -> 0 | E28: =IF(OR(LEFT($A28,1)="1",LEFT($A28,1)="2"),-VLOOKUP($A28,'TCD-BI Rstt'!$A$7:$S$2000,$C$1,FALSE),0)-D28 -> 156018.55 | F28: =IF($A28="Total général",0,IF(ISERROR(VLOOKUP($A28,'TCD-BI Rstt'!$A$7:$S$2000,$C$1,FALSE)),0,IF(OR(LEFT($A28,1)="1",LEFT($A28,1)="2"),0,VLOOKUP($A28,'TCD-BI Rstt'!$A$7:$S$2000,$C$1,FALSE))))-D28 -> 0 | G28: =E28-F28 -> 156018.55
A29: ='TCD-BI Rstt'!A25 -> 14GHS001 | B29: =IF($A29="Total général",0,IF(ISERROR(-VLOOKUP($A29,'TCD-BI CA'!$A$7:$S$2000,$C$1,FALSE)),0,-VLOOKUP($A29,'TCD-BI CA'!$A$7:$S$2000,$C$1,FALSE))) -> 0 | C29: =B29-E29-D29 -> 0 | D29: =IF($A29="Total général",0,IF(ISERROR(VLOOKUP($A29,'TCD-BI Rstt'!$A$7:$S$2000,$C$1,FALSE)),0,IF(OR(LEFT($A29,3)="DIR",$A29="INDSPACAMA",$A29="INDSPACKRU"),VLOOKUP($A29,'TCD-BI Rstt'!$A$7:$S$2000,$C$1,FALSE),0))) -> 0 | E29: =IF(OR(LEFT($A29,1)="1",LEFT($A29,1)="2"),-VLOOKUP($A29,'TCD-BI Rstt'!$A$7:$S$2000,$C$1,FALSE),0)-D29 -> 0 | F29: =IF($A29="Total général",0,IF(ISERROR(VLOOKUP($A29,'TCD-BI Rstt'!$A$7:$S$2000,$C$1,FALSE)),0,IF(OR(LEFT($A29,1)="1",LEFT($A29,1)="2"),0,VLOOKUP($A29,'TCD-BI Rstt'!$A$7:$S$2000,$C$1,FALSE))))-D29 -> 0 | G29: =E29-F29 -> 0
A30: ='TCD-BI Rstt'!A26 -> 14H001 | B30: =IF($A30="Total général",0,IF(ISERROR(-VLOOKUP($A30,'TCD-BI CA'!$A$7:$S$2000,$C$1,FALSE)),0,-VLOOKUP($A30,'TCD-BI CA'!$A$7:$S$2000,$C$1,FALSE))) -> 0 | C30: =B30-E30-D30 -> 0 | D30: =IF($A30="Total général",0,IF(ISERROR(VLOOKUP($A30,'TCD-BI Rstt'!$A$7:$S$2000,$C$1,FALSE)),0,IF(OR(LEFT($A30,3)="DIR",$A30="INDSPACAMA",$A30="INDSPACKRU"),VLOOKUP($A30,'TCD-BI Rstt'!$A$7:$S$2000,$C$1,FALSE),0))) -> 0 | E30: =IF(OR(LEFT($A30,1)="1",LEFT($A30,1)="2"),-VLOOKUP($A30,'TCD-BI Rstt'!$A$7:$S$2000,$C$1,FALSE),0)-D30 -> 0 | F30: =IF($A30="Total général",0,IF(ISERROR(VLOOKUP($A30,'TCD-BI Rstt'!$A$7:$S$2000,$C$1,FALSE)),0,IF(OR(LEFT($A30,1)="1",LEFT($A30,1)="2"),0,VLOOKUP($A30,'TCD-BI Rstt'!$A$7:$S$2000,$C$1,FALSE))))-D30 -> 0 | G30: =E30-F30 -> 0
A31: ='TCD-BI Rstt'!A27 -> 14H002 | B31: =IF($A31="Total général",0,IF(ISERROR(-VLOOKUP($A31,'TCD-BI CA'!$A$7:$S$2000,$C$1,FALSE)),0,-VLOOKUP($A31,'TCD-BI CA'!$A$7:$S$2000,$C$1,FALSE))) -> 0 | C31: =B31-E31-D31 -> 0 | D31: =IF($A31="Total général",0,IF(ISERROR(VLOOKUP($A31,'TCD-BI Rstt'!$A$7:$S$2000,$C$1,FALSE)),0,IF(OR(LEFT($A31,3)="DIR",$A31="INDSPACAMA",$A31="INDSPACKRU"),VLOOKUP($A31,'TCD-BI Rstt'!$A$7:$S$2000,$C$1,FALSE),0))) -> 0 | E31: =IF(OR(LEFT($A31,1)="1",LEFT($A31,1)="2"),-VLOOKUP($A31,'TCD-BI Rstt'!$A$7:$S$2000,$C$1,FALSE),0)-D31 -> 0 | F31: =IF($A31="Total général",0,IF(ISERROR(VLOOKUP($A31,'TCD-BI Rstt'!$A$7:$S$2000,$C$1,FALSE)),0,IF(OR(LEFT($A31,1)="1",LEFT($A31,1)="2"),0,VLOOKUP($A31,'TCD-BI Rstt'!$A$7:$S$2000,$C$1,FALSE))))-D31 -> 0 | G31: =E31-F31 -> 0
A32: ='TCD-BI Rstt'!A28 -> 14H006 | B32: =IF($A32="Total général",0,IF(ISERROR(-VLOOKUP($A32,'TCD-BI CA'!$A$7:$S$2000,$C$1,FALSE)),0,-VLOOKUP($A32,'TCD-BI CA'!$A$7:$S$2000,$C$1,FALSE))) -> 0 | C32: =B32-E32-D32 -> 0 | D32: =IF($A32="Total général",0,IF(ISERROR(VLOOKUP($A32,'TCD-BI Rstt'!$A$7:$S$2000,$C$1,FALSE)),0,IF(OR(LEFT($A32,3)="DIR",$A32="INDSPACAMA",$A32="INDSPACKRU"),VLOOKUP($A32,'TCD-BI Rstt'!$A$7:$S$2000,$C$1,FALSE),0))) -> 0 | E32: =IF(OR(LEFT($A32,1)="1",LEFT($A32,1)="2"),-VLOOKUP($A32,'TCD-BI Rstt'!$A$7:$S$2000,$C$1,FALSE),0)-D32 -> 0 | F32: =IF($A32="Total général",0,IF(ISERROR(VLOOKUP($A32,'TCD-BI Rstt'!$A$7:$S$2000,$C$1,FALSE)),0,IF(OR(LEFT($A32,1)="1",LEFT($A32,1)="2"),0,VLOOKUP($A32,'TCD-BI Rstt'!$A$7:$S$2000,$C$1,FALSE))))-D32 -> 0 | G32: =E32-F32 -> 0
A33: ='TCD-BI Rstt'!A29 -> 14I005 | B33: =IF($A33="Total général",0,IF(ISERROR(-VLOOKUP($A33,'TCD-BI CA'!$A$7:$S$2000,$C$1,FALSE)),0,-VLOOKUP($A33,'TCD-BI CA'!$A$7:$S$2000,$C$1,FALSE))) -> 0 | C33: =B33-E33-D33 -> 0 | D33: =IF($A33="Total général",0,IF(ISERROR(VLOOKUP($A33,'TCD-BI Rstt'!$A$7:$S$2000,$C$1,FALSE)),0,IF(OR(LEFT($A33,3)="DIR",$A33="INDSPACAMA",$A33="INDSPACKRU"),VLOOKUP($A33,'TCD-BI Rstt'!$A$7:$S$2000,$C$1,FALSE),0))) -> 0 | E33: =IF(OR(LEFT($A33,1)="1",LEFT($A33,1)="2"),-VLOOKUP($A33,'TCD-BI Rstt'!$A$7:$S$2000,$C$1,FALSE),0)-D33 -> 0 | F33: =IF($A33="Total général",0,IF(ISERROR(VLOOKUP($A33,'TCD-BI Rstt'!$A$7:$S$2000,$C$1,FALSE)),0,IF(OR(LEFT($A33,1)="1",LEFT($A33,1)="2"),0,VLOOKUP($A33,'TCD-BI Rstt'!$A$7:$S$2000,$C$1,FALSE))))-D33 -> 0 | G33: =E33-F33 -> 0
A34: ='TCD-BI Rstt'!A30 -> 14I010 | B34: =IF($A34="Total général",0,IF(ISERROR(-VLOOKUP($A34,'TCD-BI CA'!$A$7:$S$2000,$C$1,FALSE)),0,-VLOOKUP($A34,'TCD-BI CA'!$A$7:$S$2000,$C$1,FALSE))) -> 0 | C34: =B34-E34-D34 -> 0 | D34: =IF($A34="Total général",0,IF(ISERROR(VLOOKUP($A34,'TCD-BI Rstt'!$A$7:$S$2000,$C$1,FALSE)),0,IF(OR(LEFT($A34,3)="DIR",$A34="INDSPACAMA",$A34="INDSPACKRU"),VLOOKUP($A34,'TCD-BI Rstt'!$A$7:$S$2000,$C$1,FALSE),0))) -> 0 | E34: =IF(OR(LEFT($A34,1)="1",LEFT($A34,1)="2"),-VLOOKUP($A34,'TCD-BI Rstt'!$A$7:$S$2000,$C$1,FALSE),0)-D34 -> 0 | F34: =IF($A34="Total général",0,IF(ISERROR(VLOOKUP($A34,'TCD-BI Rstt'!$A$7:$S$2000,$C$1,FALSE)),0,IF(OR(LEFT($A34,1)="1",LEFT($A34,1)="2"),0,VLOOKUP($A34,'TCD-BI Rstt'!$A$7:$S$2000,$C$1,FALSE))))-D34 -> 0 | G34: =E34-F34 -> 0
A35: ='TCD-BI Rstt'!A31 -> 14I011 | B35: =IF($A35="Total général",0,IF(ISERROR(-VLOOKUP($A35,'TCD-BI CA'!$A$7:$S$2000,$C$1,FALSE)),0,-VLOOKUP($A35,'TCD-BI CA'!$A$7:$S$2000,$C$1,FALSE))) -> 0 | C35: =B35-E35-D35 -> 0 | D35: =IF($A35="Total général",0,IF(ISERROR(VLOOKUP($A35,'TCD-BI Rstt'!$A$7:$S$2000,$C$1,FALSE)),0,IF(OR(LEFT($A35,3)="DIR",$A35="INDSPACAMA",$A35="INDSPACKRU"),VLOOKUP($A35,'TCD-BI Rstt'!$A$7:$S$2000,$C$1,FALSE),0))) -> 0 | E35: =IF(OR(LEFT($A35,1)="1",LEFT($A35,1)="2"),-VLOOKUP($A35,'TCD-BI Rstt'!$A$7:$S$2000,$C$1,FALSE),0)-D35 -> 0 | F35: =IF($A35="Total général",0,IF(ISERROR(VLOOKUP($A35,'TCD-BI Rstt'!$A$7:$S$2000,$C$1,FALSE)),0,IF(OR(LEFT($A35,1)="1",LEFT($A35,1)="2"),0,VLOOKUP($A35,'TCD-BI Rstt'!$A$7:$S$2000,$C$1,FALSE))))-D35 -> 0 | G35: =E35-F35 -> 0
A36: ='TCD-BI Rstt'!A32 -> 14I013 | B36: =IF($A36="Total général",0,IF(ISERROR(-VLOOKUP($A36,'TCD-BI CA'!$A$7:$S$2000,$C$1,FALSE)),0,-VLOOKUP($A36,'TCD-BI CA'!$A$7:$S$2000,$C$1,FALSE))) -> 0 | C36: =B36-E36-D36 -> 0 | D36: =IF($A36="Total général",0,IF(ISERROR(VLOOKUP($A36,'TCD-BI Rstt'!$A$7:$S$2000,$C$1,FALSE)),0,IF(OR(LEFT($A36,3)="DIR",$A36="INDSPACAMA",$A36="INDSPACKRU"),VLOOKUP($A36,'TCD-BI Rstt'!$A$7:$S$2000,$C$1,FALSE),0))) -> 0 | E36: =IF(OR(LEFT($A36,1)="1",LEFT($A36,1)="2"),-VLOOKUP($A36,'TCD-BI Rstt'!$A$7:$S$2000,$C$1,FALSE),0)-D36 -> 0 | F36: =IF($A36="Total général",0,IF(ISERROR(VLOOKUP($A36,'TCD-BI Rstt'!$A$7:$S$2000,$C$1,FALSE)),0,IF(OR(LEFT($A36,1)="1",LEFT($A36,1)="2"),0,VLOOKUP($A36,'TCD-BI Rstt'!$A$7:$S$2000,$C$1,FALSE))))-D36 -> 0 | G36: =E36-F36 -> 0
A37: ='TCD-BI Rstt'!A33 -> 14I015 | B37: =IF($A37="Total général",0,IF(ISERROR(-VLOOKUP($A37,'TCD-BI CA'!$A$7:$S$2000,$C$1,FALSE)),0,-VLOOKUP($A37,'TCD-BI CA'!$A$7:$S$2000,$C$1,FALSE))) -> 0 | C37: =B37-E37-D37 -> 0 | D37: =IF($A37="Total général",0,IF(ISERROR(VLOOKUP($A37,'TCD-BI Rstt'!$A$7:$S$2000,$C$1,FALSE)),0,IF(OR(LEFT($A37,3)="DIR",$A37="INDSPACAMA",$A37="INDSPACKRU"),VLOOKUP($A37,'TCD-BI Rstt'!$A$7:$S$2000,$C$1,FALSE),0))) -> 0 | E37: =IF(OR(LEFT($A37,1)="1",LEFT($A37,1)="2"),-VLOOKUP($A37,'TCD-BI Rstt'!$A$7:$S$2000,$C$1,FALSE),0)-D37 -> 0 | F37: =IF($A37="Total général",0,IF(ISERROR(VLOOKUP($A37,'TCD-BI Rstt'!$A$7:$S$2000,$C$1,FALSE)),0,IF(OR(LEFT($A37,1)="1",LEFT($A37,1)="2"),0,VLOOKUP($A37,'TCD-BI Rstt'!$A$7:$S$2000,$C$1,FALSE))))-D37 -> 0 | G37: =E37-F37 -> 0
... A2008: ='TCD-BI Rstt'!A2004 -> 0 | B2008: =IF($A2008="Total général",0,IF(ISERROR(-VLOOKUP($A2008,'TCD-BI CA'!$A$7:$S$2000,$C$1,FALSE)),0,-VLOOKUP($A2008,'TCD-BI CA'!$A$7:$S$2000,$C$1,FALSE))) -> 0 | C2008: =B2008-E2008-D2008 -> 0 | D2008: =IF($A2008="Total général",0,IF(ISERROR(VLOOKUP($A2008,'TCD-BI Rstt'!$A$7:$S$2000,$C$1,FALSE)),0,IF(OR(LEFT($A2008,3)="DIR",$A2008="INDSPACAMA",$A2008="INDSPACKRU"),VLOOKUP($A2008,'TCD-BI Rstt'!$A$7:$S$2000,$C$1,FALSE),0))) -> 0 | E2008: =IF(OR(LEFT($A2008,1)="1",LEFT($A2008,1)="2"),-VLOOKUP($A2008,'TCD-BI Rstt'!$A$7:$S$2000,$C$1,FALSE),0)-D2008 -> 0 | F2008: =IF($A2008="Total général",0,IF(ISERROR(VLOOKUP($A2008,'TCD-BI Rstt'!$A$7:$S$2000,$C$1,FALSE)),0,IF(OR(LEFT($A2008,1)="1",LEFT($A2008,1)="2"),0,VLOOKUP($A2008,'TCD-BI Rstt'!$A$7:$S$2000,$C$1,FALSE))))-D2008 -> 0 | G2008: =E2008-F2008 -> 0

Sheet AIRPORT
B1: AIRPORT | C1: =HLOOKUP($B$1,'TCD-BI CA'!$B$6:$S$2001,1996,FALSE) -> 3 | K1: Clés de répartition des coûts indirects entre BU : | M1: vers autre BU | O1: depuis autres BU | P1: Total Réaffectations
M2: Taux | N2: Montant | O2: Montant | P2: =SUM(N3:O25) -> 233920.67
B3: CA | C3: Coûts directs | E3: MBO | F3: Coûts indir | G3: Marge contrib | L3: {=TRANSPOSE('TCD-BI CA'!B6:X6)} -> AFRICA | N3: =-$F$9*M3 -> 0 | O3: =-VLOOKUP($B$1,AFRICA,3,FALSE) -> 242289.48
C4: Affectés | D4: Non affectés | L4: AIRPORT | N4: =-$F$9*M4 -> 0 | O4: =-VLOOKUP($B$1,AIRPORT,3,FALSE) -> 0
L5: AMIA | M5: 0.2 | N5: =-$F$9*M5 -> -8368.808
B6: =B9+B8 -> 2889563.8 | C6: =C9+C8 -> 1499459.2 | D6: =D9+D8 -> 589017.63 | E6: =E9+E8 -> 801086.9 | F6: =F9+F8 -> 275764.71 | G6: =G9+G8 -> 525322.19 | H6: Totaux par BU après réaffectation | L6: ASIA | N6: =-$F$9*M6 -> 0
L7: FRANCE | N7: =-$F$9*M7 -> 0
E8: =B8-C8-D8 -> 0 | F8: =P2 -> 233920.67 | G8: =E8-F8 -> -233920.67 | H8: Réaffectation Coûts indirectes entre BU | L8: HEADQTR | N8: =-$F$9*M8 -> 0
B9: =SUM(B11:B2008) -> 2889563.8 | C9: =SUM(C11:C2008) -> 1499459.2 | D9: =SUM(D11:D2008) -> 589017.63 | E9: =SUM(E11:E2008) -> 801086.9 | F9: =SUM(F11:F2008) -> 41844.04 | G9: =SUM(G11:G2008) -> 759242.86 | H9: Totaux bruts compta par BU | L9: INFRA | N9: =-$F$9*M9 -> 0
L10: INTL | N10: =-$F$9*M10 -> 0
A11: ='TCD-BI Rstt'!A7 -> 11AAL001 | B11: =IF($A11="Total général",0,IF(ISERROR(-VLOOKUP($A11,'TCD-BI CA'!$A$7:$S$2000,$C$1,FALSE)),0,-VLOOKUP($A11,'TCD-BI CA'!$A$7:$S$2000,$C$1,FALSE))) -> 0 | C11: =B11-E11-D11 -> 0 | D11: =IF($A11="Total général",0,IF(ISERROR(VLOOKUP($A11,'TCD-BI Rstt'!$A$7:$S$2000,$C$1,FALSE)),0,IF(OR(LEFT($A11,3)="DIR",$A11="INDSPACAMA",$A11="INDSPACKRU"),VLOOKUP($A11,'TCD-BI Rstt'!$A$7:$S$2000,$C$1,FALSE),0))) -> 0 | E11: =IF(OR(LEFT($A11,1)="1",LEFT($A11,1)="2"),-VLOOKUP($A11,'TCD-BI Rstt'!$A$7:$S$2000,$C$1,FALSE),0)-D11 -> 0 | F11: =IF($A11="Total général",0,IF(ISERROR(VLOOKUP($A11,'TCD-BI Rstt'!$A$7:$S$2000,$C$1,FALSE)),0,IF(OR(LEFT($A11,1)="1",LEFT($A11,1)="2"),0,VLOOKUP($A11,'TCD-BI Rstt'!$A$7:$S$2000,$C$1,FALSE))))-D11 -> 0 | G11: =E11-F11 -> 0 | L11: LATAM | N11: =-$F$9*M11 -> 0
A12: ='TCD-BI Rstt'!A8 -> 11H001 | B12: =IF($A12="Total général",0,IF(ISERROR(-VLOOKUP($A12,'TCD-BI CA'!$A$7:$S$2000,$C$1,FALSE)),0,-VLOOKUP($A12,'TCD-BI CA'!$A$7:$S$2000,$C$1,FALSE))) -> 171159.73 | C12: =B12-E12-D12 -> 11498.97 | D12: =IF($A12="Total général",0,IF(ISERROR(VLOOKUP($A12,'TCD-BI Rstt'!$A$7:$S$2000,$C$1,FALSE)),0,IF(OR(LEFT($A12,3)="DIR",$A12="INDSPACAMA",$A12="INDSPACKRU"),VLOOKUP($A12,'TCD-BI Rstt'!$A$7:$S$2000,$C$1,FALSE),0))) -> 0 | E12: =IF(OR(LEFT($A12,1)="1",LEFT($A12,1)="2"),-VLOOKUP($A12,'TCD-BI Rstt'!$A$7:$S$2000,$C$1,FALSE),0)-D12 -> 159660.76 | F12: =IF($A12="Total général",0,IF(ISERROR(VLOOKUP($A12,'TCD-BI Rstt'!$A$7:$S$2000,$C$1,FALSE)),0,IF(OR(LEFT($A12,1)="1",LEFT($A12,1)="2"),0,VLOOKUP($A12,'TCD-BI Rstt'!$A$7:$S$2000,$C$1,FALSE))))-D12 -> 0 | G12: =E12-F12 -> 159660.76 | L12: MENA | N12: =-$F$9*M12 -> 0
A13: ='TCD-BI Rstt'!A9 -> 12A159 | B13: =IF($A13="Total général",0,IF(ISERROR(-VLOOKUP($A13,'TCD-BI CA'!$A$7:$S$2000,$C$1,FALSE)),0,-VLOOKUP($A13,'TCD-BI CA'!$A$7:$S$2000,$C$1,FALSE))) -> 153111.72 | C13: =B13-E13-D13 -> 120892.12 | D13: =IF($A13="Total général",0,IF(ISERROR(VLOOKUP($A13,'TCD-BI Rstt'!$A$7:$S$2000,$C$1,FALSE)),0,IF(OR(LEFT($A13,3)="DIR",$A13="INDSPACAMA",$A13="INDSPACKRU"),VLOOKUP($A13,'TCD-BI Rstt'!$A$7:$S$2000,$C$1,FALSE),0))) -> 0 | E13: =IF(OR(LEFT($A13,1)="1",LEFT($A13,1)="2"),-VLOOKUP($A13,'TCD-BI Rstt'!$A$7:$S$2000,$C$1,FALSE),0)-D13 -> 32219.6 | F13: =IF($A13="Total général",0,IF(ISERROR(VLOOKUP($A13,'TCD-BI Rstt'!$A$7:$S$2000,$C$1,FALSE)),0,IF(OR(LEFT($A13,1)="1",LEFT($A13,1)="2"),0,VLOOKUP($A13,'TCD-BI Rstt'!$A$7:$S$2000,$C$1,FALSE))))-D13 -> 0 | G13: =E13-F13 -> 32219.6 | L13: N/A | N13: =-$F$9*M13 -> 0
A14: ='TCD-BI Rstt'!A10 -> 12I001 | B14: =IF($A14="Total général",0,IF(ISERROR(-VLOOKUP($A14,'TCD-BI CA'!$A$7:$S$2000,$C$1,FALSE)),0,-VLOOKUP($A14,'TCD-BI CA'!$A$7:$S$2000,$C$1,FALSE))) -> 0 | C14: =B14-E14-D14 -> 0 | D14: =IF($A14="Total général",0,IF(ISERROR(VLOOKUP($A14,'TCD-BI Rstt'!$A$7:$S$2000,$C$1,FALSE)),0,IF(OR(LEFT($A14,3)="DIR",$A14="INDSPACAMA",$A14="INDSPACKRU"),VLOOKUP($A14,'TCD-BI Rstt'!$A$7:$S$2000,$C$1,FALSE),0))) -> 0 | E14: =IF(OR(LEFT($A14,1)="1",LEFT($A14,1)="2"),-VLOOKUP($A14,'TCD-BI Rstt'!$A$7:$S$2000,$C$1,FALSE),0)-D14 -> 0 | F14: =IF($A14="Total général",0,IF(ISERROR(VLOOKUP($A14,'TCD-BI Rstt'!$A$7:$S$2000,$C$1,FALSE)),0,IF(OR(LEFT($A14,1)="1",LEFT($A14,1)="2"),0,VLOOKUP($A14,'TCD-BI Rstt'!$A$7:$S$2000,$C$1,FALSE))))-D14 -> 0 | G14: =E14-F14 -> 0 | L14: RUSSIA | N14: =-$F$9*M14 -> 0
A15: ='TCD-BI Rstt'!A11 -> 13A089 | B15: =IF($A15="Total général",0,IF(ISERROR(-VLOOKUP($A15,'TCD-BI CA'!$A$7:$S$2000,$C$1,FALSE)),0,-VLOOKUP($A15,'TCD-BI CA'!$A$7:$S$2000,$C$1,FALSE))) -> 142500 | C15: =B15-E15-D15 -> 96050.16 | D15: =IF($A15="Total général",0,IF(ISERROR(VLOOKUP($A15,'TCD-BI Rstt'!$A$7:$S$2000,$C$1,FALSE)),0,IF(OR(LEFT($A15,3)="DIR",$A15="INDSPACAMA",$A15="INDSPACKRU"),VLOOKUP($A15,'TCD-BI Rstt'!$A$7:$S$2000,$C$1,FALSE),0))) -> 0 | E15: =IF(OR(LEFT($A15,1)="1",LEFT($A15,1)="2"),-VLOOKUP($A15,'TCD-BI Rstt'!$A$7:$S$2000,$C$1,FALSE),0)-D15 -> 46449.84 | F15: =IF($A15="Total général",0,IF(ISERROR(VLOOKUP($A15,'TCD-BI Rstt'!$A$7:$S$2000,$C$1,FALSE)),0,IF(OR(LEFT($A15,1)="1",LEFT($A15,1)="2"),0,VLOOKUP($A15,'TCD-BI Rstt'!$A$7:$S$2000,$C$1,FALSE))))-D15 -> 0 | G15: =E15-F15 -> 46449.84 | L15: SPACE | N15: =-$F$9*M15 -> 0
A16: ='TCD-BI Rstt'!A12 -> 13A223 | B16: =IF($A16="Total général",0,IF(ISERROR(-VLOOKUP($A16,'TCD-BI CA'!$A$7:$S$2000,$C$1,FALSE)),0,-VLOOKUP($A16,'TCD-BI CA'!$A$7:$S$2000,$C$1,FALSE))) -> 149059.55 | C16: =B16-E16-D16 -> 78058.89 | D16: =IF($A16="Total général",0,IF(ISERROR(VLOOKUP($A16,'TCD-BI Rstt'!$A$7:$S$2000,$C$1,FALSE)),0,IF(OR(LEFT($A16,3)="DIR",$A16="INDSPACAMA",$A16="INDSPACKRU"),VLOOKUP($A16,'TCD-BI Rstt'!$A$7:$S$2000,$C$1,FALSE),0))) -> 0 | E16: =IF(OR(LEFT($A16,1)="1",LEFT($A16,1)="2"),-VLOOKUP($A16,'TCD-BI Rstt'!$A$7:$S$2000,$C$1,FALSE),0)-D16 -> 71000.66 | F16: =IF($A16="Total général",0,IF(ISERROR(VLOOKUP($A16,'TCD-BI Rstt'!$A$7:$S$2000,$C$1,FALSE)),0,IF(OR(LEFT($A16,1)="1",LEFT($A16,1)="2"),0,VLOOKUP($A16,'TCD-BI Rstt'!$A$7:$S$2000,$C$1,FALSE))))-D16 -> 0 | G16: =E16-F16 -> 71000.66 | L16: Total général | N16: =-$F$9*M16 -> 0
A17: ='TCD-BI Rstt'!A13 -> 13AALP001 | B17: =IF($A17="Total général",0,IF(ISERROR(-VLOOKUP($A17,'TCD-BI CA'!$A$7:$S$2000,$C$1,FALSE)),0,-VLOOKUP($A17,'TCD-BI CA'!$A$7:$S$2000,$C$1,FALSE))) -> 0 | C17: =B17-E17-D17 -> 0 | D17: =IF($A17="Total général",0,IF(ISERROR(VLOOKUP($A17,'TCD-BI Rstt'!$A$7:$S$2000,$C$1,FALSE)),0,IF(OR(LEFT($A17,3)="DIR",$A17="INDSPACAMA",$A17="INDSPACKRU"),VLOOKUP($A17,'TCD-BI Rstt'!$A$7:$S$2000,$C$1,FALSE),0))) -> 0 | E17: =IF(OR(LEFT($A17,1)="1",LEFT($A17,1)="2"),-VLOOKUP($A17,'TCD-BI Rstt'!$A$7:$S$2000,$C$1,FALSE),0)-D17 -> 0 | F17: =IF($A17="Total général",0,IF(ISERROR(VLOOKUP($A17,'TCD-BI Rstt'!$A$7:$S$2000,$C$1,FALSE)),0,IF(OR(LEFT($A17,1)="1",LEFT($A17,1)="2"),0,VLOOKUP($A17,'TCD-BI Rstt'!$A$7:$S$2000,$C$1,FALSE))))-D17 -> 0 | G17: =E17-F17 -> 0 | L17: 0 | N17: =-$F$9*M17 -> 0
A18: ='TCD-BI Rstt'!A14 -> 13H003 | B18: =IF($A18="Total général",0,IF(ISERROR(-VLOOKUP($A18,'TCD-BI CA'!$A$7:$S$2000,$C$1,FALSE)),0,-VLOOKUP($A18,'TCD-BI CA'!$A$7:$S$2000,$C$1,FALSE))) -> 96103.85 | C18: =B18-E18-D18 -> 0 | D18: =IF($A18="Total général",0,IF(ISERROR(VLOOKUP($A18,'TCD-BI Rstt'!$A$7:$S$2000,$C$1,FALSE)),0,IF(OR(LEFT($A18,3)="DIR",$A18="INDSPACAMA",$A18="INDSPACKRU"),VLOOKUP($A18,'TCD-BI Rstt'!$A$7:$S$2000,$C$1,FALSE),0))) -> 0 | E18: =IF(OR(LEFT($A18,1)="1",LEFT($A18,1)="2"),-VLOOKUP($A18,'TCD-BI Rstt'!$A$7:$S$2000,$C$1,FALSE),0)-D18 -> 96103.85 | F18: =IF($A18="Total général",0,IF(ISERROR(VLOOKUP($A18,'TCD-BI Rstt'!$A$7:$S$2000,$C$1,FALSE)),0,IF(OR(LEFT($A18,1)="1",LEFT($A18,1)="2"),0,VLOOKUP($A18,'TCD-BI Rstt'!$A$7:$S$2000,$C$1,FALSE))))-D18 -> 0 | G18: =E18-F18 -> 96103.85 | L18: 0 | N18: =-$F$9*M18 -> 0
A19: ='TCD-BI Rstt'!A15 -> 13I010 | B19: =IF($A19="Total général",0,IF(ISERROR(-VLOOKUP($A19,'TCD-BI CA'!$A$7:$S$2000,$C$1,FALSE)),0,-VLOOKUP($A19,'TCD-BI CA'!$A$7:$S$2000,$C$1,FALSE))) -> 0 | C19: =B19-E19-D19 -> 0 | D19: =IF($A19="Total général",0,IF(ISERROR(VLOOKUP($A19,'TCD-BI Rstt'!$A$7:$S$2000,$C$1,FALSE)),0,IF(OR(LEFT($A19,3)="DIR",$A19="INDSPACAMA",$A19="INDSPACKRU"),VLOOKUP($A19,'TCD-BI Rstt'!$A$7:$S$2000,$C$1,FALSE),0))) -> 0 | E19: =IF(OR(LEFT($A19,1)="1",LEFT($A19,1)="2"),-VLOOKUP($A19,'TCD-BI Rstt'!$A$7:$S$2000,$C$1,FALSE),0)-D19 -> 0 | F19: =IF($A19="Total général",0,IF(ISERROR(VLOOKUP($A19,'TCD-BI Rstt'!$A$7:$S$2000,$C$1,FALSE)),0,IF(OR(LEFT($A19,1)="1",LEFT($A19,1)="2"),0,VLOOKUP($A19,'TCD-BI Rstt'!$A$7:$S$2000,$C$1,FALSE))))-D19 -> 0 | G19: =E19-F19 -> 0 | L19: 0 | N19: =-$F$9*M19 -> 0
A20: ='TCD-BI Rstt'!A16 -> 13N004 | B20: =IF($A20="Total général",0,IF(ISERROR(-VLOOKUP($A20,'TCD-BI CA'!$A$7:$S$2000,$C$1,FALSE)),0,-VLOOKUP($A20,'TCD-BI CA'!$A$7:$S$2000,$C$1,FALSE))) -> 0 | C20: =B20-E20-D20 -> 0 | D20: =IF($A20="Total général",0,IF(ISERROR(VLOOKUP($A20,'TCD-BI Rstt'!$A$7:$S$2000,$C$1,FALSE)),0,IF(OR(LEFT($A20,3)="DIR",$A20="INDSPACAMA",$A20="INDSPACKRU"),VLOOKUP($A20,'TCD-BI Rstt'!$A$7:$S$2000,$C$1,FALSE),0))) -> 0 | E20: =IF(OR(LEFT($A20,1)="1",LEFT($A20,1)="2"),-VLOOKUP($A20,'TCD-BI Rstt'!$A$7:$S$2000,$C$1,FALSE),0)-D20 -> 0 | F20: =IF($A20="Total général",0,IF(ISERROR(VLOOKUP($A20,'TCD-BI Rstt'!$A$7:$S$2000,$C$1,FALSE)),0,IF(OR(LEFT($A20,1)="1",LEFT($A20,1)="2"),0,VLOOKUP($A20,'TCD-BI Rstt'!$A$7:$S$2000,$C$1,FALSE))))-D20 -> 0 | G20: =E20-F20 -> 0 | L20: 0 | N20: =-$F$9*M20 -> 0
A21: ='TCD-BI Rstt'!A17 -> 14A008 | B21: =IF($A21="Total général",0,IF(ISERROR(-VLOOKUP($A21,'TCD-BI CA'!$A$7:$S$2000,$C$1,FALSE)),0,-VLOOKUP($A21,'TCD-BI CA'!$A$7:$S$2000,$C$1,FALSE))) -> 0 | C21: =B21-E21-D21 -> 0 | D21: =IF($A21="Total général",0,IF(ISERROR(VLOOKUP($A21,'TCD-BI Rstt'!$A$7:$S$2000,$C$1,FALSE)),0,IF(OR(LEFT($A21,3)="DIR",$A21="INDSPACAMA",$A21="INDSPACKRU"),VLOOKUP($A21,'TCD-BI Rstt'!$A$7:$S$2000,$C$1,FALSE),0))) -> 0 | E21: =IF(OR(LEFT($A21,1)="1",LEFT($A21,1)="2"),-VLOOKUP($A21,'TCD-BI Rstt'!$A$7:$S$2000,$C$1,FALSE),0)-D21 -> 0 | F21: =IF($A21="Total général",0,IF(ISERROR(VLOOKUP($A21,'TCD-BI Rstt'!$A$7:$S$2000,$C$1,FALSE)),0,IF(OR(LEFT($A21,1)="1",LEFT($A21,1)="2"),0,VLOOKUP($A21,'TCD-BI Rstt'!$A$7:$S$2000,$C$1,FALSE))))-D21 -> 0 | G21: =E21-F21 -> 0 | L21: 0 | N21: =-$F$9*M21 -> 0
A22: ='TCD-BI Rstt'!A18 -> 14A058 | B22: =IF($A22="Total général",0,IF(ISERROR(-VLOOKUP($A22,'TCD-BI CA'!$A$7:$S$2000,$C$1,FALSE)),0,-VLOOKUP($A22,'TCD-BI CA'!$A$7:$S$2000,$C$1,FALSE))) -> 0 | C22: =B22-E22-D22 -> 0 | D22: =IF($A22="Total général",0,IF(ISERROR(VLOOKUP($A22,'TCD-BI Rstt'!$A$7:$S$2000,$C$1,FALSE)),0,IF(OR(LEFT($A22,3)="DIR",$A22="INDSPACAMA",$A22="INDSPACKRU"),VLOOKUP($A22,'TCD-BI Rstt'!$A$7:$S$2000,$C$1,FALSE),0))) -> 0 | E22: =IF(OR(LEFT($A22,1)="1",LEFT($A22,1)="2"),-VLOOKUP($A22,'TCD-BI Rstt'!$A$7:$S$2000,$C$1,FALSE),0)-D22 -> 0 | F22: =IF($A22="Total général",0,IF(ISERROR(VLOOKUP($A22,'TCD-BI Rstt'!$A$7:$S$2000,$C$1,FALSE)),0,IF(OR(LEFT($A22,1)="1",LEFT($A22,1)="2"),0,VLOOKUP($A22,'TCD-BI Rstt'!$A$7:$S$2000,$C$1,FALSE))))-D22 -> 0 | G22: =E22-F22 -> 0 | L22: 0 | N22: =-$F$9*M22 -> 0
A23: ='TCD-BI Rstt'!A19 -> 14A093 | B23: =IF($A23="Total général",0,IF(ISERROR(-VLOOKUP($A23,'TCD-BI CA'!$A$7:$S$2000,$C$1,FALSE)),0,-VLOOKUP($A23,'TCD-BI CA'!$A$7:$S$2000,$C$1,FALSE))) -> 0 | C23: =B23-E23-D23 -> 0 | D23: =IF($A23="Total général",0,IF(ISERROR(VLOOKUP($A23,'TCD-BI Rstt'!$A$7:$S$2000,$C$1,FALSE)),0,IF(OR(LEFT($A23,3)="DIR",$A23="INDSPACAMA",$A23="INDSPACKRU"),VLOOKUP($A23,'TCD-BI Rstt'!$A$7:$S$2000,$C$1,FALSE),0))) -> 0 | E23: =IF(OR(LEFT($A23,1)="1",LEFT($A23,1)="2"),-VLOOKUP($A23,'TCD-BI Rstt'!$A$7:$S$2000,$C$1,FALSE),0)-D23 -> 0 | F23: =IF($A23="Total général",0,IF(ISERROR(VLOOKUP($A23,'TCD-BI Rstt'!$A$7:$S$2000,$C$1,FALSE)),0,IF(OR(LEFT($A23,1)="1",LEFT($A23,1)="2"),0,VLOOKUP($A23,'TCD-BI Rstt'!$A$7:$S$2000,$C$1,FALSE))))-D23 -> 0 | G23: =E23-F23 -> 0 | L23: 0 | N23: =-$F$9*M23 -> 0
A24: ='TCD-BI Rstt'!A20 -> 14A118 | B24: =IF($A24="Total général",0,IF(ISERROR(-VLOOKUP($A24,'TCD-BI CA'!$A$7:$S$2000,$C$1,FALSE)),0,-VLOOKUP($A24,'TCD-BI CA'!$A$7:$S$2000,$C$1,FALSE))) -> 0 | C24: =B24-E24-D24 -> 0 | D24: =IF($A24="Total général",0,IF(ISERROR(VLOOKUP($A24,'TCD-BI Rstt'!$A$7:$S$2000,$C$1,FALSE)),0,IF(OR(LEFT($A24,3)="DIR",$A24="INDSPACAMA",$A24="INDSPACKRU"),VLOOKUP($A24,'TCD-BI Rstt'!$A$7:$S$2000,$C$1,FALSE),0))) -> 0 | E24: =IF(OR(LEFT($A24,1)="1",LEFT($A24,1)="2"),-VLOOKUP($A24,'TCD-BI Rstt'!$A$7:$S$2000,$C$1,FALSE),0)-D24 -> 0 | F24: =IF($A24="Total général",0,IF(ISERROR(VLOOKUP($A24,'TCD-BI Rstt'!$A$7:$S$2000,$C$1,FALSE)),0,IF(OR(LEFT($A24,1)="1",LEFT($A24,1)="2"),0,VLOOKUP($A24,'TCD-BI Rstt'!$A$7:$S$2000,$C$1,FALSE))))-D24 -> 0 | G24: =E24-F24 -> 0 | L24: 0 | N24: =-$F$9*M24 -> 0
A25: ='TCD-BI Rstt'!A21 -> 14A128 | B25: =IF($A25="Total général",0,IF(ISERROR(-VLOOKUP($A25,'TCD-BI CA'!$A$7:$S$2000,$C$1,FALSE)),0,-VLOOKUP($A25,'TCD-BI CA'!$A$7:$S$2000,$C$1,FALSE))) -> 37900 | C25: =B25-E25-D25 -> 16476.59 | D25: =IF($A25="Total général",0,IF(ISERROR(VLOOKUP($A25,'TCD-BI Rstt'!$A$7:$S$2000,$C$1,FALSE)),0,IF(OR(LEFT($A25,3)="DIR",$A25="INDSPACAMA",$A25="INDSPACKRU"),VLOOKUP($A25,'TCD-BI Rstt'!$A$7:$S$2000,$C$1,FALSE),0))) -> 0 | E25: =IF(OR(LEFT($A25,1)="1",LEFT($A25,1)="2"),-VLOOKUP($A25,'TCD-BI Rstt'!$A$7:$S$2000,$C$1,FALSE),0)-D25 -> 21423.41 | F25: =IF($A25="Total général",0,IF(ISERROR(VLOOKUP($A25,'TCD-BI Rstt'!$A$7:$S$2000,$C$1,FALSE)),0,IF(OR(LEFT($A25,1)="1",LEFT($A25,1)="2"),0,VLOOKUP($A25,'TCD-BI Rstt'!$A$7:$S$2000,$C$1,FALSE))))-D25 -> 0 | G25: =E25-F25 -> 21423.41 | L25: 0 | N25: =-$F$9*M25 -> 0
A26: ='TCD-BI Rstt'!A22 -> 14A160 | B26: =IF($A26="Total général",0,IF(ISERROR(-VLOOKUP($A26,'TCD-BI CA'!$A$7:$S$2000,$C$1,FALSE)),0,-VLOOKUP($A26,'TCD-BI CA'!$A$7:$S$2000,$C$1,FALSE))) -> -39553 | C26: =B26-E26-D26 -> 0 | D26: =IF($A26="Total général",0,IF(ISERROR(VLOOKUP($A26,'TCD-BI Rstt'!$A$7:$S$2000,$C$1,FALSE)),0,IF(OR(LEFT($A26,3)="DIR",$A26="INDSPACAMA",$A26="INDSPACKRU"),VLOOKUP($A26,'TCD-BI Rstt'!$A$7:$S$2000,$C$1,FALSE),0))) -> 0 | E26: =IF(OR(LEFT($A26,1)="1",LEFT($A26,1)="2"),-VLOOKUP($A26,'TCD-BI Rstt'!$A$7:$S$2000,$C$1,FALSE),0)-D26 -> -39553 | F26: =IF($A26="Total général",0,IF(ISERROR(VLOOKUP($A26,'TCD-BI Rstt'!$A$7:$S$2000,$C$1,FALSE)),0,IF(OR(LEFT($A26,1)="1",LEFT($A26,1)="2"),0,VLOOKUP($A26,'TCD-BI Rstt'!$A$7:$S$2000,$C$1,FALSE))))-D26 -> 0 | G26: =E26-F26 -> -39553
A27: ='TCD-BI Rstt'!A23 -> 14B015 | B27: =IF($A27="Total général",0,IF(ISERROR(-VLOOKUP($A27,'TCD-BI CA'!$A$7:$S$2000,$C$1,FALSE)),0,-VLOOKUP($A27,'TCD-BI CA'!$A$7:$S$2000,$C$1,FALSE))) -> 0 | C27: =B27-E27-D27 -> 0 | D27: =IF($A27="Total général",0,IF(ISERROR(VLOOKUP($A27,'TCD-BI Rstt'!$A$7:$S$2000,$C$1,FALSE)),0,IF(OR(LEFT($A27,3)="DIR",$A27="INDSPACAMA",$A27="INDSPACKRU"),VLOOKUP($A27,'TCD-BI Rstt'!$A$7:$S$2000,$C$1,FALSE),0))) -> 0 | E27: =IF(OR(LEFT($A27,1)="1",LEFT($A27,1)="2"),-VLOOKUP($A27,'TCD-BI Rstt'!$A$7:$S$2000,$C$1,FALSE),0)-D27 -> 0 | F27: =IF($A27="Total général",0,IF(ISERROR(VLOOKUP($A27,'TCD-BI Rstt'!$A$7:$S$2000,$C$1,FALSE)),0,IF(OR(LEFT($A27,1)="1",LEFT($A27,1)="2"),0,VLOOKUP($A27,'TCD-BI Rstt'!$A$7:$S$2000,$C$1,FALSE))))-D27 -> 0 | G27: =E27-F27 -> 0
A28: ='TCD-BI Rstt'!A24 -> 14F001 | B28: =IF($A28="Total général",0,IF(ISERROR(-VLOOKUP($A28,'TCD-BI CA'!$A$7:$S$2000,$C$1,FALSE)),0,-VLOOKUP($A28,'TCD-BI CA'!$A$7:$S$2000,$C$1,FALSE))) -> 0 | C28: =B28-E28-D28 -> 0 | D28: =IF($A28="Total général",0,IF(ISERROR(VLOOKUP($A28,'TCD-BI Rstt'!$A$7:$S$2000,$C$1,FALSE)),0,IF(OR(LEFT($A28,3)="DIR",$A28="INDSPACAMA",$A28="INDSPACKRU"),VLOOKUP($A28,'TCD-BI Rstt'!$A$7:$S$2000,$C$1,FALSE),0))) -> 0 | E28: =IF(OR(LEFT($A28,1)="1",LEFT($A28,1)="2"),-VLOOKUP($A28,'TCD-BI Rstt'!$A$7:$S$2000,$C$1,FALSE),0)-D28 -> 0 | F28: =IF($A28="Total général",0,IF(ISERROR(VLOOKUP($A28,'TCD-BI Rstt'!$A$7:$S$2000,$C$1,FALSE)),0,IF(OR(LEFT($A28,1)="1",LEFT($A28,1)="2"),0,VLOOKUP($A28,'TCD-BI Rstt'!$A$7:$S$2000,$C$1,FALSE))))-D28 -> 0 | G28: =E28-F28 -> 0
A29: ='TCD-BI Rstt'!A25 -> 14GHS001 | B29: =IF($A29="Total général",0,IF(ISERROR(-VLOOKUP($A29,'TCD-BI CA'!$A$7:$S$2000,$C$1,FALSE)),0,-VLOOKUP($A29,'TCD-BI CA'!$A$7:$S$2000,$C$1,FALSE))) -> 0 | C29: =B29-E29-D29 -> 0 | D29: =IF($A29="Total général",0,IF(ISERROR(VLOOKUP($A29,'TCD-BI Rstt'!$A$7:$S$2000,$C$1,FALSE)),0,IF(OR(LEFT($A29,3)="DIR",$A29="INDSPACAMA",$A29="INDSPACKRU"),VLOOKUP($A29,'TCD-BI Rstt'!$A$7:$S$2000,$C$1,FALSE),0))) -> 0 | E29: =IF(OR(LEFT($A29,1)="1",LEFT($A29,1)="2"),-VLOOKUP($A29,'TCD-BI Rstt'!$A$7:$S$2000,$C$1,FALSE),0)-D29 -> 0 | F29: =IF($A29="Total général",0,IF(ISERROR(VLOOKUP($A29,'TCD-BI Rstt'!$A$7:$S$2000,$C$1,FALSE)),0,IF(OR(LEFT($A29,1)="1",LEFT($A29,1)="2"),0,VLOOKUP($A29,'TCD-BI Rstt'!$A$7:$S$2000,$C$1,FALSE))))-D29 -> 0 | G29: =E29-F29 -> 0
A30: ='TCD-BI Rstt'!A26 -> 14H001 | B30: =IF($A30="Total général",0,IF(ISERROR(-VLOOKUP($A30,'TCD-BI CA'!$A$7:$S$2000,$C$1,FALSE)),0,-VLOOKUP($A30,'TCD-BI CA'!$A$7:$S$2000,$C$1,FALSE))) -> 3978 | C30: =B30-E30-D30 -> 0 | D30: =IF($A30="Total général",0,IF(ISERROR(VLOOKUP($A30,'TCD-BI Rstt'!$A$7:$S$2000,$C$1,FALSE)),0,IF(OR(LEFT($A30,3)="DIR",$A30="INDSPACAMA",$A30="INDSPACKRU"),VLOOKUP($A30,'TCD-BI Rstt'!$A$7:$S$2000,$C$1,FALSE),0))) -> 0 | E30: =IF(OR(LEFT($A30,1)="1",LEFT($A30,1)="2"),-VLOOKUP($A30,'TCD-BI Rstt'!$A$7:$S$2000,$C$1,FALSE),0)-D30 -> 3978 | F30: =IF($A30="Total général",0,IF(ISERROR(VLOOKUP($A30,'TCD-BI Rstt'!$A$7:$S$2000,$C$1,FALSE)),0,IF(OR(LEFT($A30,1)="1",LEFT($A30,1)="2"),0,VLOOKUP($A30,'TCD-BI Rstt'!$A$7:$S$2000,$C$1,FALSE))))-D30 -> 0 | G30: =E30-F30 -> 3978
A31: ='TCD-BI Rstt'!A27 -> 14H002 | B31: =IF($A31="Total général",0,IF(ISERROR(-VLOOKUP($A31,'TCD-BI CA'!$A$7:$S$2000,$C$1,FALSE)),0,-VLOOKUP($A31,'TCD-BI CA'!$A$7:$S$2000,$C$1,FALSE))) -> 17508.77 | C31: =B31-E31-D31 -> 0 | D31: =IF($A31="Total général",0,IF(ISERROR(VLOOKUP($A31,'TCD-BI Rstt'!$A$7:$S$2000,$C$1,FALSE)),0,IF(OR(LEFT($A31,3)="DIR",$A31="INDSPACAMA",$A31="INDSPACKRU"),VLOOKUP($A31,'TCD-BI Rstt'!$A$7:$S$2000,$C$1,FALSE),0))) -> 0 | E31: =IF(OR(LEFT($A31,1)="1",LEFT($A31,1)="2"),-VLOOKUP($A31,'TCD-BI Rstt'!$A$7:$S$2000,$C$1,FALSE),0)-D31 -> 17508.77 | F31: =IF($A31="Total général",0,IF(ISERROR(VLOOKUP($A31,'TCD-BI Rstt'!$A$7:$S$2000,$C$1,FALSE)),0,IF(OR(LEFT($A31,1)="1",LEFT($A31,1)="2"),0,VLOOKUP($A31,'TCD-BI Rstt'!$A$7:$S$2000,$C$1,FALSE))))-D31 -> 0 | G31: =E31-F31 -> 17508.77
A32: ='TCD-BI Rstt'!A28 -> 14H006 | B32: =IF($A32="Total général",0,IF(ISERROR(-VLOOKUP($A32,'TCD-BI CA'!$A$7:$S$2000,$C$1,FALSE)),0,-VLOOKUP($A32,'TCD-BI CA'!$A$7:$S$2000,$C$1,FALSE))) -> 9329.88 | C32: =B32-E32-D32 -> 0 | D32: =IF($A32="Total général",0,IF(ISERROR(VLOOKUP($A32,'TCD-BI Rstt'!$A$7:$S$2000,$C$1,FALSE)),0,IF(OR(LEFT($A32,3)="DIR",$A32="INDSPACAMA",$A32="INDSPACKRU"),VLOOKUP($A32,'TCD-BI Rstt'!$A$7:$S$2000,$C$1,FALSE),0))) -> 0 | E32: =IF(OR(LEFT($A32,1)="1",LEFT($A32,1)="2"),-VLOOKUP($A32,'TCD-BI Rstt'!$A$7:$S$2000,$C$1,FALSE),0)-D32 -> 9329.88 | F32: =IF($A32="Total général",0,IF(ISERROR(VLOOKUP($A32,'TCD-BI Rstt'!$A$7:$S$2000,$C$1,FALSE)),0,IF(OR(LEFT($A32,1)="1",LEFT($A32,1)="2"),0,VLOOKUP($A32,'TCD-BI Rstt'!$A$7:$S$2000,$C$1,FALSE))))-D32 -> 0 | G32: =E32-F32 -> 9329.88
A33: ='TCD-BI Rstt'!A29 -> 14I005 | B33: =IF($A33="Total général",0,IF(ISERROR(-VLOOKUP($A33,'TCD-BI CA'!$A$7:$S$2000,$C$1,FALSE)),0,-VLOOKUP($A33,'TCD-BI CA'!$A$7:$S$2000,$C$1,FALSE))) -> 0 | C33: =B33-E33-D33 -> 0 | D33: =IF($A33="Total général",0,IF(ISERROR(VLOOKUP($A33,'TCD-BI Rstt'!$A$7:$S$2000,$C$1,FALSE)),0,IF(OR(LEFT($A33,3)="DIR",$A33="INDSPACAMA",$A33="INDSPACKRU"),VLOOKUP($A33,'TCD-BI Rstt'!$A$7:$S$2000,$C$1,FALSE),0))) -> 0 | E33: =IF(OR(LEFT($A33,1)="1",LEFT($A33,1)="2"),-VLOOKUP($A33,'TCD-BI Rstt'!$A$7:$S$2000,$C$1,FALSE),0)-D33 -> 0 | F33: =IF($A33="Total général",0,IF(ISERROR(VLOOKUP($A33,'TCD-BI Rstt'!$A$7:$S$2000,$C$1,FALSE)),0,IF(OR(LEFT($A33,1)="1",LEFT($A33,1)="2"),0,VLOOKUP($A33,'TCD-BI Rstt'!$A$7:$S$2000,$C$1,FALSE))))-D33 -> 0 | G33: =E33-F33 -> 0
A34: ='TCD-BI Rstt'!A30 -> 14I010 | B34: =IF($A34="Total général",0,IF(ISERROR(-VLOOKUP($A34,'TCD-BI CA'!$A$7:$S$2000,$C$1,FALSE)),0,-VLOOKUP($A34,'TCD-BI CA'!$A$7:$S$2000,$C$1,FALSE))) -> 0 | C34: =B34-E34-D34 -> 0 | D34: =IF($A34="Total général",0,IF(ISERROR(VLOOKUP($A34,'TCD-BI Rstt'!$A$7:$S$2000,$C$1,FALSE)),0,IF(OR(LEFT($A34,3)="DIR",$A34="INDSPACAMA",$A34="INDSPACKRU"),VLOOKUP($A34,'TCD-BI Rstt'!$A$7:$S$2000,$C$1,FALSE),0))) -> 0 | E34: =IF(OR(LEFT($A34,1)="1",LEFT($A34,1)="2"),-VLOOKUP($A34,'TCD-BI Rstt'!$A$7:$S$2000,$C$1,FALSE),0)-D34 -> 0 | F34: =IF($A34="Total général",0,IF(ISERROR(VLOOKUP($A34,'TCD-BI Rstt'!$A$7:$S$2000,$C$1,FALSE)),0,IF(OR(LEFT($A34,1)="1",LEFT($A34,1)="2"),0,VLOOKUP($A34,'TCD-BI Rstt'!$A$7:$S$2000,$C$1,FALSE))))-D34 -> 0 | G34: =E34-F34 -> 0
A35: ='TCD-BI Rstt'!A31 -> 14I011 | B35: =IF($A35="Total général",0,IF(ISERROR(-VLOOKUP($A35,'TCD-BI CA'!$A$7:$S$2000,$C$1,FALSE)),0,-VLOOKUP($A35,'TCD-BI CA'!$A$7:$S$2000,$C$1,FALSE))) -> 0 | C35: =B35-E35-D35 -> 0 | D35: =IF($A35="Total général",0,IF(ISERROR(VLOOKUP($A35,'TCD-BI Rstt'!$A$7:$S$2000,$C$1,FALSE)),0,IF(OR(LEFT($A35,3)="DIR",$A35="INDSPACAMA",$A35="INDSPACKRU"),VLOOKUP($A35,'TCD-BI Rstt'!$A$7:$S$2000,$C$1,FALSE),0))) -> 0 | E35: =IF(OR(LEFT($A35,1)="1",LEFT($A35,1)="2"),-VLOOKUP($A35,'TCD-BI Rstt'!$A$7:$S$2000,$C$1,FALSE),0)-D35 -> 0 | F35: =IF($A35="Total général",0,IF(ISERROR(VLOOKUP($A35,'TCD-BI Rstt'!$A$7:$S$2000,$C$1,FALSE)),0,IF(OR(LEFT($A35,1)="1",LEFT($A35,1)="2"),0,VLOOKUP($A35,'TCD-BI Rstt'!$A$7:$S$2000,$C$1,FALSE))))-D35 -> 0 | G35: =E35-F35 -> 0
A36: ='TCD-BI Rstt'!A32 -> 14I013 | B36: =IF($A36="Total général",0,IF(ISERROR(-VLOOKUP($A36,'TCD-BI CA'!$A$7:$S$2000,$C$1,FALSE)),0,-VLOOKUP($A36,'TCD-BI CA'!$A$7:$S$2000,$C$1,FALSE))) -> 0 | C36: =B36-E36-D36 -> 0 | D36: =IF($A36="Total général",0,IF(ISERROR(VLOOKUP($A36,'TCD-BI Rstt'!$A$7:$S$2000,$C$1,FALSE)),0,IF(OR(LEFT($A36,3)="DIR",$A36="INDSPACAMA",$A36="INDSPACKRU"),VLOOKUP($A36,'TCD-BI Rstt'!$A$7:$S$2000,$C$1,FALSE),0))) -> 0 | E36: =IF(OR(LEFT($A36,1)="1",LEFT($A36,1)="2"),-VLOOKUP($A36,'TCD-BI Rstt'!$A$7:$S$2000,$C$1,FALSE),0)-D36 -> 0 | F36: =IF($A36="Total général",0,IF(ISERROR(VLOOKUP($A36,'TCD-BI Rstt'!$A$7:$S$2000,$C$1,FALSE)),0,IF(OR(LEFT($A36,1)="1",LEFT($A36,1)="2"),0,VLOOKUP($A36,'TCD-BI Rstt'!$A$7:$S$2000,$C$1,FALSE))))-D36 -> 0 | G36: =E36-F36 -> 0
A37: ='TCD-BI Rstt'!A33 -> 14I015 | B37: =IF($A37="Total général",0,IF(ISERROR(-VLOOKUP($A37,'TCD-BI CA'!$A$7:$S$2000,$C$1,FALSE)),0,-VLOOKUP($A37,'TCD-BI CA'!$A$7:$S$2000,$C$1,FALSE))) -> 0 | C37: =B37-E37-D37 -> 0 | D37: =IF($A37="Total général",0,IF(ISERROR(VLOOKUP($A37,'TCD-BI Rstt'!$A$7:$S$2000,$C$1,FALSE)),0,IF(OR(LEFT($A37,3)="DIR",$A37="INDSPACAMA",$A37="INDSPACKRU"),VLOOKUP($A37,'TCD-BI Rstt'!$A$7:$S$2000,$C$1,FALSE),0))) -> 0 | E37: =IF(OR(LEFT($A37,1)="1",LEFT($A37,1)="2"),-VLOOKUP($A37,'TCD-BI Rstt'!$A$7:$S$2000,$C$1,FALSE),0)-D37 -> 0 | F37: =IF($A37="Total général",0,IF(ISERROR(VLOOKUP($A37,'TCD-BI Rstt'!$A$7:$S$2000,$C$1,FALSE)),0,IF(OR(LEFT($A37,1)="1",LEFT($A37,1)="2"),0,VLOOKUP($A37,'TCD-BI Rstt'!$A$7:$S$2000,$C$1,FALSE))))-D37 -> 0 | G37: =E37-F37 -> 0
... A2008: ='TCD-BI Rstt'!A2004 -> 0 | B2008: =IF($A2008="Total général",0,IF(ISERROR(-VLOOKUP($A2008,'TCD-BI CA'!$A$7:$S$2000,$C$1,FALSE)),0,-VLOOKUP($A2008,'TCD-BI CA'!$A$7:$S$2000,$C$1,FALSE))) -> 0 | C2008: =B2008-E2008-D2008 -> 0 | D2008: =IF($A2008="Total général",0,IF(ISERROR(VLOOKUP($A2008,'TCD-BI Rstt'!$A$7:$S$2000,$C$1,FALSE)),0,IF(OR(LEFT($A2008,3)="DIR",$A2008="INDSPACAMA",$A2008="INDSPACKRU"),VLOOKUP($A2008,'TCD-BI Rstt'!$A$7:$S$2000,$C$1,FALSE),0))) -> 0 | E2008: =IF(OR(LEFT($A2008,1)="1",LEFT($A2008,1)="2"),-VLOOKUP($A2008,'TCD-BI Rstt'!$A$7:$S$2000,$C$1,FALSE),0)-D2008 -> 0 | F2008: =IF($A2008="Total général",0,IF(ISERROR(VLOOKUP($A2008,'TCD-BI Rstt'!$A$7:$S$2000,$C$1,FALSE)),0,IF(OR(LEFT($A2008,1)="1",LEFT($A2008,1)="2"),0,VLOOKUP($A2008,'TCD-BI Rstt'!$A$7:$S$2000,$C$1,FALSE))))-D2008 -> 0 | G2008: =E2008-F2008 -> 0

Sheet Périodes

Sheet TCD-BI Rstt
A1: Classe | B1: Compte de gestion
A2: Date YQMD | B2: (Plusieurs éléments)
A3: _IC | B3: 0-EXT
A5: Solde (ACY) DR | B5: Étiquettes de colonnes
A6: Étiquettes de lignes | B6: AFRICA | C6: AIRPORT | D6: AMIA | E6: ASIA | F6: FRANCE | G6: HEADQTR | H6: INFRA | I6: INTL | J6: LATAM | K6: MENA | L6: N/A | M6: RUSSIA | N6: SPACE | O6: Total général
A7: 11AAL001
A8: 11H001 | C8: -159660.76 | O8: -159660.76
A9: 12A159 | C9: -32219.6 | O9: -32219.6
A10: 12I001 | K10: -11143.76 | O10: -11143.76
A11: 13A089 | C11: -46449.84 | O11: -46449.84
A12: 13A223 | C12: -71000.66 | O12: -71000.66
A13: 13AALP001
A14: 13H003 | C14: -96103.85 | O14: -96103.85
A15: 13I010 | K15: -8439.25 | O15: -8439.25
A16: 13N004
A17: 14A008 | J17: -50113.64 | O17: -50113.64
A18: 14A058
A19: 14A093 | K19: -8915 | O19: -8915
A20: 14A118
A21: 14A128 | C21: -21423.41 | O21: -21423.41
A22: 14A160 | C22: 39553 | O22: 39553
A23: 14B015 | N23: 123.4 | O23: 123.4
A24: 14F001 | B24: -156018.55 | O24: -156018.55
A25: 14GHS001 | J25: 108692.2 | O25: 108692.2
A26: 14H001 | C26: -3978 | O26: -3978
A27: 14H002 | C27: -17508.77 | O27: -17508.77
A28: 14H006 | C28: -9329.88 | O28: -9329.88
A29: 14I005 | K29: -7776.85 | O29: -7776.85
A30: 14I010 | K30: -1331.54 | O30: -1331.54
A31: 14I011
A32: 14I013 | K32: -25329.2 | O32: -25329.2
A33: 14I015
A34: 14I020 | K34: -12971.3 | O34: -12971.3
A35: 14K001
A36: 14N007
A37: 14Q001 | B37: -96355.41 | O37: -96355.41
A38: 15A004 | B38: -5455.31 | O38: -5455.31
A39: 15A094 | C39: -20000 | O39: -20000
A40: 15A101
A41: 15A124 | K41: -19200 | O41: -19200
A42: 15A144 | B42: -30333.25 | O42: -30333.25
A43: 15A146 | D43: -23807.8 | O43: -23807.8
A44: 15A159
A45: 15A174
A46: 15A188
A47: 15A192 | I47: -87620.29 | O47: -87620.29
A48: 15A193
A49: 15AAL035
A50: 15C008
A51: 15C011
A52: 15ESP001
A53: 15H003 | C53: -27074.95 | O53: -27074.95
A54: 15I005 | C54: -36976.91 | K54: 557.18 | O54: -36419.73
A55: 15I017 | J55: -4480.56 | O55: -4480.56
A56: 15I018
A57: 15J009
A58: 15K00
A59: 15K005 | C59: 514.58 | O59: 514.58
A60: 15K006
A61: 15K008 | C61: -25332.04 | O61: -25332.04
A62: 15MAR001 | C62: 13450.77 | O62: 13450.77
A63: 15N007 | M63: -18117.67 | O63: -18117.67
A64: 15N033
A65: 16A030 | D65: 11891.03 | O65: 11891.03
A66: 16A046 | I66: -98364.09 | O66: -98364.09
A67: 16A052 | K67: -99679.8 | O67: -99679.8
A68: 16A082
A69: 16A096
A70: 16A120 | C70: -20929.03 | O70: -20929.03
A71: 16A126 | F71: -74294.56 | O71: -74294.56
A72: 16A127 | F72: -66760.69 | O72: -66760.69
A73: 16A130
A74: 16A139
A75: 16A140 | B75: 12045.28 | O75: 12045.28
A76: 16A141
A77: 16A142
A78: 16A151
A79: 16A165 | C79: -9660 | O79: -9660
A80: 16A179
A81: 16A190
A82: 16A204
A83: 16A236
A84: 16A263 | B84: 1516.9 | O84: 1516.9
A85: 16A269
A86: 16A272
A87: 16A273
A88: 16A279
A89: 16A280
A90: 16AAL025
A91: 16B001
A92: 16B003 | F92: 1052.25 | O92: 1052.25
A93: 16B005
A94: 16B006 | N94: 65 | O94: 65
A95: 16C008
A96: 16C009 | D96: -7200 | O96: -7200
A97: 16C018 | D97: -15400 | O97: -15400
A98: 16H001 | C98: -9329.89 | O98: -9329.89
A99: 16H002
A100: 16H003 | C100: -1905.61 | O100: -1905.61
A101: 16I006
...

Sheet TCD-BI CA
A1: Compte 2 Car | B1: 70
A2: Date YQMD | B2: (Plusieurs éléments)
A3: _IC | B3: 0-EXT
A5: Solde (ACY) DR | B5: Étiquettes de colonnes
A6: Étiquettes de lignes | B6: AFRICA | C6: AIRPORT | D6: AMIA | E6: ASIA | F6: FRANCE | G6: HEADQTR | H6: INFRA | I6: INTL | J6: LATAM | K6: MENA | L6: N/A | M6: RUSSIA | N6: SPACE | O6: Total général
A7: 11AAL001
A8: 11H001 | C8: -171159.73 | O8: -171159.73
A9: 12A159 | C9: -153111.72 | O9: -153111.72
A10: 12I001 | K10: -11143.76 | O10: -11143.76
A11: 13A089 | C11: -142500 | O11: -142500
A12: 13A223 | C12: -149059.55 | O12: -149059.55
A13: 13AALP001
A14: 13H003 | C14: -96103.85 | O14: -96103.85
A15: 13I010 | K15: -17938.47 | O15: -17938.47
A16: 13N004
A17: 14A008 | J17: -148039.86 | O17: -148039.86
A18: 14A058
A19: 14A093 | K19: -8915 | O19: -8915
A20: 14A118
A21: 14A128 | C21: -37900 | O21: -37900
A22: 14A160 | C22: 39553 | O22: 39553
A23: 14B015
A24: 14F001 | B24: -410474.1 | O24: -410474.1
A25: 14GHS001 | J25: 108692.2 | O25: 108692.2
A26: 14H001 | C26: -3978 | O26: -3978
A27: 14H002 | C27: -17508.77 | O27: -17508.77
A28: 14H006 | C28: -9329.88 | O28: -9329.88
A29: 14I005 | K29: -19828.6 | O29: -19828.6
A30: 14I010 | K30: -3542.22 | O30: -3542.22
A31: 14I011
A32: 14I013 | K32: -33832.42 | O32: -33832.42
A33: 14I015
A34: 14I020 | K34: -12971.3 | O34: -12971.3
A35: 14K001
A36: 14N007
A37: 14Q001 | B37: -343975.02 | O37: -343975.02
A38: 15A004 | B38: -10996.41 | O38: -10996.41
A39: 15A094 | C39: -20000 | O39: -20000
A40: 15A101
A41: 15A124 | K41: -19200 | O41: -19200
A42: 15A144 | B42: -48035 | O42: -48035
A43: 15A146 | D43: -34500 | O43: -34500
A44: 15A159
A45: 15A174
A46: 15A188
A47: 15A192 | I47: -227479.5 | O47: -227479.5
A48: 15A193
A49: 15AAL035
A50: 15C008
A51: 15C011
A52: 15ESP001
A53: 15H003 | C53: -27074.95 | O53: -27074.95
A54: 15I005 | C54: -129637.63 | O54: -129637.63
A55: 15I017 | J55: -20058.72 | O55: -20058.72
A56: 15I018
A57: 15J009
A58: 15K00
A59: 15K005 | C59: -17621.48 | O59: -17621.48
A60: 15K006
A61: 15K008 | C61: -44153.93 | O61: -44153.93
A62: 15MAR001
A63: 15N007 | M63: -19202.76 | O63: -19202.76
A64: 15N033
A65: 16A030
A66: 16A046 | I66: -727007.64 | O66: -727007.64
A67: 16A052 | K67: -217287.03 | O67: -217287.03
A68: 16A082
A69: 16A096
A70: 16A120 | C70: -91981.93 | O70: -91981.93
A71: 16A126 | F71: -140250 | O71: -140250
A72: 16A127 | F72: -153000 | O72: -153000
A73: 16A130
A74: 16A139
A75: 16A140
A76: 16A141
A77: 16A142
A78: 16A151
A79: 16A165 | C79: -9660 | O79: -9660
A80: 16A179
A81: 16A190
A82: 16A204
A83: 16A236
A84: 16A263
A85: 16A269
A86: 16A272
A87: 16A273
A88: 16A279
A89: 16A280
A90: 16AAL025
A91: 16B001
... A95: 16C008
A96: 16C009 | D96: -7200 | O96: -7200
A97: 16C018 | D97: -15400 | O97: -15400
A98: 16H001 | C98: -9329.89 | O98: -9329.89
A99: 16H002
A100: 16H003 | C100: -1905.61 | O100: -1905.61
A101: 16I006
A102: 16I013 | K102: -7354.86 | O102: -7354.86
A103: 16I014 | K103: -32049.42 | O103: -32049.42
A104: 16I015
...
