Workbook
Name SérieFRM: OFFSET('BASE DE DONNEES FRM'!$E$2,0,0,COUNTA('BASE DE DONNEES FRM'!$E:$E)-1,1)
Name SérieLits: OFFSET('BASE DE DONNEES LITS'!$E$2,0,0,COUNTA('BASE DE DONNEES LITS'!$E:$E)-1,1)
Name SérieLVP: OFFSET('BASE DE DONNEES LVP'!$E$2,0,0,COUNTA('BASE DE DONNEES LVP'!$E:$E)-1,1)

Sheet LITS 
A1: RAPPORT CONTRÔLE PERIODIQUE LITS
A2: SECTEUR | B2: CHAMBRE | C2: MARQUE | D2: MODELE | E2: N° SERIE | F2: CONSTAT/OPERATIONS REALISEES
A3: =IFERROR((INDEX('BASE DE DONNEES EMPLACEMENT'!A:A,MATCH($B3,'BASE DE DONNEES EMPLACEMENT'!$B:$B,0))),"") | C3: =IFERROR((INDEX('BASE DE DONNEES LITS'!C:C,MATCH($E3,'BASE DE DONNEES LITS'!$E:$E,0))),"") -> STIEGLEMEYER | D3: =IFERROR((INDEX('BASE DE DONNEES LITS'!D:D,MATCH($E3,'BASE DE DONNEES LITS'!$E:$E,0))),"") -> ELVIDO VERVO | E3: 750000051286
A4: =IFERROR((INDEX('BASE DE DONNEES EMPLACEMENT'!A:A,MATCH($B4,'BASE DE DONNEES EMPLACEMENT'!$B:$B,0))),"") | C4: =IFERROR((INDEX('BASE DE DONNEES LITS'!C:C,MATCH($E4,'BASE DE DONNEES LITS'!$E:$E,0))),"")
A5: =IFERROR((INDEX('BASE DE DONNEES EMPLACEMENT'!A:A,MATCH($B5,'BASE DE DONNEES EMPLACEMENT'!$B:$B,0))),"") | C5: =IFERROR((INDEX('BASE DE DONNEES LITS'!C:C,MATCH($E5,'BASE DE DONNEES LITS'!$E:$E,0))),"")
A6: =IFERROR((INDEX('BASE DE DONNEES EMPLACEMENT'!A:A,MATCH($B6,'BASE DE DONNEES EMPLACEMENT'!$B:$B,0))),"") | C6: =IFERROR((INDEX('BASE DE DONNEES LITS'!C:C,MATCH($E6,'BASE DE DONNEES LITS'!$E:$E,0))),"")
A7: =IFERROR((INDEX('BASE DE DONNEES EMPLACEMENT'!A:A,MATCH($B7,'BASE DE DONNEES EMPLACEMENT'!$B:$B,0))),"") | C7: =IFERROR((INDEX('BASE DE DONNEES LITS'!C:C,MATCH($E7,'BASE DE DONNEES LITS'!$E:$E,0))),"")
A8: =IFERROR((INDEX('BASE DE DONNEES EMPLACEMENT'!A:A,MATCH($B8,'BASE DE DONNEES EMPLACEMENT'!$B:$B,0))),"") | C8: =IFERROR((INDEX('BASE DE DONNEES LITS'!C:C,MATCH($E8,'BASE DE DONNEES LITS'!$E:$E,0))),"")
A9: =IFERROR((INDEX('BASE DE DONNEES EMPLACEMENT'!A:A,MATCH($B9,'BASE DE DONNEES EMPLACEMENT'!$B:$B,0))),"") | C9: =IFERROR((INDEX('BASE DE DONNEES LITS'!C:C,MATCH($E9,'BASE DE DONNEES LITS'!$E:$E,0))),"")
A10: =IFERROR((INDEX('BASE DE DONNEES EMPLACEMENT'!A:A,MATCH($B10,'BASE DE DONNEES EMPLACEMENT'!$B:$B,0))),"") | C10: =IFERROR((INDEX('BASE DE DONNEES LITS'!C:C,MATCH($E10,'BASE DE DONNEES LITS'!$E:$E,0))),"")
A11: =IFERROR((INDEX('BASE DE DONNEES EMPLACEMENT'!A:A,MATCH($B11,'BASE DE DONNEES EMPLACEMENT'!$B:$B,0))),"") | C11: =IFERROR((INDEX('BASE DE DONNEES LITS'!C:C,MATCH($E11,'BASE DE DONNEES LITS'!$E:$E,0))),"")
A12: =IFERROR((INDEX('BASE DE DONNEES EMPLACEMENT'!A:A,MATCH($B12,'BASE DE DONNEES EMPLACEMENT'!$B:$B,0))),"") | C12: =IFERROR((INDEX('BASE DE DONNEES LITS'!C:C,MATCH($E12,'BASE DE DONNEES LITS'!$E:$E,0))),"")
A13: =IFERROR((INDEX('BASE DE DONNEES EMPLACEMENT'!A:A,MATCH($B13,'BASE DE DONNEES EMPLACEMENT'!$B:$B,0))),"") | C13: =IFERROR((INDEX('BASE DE DONNEES LITS'!C:C,MATCH($E13,'BASE DE DONNEES LITS'!$E:$E,0))),"")
A14: =IFERROR((INDEX('BASE DE DONNEES EMPLACEMENT'!A:A,MATCH($B14,'BASE DE DONNEES EMPLACEMENT'!$B:$B,0))),"") | C14: =IFERROR((INDEX('BASE DE DONNEES LITS'!C:C,MATCH($E14,'BASE DE DONNEES LITS'!$E:$E,0))),"")
A15: =IFERROR((INDEX('BASE DE DONNEES EMPLACEMENT'!A:A,MATCH($B15,'BASE DE DONNEES EMPLACEMENT'!$B:$B,0))),"") | C15: =IFERROR((INDEX('BASE DE DONNEES LITS'!C:C,MATCH($E15,'BASE DE DONNEES LITS'!$E:$E,0))),"")
... A200: =IFERROR((INDEX('BASE DE DONNEES EMPLACEMENT'!A:A,MATCH($B200,'BASE DE DONNEES EMPLACEMENT'!$B:$B,0))),"") | C200: =IFERROR((INDEX('BASE DE DONNEES LITS'!C:C,MATCH($E200,'BASE DE DONNEES LITS'!$E:$E,0))),"")

Sheet FAUTEUILS ROULANTS
A1: RAPPORT CONTRÔLE PERIODIQUE FRM
A2: SECTEUR | B2: CHAMBRE | C2: MARQUE | D2: MODELE | E2: N° SERIE | F2: CONSTAT/OPERATIONS REALISEES
A3: =IFERROR((INDEX('BASE DE DONNEES EMPLACEMENT'!A:A,MATCH($B3,'BASE DE DONNEES EMPLACEMENT'!$B:$B,0))),"") | C3: =IFERROR((INDEX('BASE DE DONNEES FRM'!C:C,MATCH($E3,'BASE DE DONNEES FRM'!$E:$E,0))),"") -> SUNRISE | D3: =IFERROR((INDEX('BASE DE DONNEES FRM'!D:D,MATCH($E3,'BASE DE DONNEES FRM'!$E:$E,0))),"") -> BREZZY BASIX2 | E3: B2141003134
A4: =IFERROR((INDEX('BASE DE DONNEES EMPLACEMENT'!A:A,MATCH($B4,'BASE DE DONNEES EMPLACEMENT'!$B:$B,0))),"") | C4: =IFERROR((INDEX('BASE DE DONNEES FRM'!C:C,MATCH($E4,'BASE DE DONNEES FRM'!$E:$E,0))),"") | D4: =IFERROR((INDEX('BASE DE DONNEES FRM'!D:D,MATCH($E4,'BASE DE DONNEES FRM'!$E:$E,0))),"")
A5: =IFERROR((INDEX('BASE DE DONNEES EMPLACEMENT'!A:A,MATCH($B5,'BASE DE DONNEES EMPLACEMENT'!$B:$B,0))),"") | C5: =IFERROR((INDEX('BASE DE DONNEES FRM'!C:C,MATCH($E5,'BASE DE DONNEES FRM'!$E:$E,0))),"") | D5: =IFERROR((INDEX('BASE DE DONNEES FRM'!D:D,MATCH($E5,'BASE DE DONNEES FRM'!$E:$E,0))),"")
A6: =IFERROR((INDEX('BASE DE DONNEES EMPLACEMENT'!A:A,MATCH($B6,'BASE DE DONNEES EMPLACEMENT'!$B:$B,0))),"") | C6: =IFERROR((INDEX('BASE DE DONNEES FRM'!C:C,MATCH($E6,'BASE DE DONNEES FRM'!$E:$E,0))),"") | D6: =IFERROR((INDEX('BASE DE DONNEES FRM'!D:D,MATCH($E6,'BASE DE DONNEES FRM'!$E:$E,0))),"")
A7: =IFERROR((INDEX('BASE DE DONNEES EMPLACEMENT'!A:A,MATCH($B7,'BASE DE DONNEES EMPLACEMENT'!$B:$B,0))),"") | C7: =IFERROR((INDEX('BASE DE DONNEES FRM'!C:C,MATCH($E7,'BASE DE DONNEES FRM'!$E:$E,0))),"") | D7: =IFERROR((INDEX('BASE DE DONNEES FRM'!D:D,MATCH($E7,'BASE DE DONNEES FRM'!$E:$E,0))),"")
A8: =IFERROR((INDEX('BASE DE DONNEES EMPLACEMENT'!A:A,MATCH($B8,'BASE DE DONNEES EMPLACEMENT'!$B:$B,0))),"") | C8: =IFERROR((INDEX('BASE DE DONNEES FRM'!C:C,MATCH($E8,'BASE DE DONNEES FRM'!$E:$E,0))),"") | D8: =IFERROR((INDEX('BASE DE DONNEES FRM'!D:D,MATCH($E8,'BASE DE DONNEES FRM'!$E:$E,0))),"")
A9: =IFERROR((INDEX('BASE DE DONNEES EMPLACEMENT'!A:A,MATCH($B9,'BASE DE DONNEES EMPLACEMENT'!$B:$B,0))),"") | C9: =IFERROR((INDEX('BASE DE DONNEES FRM'!C:C,MATCH($E9,'BASE DE DONNEES FRM'!$E:$E,0))),"") | D9: =IFERROR((INDEX('BASE DE DONNEES FRM'!D:D,MATCH($E9,'BASE DE DONNEES FRM'!$E:$E,0))),"")
A10: =IFERROR((INDEX('BASE DE DONNEES EMPLACEMENT'!A:A,MATCH($B10,'BASE DE DONNEES EMPLACEMENT'!$B:$B,0))),"") | C10: =IFERROR((INDEX('BASE DE DONNEES FRM'!C:C,MATCH($E10,'BASE DE DONNEES FRM'!$E:$E,0))),"") | D10: =IFERROR((INDEX('BASE DE DONNEES FRM'!D:D,MATCH($E10,'BASE DE DONNEES FRM'!$E:$E,0))),"")
A11: =IFERROR((INDEX('BASE DE DONNEES EMPLACEMENT'!A:A,MATCH($B11,'BASE DE DONNEES EMPLACEMENT'!$B:$B,0))),"") | C11: =IFERROR((INDEX('BASE DE DONNEES FRM'!C:C,MATCH($E11,'BASE DE DONNEES FRM'!$E:$E,0))),"") | D11: =IFERROR((INDEX('BASE DE DONNEES FRM'!D:D,MATCH($E11,'BASE DE DONNEES FRM'!$E:$E,0))),"")
A12: =IFERROR((INDEX('BASE DE DONNEES EMPLACEMENT'!A:A,MATCH($B12,'BASE DE DONNEES EMPLACEMENT'!$B:$B,0))),"") | C12: =IFERROR((INDEX('BASE DE DONNEES FRM'!C:C,MATCH($E12,'BASE DE DONNEES FRM'!$E:$E,0))),"") | D12: =IFERROR((INDEX('BASE DE DONNEES FRM'!D:D,MATCH($E12,'BASE DE DONNEES FRM'!$E:$E,0))),"")
A13: =IFERROR((INDEX('BASE DE DONNEES EMPLACEMENT'!A:A,MATCH($B13,'BASE DE DONNEES EMPLACEMENT'!$B:$B,0))),"") | C13: =IFERROR((INDEX('BASE DE DONNEES FRM'!C:C,MATCH($E13,'BASE DE DONNEES FRM'!$E:$E,0))),"") | D13: =IFERROR((INDEX('BASE DE DONNEES FRM'!D:D,MATCH($E13,'BASE DE DONNEES FRM'!$E:$E,0))),"")
A14: =IFERROR((INDEX('BASE DE DONNEES EMPLACEMENT'!A:A,MATCH($B14,'BASE DE DONNEES EMPLACEMENT'!$B:$B,0))),"") | C14: =IFERROR((INDEX('BASE DE DONNEES FRM'!C:C,MATCH($E14,'BASE DE DONNEES FRM'!$E:$E,0))),"") | D14: =IFERROR((INDEX('BASE DE DONNEES FRM'!D:D,MATCH($E14,'BASE DE DONNEES FRM'!$E:$E,0))),"")
A15: =IFERROR((INDEX('BASE DE DONNEES EMPLACEMENT'!A:A,MATCH($B15,'BASE DE DONNEES EMPLACEMENT'!$B:$B,0))),"") | C15: =IFERROR((INDEX('BASE DE DONNEES FRM'!C:C,MATCH($E15,'BASE DE DONNEES FRM'!$E:$E,0))),"") | D15: =IFERROR((INDEX('BASE DE DONNEES FRM'!D:D,MATCH($E15,'BASE DE DONNEES FRM'!$E:$E,0))),"")
... A30: =IFERROR((INDEX('BASE DE DONNEES EMPLACEMENT'!A:A,MATCH($B30,'BASE DE DONNEES EMPLACEMENT'!$B:$B,0))),"") | C30: =IFERROR((INDEX('BASE DE DONNEES FRM'!C:C,MATCH($E30,'BASE DE DONNEES FRM'!$E:$E,0))),"") | D30: =IFERROR((INDEX('BASE DE DONNEES FRM'!D:D,MATCH($E30,'BASE DE DONNEES FRM'!$E:$E,0))),"")
A31: =IFERROR((INDEX('BASE DE DONNEES EMPLACEMENT'!A:A,MATCH($B31,'BASE DE DONNEES EMPLACEMENT'!$B:$B,0))),"")
A32: =IFERROR((INDEX('BASE DE DONNEES EMPLACEMENT'!A:A,MATCH($B32,'BASE DE DONNEES EMPLACEMENT'!$B:$B,0))),"")
A33: =IFERROR((INDEX('BASE DE DONNEES EMPLACEMENT'!A:A,MATCH($B33,'BASE DE DONNEES EMPLACEMENT'!$B:$B,0))),"")
A34: =IFERROR((INDEX('BASE DE DONNEES EMPLACEMENT'!A:A,MATCH($B34,'BASE DE DONNEES EMPLACEMENT'!$B:$B,0))),"")
A35: =IFERROR((INDEX('BASE DE DONNEES EMPLACEMENT'!A:A,MATCH($B35,'BASE DE DONNEES EMPLACEMENT'!$B:$B,0))),"")
A36: =IFERROR((INDEX('BASE DE DONNEES EMPLACEMENT'!A:A,MATCH($B36,'BASE DE DONNEES EMPLACEMENT'!$B:$B,0))),"")
A37: =IFERROR((INDEX('BASE DE DONNEES EMPLACEMENT'!A:A,MATCH($B37,'BASE DE DONNEES EMPLACEMENT'!$B:$B,0))),"")
A38: =IFERROR((INDEX('BASE DE DONNEES EMPLACEMENT'!A:A,MATCH($B38,'BASE DE DONNEES EMPLACEMENT'!$B:$B,0))),"")
A39: =IFERROR((INDEX('BASE DE DONNEES EMPLACEMENT'!A:A,MATCH($B39,'BASE DE DONNEES EMPLACEMENT'!$B:$B,0))),"")
A40: =IFERROR((INDEX('BASE DE DONNEES EMPLACEMENT'!A:A,MATCH($B40,'BASE DE DONNEES EMPLACEMENT'!$B:$B,0))),"")
A41: =IFERROR((INDEX('BASE DE DONNEES EMPLACEMENT'!A:A,MATCH($B41,'BASE DE DONNEES EMPLACEMENT'!$B:$B,0))),"")
A42: =IFERROR((INDEX('BASE DE DONNEES EMPLACEMENT'!A:A,MATCH($B42,'BASE DE DONNEES EMPLACEMENT'!$B:$B,0))),"")
... A200: =IFERROR((INDEX('BASE DE DONNEES EMPLACEMENT'!A:A,MATCH($B200,'BASE DE DONNEES EMPLACEMENT'!$B:$B,0))),"")

Sheet LEVES PERSONNES
A1: RAPPORT CONTRÔLE PERIODIQUE LEVES PERSONNES
A2: SECTEUR | B2: CHAMBRE | C2: MARQUE | D2: MODELE | E2: N° SERIE | F2: CONSTAT/OPERATIONS REALISEES
A3: =IFERROR((INDEX('BASE DE DONNEES EMPLACEMENT'!A:A,MATCH($B3,'BASE DE DONNEES EMPLACEMENT'!$B:$B,0))),"") -> HOUAT | B3: 19 | C3: =IFERROR((INDEX('BASE DE DONNEES LVP'!C:C,MATCH($E3,'BASE DE DONNEES LVP'!$E:$E,0))),"") -> INVACARE | D3: =IFERROR((INDEX('BASE DE DONNEES LVP'!D:D,MATCH($E3,'BASE DE DONNEES LVP'!$E:$E,0))),"") -> BIRDIE | E3: 14B09000403
A4: =IFERROR((INDEX('BASE DE DONNEES EMPLACEMENT'!A:A,MATCH($B4,'BASE DE DONNEES EMPLACEMENT'!$B:$B,0))),"") | C4: =IFERROR((INDEX('BASE DE DONNEES LVP'!C:C,MATCH($E4,'BASE DE DONNEES LVP'!$E:$E,0))),"") | D4: =IFERROR((INDEX('BASE DE DONNEES LVP'!D:D,MATCH($E4,'BASE DE DONNEES LVP'!$E:$E,0))),"")
A5: =IFERROR((INDEX('BASE DE DONNEES EMPLACEMENT'!A:A,MATCH($B5,'BASE DE DONNEES EMPLACEMENT'!$B:$B,0))),"") | C5: =IFERROR((INDEX('BASE DE DONNEES LVP'!C:C,MATCH($E5,'BASE DE DONNEES LVP'!$E:$E,0))),"") | D5: =IFERROR((INDEX('BASE DE DONNEES LVP'!D:D,MATCH($E5,'BASE DE DONNEES LVP'!$E:$E,0))),"")
A6: =IFERROR((INDEX('BASE DE DONNEES EMPLACEMENT'!A:A,MATCH($B6,'BASE DE DONNEES EMPLACEMENT'!$B:$B,0))),"") | C6: =IFERROR((INDEX('BASE DE DONNEES LVP'!C:C,MATCH($E6,'BASE DE DONNEES LVP'!$E:$E,0))),"") | D6: =IFERROR((INDEX('BASE DE DONNEES LVP'!D:D,MATCH($E6,'BASE DE DONNEES LVP'!$E:$E,0))),"")
A7: =IFERROR((INDEX('BASE DE DONNEES EMPLACEMENT'!A:A,MATCH($B7,'BASE DE DONNEES EMPLACEMENT'!$B:$B,0))),"") | C7: =IFERROR((INDEX('BASE DE DONNEES LVP'!C:C,MATCH($E7,'BASE DE DONNEES LVP'!$E:$E,0))),"") | D7: =IFERROR((INDEX('BASE DE DONNEES LVP'!D:D,MATCH($E7,'BASE DE DONNEES LVP'!$E:$E,0))),"")
A8: =IFERROR((INDEX('BASE DE DONNEES EMPLACEMENT'!A:A,MATCH($B8,'BASE DE DONNEES EMPLACEMENT'!$B:$B,0))),"") | C8: =IFERROR((INDEX('BASE DE DONNEES LVP'!C:C,MATCH($E8,'BASE DE DONNEES LVP'!$E:$E,0))),"") | D8: =IFERROR((INDEX('BASE DE DONNEES LVP'!D:D,MATCH($E8,'BASE DE DONNEES LVP'!$E:$E,0))),"")
A9: =IFERROR((INDEX('BASE DE DONNEES EMPLACEMENT'!A:A,MATCH($B9,'BASE DE DONNEES EMPLACEMENT'!$B:$B,0))),"") | C9: =IFERROR((INDEX('BASE DE DONNEES LVP'!C:C,MATCH($E9,'BASE DE DONNEES LVP'!$E:$E,0))),"") | D9: =IFERROR((INDEX('BASE DE DONNEES LVP'!D:D,MATCH($E9,'BASE DE DONNEES LVP'!$E:$E,0))),"")
A10: =IFERROR((INDEX('BASE DE DONNEES EMPLACEMENT'!A:A,MATCH($B10,'BASE DE DONNEES EMPLACEMENT'!$B:$B,0))),"") | C10: =IFERROR((INDEX('BASE DE DONNEES LVP'!C:C,MATCH($E10,'BASE DE DONNEES LVP'!$E:$E,0))),"") | D10: =IFERROR((INDEX('BASE DE DONNEES LVP'!D:D,MATCH($E10,'BASE DE DONNEES LVP'!$E:$E,0))),"")

Sheet BASE DE DONNEES FRM
A1: SECTEUR | B1: CHAMBRE | C1: MARQUE | D1: MODELE | E1: N° SERIE
C2: DUPONT | D2: PRIMEO | E2: D339792
C3: INVACARE | D3: CLEMATIS 44 | E3: 7014175157
C4: INVACARE | D4: CLEMATIS 44 | E4: 7014183153
C5: SUNRISE | D5: BREZZY BASIX2 | E5: B2130803148
C6: INVACARE | D6: CLEMATIS 44 | E6: 7014183935
C7: SUNRISE | D7: BREZZY BASIX2 | E7: B2141102053
C8: INVACARE | D8: CLEMATIS 44 | E8: 7013162248
C9: INVACARE | D9: CLEMATIS 44 | E9: 7014183932
C10: SUNRISE | D10: BREZZY BASIX2 | E10: B2141105051
C11: SUNRISE | D11: BREZZY BASIX2 | E11: B2141101003
C12: SUNRISE | D12: BREZZY BASIX2 | E12: B2140804214
C13: SUNRISE | D13: BREZZY BASIX2 | E13: B2140804212
C14: SUNRISE | D14: BREZZY BASIX2 | E14: B21431204138
C15: INVACARE | D15: CLEMATIS 44 | E15: 7014183934
C16: INVACARE | D16: ACTION 3 NG | E16: 14B05000107
C17: SUNRISE | D17: BREZZY BASIX2 | E17: B2131205045
C18: DUPONT | D18: STAN | E18: 1402/08460
C19: INVACARE | D19: ACTION 3 NG | E19: 14B05005832
C20: SUNRISE | D20: BREZZY BASIX2 | E20: B2140451030
C21: SUNRISE | D21: BREZZY BASIX2 | E21: B2141103072
C22: SUNRISE | D22: BREZZY BASIX2 | E22: B2141101004
C23: INVACARE | D23: CLEMATIS 44 | E23: 701369250
C24: SUNRISE | D24: BREZZY BASIX2 | E24: B2141102057
C25: INVACARE | D25: CLEMATIS 44 | E25: 7013169374
C26: INVACARE | D26: ACTION 3 DMC | E26: 13J05007134
C27: INVACARE | D27: CLEMATIS 44 | E27: 7014183930
C28: SUNRISE | D28: BREZZY BASIX2 | E28: B2141101002
C29: SUNRISE | D29: BEZZY | E29: QBZM97028786
C30: SUNRISE | D30: BREZZY BASIX2 | E30: B2140804221
C31: SUNRISE | D31: BREZZY BASIX2 | E31: B2141106057
C32: SUNRISE | D32: BREZZY DMC
C33: INVACARE | D33: ACTION 2 | E33: 15CFM005225
C34: INVACARE | D34: CLEMATIS 44 | E34: 7014183288
C35: INVACARE | D35: CLEMATIS 44 | E35: 7014182761
C36: SUNRISE | D36: BREZZY BASIX2 | E36: B2141003134
C37: SUNRISE | D37: BREZZY BASIX2 | E37: B2141106052
C38: INVACARE | D38: ACTION 3 NG | E38: 13J05000822

Sheet BASE DE DONNEES EMPLACEMENT
A1: SECTEUR | B1: N° CHAMBRE | C1: N° SERIE
A2: GROIX | B2: 1
A3: HOUAT | B3: 18
A4: ST CADO
A5: RIECH
A6: HOUAT | B6: 19

Sheet BASE DE DONNEES LITS
A1: SECTEUR | B1: CHAMBRE | C1: MARQUE | D1: MODELE | E1: N° SERIE
C2: STIEGLEMEYER | D2: ELVIDO VERVO | E2: 750000051286
C3: STIEGLEMEYER | D3: ELVIDO VERVO | E3: 750000061580
C4: STIEGLEMEYER | D4: ELVIDO VERVO | E4: 750000061581
C5: STIEGLEMEYER | D5: ELVIDO VERVO | E5: 750000061582
C6: STIEGLEMEYER | D6: ELVIDO VERVO | E6: 750000061583
C7: STIEGLEMEYER | D7: ELVIDO VERVO | E7: 750000061584
C8: STIEGLEMEYER | D8: ELVIDO VERVO | E8: 750000061585
C9: STIEGLEMEYER | D9: ELVIDO VERVO | E9: 750000061586
C10: STIEGLEMEYER | D10: ELVIDO VERVO | E10: 750000061587
C11: STIEGLEMEYER | D11: ELVIDO VERVO | E11: 750000061588
C12: STIEGLEMEYER | D12: ELVIDO VERVO | E12: 750000061589
C13: STIEGLEMEYER | D13: ELVIDO VERVO | E13: 750000062152
... C127: STIEGLEMEYER | D127: ELVIDO VERVO | E127: 750000074617

Sheet BASE DE DONNEES LVP
A1: SECTEUR | B1: CHAMBRE | C1: MARQUE | D1: MODELE | E1: N° SERIE
A2: HOUAT | B2: 18 | C2: INVACARE | D2: BIRDIE | E2: 14B09000403
C3: PRAXIS | D3: QUICKRAISER | E3: 51764
C4: INVACARE | D4: BIRDIE | E4: 14B09000402
C5: INVACARE | D5: BIRDIE | E5: 14B09000401
C6: INVACARE | D6: BIRDIE | E6: 14A09003685
C7: PRAXIS | D7: QUICKRAISER | E7: 52601
