Workbook
Name marques: OFFSET(Feuil2!$J$1,0,0,COUNTA(Feuil2!$J$1:$J25)-COUNTBLANK(Feuil2!$J$1:$J$25),1)

Sheet Feuil1
B1: 1 | D1: 2 | F1: 3 | H1: 4 | J1: 5 | L1: 6 | N1: 7 | P1: 8 | R1: 9 | T1: 10 | V1: 11 | X1: 12 | Z1: 13 | AB1: 14 | AD1: 15
B2: Mlle LUNETTE

Sheet Feuil2
G1: 25 Noms Uniques | H1: Mlle LUNETTE | I1: =IF(COUNTIF(Feuil1!$B$2:$AD$26,H1)>=1,"",ROW()) | J1: {=IF(ISNUMBER(SMALL(IF($I$1:$I$25="","",ROW($I$1:$I$25)),ROW(1:1))),INDIRECT("H"&SMALL(IF($I$1:$I$25="","",ROW($I$1:$I$25)),ROW(1:1))),"")} -> KISS
H2: KISS | I2: =IF(COUNTIF(Feuil1!$B$2:$AD$26,H2)>=1,"",ROW()) -> 2 | J2: {=IF(ISNUMBER(SMALL(IF($I$1:$I$25="","",ROW($I$1:$I$25)),ROW(2:2))),INDIRECT("H"&SMALL(IF($I$1:$I$25="","",ROW($I$1:$I$25)),ROW(2:2))),"")} -> LIKE ME
H3: LIKE ME | I3: =IF(COUNTIF(Feuil1!$B$2:$AD$26,H3)>=1,"",ROW()) -> 3 | J3: {=IF(ISNUMBER(SMALL(IF($I$1:$I$25="","",ROW($I$1:$I$25)),ROW(3:3))),INDIRECT("H"&SMALL(IF($I$1:$I$25="","",ROW($I$1:$I$25)),ROW(3:3))),"")} -> LIME ME
H4: LIME ME | I4: =IF(COUNTIF(Feuil1!$B$2:$AD$26,H4)>=1,"",ROW()) -> 4 | J4: {=IF(ISNUMBER(SMALL(IF($I$1:$I$25="","",ROW($I$1:$I$25)),ROW(4:4))),INDIRECT("H"&SMALL(IF($I$1:$I$25="","",ROW($I$1:$I$25)),ROW(4:4))),"")} -> FORFAIT K
H5: FORFAIT K | I5: =IF(COUNTIF(Feuil1!$B$2:$AD$26,H5)>=1,"",ROW()) -> 5 | J5: {=IF(ISNUMBER(SMALL(IF($I$1:$I$25="","",ROW($I$1:$I$25)),ROW(5:5))),INDIRECT("H"&SMALL(IF($I$1:$I$25="","",ROW($I$1:$I$25)),ROW(5:5))),"")} -> ZADIG & VOLTAIRE
H6: ZADIG & VOLTAIRE | I6: =IF(COUNTIF(Feuil1!$B$2:$AD$26,H6)>=1,"",ROW()) -> 6 | J6: {=IF(ISNUMBER(SMALL(IF($I$1:$I$25="","",ROW($I$1:$I$25)),ROW(6:6))),INDIRECT("H"&SMALL(IF($I$1:$I$25="","",ROW($I$1:$I$25)),ROW(6:6))),"")} -> EVA SWEET
H7: EVA SWEET | I7: =IF(COUNTIF(Feuil1!$B$2:$AD$26,H7)>=1,"",ROW()) -> 7 | J7: {=IF(ISNUMBER(SMALL(IF($I$1:$I$25="","",ROW($I$1:$I$25)),ROW(7:7))),INDIRECT("H"&SMALL(IF($I$1:$I$25="","",ROW($I$1:$I$25)),ROW(7:7))),"")} -> FACE & CIE
H8: FACE & CIE | I8: =IF(COUNTIF(Feuil1!$B$2:$AD$26,H8)>=1,"",ROW()) -> 8 | J8: {=IF(ISNUMBER(SMALL(IF($I$1:$I$25="","",ROW($I$1:$I$25)),ROW(8:8))),INDIRECT("H"&SMALL(IF($I$1:$I$25="","",ROW($I$1:$I$25)),ROW(8:8))),"")} -> BAÏA
H9: BAÏA | I9: =IF(COUNTIF(Feuil1!$B$2:$AD$26,H9)>=1,"",ROW()) -> 9 | J9: {=IF(ISNUMBER(SMALL(IF($I$1:$I$25="","",ROW($I$1:$I$25)),ROW(9:9))),INDIRECT("H"&SMALL(IF($I$1:$I$25="","",ROW($I$1:$I$25)),ROW(9:9))),"")} -> PEPE JEANS
H10: PEPE JEANS | I10: =IF(COUNTIF(Feuil1!$B$2:$AD$26,H10)>=1,"",ROW()) -> 10 | J10: {=IF(ISNUMBER(SMALL(IF($I$1:$I$25="","",ROW($I$1:$I$25)),ROW(10:10))),INDIRECT("H"&SMALL(IF($I$1:$I$25="","",ROW($I$1:$I$25)),ROW(10:10))),"")} -> GUESS
H11: GUESS | I11: =IF(COUNTIF(Feuil1!$B$2:$AD$26,H11)>=1,"",ROW()) -> 11 | J11: {=IF(ISNUMBER(SMALL(IF($I$1:$I$25="","",ROW($I$1:$I$25)),ROW(11:11))),INDIRECT("H"&SMALL(IF($I$1:$I$25="","",ROW($I$1:$I$25)),ROW(11:11))),"")} -> EMPORIO ARMANI
H12: EMPORIO ARMANI | I12: =IF(COUNTIF(Feuil1!$B$2:$AD$26,H12)>=1,"",ROW()) -> 12 | J12: {=IF(ISNUMBER(SMALL(IF($I$1:$I$25="","",ROW($I$1:$I$25)),ROW(12:12))),INDIRECT("H"&SMALL(IF($I$1:$I$25="","",ROW($I$1:$I$25)),ROW(12:12))),"")} -> RALPH LAUREN
H13: RALPH LAUREN | I13: =IF(COUNTIF(Feuil1!$B$2:$AD$26,H13)>=1,"",ROW()) -> 13 | J13: {=IF(ISNUMBER(SMALL(IF($I$1:$I$25="","",ROW($I$1:$I$25)),ROW(13:13))),INDIRECT("H"&SMALL(IF($I$1:$I$25="","",ROW($I$1:$I$25)),ROW(13:13))),"")} -> ME & EYE SAISONS
H14: ME & EYE SAISONS | I14: =IF(COUNTIF(Feuil1!$B$2:$AD$26,H14)>=1,"",ROW()) -> 14 | J14: {=IF(ISNUMBER(SMALL(IF($I$1:$I$25="","",ROW($I$1:$I$25)),ROW(14:14))),INDIRECT("H"&SMALL(IF($I$1:$I$25="","",ROW($I$1:$I$25)),ROW(14:14))),"")} -> ME & EYE COLL 14
H15: ME & EYE COLL 14 | I15: =IF(COUNTIF(Feuil1!$B$2:$AD$26,H15)>=1,"",ROW()) -> 15 | J15: {=IF(ISNUMBER(SMALL(IF($I$1:$I$25="","",ROW($I$1:$I$25)),ROW(15:15))),INDIRECT("H"&SMALL(IF($I$1:$I$25="","",ROW($I$1:$I$25)),ROW(15:15))),"")} -> CLICK 12
H16: CLICK 12 | I16: =IF(COUNTIF(Feuil1!$B$2:$AD$26,H16)>=1,"",ROW()) -> 16 | J16: {=IF(ISNUMBER(SMALL(IF($I$1:$I$25="","",ROW($I$1:$I$25)),ROW(16:16))),INDIRECT("H"&SMALL(IF($I$1:$I$25="","",ROW($I$1:$I$25)),ROW(16:16))),"")} -> DILEM
H17: DILEM | I17: =IF(COUNTIF(Feuil1!$B$2:$AD$26,H17)>=1,"",ROW()) -> 17 | J17: {=IF(ISNUMBER(SMALL(IF($I$1:$I$25="","",ROW($I$1:$I$25)),ROW(17:17))),INDIRECT("H"&SMALL(IF($I$1:$I$25="","",ROW($I$1:$I$25)),ROW(17:17))),"")} -> OXIBIS
H18: OXIBIS | I18: =IF(COUNTIF(Feuil1!$B$2:$AD$26,H18)>=1,"",ROW()) -> 18 | J18: {=IF(ISNUMBER(SMALL(IF($I$1:$I$25="","",ROW($I$1:$I$25)),ROW(18:18))),INDIRECT("H"&SMALL(IF($I$1:$I$25="","",ROW($I$1:$I$25)),ROW(18:18))),"")} -> JOOly
H19: JOOly | I19: =IF(COUNTIF(Feuil1!$B$2:$AD$26,H19)>=1,"",ROW()) -> 19 | J19: {=IF(ISNUMBER(SMALL(IF($I$1:$I$25="","",ROW($I$1:$I$25)),ROW(19:19))),INDIRECT("H"&SMALL(IF($I$1:$I$25="","",ROW($I$1:$I$25)),ROW(19:19))),"")} -> RAYBAN
H20: RAYBAN | I20: =IF(COUNTIF(Feuil1!$B$2:$AD$26,H20)>=1,"",ROW()) -> 20 | J20: {=IF(ISNUMBER(SMALL(IF($I$1:$I$25="","",ROW($I$1:$I$25)),ROW(20:20))),INDIRECT("H"&SMALL(IF($I$1:$I$25="","",ROW($I$1:$I$25)),ROW(20:20))),"")} -> MARITZA
H21: MARITZA | I21: =IF(COUNTIF(Feuil1!$B$2:$AD$26,H21)>=1,"",ROW()) -> 21 | J21: {=IF(ISNUMBER(SMALL(IF($I$1:$I$25="","",ROW($I$1:$I$25)),ROW(21:21))),INDIRECT("H"&SMALL(IF($I$1:$I$25="","",ROW($I$1:$I$25)),ROW(21:21))),"")} -> JUST eye fashion +
H22: JUST eye fashion + | I22: =IF(COUNTIF(Feuil1!$B$2:$AD$26,H22)>=1,"",ROW()) -> 22 | J22: {=IF(ISNUMBER(SMALL(IF($I$1:$I$25="","",ROW($I$1:$I$25)),ROW(22:22))),INDIRECT("H"&SMALL(IF($I$1:$I$25="","",ROW($I$1:$I$25)),ROW(22:22))),"")} -> GIVENCHY
H23: GIVENCHY | I23: =IF(COUNTIF(Feuil1!$B$2:$AD$26,H23)>=1,"",ROW()) -> 23 | J23: {=IF(ISNUMBER(SMALL(IF($I$1:$I$25="","",ROW($I$1:$I$25)),ROW(23:23))),INDIRECT("H"&SMALL(IF($I$1:$I$25="","",ROW($I$1:$I$25)),ROW(23:23))),"")} -> MARQUE TC DOUBLEE
H24: MARQUE TC DOUBLEE | I24: =IF(COUNTIF(Feuil1!$B$2:$AD$26,H24)>=1,"",ROW()) -> 24 | J24: {=IF(ISNUMBER(SMALL(IF($I$1:$I$25="","",ROW($I$1:$I$25)),ROW(24:24))),INDIRECT("H"&SMALL(IF($I$1:$I$25="","",ROW($I$1:$I$25)),ROW(24:24))),"")} -> MARQUE SUP
H25: MARQUE SUP | I25: =IF(COUNTIF(Feuil1!$B$2:$AD$26,H25)>=1,"",ROW()) -> 25 | J25: {=IF(ISNUMBER(SMALL(IF($I$1:$I$25="","",ROW($I$1:$I$25)),ROW(25:25))),INDIRECT("H"&SMALL(IF($I$1:$I$25="","",ROW($I$1:$I$25)),ROW(25:25))),"")}
