Workbook

Sheet Coucou
A1: faible | B1: faible | C1: faible | D1: faible | E1: =INDEX(Liste!$B$1:$B$16,MATCH(A1&B1&C1&D1,Liste!$A$1:$A$16,0)) -> non
A2: faible | B2: faible | C2: faible | D2: important | E2: =INDEX(Liste!$B$1:$B$16,MATCH(A2&B2&C2&D2,Liste!$A$1:$A$16,0)) -> non
A3: faible | B3: important | C3: faible | D3: important | E3: =INDEX(Liste!$B$1:$B$16,MATCH(A3&B3&C3&D3,Liste!$A$1:$A$16,0)) -> non
A4: faible | B4: important | C4: important | D4: faible | E4: =INDEX(Liste!$B$1:$B$16,MATCH(A4&B4&C4&D4,Liste!$A$1:$A$16,0)) -> oui
A5: important | B5: faible | C5: important | D5: faible | E5: =INDEX(Liste!$B$1:$B$16,MATCH(A5&B5&C5&D5,Liste!$A$1:$A$16,0)) -> oui
A6: important | B6: important | C6: faible | D6: faible | E6: =INDEX(Liste!$B$1:$B$16,MATCH(A6&B6&C6&D6,Liste!$A$1:$A$16,0)) -> oui
A7: important | B7: important | C7: important | D7: faible | E7: =INDEX(Liste!$B$1:$B$16,MATCH(A7&B7&C7&D7,Liste!$A$1:$A$16,0)) -> oui
A8: important | B8: important | C8: important | D8: important | E8: =INDEX(Liste!$B$1:$B$16,MATCH(A8&B8&C8&D8,Liste!$A$1:$A$16,0)) -> oui
A9: faible | B9: faible | C9: important | D9: faible | E9: =INDEX(Liste!$B$1:$B$16,MATCH(A9&B9&C9&D9,Liste!$A$1:$A$16,0)) -> plutôt oui
A10: faible | B10: faible | C10: important | D10: important | E10: =INDEX(Liste!$B$1:$B$16,MATCH(A10&B10&C10&D10,Liste!$A$1:$A$16,0)) -> plutôt non
A11: faible | B11: important | C11: faible | D11: faible | E11: =INDEX(Liste!$B$1:$B$16,MATCH(A11&B11&C11&D11,Liste!$A$1:$A$16,0)) -> plutôt non
A12: faible | B12: important | C12: important | D12: important | E12: =INDEX(Liste!$B$1:$B$16,MATCH(A12&B12&C12&D12,Liste!$A$1:$A$16,0)) -> plutôt oui
... A16: important | B16: important | C16: faible | D16: important | E16: =INDEX(Liste!$B$1:$B$16,MATCH(A16&B16&C16&D16,Liste!$A$1:$A$16,0)) -> plutôt oui

Sheet Liste
A1: =Coucou!A1&Coucou!B1&Coucou!C1&Coucou!D1 -> faiblefaiblefaiblefaible | B1: non
A2: =Coucou!A2&Coucou!B2&Coucou!C2&Coucou!D2 -> faiblefaiblefaibleimportant | B2: non
A3: =Coucou!A3&Coucou!B3&Coucou!C3&Coucou!D3 -> faibleimportantfaibleimportant | B3: non
A4: =Coucou!A4&Coucou!B4&Coucou!C4&Coucou!D4 -> faibleimportantimportantfaible | B4: oui
A5: =Coucou!A5&Coucou!B5&Coucou!C5&Coucou!D5 -> importantfaibleimportantfaible | B5: oui
A6: =Coucou!A6&Coucou!B6&Coucou!C6&Coucou!D6 -> importantimportantfaiblefaible | B6: oui
A7: =Coucou!A7&Coucou!B7&Coucou!C7&Coucou!D7 -> importantimportantimportantfaible | B7: oui
A8: =Coucou!A8&Coucou!B8&Coucou!C8&Coucou!D8 -> importantimportantimportantimportant | B8: oui
A9: =Coucou!A9&Coucou!B9&Coucou!C9&Coucou!D9 -> faiblefaibleimportantfaible | B9: plutôt oui
A10: =Coucou!A10&Coucou!B10&Coucou!C10&Coucou!D10 -> faiblefaibleimportantimportant | B10: plutôt non
A11: =Coucou!A11&Coucou!B11&Coucou!C11&Coucou!D11 -> faibleimportantfaiblefaible | B11: plutôt non
A12: =Coucou!A12&Coucou!B12&Coucou!C12&Coucou!D12 -> faibleimportantimportantimportant | B12: plutôt oui
... A16: =Coucou!A16&Coucou!B16&Coucou!C16&Coucou!D16 -> importantimportantfaibleimportant | B16: plutôt oui
