Workbook

Sheet Resumé

Sheet Etat collection
C2: Not Num. | E2: /275 | G2: /249 | I2: /199 | K2: /149 | M2: /99 | O2: /75 | Q2: /60 | S2: /49 | U2: Total | X2: /35 | Z2: /25 | AB2: /10 | AD2: /5 | AF2: /1 | AH2: Total | AJ2: TOTAL
B3: Atlanta Hawks | C3: =COUNTA('Atlanta Hawks'!E3:E34) -> 0 | D3: =COUNTA('Atlanta Hawks'!D3:D34) -> 32 | E3: =COUNTA('Atlanta Hawks'!E35) -> 0 | F3: =COUNTA('Atlanta Hawks'!D35) -> 1 | G3: =COUNTA('Atlanta Hawks'!E36:E38) -> 0 | H3: =COUNTA('Atlanta Hawks'!D36:D38) -> 3 | I3: =COUNTA('Atlanta Hawks'!E39:E50) -> 0 | J3: =COUNTA('Atlanta Hawks'!D39:D50) -> 12 | K3: =COUNTA('Atlanta Hawks'!E51:E56) -> 0 | L3: =COUNTA('Atlanta Hawks'!D51:D56) -> 6 | M3: =COUNTA('Atlanta Hawks'!E57:E64) -> 0 | N3: =COUNTA('Atlanta Hawks'!D57:D64) -> 8 | O3: =COUNTA('Atlanta Hawks'!E65:E66) -> 0 | P3: =COUNTA('Atlanta Hawks'!D65:D66) -> 2 | Q3: =COUNTA('Atlanta Hawks'!E67:E72) -> 0 | R3: =COUNTA('Atlanta Hawks'!D67:D72) -> 6 | S3: =COUNTA('Atlanta Hawks'!E73:E83) -> 0 | T3: =COUNTA('Atlanta Hawks'!D73:D83) -> 11 | U3: =C3+E3+G3+I3+K3+M3+O3+Q3+S3 -> 0 | V3: =D3+F3+H3+J3+L3+N3+P3+R3+T3 -> 81 | X3: =COUNTA('Atlanta Hawks'!E84:E85) -> 0 | Y3: =COUNTA('Atlanta Hawks'!D84:D85) -> 2 | Z3: =COUNTA('Atlanta Hawks'!E86:E108) -> 0 | AA3: =COUNTA('Atlanta Hawks'!D86:D108) -> 23 | AB3: =COUNTA('Atlanta Hawks'!E110:E137) -> 0 | AC3: =COUNTA('Atlanta Hawks'!D110:D137) -> 28 | AD3: =COUNTA('Atlanta Hawks'!E138:E145) -> 0 | AE3: =COUNTA('Atlanta Hawks'!D138:D145) -> 8 | AF3: =COUNTA('Atlanta Hawks'!E146:E173) -> 1 | AG3: =COUNTA('Atlanta Hawks'!D146:D173) -> 28 | AH3: =X3+Z3+AB3+AD3+AF3 -> 1 | AI3: =Y3+AA3+AC3+AE3+AG3 -> 89 | AJ3: =AH3+U3 -> 1 | AK3: =AI3+V3 -> 170
B4: Boston Celtics | C4: =COUNTA('Boston Celtics'!E3:E46) -> 0 | D4: =COUNTA('Boston Celtics'!D3:D46) -> 44 | E4: =COUNTA('Boston Celtics'!E47:E48) -> 0 | F4: =COUNTA('Boston Celtics'!D47:D48) -> 2 | G4: =COUNTA('Boston Celtics'!E49:E50) -> 0 | H4: =COUNTA('Boston Celtics'!D49:D50) -> 2 | I4: =COUNTA('Boston Celtics'!E51:E64) -> 0 | J4: =COUNTA('Boston Celtics'!D51:D64) -> 14 | K4: =COUNTA('Boston Celtics'!E65:E72) -> 0 | L4: =COUNTA('Boston Celtics'!D65:D72) -> 8 | M4: =COUNTA('Boston Celtics'!E73:E82) -> 0 | N4: =COUNTA('Boston Celtics'!D73:D82) -> 10 | O4: =COUNTA('Boston Celtics'!E83) -> 0 | P4: =COUNTA('Boston Celtics'!D83) -> 1 | Q4: =COUNTA('Boston Celtics'!E84:E89) -> 0 | R4: =COUNTA('Boston Celtics'!D84:D89) -> 6 | S4: =COUNTA('Boston Celtics'!E90:E104) -> 0 | T4: =COUNTA('Boston Celtics'!D90:D104) -> 15 | U4: =C4+E4+G4+I4+K4+M4+O4+Q4+S4 -> 0 | V4: =D4+F4+H4+J4+L4+N4+P4+R4+T4 -> 102 | X4: =COUNTA('Boston Celtics'!E105) -> 0 | Y4: =COUNTA('Boston Celtics'!D105) -> 1 | Z4: =COUNTA('Boston Celtics'!E106:E128) -> 0 | AA4: =COUNTA('Boston Celtics'!D106:D128) -> 23 | AB4: =COUNTA('Boston Celtics'!E130:E161) -> 0 | AC4: =COUNTA('Boston Celtics'!D130:D161) -> 32 | AD4: =COUNTA('Boston Celtics'!E162:E173) -> 0 | AE4: =COUNTA('Boston Celtics'!D162:D173) -> 12 | AF4: =COUNTA('Boston Celtics'!E174:E205) -> 0 | AG4: =COUNTA('Boston Celtics'!D174:D205) -> 32 | AH4: =X4+Z4+AB4+AD4+AF4 -> 0 | AI4: =Y4+AA4+AC4+AE4+AG4 -> 100 | AJ4: =AH4+U4 -> 0 | AK4: =AI4+V4 -> 202
B5: Brooklyn Nets | U5: =C5+E5+G5+I5+K5+M5+O5+Q5+S5 -> 0 | V5: =D5+F5+H5+J5+L5+N5+P5+R5+T5 -> 0 | AH5: =X5+Z5+AB5+AD5+AF5 -> 0 | AI5: =Y5+AA5+AC5+AE5+AG5 -> 0 | AJ5: =AH5+U5 -> 0 | AK5: =AI5+V5 -> 0
B6: Charlotte Hornets | U6: =C6+E6+G6+I6+K6+M6+O6+Q6+S6 -> 0 | V6: =D6+F6+H6+J6+L6+N6+P6+R6+T6 -> 0 | AH6: =X6+Z6+AB6+AD6+AF6 -> 0 | AI6: =Y6+AA6+AC6+AE6+AG6 -> 0 | AJ6: =AH6+U6 -> 0 | AK6: =AI6+V6 -> 0
B7: Chicago Bulls | U7: =C7+E7+G7+I7+K7+M7+O7+Q7+S7 -> 0 | V7: =D7+F7+H7+J7+L7+N7+P7+R7+T7 -> 0 | AH7: =X7+Z7+AB7+AD7+AF7 -> 0 | AI7: =Y7+AA7+AC7+AE7+AG7 -> 0 | AJ7: =AH7+U7 -> 0 | AK7: =AI7+V7 -> 0
B8: Cleveland Cavaliers | U8: =C8+E8+G8+I8+K8+M8+O8+Q8+S8 -> 0 | V8: =D8+F8+H8+J8+L8+N8+P8+R8+T8 -> 0 | AH8: =X8+Z8+AB8+AD8+AF8 -> 0 | AI8: =Y8+AA8+AC8+AE8+AG8 -> 0 | AJ8: =AH8+U8 -> 0 | AK8: =AI8+V8 -> 0
B9: Dallas Mavericks | U9: =C9+E9+G9+I9+K9+M9+O9+Q9+S9 -> 0 | V9: =D9+F9+H9+J9+L9+N9+P9+R9+T9 -> 0 | AH9: =X9+Z9+AB9+AD9+AF9 -> 0 | AI9: =Y9+AA9+AC9+AE9+AG9 -> 0 | AJ9: =AH9+U9 -> 0 | AK9: =AI9+V9 -> 0
B10: Denver Nuggets | U10: =C10+E10+G10+I10+K10+M10+O10+Q10+S10 -> 0 | V10: =D10+F10+H10+J10+L10+N10+P10+R10+T10 -> 0 | AH10: =X10+Z10+AB10+AD10+AF10 -> 0 | AI10: =Y10+AA10+AC10+AE10+AG10 -> 0 | AJ10: =AH10+U10 -> 0 | AK10: =AI10+V10 -> 0
B11: Detroit Pistons | U11: =C11+E11+G11+I11+K11+M11+O11+Q11+S11 -> 0 | V11: =D11+F11+H11+J11+L11+N11+P11+R11+T11 -> 0 | AH11: =X11+Z11+AB11+AD11+AF11 -> 0 | AI11: =Y11+AA11+AC11+AE11+AG11 -> 0 | AJ11: =AH11+U11 -> 0 | AK11: =AI11+V11 -> 0
B12: Golden State Warriors | U12: =C12+E12+G12+I12+K12+M12+O12+Q12+S12 -> 0 | V12: =D12+F12+H12+J12+L12+N12+P12+R12+T12 -> 0 | AH12: =X12+Z12+AB12+AD12+AF12 -> 0 | AI12: =Y12+AA12+AC12+AE12+AG12 -> 0 | AJ12: =AH12+U12 -> 0 | AK12: =AI12+V12 -> 0
B13: Houston Rockets | U13: =C13+E13+G13+I13+K13+M13+O13+Q13+S13 -> 0 | V13: =D13+F13+H13+J13+L13+N13+P13+R13+T13 -> 0 | AH13: =X13+Z13+AB13+AD13+AF13 -> 0 | AI13: =Y13+AA13+AC13+AE13+AG13 -> 0 | AJ13: =AH13+U13 -> 0 | AK13: =AI13+V13 -> 0
B14: Indiana Pacers | U14: =C14+E14+G14+I14+K14+M14+O14+Q14+S14 -> 0 | V14: =D14+F14+H14+J14+L14+N14+P14+R14+T14 -> 0 | AH14: =X14+Z14+AB14+AD14+AF14 -> 0 | AI14: =Y14+AA14+AC14+AE14+AG14 -> 0 | AJ14: =AH14+U14 -> 0 | AK14: =AI14+V14 -> 0
B15: Los Angeles Clippers | U15: =C15+E15+G15+I15+K15+M15+O15+Q15+S15 -> 0 | V15: =D15+F15+H15+J15+L15+N15+P15+R15+T15 -> 0 | AH15: =X15+Z15+AB15+AD15+AF15 -> 0 | AI15: =Y15+AA15+AC15+AE15+AG15 -> 0 | AJ15: =AH15+U15 -> 0 | AK15: =AI15+V15 -> 0
B16: Los Angeles Lakers | U16: =C16+E16+G16+I16+K16+M16+O16+Q16+S16 -> 0 | V16: =D16+F16+H16+J16+L16+N16+P16+R16+T16 -> 0 | AH16: =X16+Z16+AB16+AD16+AF16 -> 0 | AI16: =Y16+AA16+AC16+AE16+AG16 -> 0 | AJ16: =AH16+U16 -> 0 | AK16: =AI16+V16 -> 0
... B32: USA Team | U32: =C32+E32+G32+I32+K32+M32+O32+Q32+S32 -> 0 | V32: =D32+F32+H32+J32+L32+N32+P32+R32+T32 -> 0 | AH32: =X32+Z32+AB32+AD32+AF32 -> 0 | AI32: =Y32+AA32+AC32+AE32+AG32 -> 0 | AJ32: =AH32+U32 -> 0 | AK32: =AI32+V32 -> 0
B33: TOTAL | C33: =SUM(C3:C32) -> 0 | D33: =SUM(D3:D32) -> 76 | E33: =SUM(E3:E32) -> 0 | F33: =SUM(F3:F32) -> 3 | G33: =SUM(G3:G32) -> 0 | H33: =SUM(H3:H32) -> 5 | I33: =SUM(I3:I32) -> 0 | J33: =SUM(J3:J32) -> 26 | ... V33: =SUM(V3:V32) -> 183 | X33: =SUM(X3:X32) -> 0 | Y33: =SUM(Y3:Y32) -> 3 | Z33: =SUM(Z3:Z32) -> 0 | AA33: =SUM(AA3:AA32) -> 46 | AB33: =SUM(AB3:AB32) -> 0 | AC33: =SUM(AC3:AC32) -> 60 | AD33: =SUM(AD3:AD32) -> 0 | AE33: =SUM(AE3:AE32) -> 20 | ... AK33: =SUM(AK3:AK32) -> 372

Sheet Atlanta Hawks
B2: Joueur | C2: Set | D2: Number | E2: X
B3: Adreian Payne | C3: Base Set - Concourse | D3: Not Numbered
B4: Adreian Payne | C4: Base Set - Concourse - Blue and Silver Prizms | D4: Not Numbered
B5: Adreian Payne | C5: Base Set - Concourse - Purple and White Prizms | D5: Not Numbered
B6: Adreian Payne | C6: Base Set - Concourse - Silver Prizms | D6: Not Numbered
B7: Adreian Payne | C7: Base Set - Courtside | D7: Not Numbered
B8: Adreian Payne | C8: Base Set - Courtside - Blue and Silver Prizms | D8: Not Numbered
B9: Adreian Payne | C9: Base Set - Courtside - Purple and White Prizms | D9: Not Numbered
B10: Adreian Payne | C10: Base Set - Courtside - Silver Prizms | D10: Not Numbered
B11: Al Horford | C11: Base Set - Concourse | D11: Not Numbered
B12: Al Horford | C12: Base Set - Concourse - Blue and Silver Prizms | D12: Not Numbered
B13: Al Horford | C13: Base Set - Concourse - Purple and White Prizms | D13: Not Numbered
B14: Al Horford | C14: Base Set - Concourse - Silver Prizms | D14: Not Numbered
... B34: Pete Maravich | C34: Base Set - Premier Level - Silver Prizms | D34: Not Numbered
B35: Adreian Payne | C35: Rookie Signatures | D35: 275
B36: Adreian Payne | C36: Base Set - Concourse - Blue Prizms | D36: 249
B37: Al Horford | C37: Base Set - Concourse - Blue Prizms | D37: 249
B38: Jeff Teague | C38: Base Set - Concourse - Blue Prizms | D38: 249
B39: Adreian Payne | C39: Rookie Jersey Autographs | D39: 199
B40: Adreian Payne | C40: Rookie Swatches | D40: 199
B41: DeMarre Carroll | C41: Autograph Materials | D41: 199
B42: Dennis Schroder | C42: Autograph Materials | D42: 199
B43: Dikembe Mutombo | C43: City to City | D43: 199
B44: Joe Johnson | C44: City to City | D44: 199
B45: Kyle Korver | C45: Base Set - Premier Level - Light Blue Prizms Die-Cut | D45: 199
B46: Paul Millsap | C46: Base Set - Premier Level - Light Blue Prizms Die-Cut | D46: 199
... B156: Al Horford | C156: Select Swatches Black Prizms | D156: 1
B157: DeMarre Carroll | C157: Autograph Materials Black Prizms | D157: 1 | E157: X
B158: Dennis Schroder | C158: Autograph Materials Black Prizms | D158: 1
B159: Dennis Schroder | C159: Base Set - Courtside - Black Prizms | D159: 1
B160: Dikembe Mutombo | C160: City to City Black Prizms | D160: 1
B161: Dikembe Mutombo | C161: Select Swatches Black Prizms | D161: 1
B162: Dominique Wilkins | C162: Fame Game Black Prizms | D162: 1
B163: Jeff Teague | C163: Base Set - Concourse - Black Prizms | D163: 1
B164: Jeff Teague | C164: Sparks Black Prizms | D164: 1
B165: Kyle Korver | C165: Autograph Materials Black Prizms | D165: 1
B166: Kyle Korver | C166: Base Set - Premier Level - Black Prizms Die Cut | D166: 1
B167: Kyle Korver | C167: Double Team Black Prizms | D167: 1
B168: Paul Millsap | C168: Base Set - Premier Level - Black Prizms Die Cut | D168: 1
B169: Pete Maravich | C169: Base Set - Premier Level - Black Prizms Die Cut | D169: 1
... B173: Tracy McGrady | C173: City to City Black Prizms | D173: 1

Sheet Boston Celtics
B2: Joueur | C2: Set | D2: Number
B3: Avery Bradley | C3: Base Set - Premier Level | D3: Not Numbered
B4: Avery Bradley | C4: Base Set - Premier Level - Blue and Silver Prizms | D4: Not Numbered
B5: Avery Bradley | C5: Base Set - Premier Level - Purple and White Prizms | D5: Not Numbered
B6: Avery Bradley | C6: Base Set - Premier Level - Silver Prizms | D6: Not Numbered
B7: Bill Russell | C7: Base Set - Courtside | D7: Not Numbered
B8: Bill Russell | C8: Base Set - Courtside - Blue and Silver Prizms | D8: Not Numbered
B9: Bill Russell | C9: Base Set - Courtside - Purple and White Prizms | D9: Not Numbered
B10: Bill Russell | C10: Base Set - Courtside - Silver Prizms | D10: Not Numbered
B11: Bob Cousy | C11: Base Set - Courtside | D11: Not Numbered
B12: Bob Cousy | C12: Base Set - Courtside - Blue and Silver Prizms | D12: Not Numbered
B13: Bob Cousy | C13: Base Set - Courtside - Purple and White Prizms | D13: Not Numbered
... B46: Tayshaun Prince | C46: Base Set - Premier Level - Silver Prizms | D46: Not Numbered
B47: James Young | C47: Rookie Signatures | D47: 275
B48: Marcus Smart | C48: Rookie Signatures | D48: 275
B49: James Young | C49: Base Set - Concourse - Blue Prizms | D49: 249
B50: Marcus Smart | C50: Base Set - Concourse - Blue Prizms | D50: 249
B51: Avery Bradley | C51: Base Set - Premier Level - Light Blue Prizms Die-Cut | D51: 199
B52: Cedric Maxwell | C52: Autograph Materials | D52: 199
B53: Jae Crowder | C53: Base Set - Premier Level - Light Blue Prizms Die-Cut | D53: 199
B54: James Young | C54: Base Set - Premier Level - Light Blue Prizms Die-Cut | D54: 199
B55: James Young | C55: Rookie Jersey Autographs | D55: 199
B56: Kelly Olynyk | C56: Autograph Materials | D56: 199
B57: Kelly Olynyk | C57: Base Set - Premier Level - Light Blue Prizms Die-Cut | D57: 199
B58: Kelly Olynyk | C58: Signatures | D58: 199
... B205: Tayshaun Prince | C205: Base Set - Premier Level - Black Prizms Die Cut | D205: 1
