Workbook
Name Choix: 'Paramètres & Choix'!$A$3:$A$8
Name MATRICE: Données!$A$1:$G$1243

Sheet Données
A1: Paramètres / Parameters | B1: Spécifications / Specifications | C1: Résultats / Results | D1: Lot / Batch | E1: Quantité fab | F1: Date fab. | G1: Date per. | H1: Unique
A2: Aspect / Appearance | B2: Pâte / Paste | C2: conforme / compliant | D2: I04218 | E2: 0,00KG | F2: 40162 | G2: 41258 | H2: =A2&D2 -> Aspect / AppearanceI04218
A3: Couleur / Colour | B3: Vert foncé / Deep green | C3: conforme / compliant | D3: I04218 | E3: 0,00KG | F3: 40162 | G3: 41258 | H3: =A3&D3 -> Couleur / ColourI04218
A4: Odeur / Smell | B4: Menthe,sauge,girofle | C4: conforme / compliant | D4: I04218 | E4: 0,00KG | F4: 40162 | G4: 41258 | H4: =A4&D4 -> Odeur / SmellI04218
A5: pH (20°C) | B5: 5,500 - 6,300 | C5: 5,730 | D5: I04218 | E5: 0,00KG | F5: 40162 | G5: 41258 | H5: =A5&D5 -> pH (20°C)I04218
A6: Densité (masse volumique) / Specific gravity | B6: 0,950 - 1,300 | C6: 1,192 | D6: I04218 | E6: 0,00KG | F6: 40162 | G6: 41258 | H6: =A6&D6 -> Densité (masse volumique) / Specific gravityI04218
A7: Viscosité / Viscosity Brookfield (RVT, broche D, 2.5 rpm, 25°C) | B7: 100 000,000 - 500 000,000 cps | C7: 127 000,000 cps | D7: I04218 | E7: 0,00KG | F7: 40162 | G7: 41258 | H7: =A7&D7 -> Viscosité / Viscosity Brookfield (RVT, broche D, 2.5 rpm, 25°C)I04218
A8: Centrifugation 2 x 15' 3000 tr/min | B8: Stable | C8: conforme / compliant | D8: I04218 | E8: 0,00KG | F8: 40162 | G8: 41258 | H8: =A8&D8 -> Centrifugation 2 x 15' 3000 tr/minI04218
A9: Aspect / Appearance | B9: Pâte / Paste | C9: conforme / compliant | D9: J01209 | E9: 0,00KG | F9: 40249 | G9: 41344 | H9: =A9&D9 -> Aspect / AppearanceJ01209
A10: Couleur / Colour | B10: Vert foncé / Deep green | C10: conforme / compliant | D10: J01209 | E10: 0,00KG | F10: 40249 | G10: 41344 | H10: =A10&D10 -> Couleur / ColourJ01209
A11: Odeur / Smell | B11: Menthe,sauge,girofle | C11: conforme / compliant | D11: J01209 | E11: 0,00KG | F11: 40249 | G11: 41344 | H11: =A11&D11 -> Odeur / SmellJ01209
A12: pH (20°C) | B12: 5,500 - 6,300 | C12: 5,980 | D12: J01209 | E12: 0,00KG | F12: 40249 | G12: 41344 | H12: =A12&D12 -> pH (20°C)J01209
A13: Densité (masse volumique) / Specific gravity | B13: 0,950 - 1,300 | C13: 1,161 | D13: J01209 | E13: 0,00KG | F13: 40249 | G13: 41344 | H13: =A13&D13 -> Densité (masse volumique) / Specific gravityJ01209
... A57: Centrifugation 2 x 15' 3000 tr/min | B57: Stable | C57: conforme / compliant | D57: K01015 | E57: 0,00KG | F57: 40606 | G57: 41701 | H57: =A57&D57 -> Centrifugation 2 x 15' 3000 tr/minK01015

Sheet Tableau
A1: Spécifications / Specifications | B1: ='Paramètres & Choix'!B1 -> Aspect / Appearance | C1: ='Paramètres & Choix'!C1 -> Couleur / Colour | D1: ='Paramètres & Choix'!D1 -> Odeur / Smell | E1: ='Paramètres & Choix'!E1 -> pH (20°C) | F1: ='Paramètres & Choix'!F1 -> Densité (masse volumique) / Specific gravity | G1: ='Paramètres & Choix'!G1 -> Viscosité / Viscosity Brookfield (RVT, broche D, 2.5 rpm, 25°C) | H1: ='Paramètres & Choix'!H1 -> Centrifugation 2 x 15' 3000 tr/min
A2: I04218 | B2: =IFERROR(INDEX([0]!MATRICE,MATCH(B$1&$A2,Données!$H:$H,0),MATCH($A$1,Données!$A$1:$G$1,0)),"") -> Pâte / Paste | C2: =IFERROR(INDEX([0]!MATRICE,MATCH(C$1&$A2,Données!$H:$H,0),MATCH($A$1,Données!$A$1:$G$1,0)),"") -> Vert foncé / Deep green | D2: =IFERROR(INDEX([0]!MATRICE,MATCH(D$1&$A2,Données!$H:$H,0),MATCH($A$1,Données!$A$1:$G$1,0)),"") -> Menthe,sauge,girofle | E2: =IFERROR(INDEX([0]!MATRICE,MATCH(E$1&$A2,Données!$H:$H,0),MATCH($A$1,Données!$A$1:$G$1,0)),"") -> 5,500 - 6,300 | F2: =IFERROR(INDEX([0]!MATRICE,MATCH(F$1&$A2,Données!$H:$H,0),MATCH($A$1,Données!$A$1:$G$1,0)),"") -> 0,950 - 1,300 | G2: =IFERROR(INDEX([0]!MATRICE,MATCH(G$1&$A2,Données!$H:$H,0),MATCH($A$1,Données!$A$1:$G$1,0)),"") -> 100 000,000 - 500 000,000 cps | H2: =IFERROR(INDEX([0]!MATRICE,MATCH(H$1&$A2,Données!$H:$H,0),MATCH($A$1,Données!$A$1:$G$1,0)),"") -> Stable
A3: J01209 | B3: =IFERROR(INDEX([0]!MATRICE,MATCH(B$1&$A3,Données!$H:$H,0),MATCH($A$1,Données!$A$1:$G$1,0)),"") -> Pâte / Paste | C3: =IFERROR(INDEX([0]!MATRICE,MATCH(C$1&$A3,Données!$H:$H,0),MATCH($A$1,Données!$A$1:$G$1,0)),"") -> Vert foncé / Deep green | D3: =IFERROR(INDEX([0]!MATRICE,MATCH(D$1&$A3,Données!$H:$H,0),MATCH($A$1,Données!$A$1:$G$1,0)),"") -> Menthe,sauge,girofle | E3: =IFERROR(INDEX([0]!MATRICE,MATCH(E$1&$A3,Données!$H:$H,0),MATCH($A$1,Données!$A$1:$G$1,0)),"") -> 5,500 - 6,300 | F3: =IFERROR(INDEX([0]!MATRICE,MATCH(F$1&$A3,Données!$H:$H,0),MATCH($A$1,Données!$A$1:$G$1,0)),"") -> 0,950 - 1,300 | G3: =IFERROR(INDEX([0]!MATRICE,MATCH(G$1&$A3,Données!$H:$H,0),MATCH($A$1,Données!$A$1:$G$1,0)),"") -> 100 000,000 - 500 000,000 cps | H3: =IFERROR(INDEX([0]!MATRICE,MATCH(H$1&$A3,Données!$H:$H,0),MATCH($A$1,Données!$A$1:$G$1,0)),"") -> Stable
A4: J02114 | B4: =IFERROR(INDEX([0]!MATRICE,MATCH(B$1&$A4,Données!$H:$H,0),MATCH($A$1,Données!$A$1:$G$1,0)),"") -> Pâte / Paste | C4: =IFERROR(INDEX([0]!MATRICE,MATCH(C$1&$A4,Données!$H:$H,0),MATCH($A$1,Données!$A$1:$G$1,0)),"") -> Vert foncé / Deep green | D4: =IFERROR(INDEX([0]!MATRICE,MATCH(D$1&$A4,Données!$H:$H,0),MATCH($A$1,Données!$A$1:$G$1,0)),"") -> Menthe,sauge,girofle | E4: =IFERROR(INDEX([0]!MATRICE,MATCH(E$1&$A4,Données!$H:$H,0),MATCH($A$1,Données!$A$1:$G$1,0)),"") -> 5,500 - 6,300 | F4: =IFERROR(INDEX([0]!MATRICE,MATCH(F$1&$A4,Données!$H:$H,0),MATCH($A$1,Données!$A$1:$G$1,0)),"") -> 0,950 - 1,300 | G4: =IFERROR(INDEX([0]!MATRICE,MATCH(G$1&$A4,Données!$H:$H,0),MATCH($A$1,Données!$A$1:$G$1,0)),"") -> 100 000,000 - 500 000,000 cps | H4: =IFERROR(INDEX([0]!MATRICE,MATCH(H$1&$A4,Données!$H:$H,0),MATCH($A$1,Données!$A$1:$G$1,0)),"") -> Stable
A5: J02430 | B5: =IFERROR(INDEX([0]!MATRICE,MATCH(B$1&$A5,Données!$H:$H,0),MATCH($A$1,Données!$A$1:$G$1,0)),"") -> Pâte / Paste | C5: =IFERROR(INDEX([0]!MATRICE,MATCH(C$1&$A5,Données!$H:$H,0),MATCH($A$1,Données!$A$1:$G$1,0)),"") -> Vert foncé / Deep green | D5: =IFERROR(INDEX([0]!MATRICE,MATCH(D$1&$A5,Données!$H:$H,0),MATCH($A$1,Données!$A$1:$G$1,0)),"") -> Menthe,sauge,girofle | E5: =IFERROR(INDEX([0]!MATRICE,MATCH(E$1&$A5,Données!$H:$H,0),MATCH($A$1,Données!$A$1:$G$1,0)),"") -> 5,500 - 6,300 | F5: =IFERROR(INDEX([0]!MATRICE,MATCH(F$1&$A5,Données!$H:$H,0),MATCH($A$1,Données!$A$1:$G$1,0)),"") -> 0,950 - 1,300 | G5: =IFERROR(INDEX([0]!MATRICE,MATCH(G$1&$A5,Données!$H:$H,0),MATCH($A$1,Données!$A$1:$G$1,0)),"") -> 100 000,000 - 500 000,000 cps | H5: =IFERROR(INDEX([0]!MATRICE,MATCH(H$1&$A5,Données!$H:$H,0),MATCH($A$1,Données!$A$1:$G$1,0)),"") -> Stable
A6: J03935 | B6: =IFERROR(INDEX([0]!MATRICE,MATCH(B$1&$A6,Données!$H:$H,0),MATCH($A$1,Données!$A$1:$G$1,0)),"") -> Pâte / Paste | C6: =IFERROR(INDEX([0]!MATRICE,MATCH(C$1&$A6,Données!$H:$H,0),MATCH($A$1,Données!$A$1:$G$1,0)),"") -> Vert foncé / Deep green | D6: =IFERROR(INDEX([0]!MATRICE,MATCH(D$1&$A6,Données!$H:$H,0),MATCH($A$1,Données!$A$1:$G$1,0)),"") -> Menthe,sauge,girofle | E6: =IFERROR(INDEX([0]!MATRICE,MATCH(E$1&$A6,Données!$H:$H,0),MATCH($A$1,Données!$A$1:$G$1,0)),"") -> 5,500 - 6,300 | F6: =IFERROR(INDEX([0]!MATRICE,MATCH(F$1&$A6,Données!$H:$H,0),MATCH($A$1,Données!$A$1:$G$1,0)),"") -> 0,950 - 1,300 | G6: =IFERROR(INDEX([0]!MATRICE,MATCH(G$1&$A6,Données!$H:$H,0),MATCH($A$1,Données!$A$1:$G$1,0)),"") -> 100 000,000 - 500 000,000 cps | H6: =IFERROR(INDEX([0]!MATRICE,MATCH(H$1&$A6,Données!$H:$H,0),MATCH($A$1,Données!$A$1:$G$1,0)),"") -> Stable
A7: J04803 | B7: =IFERROR(INDEX([0]!MATRICE,MATCH(B$1&$A7,Données!$H:$H,0),MATCH($A$1,Données!$A$1:$G$1,0)),"") -> Pâte / Paste | C7: =IFERROR(INDEX([0]!MATRICE,MATCH(C$1&$A7,Données!$H:$H,0),MATCH($A$1,Données!$A$1:$G$1,0)),"") -> Vert foncé / Deep green | D7: =IFERROR(INDEX([0]!MATRICE,MATCH(D$1&$A7,Données!$H:$H,0),MATCH($A$1,Données!$A$1:$G$1,0)),"") -> Menthe,sauge,girofle | E7: =IFERROR(INDEX([0]!MATRICE,MATCH(E$1&$A7,Données!$H:$H,0),MATCH($A$1,Données!$A$1:$G$1,0)),"") -> 5,500 - 6,300 | F7: =IFERROR(INDEX([0]!MATRICE,MATCH(F$1&$A7,Données!$H:$H,0),MATCH($A$1,Données!$A$1:$G$1,0)),"") -> 0,950 - 1,300 | G7: =IFERROR(INDEX([0]!MATRICE,MATCH(G$1&$A7,Données!$H:$H,0),MATCH($A$1,Données!$A$1:$G$1,0)),"") -> 100 000,000 - 500 000,000 cps | H7: =IFERROR(INDEX([0]!MATRICE,MATCH(H$1&$A7,Données!$H:$H,0),MATCH($A$1,Données!$A$1:$G$1,0)),"") -> Stable
A8: K00637 | B8: =IFERROR(INDEX([0]!MATRICE,MATCH(B$1&$A8,Données!$H:$H,0),MATCH($A$1,Données!$A$1:$G$1,0)),"") -> Pâte / Paste | C8: =IFERROR(INDEX([0]!MATRICE,MATCH(C$1&$A8,Données!$H:$H,0),MATCH($A$1,Données!$A$1:$G$1,0)),"") -> Vert foncé / Deep green | D8: =IFERROR(INDEX([0]!MATRICE,MATCH(D$1&$A8,Données!$H:$H,0),MATCH($A$1,Données!$A$1:$G$1,0)),"") -> Menthe,sauge,girofle | E8: =IFERROR(INDEX([0]!MATRICE,MATCH(E$1&$A8,Données!$H:$H,0),MATCH($A$1,Données!$A$1:$G$1,0)),"") -> 5,500 - 6,300 | F8: =IFERROR(INDEX([0]!MATRICE,MATCH(F$1&$A8,Données!$H:$H,0),MATCH($A$1,Données!$A$1:$G$1,0)),"") -> 0,950 - 1,300 | G8: =IFERROR(INDEX([0]!MATRICE,MATCH(G$1&$A8,Données!$H:$H,0),MATCH($A$1,Données!$A$1:$G$1,0)),"") -> 100 000,000 - 500 000,000 cps | H8: =IFERROR(INDEX([0]!MATRICE,MATCH(H$1&$A8,Données!$H:$H,0),MATCH($A$1,Données!$A$1:$G$1,0)),"") -> Stable
A9: K01015 | B9: =IFERROR(INDEX([0]!MATRICE,MATCH(B$1&$A9,Données!$H:$H,0),MATCH($A$1,Données!$A$1:$G$1,0)),"") -> Pâte / Paste | C9: =IFERROR(INDEX([0]!MATRICE,MATCH(C$1&$A9,Données!$H:$H,0),MATCH($A$1,Données!$A$1:$G$1,0)),"") -> Vert foncé / Deep green | D9: =IFERROR(INDEX([0]!MATRICE,MATCH(D$1&$A9,Données!$H:$H,0),MATCH($A$1,Données!$A$1:$G$1,0)),"") -> Menthe,sauge,girofle | E9: =IFERROR(INDEX([0]!MATRICE,MATCH(E$1&$A9,Données!$H:$H,0),MATCH($A$1,Données!$A$1:$G$1,0)),"") -> 5,500 - 6,300 | F9: =IFERROR(INDEX([0]!MATRICE,MATCH(F$1&$A9,Données!$H:$H,0),MATCH($A$1,Données!$A$1:$G$1,0)),"") -> 0,950 - 1,300 | G9: =IFERROR(INDEX([0]!MATRICE,MATCH(G$1&$A9,Données!$H:$H,0),MATCH($A$1,Données!$A$1:$G$1,0)),"") -> 100 000,000 - 500 000,000 cps | H9: =IFERROR(INDEX([0]!MATRICE,MATCH(H$1&$A9,Données!$H:$H,0),MATCH($A$1,Données!$A$1:$G$1,0)),"") -> Stable
B10: =IFERROR(INDEX([0]!MATRICE,MATCH(B$1&$A10,Données!$H:$H,0),MATCH($A$1,Données!$A$1:$G$1,0)),"") | C10: =IFERROR(INDEX([0]!MATRICE,MATCH(C$1&$A10,Données!$H:$H,0),MATCH($A$1,Données!$A$1:$G$1,0)),"") | D10: =IFERROR(INDEX([0]!MATRICE,MATCH(D$1&$A10,Données!$H:$H,0),MATCH($A$1,Données!$A$1:$G$1,0)),"") | E10: =IFERROR(INDEX([0]!MATRICE,MATCH(E$1&$A10,Données!$H:$H,0),MATCH($A$1,Données!$A$1:$G$1,0)),"") | F10: =IFERROR(INDEX([0]!MATRICE,MATCH(F$1&$A10,Données!$H:$H,0),MATCH($A$1,Données!$A$1:$G$1,0)),"") | G10: =IFERROR(INDEX([0]!MATRICE,MATCH(G$1&$A10,Données!$H:$H,0),MATCH($A$1,Données!$A$1:$G$1,0)),"") | H10: =IFERROR(INDEX([0]!MATRICE,MATCH(H$1&$A10,Données!$H:$H,0),MATCH($A$1,Données!$A$1:$G$1,0)),"")
B11: =IFERROR(INDEX([0]!MATRICE,MATCH(B$1&$A11,Données!$H:$H,0),MATCH($A$1,Données!$A$1:$G$1,0)),"") | C11: =IFERROR(INDEX([0]!MATRICE,MATCH(C$1&$A11,Données!$H:$H,0),MATCH($A$1,Données!$A$1:$G$1,0)),"") | D11: =IFERROR(INDEX([0]!MATRICE,MATCH(D$1&$A11,Données!$H:$H,0),MATCH($A$1,Données!$A$1:$G$1,0)),"") | E11: =IFERROR(INDEX([0]!MATRICE,MATCH(E$1&$A11,Données!$H:$H,0),MATCH($A$1,Données!$A$1:$G$1,0)),"") | F11: =IFERROR(INDEX([0]!MATRICE,MATCH(F$1&$A11,Données!$H:$H,0),MATCH($A$1,Données!$A$1:$G$1,0)),"") | G11: =IFERROR(INDEX([0]!MATRICE,MATCH(G$1&$A11,Données!$H:$H,0),MATCH($A$1,Données!$A$1:$G$1,0)),"") | H11: =IFERROR(INDEX([0]!MATRICE,MATCH(H$1&$A11,Données!$H:$H,0),MATCH($A$1,Données!$A$1:$G$1,0)),"")
B12: =IFERROR(INDEX([0]!MATRICE,MATCH(B$1&$A12,Données!$H:$H,0),MATCH($A$1,Données!$A$1:$G$1,0)),"") | C12: =IFERROR(INDEX([0]!MATRICE,MATCH(C$1&$A12,Données!$H:$H,0),MATCH($A$1,Données!$A$1:$G$1,0)),"") | D12: =IFERROR(INDEX([0]!MATRICE,MATCH(D$1&$A12,Données!$H:$H,0),MATCH($A$1,Données!$A$1:$G$1,0)),"") | E12: =IFERROR(INDEX([0]!MATRICE,MATCH(E$1&$A12,Données!$H:$H,0),MATCH($A$1,Données!$A$1:$G$1,0)),"") | F12: =IFERROR(INDEX([0]!MATRICE,MATCH(F$1&$A12,Données!$H:$H,0),MATCH($A$1,Données!$A$1:$G$1,0)),"") | G12: =IFERROR(INDEX([0]!MATRICE,MATCH(G$1&$A12,Données!$H:$H,0),MATCH($A$1,Données!$A$1:$G$1,0)),"") | H12: =IFERROR(INDEX([0]!MATRICE,MATCH(H$1&$A12,Données!$H:$H,0),MATCH($A$1,Données!$A$1:$G$1,0)),"")
B13: =IFERROR(INDEX([0]!MATRICE,MATCH(B$1&$A13,Données!$H:$H,0),MATCH($A$1,Données!$A$1:$G$1,0)),"") | C13: =IFERROR(INDEX([0]!MATRICE,MATCH(C$1&$A13,Données!$H:$H,0),MATCH($A$1,Données!$A$1:$G$1,0)),"") | D13: =IFERROR(INDEX([0]!MATRICE,MATCH(D$1&$A13,Données!$H:$H,0),MATCH($A$1,Données!$A$1:$G$1,0)),"") | E13: =IFERROR(INDEX([0]!MATRICE,MATCH(E$1&$A13,Données!$H:$H,0),MATCH($A$1,Données!$A$1:$G$1,0)),"") | F13: =IFERROR(INDEX([0]!MATRICE,MATCH(F$1&$A13,Données!$H:$H,0),MATCH($A$1,Données!$A$1:$G$1,0)),"") | G13: =IFERROR(INDEX([0]!MATRICE,MATCH(G$1&$A13,Données!$H:$H,0),MATCH($A$1,Données!$A$1:$G$1,0)),"") | H13: =IFERROR(INDEX([0]!MATRICE,MATCH(H$1&$A13,Données!$H:$H,0),MATCH($A$1,Données!$A$1:$G$1,0)),"")
B14: =IFERROR(INDEX([0]!MATRICE,MATCH(B$1&$A14,Données!$H:$H,0),MATCH($A$1,Données!$A$1:$G$1,0)),"") | C14: =IFERROR(INDEX([0]!MATRICE,MATCH(C$1&$A14,Données!$H:$H,0),MATCH($A$1,Données!$A$1:$G$1,0)),"") | D14: =IFERROR(INDEX([0]!MATRICE,MATCH(D$1&$A14,Données!$H:$H,0),MATCH($A$1,Données!$A$1:$G$1,0)),"") | E14: =IFERROR(INDEX([0]!MATRICE,MATCH(E$1&$A14,Données!$H:$H,0),MATCH($A$1,Données!$A$1:$G$1,0)),"") | F14: =IFERROR(INDEX([0]!MATRICE,MATCH(F$1&$A14,Données!$H:$H,0),MATCH($A$1,Données!$A$1:$G$1,0)),"") | G14: =IFERROR(INDEX([0]!MATRICE,MATCH(G$1&$A14,Données!$H:$H,0),MATCH($A$1,Données!$A$1:$G$1,0)),"") | H14: =IFERROR(INDEX([0]!MATRICE,MATCH(H$1&$A14,Données!$H:$H,0),MATCH($A$1,Données!$A$1:$G$1,0)),"")
B15: =IFERROR(INDEX([0]!MATRICE,MATCH(B$1&$A15,Données!$H:$H,0),MATCH($A$1,Données!$A$1:$G$1,0)),"") | C15: =IFERROR(INDEX([0]!MATRICE,MATCH(C$1&$A15,Données!$H:$H,0),MATCH($A$1,Données!$A$1:$G$1,0)),"") | D15: =IFERROR(INDEX([0]!MATRICE,MATCH(D$1&$A15,Données!$H:$H,0),MATCH($A$1,Données!$A$1:$G$1,0)),"") | E15: =IFERROR(INDEX([0]!MATRICE,MATCH(E$1&$A15,Données!$H:$H,0),MATCH($A$1,Données!$A$1:$G$1,0)),"") | F15: =IFERROR(INDEX([0]!MATRICE,MATCH(F$1&$A15,Données!$H:$H,0),MATCH($A$1,Données!$A$1:$G$1,0)),"") | G15: =IFERROR(INDEX([0]!MATRICE,MATCH(G$1&$A15,Données!$H:$H,0),MATCH($A$1,Données!$A$1:$G$1,0)),"") | H15: =IFERROR(INDEX([0]!MATRICE,MATCH(H$1&$A15,Données!$H:$H,0),MATCH($A$1,Données!$A$1:$G$1,0)),"")
B16: =IFERROR(INDEX([0]!MATRICE,MATCH(B$1&$A16,Données!$H:$H,0),MATCH($A$1,Données!$A$1:$G$1,0)),"") | C16: =IFERROR(INDEX([0]!MATRICE,MATCH(C$1&$A16,Données!$H:$H,0),MATCH($A$1,Données!$A$1:$G$1,0)),"") | D16: =IFERROR(INDEX([0]!MATRICE,MATCH(D$1&$A16,Données!$H:$H,0),MATCH($A$1,Données!$A$1:$G$1,0)),"") | E16: =IFERROR(INDEX([0]!MATRICE,MATCH(E$1&$A16,Données!$H:$H,0),MATCH($A$1,Données!$A$1:$G$1,0)),"") | F16: =IFERROR(INDEX([0]!MATRICE,MATCH(F$1&$A16,Données!$H:$H,0),MATCH($A$1,Données!$A$1:$G$1,0)),"") | G16: =IFERROR(INDEX([0]!MATRICE,MATCH(G$1&$A16,Données!$H:$H,0),MATCH($A$1,Données!$A$1:$G$1,0)),"") | H16: =IFERROR(INDEX([0]!MATRICE,MATCH(H$1&$A16,Données!$H:$H,0),MATCH($A$1,Données!$A$1:$G$1,0)),"")
B17: =IFERROR(INDEX([0]!MATRICE,MATCH(B$1&$A17,Données!$H:$H,0),MATCH($A$1,Données!$A$1:$G$1,0)),"") | C17: =IFERROR(INDEX([0]!MATRICE,MATCH(C$1&$A17,Données!$H:$H,0),MATCH($A$1,Données!$A$1:$G$1,0)),"") | D17: =IFERROR(INDEX([0]!MATRICE,MATCH(D$1&$A17,Données!$H:$H,0),MATCH($A$1,Données!$A$1:$G$1,0)),"") | E17: =IFERROR(INDEX([0]!MATRICE,MATCH(E$1&$A17,Données!$H:$H,0),MATCH($A$1,Données!$A$1:$G$1,0)),"") | F17: =IFERROR(INDEX([0]!MATRICE,MATCH(F$1&$A17,Données!$H:$H,0),MATCH($A$1,Données!$A$1:$G$1,0)),"") | G17: =IFERROR(INDEX([0]!MATRICE,MATCH(G$1&$A17,Données!$H:$H,0),MATCH($A$1,Données!$A$1:$G$1,0)),"") | H17: =IFERROR(INDEX([0]!MATRICE,MATCH(H$1&$A17,Données!$H:$H,0),MATCH($A$1,Données!$A$1:$G$1,0)),"")
B18: =IFERROR(INDEX([0]!MATRICE,MATCH(B$1&$A18,Données!$H:$H,0),MATCH($A$1,Données!$A$1:$G$1,0)),"") | C18: =IFERROR(INDEX([0]!MATRICE,MATCH(C$1&$A18,Données!$H:$H,0),MATCH($A$1,Données!$A$1:$G$1,0)),"") | D18: =IFERROR(INDEX([0]!MATRICE,MATCH(D$1&$A18,Données!$H:$H,0),MATCH($A$1,Données!$A$1:$G$1,0)),"") | E18: =IFERROR(INDEX([0]!MATRICE,MATCH(E$1&$A18,Données!$H:$H,0),MATCH($A$1,Données!$A$1:$G$1,0)),"") | F18: =IFERROR(INDEX([0]!MATRICE,MATCH(F$1&$A18,Données!$H:$H,0),MATCH($A$1,Données!$A$1:$G$1,0)),"") | G18: =IFERROR(INDEX([0]!MATRICE,MATCH(G$1&$A18,Données!$H:$H,0),MATCH($A$1,Données!$A$1:$G$1,0)),"") | H18: =IFERROR(INDEX([0]!MATRICE,MATCH(H$1&$A18,Données!$H:$H,0),MATCH($A$1,Données!$A$1:$G$1,0)),"")
B19: =IFERROR(INDEX([0]!MATRICE,MATCH(B$1&$A19,Données!$H:$H,0),MATCH($A$1,Données!$A$1:$G$1,0)),"") | C19: =IFERROR(INDEX([0]!MATRICE,MATCH(C$1&$A19,Données!$H:$H,0),MATCH($A$1,Données!$A$1:$G$1,0)),"") | D19: =IFERROR(INDEX([0]!MATRICE,MATCH(D$1&$A19,Données!$H:$H,0),MATCH($A$1,Données!$A$1:$G$1,0)),"") | E19: =IFERROR(INDEX([0]!MATRICE,MATCH(E$1&$A19,Données!$H:$H,0),MATCH($A$1,Données!$A$1:$G$1,0)),"") | F19: =IFERROR(INDEX([0]!MATRICE,MATCH(F$1&$A19,Données!$H:$H,0),MATCH($A$1,Données!$A$1:$G$1,0)),"") | G19: =IFERROR(INDEX([0]!MATRICE,MATCH(G$1&$A19,Données!$H:$H,0),MATCH($A$1,Données!$A$1:$G$1,0)),"") | H19: =IFERROR(INDEX([0]!MATRICE,MATCH(H$1&$A19,Données!$H:$H,0),MATCH($A$1,Données!$A$1:$G$1,0)),"")
B20: =IFERROR(INDEX([0]!MATRICE,MATCH(B$1&$A20,Données!$H:$H,0),MATCH($A$1,Données!$A$1:$G$1,0)),"") | C20: =IFERROR(INDEX([0]!MATRICE,MATCH(C$1&$A20,Données!$H:$H,0),MATCH($A$1,Données!$A$1:$G$1,0)),"") | D20: =IFERROR(INDEX([0]!MATRICE,MATCH(D$1&$A20,Données!$H:$H,0),MATCH($A$1,Données!$A$1:$G$1,0)),"") | E20: =IFERROR(INDEX([0]!MATRICE,MATCH(E$1&$A20,Données!$H:$H,0),MATCH($A$1,Données!$A$1:$G$1,0)),"") | F20: =IFERROR(INDEX([0]!MATRICE,MATCH(F$1&$A20,Données!$H:$H,0),MATCH($A$1,Données!$A$1:$G$1,0)),"") | G20: =IFERROR(INDEX([0]!MATRICE,MATCH(G$1&$A20,Données!$H:$H,0),MATCH($A$1,Données!$A$1:$G$1,0)),"") | H20: =IFERROR(INDEX([0]!MATRICE,MATCH(H$1&$A20,Données!$H:$H,0),MATCH($A$1,Données!$A$1:$G$1,0)),"")
B21: =IFERROR(INDEX([0]!MATRICE,MATCH(B$1&$A21,Données!$H:$H,0),MATCH($A$1,Données!$A$1:$G$1,0)),"") | C21: =IFERROR(INDEX([0]!MATRICE,MATCH(C$1&$A21,Données!$H:$H,0),MATCH($A$1,Données!$A$1:$G$1,0)),"") | D21: =IFERROR(INDEX([0]!MATRICE,MATCH(D$1&$A21,Données!$H:$H,0),MATCH($A$1,Données!$A$1:$G$1,0)),"") | E21: =IFERROR(INDEX([0]!MATRICE,MATCH(E$1&$A21,Données!$H:$H,0),MATCH($A$1,Données!$A$1:$G$1,0)),"") | F21: =IFERROR(INDEX([0]!MATRICE,MATCH(F$1&$A21,Données!$H:$H,0),MATCH($A$1,Données!$A$1:$G$1,0)),"") | G21: =IFERROR(INDEX([0]!MATRICE,MATCH(G$1&$A21,Données!$H:$H,0),MATCH($A$1,Données!$A$1:$G$1,0)),"") | H21: =IFERROR(INDEX([0]!MATRICE,MATCH(H$1&$A21,Données!$H:$H,0),MATCH($A$1,Données!$A$1:$G$1,0)),"")
... B25: =IFERROR(INDEX([0]!MATRICE,MATCH(B$1&$A25,Données!$H:$H,0),MATCH($A$1,Données!$A$1:$G$1,0)),"") | C25: =IFERROR(INDEX([0]!MATRICE,MATCH(C$1&$A25,Données!$H:$H,0),MATCH($A$1,Données!$A$1:$G$1,0)),"") | D25: =IFERROR(INDEX([0]!MATRICE,MATCH(D$1&$A25,Données!$H:$H,0),MATCH($A$1,Données!$A$1:$G$1,0)),"") | E25: =IFERROR(INDEX([0]!MATRICE,MATCH(E$1&$A25,Données!$H:$H,0),MATCH($A$1,Données!$A$1:$G$1,0)),"") | F25: =IFERROR(INDEX([0]!MATRICE,MATCH(F$1&$A25,Données!$H:$H,0),MATCH($A$1,Données!$A$1:$G$1,0)),"") | G25: =IFERROR(INDEX([0]!MATRICE,MATCH(G$1&$A25,Données!$H:$H,0),MATCH($A$1,Données!$A$1:$G$1,0)),"") | H25: =IFERROR(INDEX([0]!MATRICE,MATCH(H$1&$A25,Données!$H:$H,0),MATCH($A$1,Données!$A$1:$G$1,0)),"")

Sheet Paramètres & Choix
B1: Aspect / Appearance | C1: Couleur / Colour | D1: Odeur / Smell | E1: pH (20°C) | F1: Densité (masse volumique) / Specific gravity | G1: Viscosité / Viscosity Brookfield (RVT, broche D, 2.5 rpm, 25°C) | H1: Centrifugation 2 x 15' 3000 tr/min
A3: Spécifications / Specifications
A4: Résultats / Results
A5: Lot / Batch
A6: Quantité fab
A7: Date fab.
A8: Date per.
