Workbook
Name moins1an: #REF!
Name plus1an: #REF!

Sheet TR MARS 2015
A1: NOM | B1: Site | C1: BASE | D1: ABS (CP-RTT- MAL) M-2 | E1: NDF M-2 | F1: Télétravail + récup dép | G1: TR DU | H1: INFORMATIONS
A2: AAA | B2: AIX | C2: =$K$5 -> 22 | D2: =SUMPRODUCT(('Détails pour la paye'!$A$2:$A$27=A2)*('Détails pour la paye'!$J$2:$J$27)) -> 2 | I2: Vérifier les 0,5 RTT/0,5 CP du mm jour
A3: BBB | B3: TOUL | C3: =$K$5 -> 22 | D3: =SUMPRODUCT(('Détails pour la paye'!$A$2:$A$27=A3)*('Détails pour la paye'!$J$2:$J$27)) -> 4
A4: CCC | B4: AIX | C4: =$K$5 -> 22 | D4: =SUMPRODUCT(('Détails pour la paye'!$A$2:$A$27=A4)*('Détails pour la paye'!$J$2:$J$27)) -> 4
A5: DDD | B5: AIX | C5: =$K$5-K8 -> 18 | D5: =SUMPRODUCT(('Détails pour la paye'!$A$2:$A$27=A5)*('Détails pour la paye'!$J$2:$J$27)) -> 3 | J5: Base = | K5: =SUM(K6:K10) -> 22
A6: EEE | B6: AIX | C6: =$K$5 -> 22 | D6: =SUMPRODUCT(('Détails pour la paye'!$A$2:$A$27=A6)*('Détails pour la paye'!$J$2:$J$27)) -> 34 | J6: Nbre de vendredi | K6: 4
A7: FFF | B7: TOUL | C7: =$K$5 -> 22 | D7: =SUMPRODUCT(('Détails pour la paye'!$A$2:$A$27=A7)*('Détails pour la paye'!$J$2:$J$27)) -> 3 | J7: Nbre de jeudi | K7: 4
A8: GGG | B8: AIX | C8: =$K$5 -> 22 | D8: =SUMPRODUCT(('Détails pour la paye'!$A$2:$A$27=A8)*('Détails pour la paye'!$J$2:$J$27)) -> 1 | J8: Nbre de mercredi | K8: 4
A9: HHH | B9: TOUL | C9: =$K$5 -> 22 | D9: =SUMPRODUCT(('Détails pour la paye'!$A$2:$A$27=A9)*('Détails pour la paye'!$J$2:$J$27)) -> 2 | J9: Nbre de mardi | K9: 5
A10: III | B10: TOUL | C10: =$K$5 -> 22 | D10: =SUMPRODUCT(('Détails pour la paye'!$A$2:$A$27=A10)*('Détails pour la paye'!$J$2:$J$27)) -> 1 | J10: Nbre de lundi | K10: 5
D11: =SUM(D2:D10) -> 54
B12: TOTAL A DISTRIBUER | G12: =SUMIF(G2:G10,">0") -> 0

Sheet Détails pour la paye
A1: Nom | B1: Prénom | C1: Matricule | D1: Type de congés | E1: Période | F1: Date de début | G1: Date de fin | H1: Durée (jours) | I1: Statut | J1: Durée (corrigée)
A2: AAA | B2: AAA1 | C2: 0S067 | D2: RTT | E2: 2015 | F2: 42009.583 | G2: 05/01/2015 18:00 | H2: 0.5 | I2: Validée | J2: =IF(SUMPRODUCT(($A$2:$A$27=A2)*($H$2:$H$27)*(INT($F$2:$F$27)=INT(F2)))=0.5,1,H2) -> 1
A3: AAA | B3: AAA1 | C3: 0S067 | D3: RTT | E3: 2015 | F3: 42017.375 | G3: 13/01/2015 12:00 | H3: 0.5 | I3: Validée | J3: =IF(SUMPRODUCT(($A$2:$A$27=A3)*($H$2:$H$27)*(INT($F$2:$F$27)=INT(F3)))=0.5,1,H3) -> 1
A4: BBB | B4: BBB1 | C4: 0S067 | D4: Congés exceptionnels | E4: 2015 | F4: 42031.583 | G4: 27/01/2015 18:00 | H4: 0.5 | I4: Validée | J4: =IF(SUMPRODUCT(($A$2:$A$27=A4)*($H$2:$H$27)*(INT($F$2:$F$27)=INT(F4)))=0.5,1,H4) -> 1
A5: BBB | B5: BBB1 | C5: S155 | D5: Congés ancienneté | E5: 2014 | F5: 42006.375 | G5: 02/01/2015 18:00 | H5: 1 | I5: Validée | J5: =IF(SUMPRODUCT(($A$2:$A$27=A5)*($H$2:$H$27)*(INT($F$2:$F$27)=INT(F5)))=0.5,1,H5) -> 1
A6: BBB | B6: BBB1 | C6: S155 | D6: Congés payés (27) | E6: 2014 | F6: 42016.583 | G6: 12/01/2015 18:00 | H6: 0.5 | I6: Validée | J6: =IF(SUMPRODUCT(($A$2:$A$27=A6)*($H$2:$H$27)*(INT($F$2:$F$27)=INT(F6)))=0.5,1,H6) -> 1
A7: BBB | B7: BBB1 | C7: S155 | D7: Télétravail | E7: 2015 | F7: 42034.583 | G7: 30/01/2015 18:00 | H7: 0.5 | I7: Validée | J7: =IF(SUMPRODUCT(($A$2:$A$27=A7)*($H$2:$H$27)*(INT($F$2:$F$27)=INT(F7)))=0.5,1,H7) -> 1
A8: CCC | B8: CCC1 | C8: S238 | D8: Congés payés (27) | E8: 2014 | F8: 42005 | G8: 02/01/2015 18:00 | H8: 1 | I8: Validée | J8: =IF(SUMPRODUCT(($A$2:$A$27=A8)*($H$2:$H$27)*(INT($F$2:$F$27)=INT(F8)))=0.5,1,H8) -> 1
A9: CCC | B9: CCC1 | C9: S238 | D9: Récupérations Dép. | E9: 2015 | F9: 42013.375 | G9: 09/01/2015 12:00 | H9: 0.5 | I9: Validée | J9: =IF(SUMPRODUCT(($A$2:$A$27=A9)*($H$2:$H$27)*(INT($F$2:$F$27)=INT(F9)))=0.5,1,H9) -> 0.5
A10: CCC | B10: CCC1 | C10: S238 | D10: Congés payés (27) | E10: 2014 | F10: 42013.583 | G10: 09/01/2015 18:00 | H10: 0.5 | I10: Validée | J10: =IF(SUMPRODUCT(($A$2:$A$27=A10)*($H$2:$H$27)*(INT($F$2:$F$27)=INT(F10)))=0.5,1,H10) -> 0.5
A11: CCC | B11: CCC1 | C11: S238 | D11: Congés payés (27) | E11: 2014 | F11: 42030.375 | G11: 26/01/2015 18:00 | H11: 1 | I11: Validée | J11: =IF(SUMPRODUCT(($A$2:$A$27=A11)*($H$2:$H$27)*(INT($F$2:$F$27)=INT(F11)))=0.5,1,H11) -> 1
A12: CCC | B12: CCC1 | C12: S242 | D12: RTT | E12: 2015 | F12: 42006.375 | G12: 02/01/2015 18:00 | H12: 1 | I12: Validée | J12: =IF(SUMPRODUCT(($A$2:$A$27=A12)*($H$2:$H$27)*(INT($F$2:$F$27)=INT(F12)))=0.5,1,H12) -> 1
A13: DDD | B13: DDD1 | C13: S242 | D13: RTT | E13: 2015 | F13: 42023.375 | G13: 19/01/2015 14:30 | H13: 0.5 | I13: Validée | J13: =IF(SUMPRODUCT(($A$2:$A$27=A13)*($H$2:$H$27)*(INT($F$2:$F$27)=INT(F13)))=0.5,1,H13) -> 0.5
A14: DDD | B14: DDD1 | C14: S242 | D14: Congés payés (27) | E14: 2014 | F14: 19/01/2015 14:30 | G14: 19/01/2015 18:00 | H14: 0.5 | I14: Validée | J14: =IF(SUMPRODUCT(($A$2:$A$27=A14)*($H$2:$H$27)*(INT($F$2:$F$27)=INT(F14)))=0.5,1,H14) -> 0.5
A15: DDD | B15: DDD1 | C15: S157 | D15: Congés payés (27) | E15: 2014 | F15: 42005 | G15: 02/01/2015 18:00 | H15: 1 | I15: Validée | J15: =IF(SUMPRODUCT(($A$2:$A$27=A15)*($H$2:$H$27)*(INT($F$2:$F$27)=INT(F15)))=0.5,1,H15) -> 1
A16: DDD | B16: DDD1 | D16: RTT | E16: 2015 | F16: 42030.583 | G16: 26/01/2015 18:00 | H16: 0.5 | I16: Validée | J16: =IF(SUMPRODUCT(($A$2:$A$27=A16)*($H$2:$H$27)*(INT($F$2:$F$27)=INT(F16)))=0.5,1,H16) -> 1
A17: EEE | B17: EEE1 | C17: S158 | D17: Congés maternité | E17: 2015 | F17: 42005 | G17: 31/01/2015 23:59 | H17: 31 | I17: Validée | J17: =IF(SUMPRODUCT(($A$2:$A$27=A17)*($H$2:$H$27)*(INT($F$2:$F$27)=INT(F17)))=0.5,1,H17) -> 31
A18: EEE | B18: EEE1 | C18: S266 | D18: Congés payés (27) | E18: 2015 | F18: 42005 | G18: 02/01/2015 18:00 | H18: 1 | I18: Validée | J18: =IF(SUMPRODUCT(($A$2:$A$27=A18)*($H$2:$H$27)*(INT($F$2:$F$27)=INT(F18)))=0.5,1,H18) -> 1
A19: EEE | B19: EEE1 | D19: Congés payés (25) | E19: 2015 | F19: 42006.375 | G19: 02/01/2015 18:00 | H19: 1 | I19: Validée | J19: =IF(SUMPRODUCT(($A$2:$A$27=A19)*($H$2:$H$27)*(INT($F$2:$F$27)=INT(F19)))=0.5,1,H19) -> 1
A20: EEE | B20: EEE1 | D20: Congés payés (25) | E20: 2015 | F20: 42034.583 | G20: 30/01/2015 18:00 | H20: 0.5 | I20: Validée | J20: =IF(SUMPRODUCT(($A$2:$A$27=A20)*($H$2:$H$27)*(INT($F$2:$F$27)=INT(F20)))=0.5,1,H20) -> 1
A21: FFF | B21: FFF1 | C21: S235 | D21: Congés payés (27) | E21: 2014 | F21: 42005 | G21: 02/01/2015 18:00 | H21: 1 | I21: Validée | J21: =IF(SUMPRODUCT(($A$2:$A$27=A21)*($H$2:$H$27)*(INT($F$2:$F$27)=INT(F21)))=0.5,1,H21) -> 1
A22: FFF | B22: FFF1 | C22: S159 | D22: Congés payés (27) | E22: 2014 | F22: 42006.375 | G22: 02/01/2015 18:00 | H22: 1 | I22: Validée | J22: =IF(SUMPRODUCT(($A$2:$A$27=A22)*($H$2:$H$27)*(INT($F$2:$F$27)=INT(F22)))=0.5,1,H22) -> 1
A23: FFF | B23: FFF1 | C23: S159 | D23: Congés ancienneté | E23: 2014 | F23: 42018.583 | G23: 14/01/2015 18:00 | H23: 0.5 | I23: Validée | J23: =IF(SUMPRODUCT(($A$2:$A$27=A23)*($H$2:$H$27)*(INT($F$2:$F$27)=INT(F23)))=0.5,1,H23) -> 1
A24: GGG | B24: GGG1 | C24: S159 | D24: Congés payés (27) | E24: 2014 | F24: 42019.583 | G24: 15/01/2015 18:00 | H24: 0.5 | I24: Validée | J24: =IF(SUMPRODUCT(($A$2:$A$27=A24)*($H$2:$H$27)*(INT($F$2:$F$27)=INT(F24)))=0.5,1,H24) -> 1
A25: HHH | B25: HHH1 | C25: S159 | D25: Congés ancienneté | E25: 2014 | F25: 42032.583 | G25: 28/01/2015 18:00 | H25: 0.5 | I25: Validée | J25: =IF(SUMPRODUCT(($A$2:$A$27=A25)*($H$2:$H$27)*(INT($F$2:$F$27)=INT(F25)))=0.5,1,H25) -> 1
A26: HHH | B26: HHH1 | C26: S160 | D26: Congés payés (27) | E26: 2014 | F26: 42006.375 | G26: 02/01/2015 18:00 | H26: 1 | I26: Validée | J26: =IF(SUMPRODUCT(($A$2:$A$27=A26)*($H$2:$H$27)*(INT($F$2:$F$27)=INT(F26)))=0.5,1,H26) -> 1
A27: III | B27: III1 | C27: S160 | D27: Télétravail | E27: 2015 | F27: 42009.375 | G27: 05/01/2015 18:00 | H27: 1 | I27: Validée | J27: =IF(SUMPRODUCT(($A$2:$A$27=A27)*($H$2:$H$27)*(INT($F$2:$F$27)=INT(F27)))=0.5,1,H27) -> 1

Sheet Règles
B2: Il y a 2 petites subtilités :
B4: - quand 2 demi journées prises ca fait 2 et pas 2*.05 = 1
B5: Ex : salarié qui prend le 02 matin et le 03 matin, cela doit décompter 2
B7: - quand 2 demi journées le même jour, cela doit décompter 1.
B8: Ex : le 02/01/15 : 0.5 RTT le matin et 0.5 CP l'après midi, ca doit décompter 1
