Workbook
Name Assignations: OFFSET(Validation!$D$2,0,0,COUNTA(Validation!$D:$D)-1,1)
Name Cycles: OFFSET(Validation!$A$2,0,0,COUNTA(Validation!$A:$A)-1,1)
Name Personnel: OFFSET(Validation!$B$2,0,0,COUNTA(Validation!$B:$B)-1,1)
Name Services: OFFSET(Validation!$C$2,0,0,COUNTA(Validation!$C:$C)-1,1)

Sheet Affectations
A1: Assignations - Services | B1: Médecine + Chimio | C1: DVO | D1: SSR | E1: Sommeil + SAS | F1: ORTHOPEDIE | G1: PEDIATRIE | H1: AMBULATOIRE | I1: Chimio | J1: SAS
A2: IDE JOUR | B2: GARIN | C2: LEREBOURG | D2: CHAZEAU | E2: CASANOVAS | F2: GOUX | G2: BONAMY | H2: AUBERTIN | I2: LASSALE-BAREILLE
B3: TALON | C3: BELKADI | D3: HAFFAF | E3: MARCHAL | F3: CANTELAUBE | G3: WACK | H3: DA SILVA | I3: GABRIEL
C4: REMPLACANT | D4: LANGLOIS | H4: BINOT
C5: RENFORT | D5: BARNETCHE | H5: CLOUTE
A6: IDE NUIT | B6: LANDROZ | C6: RENAUDET | D6: GRABOT | F6: BESSE | G6: MULLER
B7: VANIANBOURG | C7: IMBERT | D7: DIALLO | F7: BERTHELEMY
C8: FREYCHET | D8: PASCAL
C9: REMPLACANT | D9: REMPLACANT
A10: ASD JOUR | B10: DE OLIVEIRA | C10: CAVENA | D10: PLANTEY | E10: ZUMETA | F10: REY | G10: JOUBERT
B11: QAOUSS | C11: GIRAUDEAU | D11: GALLAIS | E11: ROUQUAT | F11: VIDEAU
C12: PASCAL | D12: CAZEAU
C13: REMPLACANT | D13: BOULOGNE
C14: RENFORT | D14: BOUNECHAR
A15: ASD NUIT | B15: FAUCHERIE | C15: CORDEIRO | D15: HAINAUT | E15: MASSIAS | F15: CHAYRON | G15: DELFORNO
B16: ROSSI | C16: SUPERVILLE | D16: ALCAMO | E16: RODRIGUER | F16: JESUS
C17: ERTLE | D17: ERTLE
C18: REMPLACANT
C19: RENFORT
A21: POSTE VACANT IDE JOUR | B21: BARNETCHE | C21: DECORBIN | D21: BARNETCHE | F21: DECORBIN | G21: DECORBIN
A22: POSTE VACANT ASD JOUR | C22: PASCAL | D22: PASCAL | F22: PASCAL
A23: POSTE VACANT IDE NUIT | B23: FREYCHET | C23: FREYCHET | D23: FREYCHET | F23: FREYCHET | G23: FREYCHET
A24: POSTE VACANT ASD NUIT | C24: ERTLE | D24: ERTLE | F24: ERTLE

Sheet Trame
A1: Date : | B1: =DATE($C$1,$D$1,1) -> 42156 | C1: 2015 | D1: 6 | F1: Il suffit de modifier l'Année dans la Cellule C1 … et le mois en D1 …pour que le Calendrier du Mois s'ajuste …
A2: Service : | B2: DVO | F2: Il suffit de choisir le Service en B2 …
A4: =CONCATENATE("Service"," ",B2," ",TEXT(B1,"mmmm"), " ",$C$1) -> Service DVO June 2015 | AG4: Cycles
A5: Date | B5: =$B$1 -> 42156 | C5: =B5+1 -> 42157 | D5: =C5+1 -> 42158 | E5: =D5+1 -> 42159 | F5: =E5+1 -> 42160 | G5: =F5+1 -> 42161 | H5: =G5+1 -> 42162 | I5: =H5+1 -> 42163 | J5: =I5+1 -> 42164 | ... AC5: =AB5+1 -> 42183 | AD5: =IF(AC5<>"",IF(MONTH(AC5)=MONTH(AC5+1),AC5+1,""),"") -> 42184 | AE5: =IF(AD5<>"",IF(MONTH(AD5)=MONTH(AD5+1),AD5+1,""),"") -> 42185 | AF5: =IF(AE5<>"",IF(MONTH(AE5)=MONTH(AE5+1),AE5+1,""),"")
B6: =B5 -> 42156 | C6: =B6+1 -> 42157 | D6: =C6+1 -> 42158 | E6: =D6+1 -> 42159 | F6: =E6+1 -> 42160 | G6: =F6+1 -> 42161 | H6: =G6+1 -> 42162 | I6: =H6+1 -> 42163 | J6: =I6+1 -> 42164 | ... AB6: =AA6+1 -> 42182 | AC6: =IF(AB6+1<=DATE($C$1,$D$1+1,0),AB6+1,"") -> 42183 | AD6: =IF(AC6+1<=DATE($C$1,$D$1+1,0),AC6+1,"") -> 42184 | AE6: =IF(AD6+1<=DATE($C$1,$D$1+1,0),AD6+1,"") -> 42185 | AF6: =IF(AE6+1<=DATE($C$1,$D$1+1,0),AE6+1,"")
A7: IDE JOUR
A8: =INDIRECT("Affectations!"&CHAR(64+MATCH($B$2,Affectations!$1:$1,0))&MATCH($A$7,Affectations!$A:$A,0)+INT(ROW()-8)/3) -> LEREBOURG | B8: =IF(B$5="","",IF(INDIRECT("CYCLES!"&ADDRESS(MATCH($A8,Cycles!$B:$B,0),MATCH("semaine"&INDEX(INDIRECT("Corresp!"&CHAR(MID($AG8,7,1)+3+64)&":"&CHAR(MID($AG8,7,1)+3+64)),MATCH(B$5,Corresp!$A:$A,0)),Cycles!$1:$1,0)+WEEKDAY(B$5)-1))=0,"",INDIRECT("CYCLES!"&ADDRESS(MATCH($A8,Cycles!$B:$B,0),MATCH("semaine"&INDEX(INDIRECT("Corresp!"&CHAR(MID($AG8,7,1)+3+64)&":"&CHAR(MID($AG8,7,1)+3+64)),MATCH(B$5,Corresp!$A:$A,0)),Cycles!$1:$1,0)+WEEKDAY(B$5)-1)))) -> sem2 | C8: =IF(C$5="","",IF(INDIRECT("CYCLES!"&ADDRESS(MATCH($A8,Cycles!$B:$B,0),MATCH("semaine"&INDEX(INDIRECT("Corresp!"&CHAR(MID($AG8,7,1)+3+64)&":"&CHAR(MID($AG8,7,1)+3+64)),MATCH(C$5,Corresp!$A:$A,0)),Cycles!$1:$1,0)+WEEKDAY(C$5)-1))=0,"",INDIRECT("CYCLES!"&ADDRESS(MATCH($A8,Cycles!$B:$B,0),MATCH("semaine"&INDEX(INDIRECT("Corresp!"&CHAR(MID($AG8,7,1)+3+64)&":"&CHAR(MID($AG8,7,1)+3+64)),MATCH(C$5,Corresp!$A:$A,0)),Cycles!$1:$1,0)+WEEKDAY(C$5)-1)))) | D8: =IF(D$5="","",IF(INDIRECT("CYCLES!"&ADDRESS(MATCH($A8,Cycles!$B:$B,0),MATCH("semaine"&INDEX(INDIRECT("Corresp!"&CHAR(MID($AG8,7,1)+3+64)&":"&CHAR(MID($AG8,7,1)+3+64)),MATCH(D$5,Corresp!$A:$A,0)),Cycles!$1:$1,0)+WEEKDAY(D$5)-1))=0,"",INDIRECT("CYCLES!"&ADDRESS(MATCH($A8,Cycles!$B:$B,0),MATCH("semaine"&INDEX(INDIRECT("Corresp!"&CHAR(MID($AG8,7,1)+3+64)&":"&CHAR(MID($AG8,7,1)+3+64)),MATCH(D$5,Corresp!$A:$A,0)),Cycles!$1:$1,0)+WEEKDAY(D$5)-1)))) -> 7H-19H15 | E8: =IF(E$5="","",IF(INDIRECT("CYCLES!"&ADDRESS(MATCH($A8,Cycles!$B:$B,0),MATCH("semaine"&INDEX(INDIRECT("Corresp!"&CHAR(MID($AG8,7,1)+3+64)&":"&CHAR(MID($AG8,7,1)+3+64)),MATCH(E$5,Corresp!$A:$A,0)),Cycles!$1:$1,0)+WEEKDAY(E$5)-1))=0,"",INDIRECT("CYCLES!"&ADDRESS(MATCH($A8,Cycles!$B:$B,0),MATCH("semaine"&INDEX(INDIRECT("Corresp!"&CHAR(MID($AG8,7,1)+3+64)&":"&CHAR(MID($AG8,7,1)+3+64)),MATCH(E$5,Corresp!$A:$A,0)),Cycles!$1:$1,0)+WEEKDAY(E$5)-1)))) -> 7H-19H15 | F8: =IF(F$5="","",IF(INDIRECT("CYCLES!"&ADDRESS(MATCH($A8,Cycles!$B:$B,0),MATCH("semaine"&INDEX(INDIRECT("Corresp!"&CHAR(MID($AG8,7,1)+3+64)&":"&CHAR(MID($AG8,7,1)+3+64)),MATCH(F$5,Corresp!$A:$A,0)),Cycles!$1:$1,0)+WEEKDAY(F$5)-1))=0,"",INDIRECT("CYCLES!"&ADDRESS(MATCH($A8,Cycles!$B:$B,0),MATCH("semaine"&INDEX(INDIRECT("Corresp!"&CHAR(MID($AG8,7,1)+3+64)&":"&CHAR(MID($AG8,7,1)+3+64)),MATCH(F$5,Corresp!$A:$A,0)),Cycles!$1:$1,0)+WEEKDAY(F$5)-1)))) | G8: =IF(G$5="","",IF(INDIRECT("CYCLES!"&ADDRESS(MATCH($A8,Cycles!$B:$B,0),MATCH("semaine"&INDEX(INDIRECT("Corresp!"&CHAR(MID($AG8,7,1)+3+64)&":"&CHAR(MID($AG8,7,1)+3+64)),MATCH(G$5,Corresp!$A:$A,0)),Cycles!$1:$1,0)+WEEKDAY(G$5)-1))=0,"",INDIRECT("CYCLES!"&ADDRESS(MATCH($A8,Cycles!$B:$B,0),MATCH("semaine"&INDEX(INDIRECT("Corresp!"&CHAR(MID($AG8,7,1)+3+64)&":"&CHAR(MID($AG8,7,1)+3+64)),MATCH(G$5,Corresp!$A:$A,0)),Cycles!$1:$1,0)+WEEKDAY(G$5)-1)))) | H8: =IF(H$5="","",IF(INDIRECT("CYCLES!"&ADDRESS(MATCH($A8,Cycles!$B:$B,0),MATCH("semaine"&INDEX(INDIRECT("Corresp!"&CHAR(MID($AG8,7,1)+3+64)&":"&CHAR(MID($AG8,7,1)+3+64)),MATCH(H$5,Corresp!$A:$A,0)),Cycles!$1:$1,0)+WEEKDAY(H$5)-1))=0,"",INDIRECT("CYCLES!"&ADDRESS(MATCH($A8,Cycles!$B:$B,0),MATCH("semaine"&INDEX(INDIRECT("Corresp!"&CHAR(MID($AG8,7,1)+3+64)&":"&CHAR(MID($AG8,7,1)+3+64)),MATCH(H$5,Corresp!$A:$A,0)),Cycles!$1:$1,0)+WEEKDAY(H$5)-1)))) -> sem3 | I8: =IF(I$5="","",IF(INDIRECT("CYCLES!"&ADDRESS(MATCH($A8,Cycles!$B:$B,0),MATCH("semaine"&INDEX(INDIRECT("Corresp!"&CHAR(MID($AG8,7,1)+3+64)&":"&CHAR(MID($AG8,7,1)+3+64)),MATCH(I$5,Corresp!$A:$A,0)),Cycles!$1:$1,0)+WEEKDAY(I$5)-1))=0,"",INDIRECT("CYCLES!"&ADDRESS(MATCH($A8,Cycles!$B:$B,0),MATCH("semaine"&INDEX(INDIRECT("Corresp!"&CHAR(MID($AG8,7,1)+3+64)&":"&CHAR(MID($AG8,7,1)+3+64)),MATCH(I$5,Corresp!$A:$A,0)),Cycles!$1:$1,0)+WEEKDAY(I$5)-1)))) -> 7H-19H15 | ... AF8: =IF(AF$5="","",IF(INDIRECT("CYCLES!"&ADDRESS(MATCH($A8,Cycles!$B:$B,0),MATCH("semaine"&INDEX(INDIRECT("Corresp!"&CHAR(MID($AG8,7,1)+3+64)&":"&CHAR(MID($AG8,7,1)+3+64)),MATCH(AF$5,Corresp!$A:$A,0)),Cycles!$1:$1,0)+WEEKDAY(AF$5)-1))=0,"",INDIRECT("CYCLES!"&ADDRESS(MATCH($A8,Cycles!$B:$B,0),MATCH("semaine"&INDEX(INDIRECT("Corresp!"&CHAR(MID($AG8,7,1)+3+64)&":"&CHAR(MID($AG8,7,1)+3+64)),MATCH(AF$5,Corresp!$A:$A,0)),Cycles!$1:$1,0)+WEEKDAY(AF$5)-1)))) | AG8: Cycle 5 - 5
A11: =INDIRECT("Affectations!"&CHAR(64+MATCH($B$2,Affectations!$1:$1,0))&MATCH($A$7,Affectations!$A:$A,0)+INT(ROW()-8)/3) -> BELKADI | B11: =IF(B$5="","",IF(INDIRECT("CYCLES!"&ADDRESS(MATCH($A11,Cycles!$B:$B,0),MATCH("semaine"&INDEX(INDIRECT("Corresp!"&CHAR(MID($AG11,7,1)+3+64)&":"&CHAR(MID($AG11,7,1)+3+64)),MATCH(B$5,Corresp!$A:$A,0)),Cycles!$1:$1,0)+WEEKDAY(B$5)-1))=0,"",INDIRECT("CYCLES!"&ADDRESS(MATCH($A11,Cycles!$B:$B,0),MATCH("semaine"&INDEX(INDIRECT("Corresp!"&CHAR(MID($AG11,7,1)+3+64)&":"&CHAR(MID($AG11,7,1)+3+64)),MATCH(B$5,Corresp!$A:$A,0)),Cycles!$1:$1,0)+WEEKDAY(B$5)-1)))) -> 7H-19H15 | C11: =IF(C$5="","",IF(INDIRECT("CYCLES!"&ADDRESS(MATCH($A11,Cycles!$B:$B,0),MATCH("semaine"&INDEX(INDIRECT("Corresp!"&CHAR(MID($AG11,7,1)+3+64)&":"&CHAR(MID($AG11,7,1)+3+64)),MATCH(C$5,Corresp!$A:$A,0)),Cycles!$1:$1,0)+WEEKDAY(C$5)-1))=0,"",INDIRECT("CYCLES!"&ADDRESS(MATCH($A11,Cycles!$B:$B,0),MATCH("semaine"&INDEX(INDIRECT("Corresp!"&CHAR(MID($AG11,7,1)+3+64)&":"&CHAR(MID($AG11,7,1)+3+64)),MATCH(C$5,Corresp!$A:$A,0)),Cycles!$1:$1,0)+WEEKDAY(C$5)-1)))) -> 7H-19H15 | D11: =IF(D$5="","",IF(INDIRECT("CYCLES!"&ADDRESS(MATCH($A11,Cycles!$B:$B,0),MATCH("semaine"&INDEX(INDIRECT("Corresp!"&CHAR(MID($AG11,7,1)+3+64)&":"&CHAR(MID($AG11,7,1)+3+64)),MATCH(D$5,Corresp!$A:$A,0)),Cycles!$1:$1,0)+WEEKDAY(D$5)-1))=0,"",INDIRECT("CYCLES!"&ADDRESS(MATCH($A11,Cycles!$B:$B,0),MATCH("semaine"&INDEX(INDIRECT("Corresp!"&CHAR(MID($AG11,7,1)+3+64)&":"&CHAR(MID($AG11,7,1)+3+64)),MATCH(D$5,Corresp!$A:$A,0)),Cycles!$1:$1,0)+WEEKDAY(D$5)-1)))) | E11: =IF(E$5="","",IF(INDIRECT("CYCLES!"&ADDRESS(MATCH($A11,Cycles!$B:$B,0),MATCH("semaine"&INDEX(INDIRECT("Corresp!"&CHAR(MID($AG11,7,1)+3+64)&":"&CHAR(MID($AG11,7,1)+3+64)),MATCH(E$5,Corresp!$A:$A,0)),Cycles!$1:$1,0)+WEEKDAY(E$5)-1))=0,"",INDIRECT("CYCLES!"&ADDRESS(MATCH($A11,Cycles!$B:$B,0),MATCH("semaine"&INDEX(INDIRECT("Corresp!"&CHAR(MID($AG11,7,1)+3+64)&":"&CHAR(MID($AG11,7,1)+3+64)),MATCH(E$5,Corresp!$A:$A,0)),Cycles!$1:$1,0)+WEEKDAY(E$5)-1)))) | F11: =IF(F$5="","",IF(INDIRECT("CYCLES!"&ADDRESS(MATCH($A11,Cycles!$B:$B,0),MATCH("semaine"&INDEX(INDIRECT("Corresp!"&CHAR(MID($AG11,7,1)+3+64)&":"&CHAR(MID($AG11,7,1)+3+64)),MATCH(F$5,Corresp!$A:$A,0)),Cycles!$1:$1,0)+WEEKDAY(F$5)-1))=0,"",INDIRECT("CYCLES!"&ADDRESS(MATCH($A11,Cycles!$B:$B,0),MATCH("semaine"&INDEX(INDIRECT("Corresp!"&CHAR(MID($AG11,7,1)+3+64)&":"&CHAR(MID($AG11,7,1)+3+64)),MATCH(F$5,Corresp!$A:$A,0)),Cycles!$1:$1,0)+WEEKDAY(F$5)-1)))) -> 7H-19H15 | G11: =IF(G$5="","",IF(INDIRECT("CYCLES!"&ADDRESS(MATCH($A11,Cycles!$B:$B,0),MATCH("semaine"&INDEX(INDIRECT("Corresp!"&CHAR(MID($AG11,7,1)+3+64)&":"&CHAR(MID($AG11,7,1)+3+64)),MATCH(G$5,Corresp!$A:$A,0)),Cycles!$1:$1,0)+WEEKDAY(G$5)-1))=0,"",INDIRECT("CYCLES!"&ADDRESS(MATCH($A11,Cycles!$B:$B,0),MATCH("semaine"&INDEX(INDIRECT("Corresp!"&CHAR(MID($AG11,7,1)+3+64)&":"&CHAR(MID($AG11,7,1)+3+64)),MATCH(G$5,Corresp!$A:$A,0)),Cycles!$1:$1,0)+WEEKDAY(G$5)-1)))) -> 7H-19H15 | H11: =IF(H$5="","",IF(INDIRECT("CYCLES!"&ADDRESS(MATCH($A11,Cycles!$B:$B,0),MATCH("semaine"&INDEX(INDIRECT("Corresp!"&CHAR(MID($AG11,7,1)+3+64)&":"&CHAR(MID($AG11,7,1)+3+64)),MATCH(H$5,Corresp!$A:$A,0)),Cycles!$1:$1,0)+WEEKDAY(H$5)-1))=0,"",INDIRECT("CYCLES!"&ADDRESS(MATCH($A11,Cycles!$B:$B,0),MATCH("semaine"&INDEX(INDIRECT("Corresp!"&CHAR(MID($AG11,7,1)+3+64)&":"&CHAR(MID($AG11,7,1)+3+64)),MATCH(H$5,Corresp!$A:$A,0)),Cycles!$1:$1,0)+WEEKDAY(H$5)-1)))) -> 7H-19H15 | I11: =IF(I$5="","",IF(INDIRECT("CYCLES!"&ADDRESS(MATCH($A11,Cycles!$B:$B,0),MATCH("semaine"&INDEX(INDIRECT("Corresp!"&CHAR(MID($AG11,7,1)+3+64)&":"&CHAR(MID($AG11,7,1)+3+64)),MATCH(I$5,Corresp!$A:$A,0)),Cycles!$1:$1,0)+WEEKDAY(I$5)-1))=0,"",INDIRECT("CYCLES!"&ADDRESS(MATCH($A11,Cycles!$B:$B,0),MATCH("semaine"&INDEX(INDIRECT("Corresp!"&CHAR(MID($AG11,7,1)+3+64)&":"&CHAR(MID($AG11,7,1)+3+64)),MATCH(I$5,Corresp!$A:$A,0)),Cycles!$1:$1,0)+WEEKDAY(I$5)-1)))) -> sem4 | ... AF11: =IF(AF$5="","",IF(INDIRECT("CYCLES!"&ADDRESS(MATCH($A11,Cycles!$B:$B,0),MATCH("semaine"&INDEX(INDIRECT("Corresp!"&CHAR(MID($AG11,7,1)+3+64)&":"&CHAR(MID($AG11,7,1)+3+64)),MATCH(AF$5,Corresp!$A:$A,0)),Cycles!$1:$1,0)+WEEKDAY(AF$5)-1))=0,"",INDIRECT("CYCLES!"&ADDRESS(MATCH($A11,Cycles!$B:$B,0),MATCH("semaine"&INDEX(INDIRECT("Corresp!"&CHAR(MID($AG11,7,1)+3+64)&":"&CHAR(MID($AG11,7,1)+3+64)),MATCH(AF$5,Corresp!$A:$A,0)),Cycles!$1:$1,0)+WEEKDAY(AF$5)-1)))) | AG11: Cycle 5 - 5
A14: =INDIRECT("Affectations!"&CHAR(64+MATCH($B$2,Affectations!$1:$1,0))&MATCH($A$7,Affectations!$A:$A,0)+INT(ROW()-8)/3) -> REMPLACANT | B14: =IF(B$5="","",IF(INDIRECT("CYCLES!"&ADDRESS(MATCH($A14,Cycles!$B:$B,0),MATCH("semaine"&INDEX(INDIRECT("Corresp!"&CHAR(MID($AG14,7,1)+3+64)&":"&CHAR(MID($AG14,7,1)+3+64)),MATCH(B$5,Corresp!$A:$A,0)),Cycles!$1:$1,0)+WEEKDAY(B$5)-1))=0,"",INDIRECT("CYCLES!"&ADDRESS(MATCH($A14,Cycles!$B:$B,0),MATCH("semaine"&INDEX(INDIRECT("Corresp!"&CHAR(MID($AG14,7,1)+3+64)&":"&CHAR(MID($AG14,7,1)+3+64)),MATCH(B$5,Corresp!$A:$A,0)),Cycles!$1:$1,0)+WEEKDAY(B$5)-1)))) -> #N/A | C14: =IF(C$5="","",IF(INDIRECT("CYCLES!"&ADDRESS(MATCH($A14,Cycles!$B:$B,0),MATCH("semaine"&INDEX(INDIRECT("Corresp!"&CHAR(MID($AG14,7,1)+3+64)&":"&CHAR(MID($AG14,7,1)+3+64)),MATCH(C$5,Corresp!$A:$A,0)),Cycles!$1:$1,0)+WEEKDAY(C$5)-1))=0,"",INDIRECT("CYCLES!"&ADDRESS(MATCH($A14,Cycles!$B:$B,0),MATCH("semaine"&INDEX(INDIRECT("Corresp!"&CHAR(MID($AG14,7,1)+3+64)&":"&CHAR(MID($AG14,7,1)+3+64)),MATCH(C$5,Corresp!$A:$A,0)),Cycles!$1:$1,0)+WEEKDAY(C$5)-1)))) -> #N/A | D14: =IF(D$5="","",IF(INDIRECT("CYCLES!"&ADDRESS(MATCH($A14,Cycles!$B:$B,0),MATCH("semaine"&INDEX(INDIRECT("Corresp!"&CHAR(MID($AG14,7,1)+3+64)&":"&CHAR(MID($AG14,7,1)+3+64)),MATCH(D$5,Corresp!$A:$A,0)),Cycles!$1:$1,0)+WEEKDAY(D$5)-1))=0,"",INDIRECT("CYCLES!"&ADDRESS(MATCH($A14,Cycles!$B:$B,0),MATCH("semaine"&INDEX(INDIRECT("Corresp!"&CHAR(MID($AG14,7,1)+3+64)&":"&CHAR(MID($AG14,7,1)+3+64)),MATCH(D$5,Corresp!$A:$A,0)),Cycles!$1:$1,0)+WEEKDAY(D$5)-1)))) -> #N/A | E14: =IF(E$5="","",IF(INDIRECT("CYCLES!"&ADDRESS(MATCH($A14,Cycles!$B:$B,0),MATCH("semaine"&INDEX(INDIRECT("Corresp!"&CHAR(MID($AG14,7,1)+3+64)&":"&CHAR(MID($AG14,7,1)+3+64)),MATCH(E$5,Corresp!$A:$A,0)),Cycles!$1:$1,0)+WEEKDAY(E$5)-1))=0,"",INDIRECT("CYCLES!"&ADDRESS(MATCH($A14,Cycles!$B:$B,0),MATCH("semaine"&INDEX(INDIRECT("Corresp!"&CHAR(MID($AG14,7,1)+3+64)&":"&CHAR(MID($AG14,7,1)+3+64)),MATCH(E$5,Corresp!$A:$A,0)),Cycles!$1:$1,0)+WEEKDAY(E$5)-1)))) -> #N/A | F14: =IF(F$5="","",IF(INDIRECT("CYCLES!"&ADDRESS(MATCH($A14,Cycles!$B:$B,0),MATCH("semaine"&INDEX(INDIRECT("Corresp!"&CHAR(MID($AG14,7,1)+3+64)&":"&CHAR(MID($AG14,7,1)+3+64)),MATCH(F$5,Corresp!$A:$A,0)),Cycles!$1:$1,0)+WEEKDAY(F$5)-1))=0,"",INDIRECT("CYCLES!"&ADDRESS(MATCH($A14,Cycles!$B:$B,0),MATCH("semaine"&INDEX(INDIRECT("Corresp!"&CHAR(MID($AG14,7,1)+3+64)&":"&CHAR(MID($AG14,7,1)+3+64)),MATCH(F$5,Corresp!$A:$A,0)),Cycles!$1:$1,0)+WEEKDAY(F$5)-1)))) -> #N/A | G14: =IF(G$5="","",IF(INDIRECT("CYCLES!"&ADDRESS(MATCH($A14,Cycles!$B:$B,0),MATCH("semaine"&INDEX(INDIRECT("Corresp!"&CHAR(MID($AG14,7,1)+3+64)&":"&CHAR(MID($AG14,7,1)+3+64)),MATCH(G$5,Corresp!$A:$A,0)),Cycles!$1:$1,0)+WEEKDAY(G$5)-1))=0,"",INDIRECT("CYCLES!"&ADDRESS(MATCH($A14,Cycles!$B:$B,0),MATCH("semaine"&INDEX(INDIRECT("Corresp!"&CHAR(MID($AG14,7,1)+3+64)&":"&CHAR(MID($AG14,7,1)+3+64)),MATCH(G$5,Corresp!$A:$A,0)),Cycles!$1:$1,0)+WEEKDAY(G$5)-1)))) -> #N/A | H14: =IF(H$5="","",IF(INDIRECT("CYCLES!"&ADDRESS(MATCH($A14,Cycles!$B:$B,0),MATCH("semaine"&INDEX(INDIRECT("Corresp!"&CHAR(MID($AG14,7,1)+3+64)&":"&CHAR(MID($AG14,7,1)+3+64)),MATCH(H$5,Corresp!$A:$A,0)),Cycles!$1:$1,0)+WEEKDAY(H$5)-1))=0,"",INDIRECT("CYCLES!"&ADDRESS(MATCH($A14,Cycles!$B:$B,0),MATCH("semaine"&INDEX(INDIRECT("Corresp!"&CHAR(MID($AG14,7,1)+3+64)&":"&CHAR(MID($AG14,7,1)+3+64)),MATCH(H$5,Corresp!$A:$A,0)),Cycles!$1:$1,0)+WEEKDAY(H$5)-1)))) -> #N/A | I14: =IF(I$5="","",IF(INDIRECT("CYCLES!"&ADDRESS(MATCH($A14,Cycles!$B:$B,0),MATCH("semaine"&INDEX(INDIRECT("Corresp!"&CHAR(MID($AG14,7,1)+3+64)&":"&CHAR(MID($AG14,7,1)+3+64)),MATCH(I$5,Corresp!$A:$A,0)),Cycles!$1:$1,0)+WEEKDAY(I$5)-1))=0,"",INDIRECT("CYCLES!"&ADDRESS(MATCH($A14,Cycles!$B:$B,0),MATCH("semaine"&INDEX(INDIRECT("Corresp!"&CHAR(MID($AG14,7,1)+3+64)&":"&CHAR(MID($AG14,7,1)+3+64)),MATCH(I$5,Corresp!$A:$A,0)),Cycles!$1:$1,0)+WEEKDAY(I$5)-1)))) -> #N/A | ... AF14: =IF(AF$5="","",IF(INDIRECT("CYCLES!"&ADDRESS(MATCH($A14,Cycles!$B:$B,0),MATCH("semaine"&INDEX(INDIRECT("Corresp!"&CHAR(MID($AG14,7,1)+3+64)&":"&CHAR(MID($AG14,7,1)+3+64)),MATCH(AF$5,Corresp!$A:$A,0)),Cycles!$1:$1,0)+WEEKDAY(AF$5)-1))=0,"",INDIRECT("CYCLES!"&ADDRESS(MATCH($A14,Cycles!$B:$B,0),MATCH("semaine"&INDEX(INDIRECT("Corresp!"&CHAR(MID($AG14,7,1)+3+64)&":"&CHAR(MID($AG14,7,1)+3+64)),MATCH(AF$5,Corresp!$A:$A,0)),Cycles!$1:$1,0)+WEEKDAY(AF$5)-1)))) | AG14: Cycle 5 - 5
A17: =INDIRECT("Affectations!"&CHAR(64+MATCH($B$2,Affectations!$1:$1,0))&MATCH($A$7,Affectations!$A:$A,0)+INT(ROW()-8)/3) -> RENFORT | B17: =IF(B$5="","",IF(INDIRECT("CYCLES!"&ADDRESS(MATCH($A17,Cycles!$B:$B,0),MATCH("semaine"&INDEX(INDIRECT("Corresp!"&CHAR(MID($AG17,7,1)+3+64)&":"&CHAR(MID($AG17,7,1)+3+64)),MATCH(B$5,Corresp!$A:$A,0)),Cycles!$1:$1,0)+WEEKDAY(B$5)-1))=0,"",INDIRECT("CYCLES!"&ADDRESS(MATCH($A17,Cycles!$B:$B,0),MATCH("semaine"&INDEX(INDIRECT("Corresp!"&CHAR(MID($AG17,7,1)+3+64)&":"&CHAR(MID($AG17,7,1)+3+64)),MATCH(B$5,Corresp!$A:$A,0)),Cycles!$1:$1,0)+WEEKDAY(B$5)-1)))) -> #N/A | C17: =IF(C$5="","",IF(INDIRECT("CYCLES!"&ADDRESS(MATCH($A17,Cycles!$B:$B,0),MATCH("semaine"&INDEX(INDIRECT("Corresp!"&CHAR(MID($AG17,7,1)+3+64)&":"&CHAR(MID($AG17,7,1)+3+64)),MATCH(C$5,Corresp!$A:$A,0)),Cycles!$1:$1,0)+WEEKDAY(C$5)-1))=0,"",INDIRECT("CYCLES!"&ADDRESS(MATCH($A17,Cycles!$B:$B,0),MATCH("semaine"&INDEX(INDIRECT("Corresp!"&CHAR(MID($AG17,7,1)+3+64)&":"&CHAR(MID($AG17,7,1)+3+64)),MATCH(C$5,Corresp!$A:$A,0)),Cycles!$1:$1,0)+WEEKDAY(C$5)-1)))) -> #N/A | D17: =IF(D$5="","",IF(INDIRECT("CYCLES!"&ADDRESS(MATCH($A17,Cycles!$B:$B,0),MATCH("semaine"&INDEX(INDIRECT("Corresp!"&CHAR(MID($AG17,7,1)+3+64)&":"&CHAR(MID($AG17,7,1)+3+64)),MATCH(D$5,Corresp!$A:$A,0)),Cycles!$1:$1,0)+WEEKDAY(D$5)-1))=0,"",INDIRECT("CYCLES!"&ADDRESS(MATCH($A17,Cycles!$B:$B,0),MATCH("semaine"&INDEX(INDIRECT("Corresp!"&CHAR(MID($AG17,7,1)+3+64)&":"&CHAR(MID($AG17,7,1)+3+64)),MATCH(D$5,Corresp!$A:$A,0)),Cycles!$1:$1,0)+WEEKDAY(D$5)-1)))) -> #N/A | E17: =IF(E$5="","",IF(INDIRECT("CYCLES!"&ADDRESS(MATCH($A17,Cycles!$B:$B,0),MATCH("semaine"&INDEX(INDIRECT("Corresp!"&CHAR(MID($AG17,7,1)+3+64)&":"&CHAR(MID($AG17,7,1)+3+64)),MATCH(E$5,Corresp!$A:$A,0)),Cycles!$1:$1,0)+WEEKDAY(E$5)-1))=0,"",INDIRECT("CYCLES!"&ADDRESS(MATCH($A17,Cycles!$B:$B,0),MATCH("semaine"&INDEX(INDIRECT("Corresp!"&CHAR(MID($AG17,7,1)+3+64)&":"&CHAR(MID($AG17,7,1)+3+64)),MATCH(E$5,Corresp!$A:$A,0)),Cycles!$1:$1,0)+WEEKDAY(E$5)-1)))) -> #N/A | F17: =IF(F$5="","",IF(INDIRECT("CYCLES!"&ADDRESS(MATCH($A17,Cycles!$B:$B,0),MATCH("semaine"&INDEX(INDIRECT("Corresp!"&CHAR(MID($AG17,7,1)+3+64)&":"&CHAR(MID($AG17,7,1)+3+64)),MATCH(F$5,Corresp!$A:$A,0)),Cycles!$1:$1,0)+WEEKDAY(F$5)-1))=0,"",INDIRECT("CYCLES!"&ADDRESS(MATCH($A17,Cycles!$B:$B,0),MATCH("semaine"&INDEX(INDIRECT("Corresp!"&CHAR(MID($AG17,7,1)+3+64)&":"&CHAR(MID($AG17,7,1)+3+64)),MATCH(F$5,Corresp!$A:$A,0)),Cycles!$1:$1,0)+WEEKDAY(F$5)-1)))) -> #N/A | G17: =IF(G$5="","",IF(INDIRECT("CYCLES!"&ADDRESS(MATCH($A17,Cycles!$B:$B,0),MATCH("semaine"&INDEX(INDIRECT("Corresp!"&CHAR(MID($AG17,7,1)+3+64)&":"&CHAR(MID($AG17,7,1)+3+64)),MATCH(G$5,Corresp!$A:$A,0)),Cycles!$1:$1,0)+WEEKDAY(G$5)-1))=0,"",INDIRECT("CYCLES!"&ADDRESS(MATCH($A17,Cycles!$B:$B,0),MATCH("semaine"&INDEX(INDIRECT("Corresp!"&CHAR(MID($AG17,7,1)+3+64)&":"&CHAR(MID($AG17,7,1)+3+64)),MATCH(G$5,Corresp!$A:$A,0)),Cycles!$1:$1,0)+WEEKDAY(G$5)-1)))) -> #N/A | H17: =IF(H$5="","",IF(INDIRECT("CYCLES!"&ADDRESS(MATCH($A17,Cycles!$B:$B,0),MATCH("semaine"&INDEX(INDIRECT("Corresp!"&CHAR(MID($AG17,7,1)+3+64)&":"&CHAR(MID($AG17,7,1)+3+64)),MATCH(H$5,Corresp!$A:$A,0)),Cycles!$1:$1,0)+WEEKDAY(H$5)-1))=0,"",INDIRECT("CYCLES!"&ADDRESS(MATCH($A17,Cycles!$B:$B,0),MATCH("semaine"&INDEX(INDIRECT("Corresp!"&CHAR(MID($AG17,7,1)+3+64)&":"&CHAR(MID($AG17,7,1)+3+64)),MATCH(H$5,Corresp!$A:$A,0)),Cycles!$1:$1,0)+WEEKDAY(H$5)-1)))) -> #N/A | I17: =IF(I$5="","",IF(INDIRECT("CYCLES!"&ADDRESS(MATCH($A17,Cycles!$B:$B,0),MATCH("semaine"&INDEX(INDIRECT("Corresp!"&CHAR(MID($AG17,7,1)+3+64)&":"&CHAR(MID($AG17,7,1)+3+64)),MATCH(I$5,Corresp!$A:$A,0)),Cycles!$1:$1,0)+WEEKDAY(I$5)-1))=0,"",INDIRECT("CYCLES!"&ADDRESS(MATCH($A17,Cycles!$B:$B,0),MATCH("semaine"&INDEX(INDIRECT("Corresp!"&CHAR(MID($AG17,7,1)+3+64)&":"&CHAR(MID($AG17,7,1)+3+64)),MATCH(I$5,Corresp!$A:$A,0)),Cycles!$1:$1,0)+WEEKDAY(I$5)-1)))) -> #N/A | ... AF17: =IF(AF$5="","",IF(INDIRECT("CYCLES!"&ADDRESS(MATCH($A17,Cycles!$B:$B,0),MATCH("semaine"&INDEX(INDIRECT("Corresp!"&CHAR(MID($AG17,7,1)+3+64)&":"&CHAR(MID($AG17,7,1)+3+64)),MATCH(AF$5,Corresp!$A:$A,0)),Cycles!$1:$1,0)+WEEKDAY(AF$5)-1))=0,"",INDIRECT("CYCLES!"&ADDRESS(MATCH($A17,Cycles!$B:$B,0),MATCH("semaine"&INDEX(INDIRECT("Corresp!"&CHAR(MID($AG17,7,1)+3+64)&":"&CHAR(MID($AG17,7,1)+3+64)),MATCH(AF$5,Corresp!$A:$A,0)),Cycles!$1:$1,0)+WEEKDAY(AF$5)-1)))) | AG17: Cycle 5 - 5
A20: ASD JOUR
A21: =INDIRECT("Affectations!"&CHAR(64+MATCH($B$2,Affectations!$1:$1,0))&MATCH($A$20,Affectations!$A:$A,0)+INT(ROW()-21)/3) -> CAVENA | B21: =IF(B$5="","",IF(INDIRECT("CYCLES!"&ADDRESS(MATCH($A21,Cycles!$B:$B,0),MATCH("semaine"&INDEX(INDIRECT("Corresp!"&CHAR(MID($AG21,7,1)+3+64)&":"&CHAR(MID($AG21,7,1)+3+64)),MATCH(B$5,Corresp!$A:$A,0)),Cycles!$1:$1,0)+WEEKDAY(B$5)-1))=0,"",INDIRECT("CYCLES!"&ADDRESS(MATCH($A21,Cycles!$B:$B,0),MATCH("semaine"&INDEX(INDIRECT("Corresp!"&CHAR(MID($AG21,7,1)+3+64)&":"&CHAR(MID($AG21,7,1)+3+64)),MATCH(B$5,Corresp!$A:$A,0)),Cycles!$1:$1,0)+WEEKDAY(B$5)-1)))) -> sem4 | C21: =IF(C$5="","",IF(INDIRECT("CYCLES!"&ADDRESS(MATCH($A21,Cycles!$B:$B,0),MATCH("semaine"&INDEX(INDIRECT("Corresp!"&CHAR(MID($AG21,7,1)+3+64)&":"&CHAR(MID($AG21,7,1)+3+64)),MATCH(C$5,Corresp!$A:$A,0)),Cycles!$1:$1,0)+WEEKDAY(C$5)-1))=0,"",INDIRECT("CYCLES!"&ADDRESS(MATCH($A21,Cycles!$B:$B,0),MATCH("semaine"&INDEX(INDIRECT("Corresp!"&CHAR(MID($AG21,7,1)+3+64)&":"&CHAR(MID($AG21,7,1)+3+64)),MATCH(C$5,Corresp!$A:$A,0)),Cycles!$1:$1,0)+WEEKDAY(C$5)-1)))) | D21: =IF(D$5="","",IF(INDIRECT("CYCLES!"&ADDRESS(MATCH($A21,Cycles!$B:$B,0),MATCH("semaine"&INDEX(INDIRECT("Corresp!"&CHAR(MID($AG21,7,1)+3+64)&":"&CHAR(MID($AG21,7,1)+3+64)),MATCH(D$5,Corresp!$A:$A,0)),Cycles!$1:$1,0)+WEEKDAY(D$5)-1))=0,"",INDIRECT("CYCLES!"&ADDRESS(MATCH($A21,Cycles!$B:$B,0),MATCH("semaine"&INDEX(INDIRECT("Corresp!"&CHAR(MID($AG21,7,1)+3+64)&":"&CHAR(MID($AG21,7,1)+3+64)),MATCH(D$5,Corresp!$A:$A,0)),Cycles!$1:$1,0)+WEEKDAY(D$5)-1)))) -> 7H-19H15 | E21: =IF(E$5="","",IF(INDIRECT("CYCLES!"&ADDRESS(MATCH($A21,Cycles!$B:$B,0),MATCH("semaine"&INDEX(INDIRECT("Corresp!"&CHAR(MID($AG21,7,1)+3+64)&":"&CHAR(MID($AG21,7,1)+3+64)),MATCH(E$5,Corresp!$A:$A,0)),Cycles!$1:$1,0)+WEEKDAY(E$5)-1))=0,"",INDIRECT("CYCLES!"&ADDRESS(MATCH($A21,Cycles!$B:$B,0),MATCH("semaine"&INDEX(INDIRECT("Corresp!"&CHAR(MID($AG21,7,1)+3+64)&":"&CHAR(MID($AG21,7,1)+3+64)),MATCH(E$5,Corresp!$A:$A,0)),Cycles!$1:$1,0)+WEEKDAY(E$5)-1)))) -> 7H-19H15 | F21: =IF(F$5="","",IF(INDIRECT("CYCLES!"&ADDRESS(MATCH($A21,Cycles!$B:$B,0),MATCH("semaine"&INDEX(INDIRECT("Corresp!"&CHAR(MID($AG21,7,1)+3+64)&":"&CHAR(MID($AG21,7,1)+3+64)),MATCH(F$5,Corresp!$A:$A,0)),Cycles!$1:$1,0)+WEEKDAY(F$5)-1))=0,"",INDIRECT("CYCLES!"&ADDRESS(MATCH($A21,Cycles!$B:$B,0),MATCH("semaine"&INDEX(INDIRECT("Corresp!"&CHAR(MID($AG21,7,1)+3+64)&":"&CHAR(MID($AG21,7,1)+3+64)),MATCH(F$5,Corresp!$A:$A,0)),Cycles!$1:$1,0)+WEEKDAY(F$5)-1)))) | G21: =IF(G$5="","",IF(INDIRECT("CYCLES!"&ADDRESS(MATCH($A21,Cycles!$B:$B,0),MATCH("semaine"&INDEX(INDIRECT("Corresp!"&CHAR(MID($AG21,7,1)+3+64)&":"&CHAR(MID($AG21,7,1)+3+64)),MATCH(G$5,Corresp!$A:$A,0)),Cycles!$1:$1,0)+WEEKDAY(G$5)-1))=0,"",INDIRECT("CYCLES!"&ADDRESS(MATCH($A21,Cycles!$B:$B,0),MATCH("semaine"&INDEX(INDIRECT("Corresp!"&CHAR(MID($AG21,7,1)+3+64)&":"&CHAR(MID($AG21,7,1)+3+64)),MATCH(G$5,Corresp!$A:$A,0)),Cycles!$1:$1,0)+WEEKDAY(G$5)-1)))) | H21: =IF(H$5="","",IF(INDIRECT("CYCLES!"&ADDRESS(MATCH($A21,Cycles!$B:$B,0),MATCH("semaine"&INDEX(INDIRECT("Corresp!"&CHAR(MID($AG21,7,1)+3+64)&":"&CHAR(MID($AG21,7,1)+3+64)),MATCH(H$5,Corresp!$A:$A,0)),Cycles!$1:$1,0)+WEEKDAY(H$5)-1))=0,"",INDIRECT("CYCLES!"&ADDRESS(MATCH($A21,Cycles!$B:$B,0),MATCH("semaine"&INDEX(INDIRECT("Corresp!"&CHAR(MID($AG21,7,1)+3+64)&":"&CHAR(MID($AG21,7,1)+3+64)),MATCH(H$5,Corresp!$A:$A,0)),Cycles!$1:$1,0)+WEEKDAY(H$5)-1)))) -> sem5 | I21: =IF(I$5="","",IF(INDIRECT("CYCLES!"&ADDRESS(MATCH($A21,Cycles!$B:$B,0),MATCH("semaine"&INDEX(INDIRECT("Corresp!"&CHAR(MID($AG21,7,1)+3+64)&":"&CHAR(MID($AG21,7,1)+3+64)),MATCH(I$5,Corresp!$A:$A,0)),Cycles!$1:$1,0)+WEEKDAY(I$5)-1))=0,"",INDIRECT("CYCLES!"&ADDRESS(MATCH($A21,Cycles!$B:$B,0),MATCH("semaine"&INDEX(INDIRECT("Corresp!"&CHAR(MID($AG21,7,1)+3+64)&":"&CHAR(MID($AG21,7,1)+3+64)),MATCH(I$5,Corresp!$A:$A,0)),Cycles!$1:$1,0)+WEEKDAY(I$5)-1)))) -> PEDIA | ... AF21: =IF(AF$5="","",IF(INDIRECT("CYCLES!"&ADDRESS(MATCH($A21,Cycles!$B:$B,0),MATCH("semaine"&INDEX(INDIRECT("Corresp!"&CHAR(MID($AG21,7,1)+3+64)&":"&CHAR(MID($AG21,7,1)+3+64)),MATCH(AF$5,Corresp!$A:$A,0)),Cycles!$1:$1,0)+WEEKDAY(AF$5)-1))=0,"",INDIRECT("CYCLES!"&ADDRESS(MATCH($A21,Cycles!$B:$B,0),MATCH("semaine"&INDEX(INDIRECT("Corresp!"&CHAR(MID($AG21,7,1)+3+64)&":"&CHAR(MID($AG21,7,1)+3+64)),MATCH(AF$5,Corresp!$A:$A,0)),Cycles!$1:$1,0)+WEEKDAY(AF$5)-1)))) | AG21: Cycle 5 - 5
A24: =INDIRECT("Affectations!"&CHAR(64+MATCH($B$2,Affectations!$1:$1,0))&MATCH($A$20,Affectations!$A:$A,0)+INT(ROW()-21)/3) -> GIRAUDEAU | B24: =IF(B$5="","",IF(INDIRECT("CYCLES!"&ADDRESS(MATCH($A24,Cycles!$B:$B,0),MATCH("semaine"&INDEX(INDIRECT("Corresp!"&CHAR(MID($AG24,7,1)+3+64)&":"&CHAR(MID($AG24,7,1)+3+64)),MATCH(B$5,Corresp!$A:$A,0)),Cycles!$1:$1,0)+WEEKDAY(B$5)-1))=0,"",INDIRECT("CYCLES!"&ADDRESS(MATCH($A24,Cycles!$B:$B,0),MATCH("semaine"&INDEX(INDIRECT("Corresp!"&CHAR(MID($AG24,7,1)+3+64)&":"&CHAR(MID($AG24,7,1)+3+64)),MATCH(B$5,Corresp!$A:$A,0)),Cycles!$1:$1,0)+WEEKDAY(B$5)-1)))) -> PEDIA | C24: =IF(C$5="","",IF(INDIRECT("CYCLES!"&ADDRESS(MATCH($A24,Cycles!$B:$B,0),MATCH("semaine"&INDEX(INDIRECT("Corresp!"&CHAR(MID($AG24,7,1)+3+64)&":"&CHAR(MID($AG24,7,1)+3+64)),MATCH(C$5,Corresp!$A:$A,0)),Cycles!$1:$1,0)+WEEKDAY(C$5)-1))=0,"",INDIRECT("CYCLES!"&ADDRESS(MATCH($A24,Cycles!$B:$B,0),MATCH("semaine"&INDEX(INDIRECT("Corresp!"&CHAR(MID($AG24,7,1)+3+64)&":"&CHAR(MID($AG24,7,1)+3+64)),MATCH(C$5,Corresp!$A:$A,0)),Cycles!$1:$1,0)+WEEKDAY(C$5)-1)))) | D24: =IF(D$5="","",IF(INDIRECT("CYCLES!"&ADDRESS(MATCH($A24,Cycles!$B:$B,0),MATCH("semaine"&INDEX(INDIRECT("Corresp!"&CHAR(MID($AG24,7,1)+3+64)&":"&CHAR(MID($AG24,7,1)+3+64)),MATCH(D$5,Corresp!$A:$A,0)),Cycles!$1:$1,0)+WEEKDAY(D$5)-1))=0,"",INDIRECT("CYCLES!"&ADDRESS(MATCH($A24,Cycles!$B:$B,0),MATCH("semaine"&INDEX(INDIRECT("Corresp!"&CHAR(MID($AG24,7,1)+3+64)&":"&CHAR(MID($AG24,7,1)+3+64)),MATCH(D$5,Corresp!$A:$A,0)),Cycles!$1:$1,0)+WEEKDAY(D$5)-1)))) | E24: =IF(E$5="","",IF(INDIRECT("CYCLES!"&ADDRESS(MATCH($A24,Cycles!$B:$B,0),MATCH("semaine"&INDEX(INDIRECT("Corresp!"&CHAR(MID($AG24,7,1)+3+64)&":"&CHAR(MID($AG24,7,1)+3+64)),MATCH(E$5,Corresp!$A:$A,0)),Cycles!$1:$1,0)+WEEKDAY(E$5)-1))=0,"",INDIRECT("CYCLES!"&ADDRESS(MATCH($A24,Cycles!$B:$B,0),MATCH("semaine"&INDEX(INDIRECT("Corresp!"&CHAR(MID($AG24,7,1)+3+64)&":"&CHAR(MID($AG24,7,1)+3+64)),MATCH(E$5,Corresp!$A:$A,0)),Cycles!$1:$1,0)+WEEKDAY(E$5)-1)))) | F24: =IF(F$5="","",IF(INDIRECT("CYCLES!"&ADDRESS(MATCH($A24,Cycles!$B:$B,0),MATCH("semaine"&INDEX(INDIRECT("Corresp!"&CHAR(MID($AG24,7,1)+3+64)&":"&CHAR(MID($AG24,7,1)+3+64)),MATCH(F$5,Corresp!$A:$A,0)),Cycles!$1:$1,0)+WEEKDAY(F$5)-1))=0,"",INDIRECT("CYCLES!"&ADDRESS(MATCH($A24,Cycles!$B:$B,0),MATCH("semaine"&INDEX(INDIRECT("Corresp!"&CHAR(MID($AG24,7,1)+3+64)&":"&CHAR(MID($AG24,7,1)+3+64)),MATCH(F$5,Corresp!$A:$A,0)),Cycles!$1:$1,0)+WEEKDAY(F$5)-1)))) | G24: =IF(G$5="","",IF(INDIRECT("CYCLES!"&ADDRESS(MATCH($A24,Cycles!$B:$B,0),MATCH("semaine"&INDEX(INDIRECT("Corresp!"&CHAR(MID($AG24,7,1)+3+64)&":"&CHAR(MID($AG24,7,1)+3+64)),MATCH(G$5,Corresp!$A:$A,0)),Cycles!$1:$1,0)+WEEKDAY(G$5)-1))=0,"",INDIRECT("CYCLES!"&ADDRESS(MATCH($A24,Cycles!$B:$B,0),MATCH("semaine"&INDEX(INDIRECT("Corresp!"&CHAR(MID($AG24,7,1)+3+64)&":"&CHAR(MID($AG24,7,1)+3+64)),MATCH(G$5,Corresp!$A:$A,0)),Cycles!$1:$1,0)+WEEKDAY(G$5)-1)))) | H24: =IF(H$5="","",IF(INDIRECT("CYCLES!"&ADDRESS(MATCH($A24,Cycles!$B:$B,0),MATCH("semaine"&INDEX(INDIRECT("Corresp!"&CHAR(MID($AG24,7,1)+3+64)&":"&CHAR(MID($AG24,7,1)+3+64)),MATCH(H$5,Corresp!$A:$A,0)),Cycles!$1:$1,0)+WEEKDAY(H$5)-1))=0,"",INDIRECT("CYCLES!"&ADDRESS(MATCH($A24,Cycles!$B:$B,0),MATCH("semaine"&INDEX(INDIRECT("Corresp!"&CHAR(MID($AG24,7,1)+3+64)&":"&CHAR(MID($AG24,7,1)+3+64)),MATCH(H$5,Corresp!$A:$A,0)),Cycles!$1:$1,0)+WEEKDAY(H$5)-1)))) -> sem1 | I24: =IF(I$5="","",IF(INDIRECT("CYCLES!"&ADDRESS(MATCH($A24,Cycles!$B:$B,0),MATCH("semaine"&INDEX(INDIRECT("Corresp!"&CHAR(MID($AG24,7,1)+3+64)&":"&CHAR(MID($AG24,7,1)+3+64)),MATCH(I$5,Corresp!$A:$A,0)),Cycles!$1:$1,0)+WEEKDAY(I$5)-1))=0,"",INDIRECT("CYCLES!"&ADDRESS(MATCH($A24,Cycles!$B:$B,0),MATCH("semaine"&INDEX(INDIRECT("Corresp!"&CHAR(MID($AG24,7,1)+3+64)&":"&CHAR(MID($AG24,7,1)+3+64)),MATCH(I$5,Corresp!$A:$A,0)),Cycles!$1:$1,0)+WEEKDAY(I$5)-1)))) -> 7H-19H15 | ... AF24: =IF(AF$5="","",IF(INDIRECT("CYCLES!"&ADDRESS(MATCH($A24,Cycles!$B:$B,0),MATCH("semaine"&INDEX(INDIRECT("Corresp!"&CHAR(MID($AG24,7,1)+3+64)&":"&CHAR(MID($AG24,7,1)+3+64)),MATCH(AF$5,Corresp!$A:$A,0)),Cycles!$1:$1,0)+WEEKDAY(AF$5)-1))=0,"",INDIRECT("CYCLES!"&ADDRESS(MATCH($A24,Cycles!$B:$B,0),MATCH("semaine"&INDEX(INDIRECT("Corresp!"&CHAR(MID($AG24,7,1)+3+64)&":"&CHAR(MID($AG24,7,1)+3+64)),MATCH(AF$5,Corresp!$A:$A,0)),Cycles!$1:$1,0)+WEEKDAY(AF$5)-1)))) | AG24: Cycle 5 - 5
A27: =INDIRECT("Affectations!"&CHAR(64+MATCH($B$2,Affectations!$1:$1,0))&MATCH($A$20,Affectations!$A:$A,0)+INT(ROW()-21)/3) -> PASCAL | B27: =IF(B$5="","",IF(INDIRECT("CYCLES!"&ADDRESS(MATCH($A27,Cycles!$B:$B,0),MATCH("semaine"&INDEX(INDIRECT("Corresp!"&CHAR(MID($AG27,7,1)+3+64)&":"&CHAR(MID($AG27,7,1)+3+64)),MATCH(B$5,Corresp!$A:$A,0)),Cycles!$1:$1,0)+WEEKDAY(B$5)-1))=0,"",INDIRECT("CYCLES!"&ADDRESS(MATCH($A27,Cycles!$B:$B,0),MATCH("semaine"&INDEX(INDIRECT("Corresp!"&CHAR(MID($AG27,7,1)+3+64)&":"&CHAR(MID($AG27,7,1)+3+64)),MATCH(B$5,Corresp!$A:$A,0)),Cycles!$1:$1,0)+WEEKDAY(B$5)-1)))) -> ORTHO | C27: =IF(C$5="","",IF(INDIRECT("CYCLES!"&ADDRESS(MATCH($A27,Cycles!$B:$B,0),MATCH("semaine"&INDEX(INDIRECT("Corresp!"&CHAR(MID($AG27,7,1)+3+64)&":"&CHAR(MID($AG27,7,1)+3+64)),MATCH(C$5,Corresp!$A:$A,0)),Cycles!$1:$1,0)+WEEKDAY(C$5)-1))=0,"",INDIRECT("CYCLES!"&ADDRESS(MATCH($A27,Cycles!$B:$B,0),MATCH("semaine"&INDEX(INDIRECT("Corresp!"&CHAR(MID($AG27,7,1)+3+64)&":"&CHAR(MID($AG27,7,1)+3+64)),MATCH(C$5,Corresp!$A:$A,0)),Cycles!$1:$1,0)+WEEKDAY(C$5)-1)))) | D27: =IF(D$5="","",IF(INDIRECT("CYCLES!"&ADDRESS(MATCH($A27,Cycles!$B:$B,0),MATCH("semaine"&INDEX(INDIRECT("Corresp!"&CHAR(MID($AG27,7,1)+3+64)&":"&CHAR(MID($AG27,7,1)+3+64)),MATCH(D$5,Corresp!$A:$A,0)),Cycles!$1:$1,0)+WEEKDAY(D$5)-1))=0,"",INDIRECT("CYCLES!"&ADDRESS(MATCH($A27,Cycles!$B:$B,0),MATCH("semaine"&INDEX(INDIRECT("Corresp!"&CHAR(MID($AG27,7,1)+3+64)&":"&CHAR(MID($AG27,7,1)+3+64)),MATCH(D$5,Corresp!$A:$A,0)),Cycles!$1:$1,0)+WEEKDAY(D$5)-1)))) -> sem4 | E27: =IF(E$5="","",IF(INDIRECT("CYCLES!"&ADDRESS(MATCH($A27,Cycles!$B:$B,0),MATCH("semaine"&INDEX(INDIRECT("Corresp!"&CHAR(MID($AG27,7,1)+3+64)&":"&CHAR(MID($AG27,7,1)+3+64)),MATCH(E$5,Corresp!$A:$A,0)),Cycles!$1:$1,0)+WEEKDAY(E$5)-1))=0,"",INDIRECT("CYCLES!"&ADDRESS(MATCH($A27,Cycles!$B:$B,0),MATCH("semaine"&INDEX(INDIRECT("Corresp!"&CHAR(MID($AG27,7,1)+3+64)&":"&CHAR(MID($AG27,7,1)+3+64)),MATCH(E$5,Corresp!$A:$A,0)),Cycles!$1:$1,0)+WEEKDAY(E$5)-1)))) -> ORTHO | F27: =IF(F$5="","",IF(INDIRECT("CYCLES!"&ADDRESS(MATCH($A27,Cycles!$B:$B,0),MATCH("semaine"&INDEX(INDIRECT("Corresp!"&CHAR(MID($AG27,7,1)+3+64)&":"&CHAR(MID($AG27,7,1)+3+64)),MATCH(F$5,Corresp!$A:$A,0)),Cycles!$1:$1,0)+WEEKDAY(F$5)-1))=0,"",INDIRECT("CYCLES!"&ADDRESS(MATCH($A27,Cycles!$B:$B,0),MATCH("semaine"&INDEX(INDIRECT("Corresp!"&CHAR(MID($AG27,7,1)+3+64)&":"&CHAR(MID($AG27,7,1)+3+64)),MATCH(F$5,Corresp!$A:$A,0)),Cycles!$1:$1,0)+WEEKDAY(F$5)-1)))) -> ORTHO | G27: =IF(G$5="","",IF(INDIRECT("CYCLES!"&ADDRESS(MATCH($A27,Cycles!$B:$B,0),MATCH("semaine"&INDEX(INDIRECT("Corresp!"&CHAR(MID($AG27,7,1)+3+64)&":"&CHAR(MID($AG27,7,1)+3+64)),MATCH(G$5,Corresp!$A:$A,0)),Cycles!$1:$1,0)+WEEKDAY(G$5)-1))=0,"",INDIRECT("CYCLES!"&ADDRESS(MATCH($A27,Cycles!$B:$B,0),MATCH("semaine"&INDEX(INDIRECT("Corresp!"&CHAR(MID($AG27,7,1)+3+64)&":"&CHAR(MID($AG27,7,1)+3+64)),MATCH(G$5,Corresp!$A:$A,0)),Cycles!$1:$1,0)+WEEKDAY(G$5)-1)))) | H27: =IF(H$5="","",IF(INDIRECT("CYCLES!"&ADDRESS(MATCH($A27,Cycles!$B:$B,0),MATCH("semaine"&INDEX(INDIRECT("Corresp!"&CHAR(MID($AG27,7,1)+3+64)&":"&CHAR(MID($AG27,7,1)+3+64)),MATCH(H$5,Corresp!$A:$A,0)),Cycles!$1:$1,0)+WEEKDAY(H$5)-1))=0,"",INDIRECT("CYCLES!"&ADDRESS(MATCH($A27,Cycles!$B:$B,0),MATCH("semaine"&INDEX(INDIRECT("Corresp!"&CHAR(MID($AG27,7,1)+3+64)&":"&CHAR(MID($AG27,7,1)+3+64)),MATCH(H$5,Corresp!$A:$A,0)),Cycles!$1:$1,0)+WEEKDAY(H$5)-1)))) -> ORTHO | I27: =IF(I$5="","",IF(INDIRECT("CYCLES!"&ADDRESS(MATCH($A27,Cycles!$B:$B,0),MATCH("semaine"&INDEX(INDIRECT("Corresp!"&CHAR(MID($AG27,7,1)+3+64)&":"&CHAR(MID($AG27,7,1)+3+64)),MATCH(I$5,Corresp!$A:$A,0)),Cycles!$1:$1,0)+WEEKDAY(I$5)-1))=0,"",INDIRECT("CYCLES!"&ADDRESS(MATCH($A27,Cycles!$B:$B,0),MATCH("semaine"&INDEX(INDIRECT("Corresp!"&CHAR(MID($AG27,7,1)+3+64)&":"&CHAR(MID($AG27,7,1)+3+64)),MATCH(I$5,Corresp!$A:$A,0)),Cycles!$1:$1,0)+WEEKDAY(I$5)-1)))) -> ORTHO | ... AF27: =IF(AF$5="","",IF(INDIRECT("CYCLES!"&ADDRESS(MATCH($A27,Cycles!$B:$B,0),MATCH("semaine"&INDEX(INDIRECT("Corresp!"&CHAR(MID($AG27,7,1)+3+64)&":"&CHAR(MID($AG27,7,1)+3+64)),MATCH(AF$5,Corresp!$A:$A,0)),Cycles!$1:$1,0)+WEEKDAY(AF$5)-1))=0,"",INDIRECT("CYCLES!"&ADDRESS(MATCH($A27,Cycles!$B:$B,0),MATCH("semaine"&INDEX(INDIRECT("Corresp!"&CHAR(MID($AG27,7,1)+3+64)&":"&CHAR(MID($AG27,7,1)+3+64)),MATCH(AF$5,Corresp!$A:$A,0)),Cycles!$1:$1,0)+WEEKDAY(AF$5)-1)))) | AG27: Cycle 6 - 1
A30: =INDIRECT("Affectations!"&CHAR(64+MATCH($B$2,Affectations!$1:$1,0))&MATCH($A$20,Affectations!$A:$A,0)+INT(ROW()-21)/3) -> REMPLACANT | B30: =IF(B$5="","",IF(INDIRECT("CYCLES!"&ADDRESS(MATCH($A30,Cycles!$B:$B,0),MATCH("semaine"&INDEX(INDIRECT("Corresp!"&CHAR(MID($AG30,7,1)+3+64)&":"&CHAR(MID($AG30,7,1)+3+64)),MATCH(B$5,Corresp!$A:$A,0)),Cycles!$1:$1,0)+WEEKDAY(B$5)-1))=0,"",INDIRECT("CYCLES!"&ADDRESS(MATCH($A30,Cycles!$B:$B,0),MATCH("semaine"&INDEX(INDIRECT("Corresp!"&CHAR(MID($AG30,7,1)+3+64)&":"&CHAR(MID($AG30,7,1)+3+64)),MATCH(B$5,Corresp!$A:$A,0)),Cycles!$1:$1,0)+WEEKDAY(B$5)-1)))) -> #N/A | C30: =IF(C$5="","",IF(INDIRECT("CYCLES!"&ADDRESS(MATCH($A30,Cycles!$B:$B,0),MATCH("semaine"&INDEX(INDIRECT("Corresp!"&CHAR(MID($AG30,7,1)+3+64)&":"&CHAR(MID($AG30,7,1)+3+64)),MATCH(C$5,Corresp!$A:$A,0)),Cycles!$1:$1,0)+WEEKDAY(C$5)-1))=0,"",INDIRECT("CYCLES!"&ADDRESS(MATCH($A30,Cycles!$B:$B,0),MATCH("semaine"&INDEX(INDIRECT("Corresp!"&CHAR(MID($AG30,7,1)+3+64)&":"&CHAR(MID($AG30,7,1)+3+64)),MATCH(C$5,Corresp!$A:$A,0)),Cycles!$1:$1,0)+WEEKDAY(C$5)-1)))) -> #N/A | D30: =IF(D$5="","",IF(INDIRECT("CYCLES!"&ADDRESS(MATCH($A30,Cycles!$B:$B,0),MATCH("semaine"&INDEX(INDIRECT("Corresp!"&CHAR(MID($AG30,7,1)+3+64)&":"&CHAR(MID($AG30,7,1)+3+64)),MATCH(D$5,Corresp!$A:$A,0)),Cycles!$1:$1,0)+WEEKDAY(D$5)-1))=0,"",INDIRECT("CYCLES!"&ADDRESS(MATCH($A30,Cycles!$B:$B,0),MATCH("semaine"&INDEX(INDIRECT("Corresp!"&CHAR(MID($AG30,7,1)+3+64)&":"&CHAR(MID($AG30,7,1)+3+64)),MATCH(D$5,Corresp!$A:$A,0)),Cycles!$1:$1,0)+WEEKDAY(D$5)-1)))) -> #N/A | E30: =IF(E$5="","",IF(INDIRECT("CYCLES!"&ADDRESS(MATCH($A30,Cycles!$B:$B,0),MATCH("semaine"&INDEX(INDIRECT("Corresp!"&CHAR(MID($AG30,7,1)+3+64)&":"&CHAR(MID($AG30,7,1)+3+64)),MATCH(E$5,Corresp!$A:$A,0)),Cycles!$1:$1,0)+WEEKDAY(E$5)-1))=0,"",INDIRECT("CYCLES!"&ADDRESS(MATCH($A30,Cycles!$B:$B,0),MATCH("semaine"&INDEX(INDIRECT("Corresp!"&CHAR(MID($AG30,7,1)+3+64)&":"&CHAR(MID($AG30,7,1)+3+64)),MATCH(E$5,Corresp!$A:$A,0)),Cycles!$1:$1,0)+WEEKDAY(E$5)-1)))) -> #N/A | F30: =IF(F$5="","",IF(INDIRECT("CYCLES!"&ADDRESS(MATCH($A30,Cycles!$B:$B,0),MATCH("semaine"&INDEX(INDIRECT("Corresp!"&CHAR(MID($AG30,7,1)+3+64)&":"&CHAR(MID($AG30,7,1)+3+64)),MATCH(F$5,Corresp!$A:$A,0)),Cycles!$1:$1,0)+WEEKDAY(F$5)-1))=0,"",INDIRECT("CYCLES!"&ADDRESS(MATCH($A30,Cycles!$B:$B,0),MATCH("semaine"&INDEX(INDIRECT("Corresp!"&CHAR(MID($AG30,7,1)+3+64)&":"&CHAR(MID($AG30,7,1)+3+64)),MATCH(F$5,Corresp!$A:$A,0)),Cycles!$1:$1,0)+WEEKDAY(F$5)-1)))) -> #N/A | G30: =IF(G$5="","",IF(INDIRECT("CYCLES!"&ADDRESS(MATCH($A30,Cycles!$B:$B,0),MATCH("semaine"&INDEX(INDIRECT("Corresp!"&CHAR(MID($AG30,7,1)+3+64)&":"&CHAR(MID($AG30,7,1)+3+64)),MATCH(G$5,Corresp!$A:$A,0)),Cycles!$1:$1,0)+WEEKDAY(G$5)-1))=0,"",INDIRECT("CYCLES!"&ADDRESS(MATCH($A30,Cycles!$B:$B,0),MATCH("semaine"&INDEX(INDIRECT("Corresp!"&CHAR(MID($AG30,7,1)+3+64)&":"&CHAR(MID($AG30,7,1)+3+64)),MATCH(G$5,Corresp!$A:$A,0)),Cycles!$1:$1,0)+WEEKDAY(G$5)-1)))) -> #N/A | H30: =IF(H$5="","",IF(INDIRECT("CYCLES!"&ADDRESS(MATCH($A30,Cycles!$B:$B,0),MATCH("semaine"&INDEX(INDIRECT("Corresp!"&CHAR(MID($AG30,7,1)+3+64)&":"&CHAR(MID($AG30,7,1)+3+64)),MATCH(H$5,Corresp!$A:$A,0)),Cycles!$1:$1,0)+WEEKDAY(H$5)-1))=0,"",INDIRECT("CYCLES!"&ADDRESS(MATCH($A30,Cycles!$B:$B,0),MATCH("semaine"&INDEX(INDIRECT("Corresp!"&CHAR(MID($AG30,7,1)+3+64)&":"&CHAR(MID($AG30,7,1)+3+64)),MATCH(H$5,Corresp!$A:$A,0)),Cycles!$1:$1,0)+WEEKDAY(H$5)-1)))) -> #N/A | I30: =IF(I$5="","",IF(INDIRECT("CYCLES!"&ADDRESS(MATCH($A30,Cycles!$B:$B,0),MATCH("semaine"&INDEX(INDIRECT("Corresp!"&CHAR(MID($AG30,7,1)+3+64)&":"&CHAR(MID($AG30,7,1)+3+64)),MATCH(I$5,Corresp!$A:$A,0)),Cycles!$1:$1,0)+WEEKDAY(I$5)-1))=0,"",INDIRECT("CYCLES!"&ADDRESS(MATCH($A30,Cycles!$B:$B,0),MATCH("semaine"&INDEX(INDIRECT("Corresp!"&CHAR(MID($AG30,7,1)+3+64)&":"&CHAR(MID($AG30,7,1)+3+64)),MATCH(I$5,Corresp!$A:$A,0)),Cycles!$1:$1,0)+WEEKDAY(I$5)-1)))) -> #N/A | ... AF30: =IF(AF$5="","",IF(INDIRECT("CYCLES!"&ADDRESS(MATCH($A30,Cycles!$B:$B,0),MATCH("semaine"&INDEX(INDIRECT("Corresp!"&CHAR(MID($AG30,7,1)+3+64)&":"&CHAR(MID($AG30,7,1)+3+64)),MATCH(AF$5,Corresp!$A:$A,0)),Cycles!$1:$1,0)+WEEKDAY(AF$5)-1))=0,"",INDIRECT("CYCLES!"&ADDRESS(MATCH($A30,Cycles!$B:$B,0),MATCH("semaine"&INDEX(INDIRECT("Corresp!"&CHAR(MID($AG30,7,1)+3+64)&":"&CHAR(MID($AG30,7,1)+3+64)),MATCH(AF$5,Corresp!$A:$A,0)),Cycles!$1:$1,0)+WEEKDAY(AF$5)-1)))) | AG30: Cycle 5 - 5
A33: =INDIRECT("Affectations!"&CHAR(64+MATCH($B$2,Affectations!$1:$1,0))&MATCH($A$20,Affectations!$A:$A,0)+INT(ROW()-21)/3) -> RENFORT | B33: =IF(B$5="","",IF(INDIRECT("CYCLES!"&ADDRESS(MATCH($A33,Cycles!$B:$B,0),MATCH("semaine"&INDEX(INDIRECT("Corresp!"&CHAR(MID($AG33,7,1)+3+64)&":"&CHAR(MID($AG33,7,1)+3+64)),MATCH(B$5,Corresp!$A:$A,0)),Cycles!$1:$1,0)+WEEKDAY(B$5)-1))=0,"",INDIRECT("CYCLES!"&ADDRESS(MATCH($A33,Cycles!$B:$B,0),MATCH("semaine"&INDEX(INDIRECT("Corresp!"&CHAR(MID($AG33,7,1)+3+64)&":"&CHAR(MID($AG33,7,1)+3+64)),MATCH(B$5,Corresp!$A:$A,0)),Cycles!$1:$1,0)+WEEKDAY(B$5)-1)))) -> #N/A | C33: =IF(C$5="","",IF(INDIRECT("CYCLES!"&ADDRESS(MATCH($A33,Cycles!$B:$B,0),MATCH("semaine"&INDEX(INDIRECT("Corresp!"&CHAR(MID($AG33,7,1)+3+64)&":"&CHAR(MID($AG33,7,1)+3+64)),MATCH(C$5,Corresp!$A:$A,0)),Cycles!$1:$1,0)+WEEKDAY(C$5)-1))=0,"",INDIRECT("CYCLES!"&ADDRESS(MATCH($A33,Cycles!$B:$B,0),MATCH("semaine"&INDEX(INDIRECT("Corresp!"&CHAR(MID($AG33,7,1)+3+64)&":"&CHAR(MID($AG33,7,1)+3+64)),MATCH(C$5,Corresp!$A:$A,0)),Cycles!$1:$1,0)+WEEKDAY(C$5)-1)))) -> #N/A | D33: =IF(D$5="","",IF(INDIRECT("CYCLES!"&ADDRESS(MATCH($A33,Cycles!$B:$B,0),MATCH("semaine"&INDEX(INDIRECT("Corresp!"&CHAR(MID($AG33,7,1)+3+64)&":"&CHAR(MID($AG33,7,1)+3+64)),MATCH(D$5,Corresp!$A:$A,0)),Cycles!$1:$1,0)+WEEKDAY(D$5)-1))=0,"",INDIRECT("CYCLES!"&ADDRESS(MATCH($A33,Cycles!$B:$B,0),MATCH("semaine"&INDEX(INDIRECT("Corresp!"&CHAR(MID($AG33,7,1)+3+64)&":"&CHAR(MID($AG33,7,1)+3+64)),MATCH(D$5,Corresp!$A:$A,0)),Cycles!$1:$1,0)+WEEKDAY(D$5)-1)))) -> #N/A | E33: =IF(E$5="","",IF(INDIRECT("CYCLES!"&ADDRESS(MATCH($A33,Cycles!$B:$B,0),MATCH("semaine"&INDEX(INDIRECT("Corresp!"&CHAR(MID($AG33,7,1)+3+64)&":"&CHAR(MID($AG33,7,1)+3+64)),MATCH(E$5,Corresp!$A:$A,0)),Cycles!$1:$1,0)+WEEKDAY(E$5)-1))=0,"",INDIRECT("CYCLES!"&ADDRESS(MATCH($A33,Cycles!$B:$B,0),MATCH("semaine"&INDEX(INDIRECT("Corresp!"&CHAR(MID($AG33,7,1)+3+64)&":"&CHAR(MID($AG33,7,1)+3+64)),MATCH(E$5,Corresp!$A:$A,0)),Cycles!$1:$1,0)+WEEKDAY(E$5)-1)))) -> #N/A | F33: =IF(F$5="","",IF(INDIRECT("CYCLES!"&ADDRESS(MATCH($A33,Cycles!$B:$B,0),MATCH("semaine"&INDEX(INDIRECT("Corresp!"&CHAR(MID($AG33,7,1)+3+64)&":"&CHAR(MID($AG33,7,1)+3+64)),MATCH(F$5,Corresp!$A:$A,0)),Cycles!$1:$1,0)+WEEKDAY(F$5)-1))=0,"",INDIRECT("CYCLES!"&ADDRESS(MATCH($A33,Cycles!$B:$B,0),MATCH("semaine"&INDEX(INDIRECT("Corresp!"&CHAR(MID($AG33,7,1)+3+64)&":"&CHAR(MID($AG33,7,1)+3+64)),MATCH(F$5,Corresp!$A:$A,0)),Cycles!$1:$1,0)+WEEKDAY(F$5)-1)))) -> #N/A | G33: =IF(G$5="","",IF(INDIRECT("CYCLES!"&ADDRESS(MATCH($A33,Cycles!$B:$B,0),MATCH("semaine"&INDEX(INDIRECT("Corresp!"&CHAR(MID($AG33,7,1)+3+64)&":"&CHAR(MID($AG33,7,1)+3+64)),MATCH(G$5,Corresp!$A:$A,0)),Cycles!$1:$1,0)+WEEKDAY(G$5)-1))=0,"",INDIRECT("CYCLES!"&ADDRESS(MATCH($A33,Cycles!$B:$B,0),MATCH("semaine"&INDEX(INDIRECT("Corresp!"&CHAR(MID($AG33,7,1)+3+64)&":"&CHAR(MID($AG33,7,1)+3+64)),MATCH(G$5,Corresp!$A:$A,0)),Cycles!$1:$1,0)+WEEKDAY(G$5)-1)))) -> #N/A | H33: =IF(H$5="","",IF(INDIRECT("CYCLES!"&ADDRESS(MATCH($A33,Cycles!$B:$B,0),MATCH("semaine"&INDEX(INDIRECT("Corresp!"&CHAR(MID($AG33,7,1)+3+64)&":"&CHAR(MID($AG33,7,1)+3+64)),MATCH(H$5,Corresp!$A:$A,0)),Cycles!$1:$1,0)+WEEKDAY(H$5)-1))=0,"",INDIRECT("CYCLES!"&ADDRESS(MATCH($A33,Cycles!$B:$B,0),MATCH("semaine"&INDEX(INDIRECT("Corresp!"&CHAR(MID($AG33,7,1)+3+64)&":"&CHAR(MID($AG33,7,1)+3+64)),MATCH(H$5,Corresp!$A:$A,0)),Cycles!$1:$1,0)+WEEKDAY(H$5)-1)))) -> #N/A | I33: =IF(I$5="","",IF(INDIRECT("CYCLES!"&ADDRESS(MATCH($A33,Cycles!$B:$B,0),MATCH("semaine"&INDEX(INDIRECT("Corresp!"&CHAR(MID($AG33,7,1)+3+64)&":"&CHAR(MID($AG33,7,1)+3+64)),MATCH(I$5,Corresp!$A:$A,0)),Cycles!$1:$1,0)+WEEKDAY(I$5)-1))=0,"",INDIRECT("CYCLES!"&ADDRESS(MATCH($A33,Cycles!$B:$B,0),MATCH("semaine"&INDEX(INDIRECT("Corresp!"&CHAR(MID($AG33,7,1)+3+64)&":"&CHAR(MID($AG33,7,1)+3+64)),MATCH(I$5,Corresp!$A:$A,0)),Cycles!$1:$1,0)+WEEKDAY(I$5)-1)))) -> #N/A | ... AF33: =IF(AF$5="","",IF(INDIRECT("CYCLES!"&ADDRESS(MATCH($A33,Cycles!$B:$B,0),MATCH("semaine"&INDEX(INDIRECT("Corresp!"&CHAR(MID($AG33,7,1)+3+64)&":"&CHAR(MID($AG33,7,1)+3+64)),MATCH(AF$5,Corresp!$A:$A,0)),Cycles!$1:$1,0)+WEEKDAY(AF$5)-1))=0,"",INDIRECT("CYCLES!"&ADDRESS(MATCH($A33,Cycles!$B:$B,0),MATCH("semaine"&INDEX(INDIRECT("Corresp!"&CHAR(MID($AG33,7,1)+3+64)&":"&CHAR(MID($AG33,7,1)+3+64)),MATCH(AF$5,Corresp!$A:$A,0)),Cycles!$1:$1,0)+WEEKDAY(AF$5)-1)))) | AG33: Cycle 5 - 5
A36: IDE NUIT
A37: =INDIRECT("Affectations!"&CHAR(64+MATCH($B$2,Affectations!$1:$1,0))&MATCH($A$36,Affectations!$A:$A,0)+INT(ROW()-37)/3) -> RENAUDET | B37: =IF(B$5="","",IF(INDIRECT("CYCLES!"&ADDRESS(MATCH($A37,Cycles!$B:$B,0),MATCH("semaine"&INDEX(INDIRECT("Corresp!"&CHAR(MID($AG37,7,1)+3+64)&":"&CHAR(MID($AG37,7,1)+3+64)),MATCH(B$5,Corresp!$A:$A,0)),Cycles!$1:$1,0)+WEEKDAY(B$5)-1))=0,"",INDIRECT("CYCLES!"&ADDRESS(MATCH($A37,Cycles!$B:$B,0),MATCH("semaine"&INDEX(INDIRECT("Corresp!"&CHAR(MID($AG37,7,1)+3+64)&":"&CHAR(MID($AG37,7,1)+3+64)),MATCH(B$5,Corresp!$A:$A,0)),Cycles!$1:$1,0)+WEEKDAY(B$5)-1)))) -> 19H-7H15 | C37: =IF(C$5="","",IF(INDIRECT("CYCLES!"&ADDRESS(MATCH($A37,Cycles!$B:$B,0),MATCH("semaine"&INDEX(INDIRECT("Corresp!"&CHAR(MID($AG37,7,1)+3+64)&":"&CHAR(MID($AG37,7,1)+3+64)),MATCH(C$5,Corresp!$A:$A,0)),Cycles!$1:$1,0)+WEEKDAY(C$5)-1))=0,"",INDIRECT("CYCLES!"&ADDRESS(MATCH($A37,Cycles!$B:$B,0),MATCH("semaine"&INDEX(INDIRECT("Corresp!"&CHAR(MID($AG37,7,1)+3+64)&":"&CHAR(MID($AG37,7,1)+3+64)),MATCH(C$5,Corresp!$A:$A,0)),Cycles!$1:$1,0)+WEEKDAY(C$5)-1)))) -> 19H-7H15 | D37: =IF(D$5="","",IF(INDIRECT("CYCLES!"&ADDRESS(MATCH($A37,Cycles!$B:$B,0),MATCH("semaine"&INDEX(INDIRECT("Corresp!"&CHAR(MID($AG37,7,1)+3+64)&":"&CHAR(MID($AG37,7,1)+3+64)),MATCH(D$5,Corresp!$A:$A,0)),Cycles!$1:$1,0)+WEEKDAY(D$5)-1))=0,"",INDIRECT("CYCLES!"&ADDRESS(MATCH($A37,Cycles!$B:$B,0),MATCH("semaine"&INDEX(INDIRECT("Corresp!"&CHAR(MID($AG37,7,1)+3+64)&":"&CHAR(MID($AG37,7,1)+3+64)),MATCH(D$5,Corresp!$A:$A,0)),Cycles!$1:$1,0)+WEEKDAY(D$5)-1)))) -> sem1 | E37: =IF(E$5="","",IF(INDIRECT("CYCLES!"&ADDRESS(MATCH($A37,Cycles!$B:$B,0),MATCH("semaine"&INDEX(INDIRECT("Corresp!"&CHAR(MID($AG37,7,1)+3+64)&":"&CHAR(MID($AG37,7,1)+3+64)),MATCH(E$5,Corresp!$A:$A,0)),Cycles!$1:$1,0)+WEEKDAY(E$5)-1))=0,"",INDIRECT("CYCLES!"&ADDRESS(MATCH($A37,Cycles!$B:$B,0),MATCH("semaine"&INDEX(INDIRECT("Corresp!"&CHAR(MID($AG37,7,1)+3+64)&":"&CHAR(MID($AG37,7,1)+3+64)),MATCH(E$5,Corresp!$A:$A,0)),Cycles!$1:$1,0)+WEEKDAY(E$5)-1)))) | F37: =IF(F$5="","",IF(INDIRECT("CYCLES!"&ADDRESS(MATCH($A37,Cycles!$B:$B,0),MATCH("semaine"&INDEX(INDIRECT("Corresp!"&CHAR(MID($AG37,7,1)+3+64)&":"&CHAR(MID($AG37,7,1)+3+64)),MATCH(F$5,Corresp!$A:$A,0)),Cycles!$1:$1,0)+WEEKDAY(F$5)-1))=0,"",INDIRECT("CYCLES!"&ADDRESS(MATCH($A37,Cycles!$B:$B,0),MATCH("semaine"&INDEX(INDIRECT("Corresp!"&CHAR(MID($AG37,7,1)+3+64)&":"&CHAR(MID($AG37,7,1)+3+64)),MATCH(F$5,Corresp!$A:$A,0)),Cycles!$1:$1,0)+WEEKDAY(F$5)-1)))) -> 19H-7H15 | G37: =IF(G$5="","",IF(INDIRECT("CYCLES!"&ADDRESS(MATCH($A37,Cycles!$B:$B,0),MATCH("semaine"&INDEX(INDIRECT("Corresp!"&CHAR(MID($AG37,7,1)+3+64)&":"&CHAR(MID($AG37,7,1)+3+64)),MATCH(G$5,Corresp!$A:$A,0)),Cycles!$1:$1,0)+WEEKDAY(G$5)-1))=0,"",INDIRECT("CYCLES!"&ADDRESS(MATCH($A37,Cycles!$B:$B,0),MATCH("semaine"&INDEX(INDIRECT("Corresp!"&CHAR(MID($AG37,7,1)+3+64)&":"&CHAR(MID($AG37,7,1)+3+64)),MATCH(G$5,Corresp!$A:$A,0)),Cycles!$1:$1,0)+WEEKDAY(G$5)-1)))) -> 19H-7H15 | H37: =IF(H$5="","",IF(INDIRECT("CYCLES!"&ADDRESS(MATCH($A37,Cycles!$B:$B,0),MATCH("semaine"&INDEX(INDIRECT("Corresp!"&CHAR(MID($AG37,7,1)+3+64)&":"&CHAR(MID($AG37,7,1)+3+64)),MATCH(H$5,Corresp!$A:$A,0)),Cycles!$1:$1,0)+WEEKDAY(H$5)-1))=0,"",INDIRECT("CYCLES!"&ADDRESS(MATCH($A37,Cycles!$B:$B,0),MATCH("semaine"&INDEX(INDIRECT("Corresp!"&CHAR(MID($AG37,7,1)+3+64)&":"&CHAR(MID($AG37,7,1)+3+64)),MATCH(H$5,Corresp!$A:$A,0)),Cycles!$1:$1,0)+WEEKDAY(H$5)-1)))) -> 19H-7H15 | I37: =IF(I$5="","",IF(INDIRECT("CYCLES!"&ADDRESS(MATCH($A37,Cycles!$B:$B,0),MATCH("semaine"&INDEX(INDIRECT("Corresp!"&CHAR(MID($AG37,7,1)+3+64)&":"&CHAR(MID($AG37,7,1)+3+64)),MATCH(I$5,Corresp!$A:$A,0)),Cycles!$1:$1,0)+WEEKDAY(I$5)-1))=0,"",INDIRECT("CYCLES!"&ADDRESS(MATCH($A37,Cycles!$B:$B,0),MATCH("semaine"&INDEX(INDIRECT("Corresp!"&CHAR(MID($AG37,7,1)+3+64)&":"&CHAR(MID($AG37,7,1)+3+64)),MATCH(I$5,Corresp!$A:$A,0)),Cycles!$1:$1,0)+WEEKDAY(I$5)-1)))) | ... AF37: =IF(AF$5="","",IF(INDIRECT("CYCLES!"&ADDRESS(MATCH($A37,Cycles!$B:$B,0),MATCH("semaine"&INDEX(INDIRECT("Corresp!"&CHAR(MID($AG37,7,1)+3+64)&":"&CHAR(MID($AG37,7,1)+3+64)),MATCH(AF$5,Corresp!$A:$A,0)),Cycles!$1:$1,0)+WEEKDAY(AF$5)-1))=0,"",INDIRECT("CYCLES!"&ADDRESS(MATCH($A37,Cycles!$B:$B,0),MATCH("semaine"&INDEX(INDIRECT("Corresp!"&CHAR(MID($AG37,7,1)+3+64)&":"&CHAR(MID($AG37,7,1)+3+64)),MATCH(AF$5,Corresp!$A:$A,0)),Cycles!$1:$1,0)+WEEKDAY(AF$5)-1)))) | AG37: Cycle 1 - 7
A40: =INDIRECT("Affectations!"&CHAR(64+MATCH($B$2,Affectations!$1:$1,0))&MATCH($A$36,Affectations!$A:$A,0)+INT(ROW()-37)/3) -> IMBERT | B40: =IF(B$5="","",IF(INDIRECT("CYCLES!"&ADDRESS(MATCH($A40,Cycles!$B:$B,0),MATCH("semaine"&INDEX(INDIRECT("Corresp!"&CHAR(MID($AG40,7,1)+3+64)&":"&CHAR(MID($AG40,7,1)+3+64)),MATCH(B$5,Corresp!$A:$A,0)),Cycles!$1:$1,0)+WEEKDAY(B$5)-1))=0,"",INDIRECT("CYCLES!"&ADDRESS(MATCH($A40,Cycles!$B:$B,0),MATCH("semaine"&INDEX(INDIRECT("Corresp!"&CHAR(MID($AG40,7,1)+3+64)&":"&CHAR(MID($AG40,7,1)+3+64)),MATCH(B$5,Corresp!$A:$A,0)),Cycles!$1:$1,0)+WEEKDAY(B$5)-1)))) | C40: =IF(C$5="","",IF(INDIRECT("CYCLES!"&ADDRESS(MATCH($A40,Cycles!$B:$B,0),MATCH("semaine"&INDEX(INDIRECT("Corresp!"&CHAR(MID($AG40,7,1)+3+64)&":"&CHAR(MID($AG40,7,1)+3+64)),MATCH(C$5,Corresp!$A:$A,0)),Cycles!$1:$1,0)+WEEKDAY(C$5)-1))=0,"",INDIRECT("CYCLES!"&ADDRESS(MATCH($A40,Cycles!$B:$B,0),MATCH("semaine"&INDEX(INDIRECT("Corresp!"&CHAR(MID($AG40,7,1)+3+64)&":"&CHAR(MID($AG40,7,1)+3+64)),MATCH(C$5,Corresp!$A:$A,0)),Cycles!$1:$1,0)+WEEKDAY(C$5)-1)))) -> sem2 | D40: =IF(D$5="","",IF(INDIRECT("CYCLES!"&ADDRESS(MATCH($A40,Cycles!$B:$B,0),MATCH("semaine"&INDEX(INDIRECT("Corresp!"&CHAR(MID($AG40,7,1)+3+64)&":"&CHAR(MID($AG40,7,1)+3+64)),MATCH(D$5,Corresp!$A:$A,0)),Cycles!$1:$1,0)+WEEKDAY(D$5)-1))=0,"",INDIRECT("CYCLES!"&ADDRESS(MATCH($A40,Cycles!$B:$B,0),MATCH("semaine"&INDEX(INDIRECT("Corresp!"&CHAR(MID($AG40,7,1)+3+64)&":"&CHAR(MID($AG40,7,1)+3+64)),MATCH(D$5,Corresp!$A:$A,0)),Cycles!$1:$1,0)+WEEKDAY(D$5)-1)))) -> 19H-7H15 | E40: =IF(E$5="","",IF(INDIRECT("CYCLES!"&ADDRESS(MATCH($A40,Cycles!$B:$B,0),MATCH("semaine"&INDEX(INDIRECT("Corresp!"&CHAR(MID($AG40,7,1)+3+64)&":"&CHAR(MID($AG40,7,1)+3+64)),MATCH(E$5,Corresp!$A:$A,0)),Cycles!$1:$1,0)+WEEKDAY(E$5)-1))=0,"",INDIRECT("CYCLES!"&ADDRESS(MATCH($A40,Cycles!$B:$B,0),MATCH("semaine"&INDEX(INDIRECT("Corresp!"&CHAR(MID($AG40,7,1)+3+64)&":"&CHAR(MID($AG40,7,1)+3+64)),MATCH(E$5,Corresp!$A:$A,0)),Cycles!$1:$1,0)+WEEKDAY(E$5)-1)))) -> 19H-7H15 | F40: =IF(F$5="","",IF(INDIRECT("CYCLES!"&ADDRESS(MATCH($A40,Cycles!$B:$B,0),MATCH("semaine"&INDEX(INDIRECT("Corresp!"&CHAR(MID($AG40,7,1)+3+64)&":"&CHAR(MID($AG40,7,1)+3+64)),MATCH(F$5,Corresp!$A:$A,0)),Cycles!$1:$1,0)+WEEKDAY(F$5)-1))=0,"",INDIRECT("CYCLES!"&ADDRESS(MATCH($A40,Cycles!$B:$B,0),MATCH("semaine"&INDEX(INDIRECT("Corresp!"&CHAR(MID($AG40,7,1)+3+64)&":"&CHAR(MID($AG40,7,1)+3+64)),MATCH(F$5,Corresp!$A:$A,0)),Cycles!$1:$1,0)+WEEKDAY(F$5)-1)))) | G40: =IF(G$5="","",IF(INDIRECT("CYCLES!"&ADDRESS(MATCH($A40,Cycles!$B:$B,0),MATCH("semaine"&INDEX(INDIRECT("Corresp!"&CHAR(MID($AG40,7,1)+3+64)&":"&CHAR(MID($AG40,7,1)+3+64)),MATCH(G$5,Corresp!$A:$A,0)),Cycles!$1:$1,0)+WEEKDAY(G$5)-1))=0,"",INDIRECT("CYCLES!"&ADDRESS(MATCH($A40,Cycles!$B:$B,0),MATCH("semaine"&INDEX(INDIRECT("Corresp!"&CHAR(MID($AG40,7,1)+3+64)&":"&CHAR(MID($AG40,7,1)+3+64)),MATCH(G$5,Corresp!$A:$A,0)),Cycles!$1:$1,0)+WEEKDAY(G$5)-1)))) | H40: =IF(H$5="","",IF(INDIRECT("CYCLES!"&ADDRESS(MATCH($A40,Cycles!$B:$B,0),MATCH("semaine"&INDEX(INDIRECT("Corresp!"&CHAR(MID($AG40,7,1)+3+64)&":"&CHAR(MID($AG40,7,1)+3+64)),MATCH(H$5,Corresp!$A:$A,0)),Cycles!$1:$1,0)+WEEKDAY(H$5)-1))=0,"",INDIRECT("CYCLES!"&ADDRESS(MATCH($A40,Cycles!$B:$B,0),MATCH("semaine"&INDEX(INDIRECT("Corresp!"&CHAR(MID($AG40,7,1)+3+64)&":"&CHAR(MID($AG40,7,1)+3+64)),MATCH(H$5,Corresp!$A:$A,0)),Cycles!$1:$1,0)+WEEKDAY(H$5)-1)))) | I40: =IF(I$5="","",IF(INDIRECT("CYCLES!"&ADDRESS(MATCH($A40,Cycles!$B:$B,0),MATCH("semaine"&INDEX(INDIRECT("Corresp!"&CHAR(MID($AG40,7,1)+3+64)&":"&CHAR(MID($AG40,7,1)+3+64)),MATCH(I$5,Corresp!$A:$A,0)),Cycles!$1:$1,0)+WEEKDAY(I$5)-1))=0,"",INDIRECT("CYCLES!"&ADDRESS(MATCH($A40,Cycles!$B:$B,0),MATCH("semaine"&INDEX(INDIRECT("Corresp!"&CHAR(MID($AG40,7,1)+3+64)&":"&CHAR(MID($AG40,7,1)+3+64)),MATCH(I$5,Corresp!$A:$A,0)),Cycles!$1:$1,0)+WEEKDAY(I$5)-1)))) -> 19H-7H15 | ... AF40: =IF(AF$5="","",IF(INDIRECT("CYCLES!"&ADDRESS(MATCH($A40,Cycles!$B:$B,0),MATCH("semaine"&INDEX(INDIRECT("Corresp!"&CHAR(MID($AG40,7,1)+3+64)&":"&CHAR(MID($AG40,7,1)+3+64)),MATCH(AF$5,Corresp!$A:$A,0)),Cycles!$1:$1,0)+WEEKDAY(AF$5)-1))=0,"",INDIRECT("CYCLES!"&ADDRESS(MATCH($A40,Cycles!$B:$B,0),MATCH("semaine"&INDEX(INDIRECT("Corresp!"&CHAR(MID($AG40,7,1)+3+64)&":"&CHAR(MID($AG40,7,1)+3+64)),MATCH(AF$5,Corresp!$A:$A,0)),Cycles!$1:$1,0)+WEEKDAY(AF$5)-1)))) | AG40: Cycle 1 - 7
A43: =INDIRECT("Affectations!"&CHAR(64+MATCH($B$2,Affectations!$1:$1,0))&MATCH($A$36,Affectations!$A:$A,0)+INT(ROW()-37)/3) -> FREYCHET | B43: =IF(B$5="","",IF(INDIRECT("CYCLES!"&ADDRESS(MATCH($A43,Cycles!$B:$B,0),MATCH("semaine"&INDEX(INDIRECT("Corresp!"&CHAR(MID($AG43,7,1)+3+64)&":"&CHAR(MID($AG43,7,1)+3+64)),MATCH(B$5,Corresp!$A:$A,0)),Cycles!$1:$1,0)+WEEKDAY(B$5)-1))=0,"",INDIRECT("CYCLES!"&ADDRESS(MATCH($A43,Cycles!$B:$B,0),MATCH("semaine"&INDEX(INDIRECT("Corresp!"&CHAR(MID($AG43,7,1)+3+64)&":"&CHAR(MID($AG43,7,1)+3+64)),MATCH(B$5,Corresp!$A:$A,0)),Cycles!$1:$1,0)+WEEKDAY(B$5)-1)))) -> SSR | C43: =IF(C$5="","",IF(INDIRECT("CYCLES!"&ADDRESS(MATCH($A43,Cycles!$B:$B,0),MATCH("semaine"&INDEX(INDIRECT("Corresp!"&CHAR(MID($AG43,7,1)+3+64)&":"&CHAR(MID($AG43,7,1)+3+64)),MATCH(C$5,Corresp!$A:$A,0)),Cycles!$1:$1,0)+WEEKDAY(C$5)-1))=0,"",INDIRECT("CYCLES!"&ADDRESS(MATCH($A43,Cycles!$B:$B,0),MATCH("semaine"&INDEX(INDIRECT("Corresp!"&CHAR(MID($AG43,7,1)+3+64)&":"&CHAR(MID($AG43,7,1)+3+64)),MATCH(C$5,Corresp!$A:$A,0)),Cycles!$1:$1,0)+WEEKDAY(C$5)-1)))) -> SSR | D43: =IF(D$5="","",IF(INDIRECT("CYCLES!"&ADDRESS(MATCH($A43,Cycles!$B:$B,0),MATCH("semaine"&INDEX(INDIRECT("Corresp!"&CHAR(MID($AG43,7,1)+3+64)&":"&CHAR(MID($AG43,7,1)+3+64)),MATCH(D$5,Corresp!$A:$A,0)),Cycles!$1:$1,0)+WEEKDAY(D$5)-1))=0,"",INDIRECT("CYCLES!"&ADDRESS(MATCH($A43,Cycles!$B:$B,0),MATCH("semaine"&INDEX(INDIRECT("Corresp!"&CHAR(MID($AG43,7,1)+3+64)&":"&CHAR(MID($AG43,7,1)+3+64)),MATCH(D$5,Corresp!$A:$A,0)),Cycles!$1:$1,0)+WEEKDAY(D$5)-1)))) -> sem5 | E43: =IF(E$5="","",IF(INDIRECT("CYCLES!"&ADDRESS(MATCH($A43,Cycles!$B:$B,0),MATCH("semaine"&INDEX(INDIRECT("Corresp!"&CHAR(MID($AG43,7,1)+3+64)&":"&CHAR(MID($AG43,7,1)+3+64)),MATCH(E$5,Corresp!$A:$A,0)),Cycles!$1:$1,0)+WEEKDAY(E$5)-1))=0,"",INDIRECT("CYCLES!"&ADDRESS(MATCH($A43,Cycles!$B:$B,0),MATCH("semaine"&INDEX(INDIRECT("Corresp!"&CHAR(MID($AG43,7,1)+3+64)&":"&CHAR(MID($AG43,7,1)+3+64)),MATCH(E$5,Corresp!$A:$A,0)),Cycles!$1:$1,0)+WEEKDAY(E$5)-1)))) | F43: =IF(F$5="","",IF(INDIRECT("CYCLES!"&ADDRESS(MATCH($A43,Cycles!$B:$B,0),MATCH("semaine"&INDEX(INDIRECT("Corresp!"&CHAR(MID($AG43,7,1)+3+64)&":"&CHAR(MID($AG43,7,1)+3+64)),MATCH(F$5,Corresp!$A:$A,0)),Cycles!$1:$1,0)+WEEKDAY(F$5)-1))=0,"",INDIRECT("CYCLES!"&ADDRESS(MATCH($A43,Cycles!$B:$B,0),MATCH("semaine"&INDEX(INDIRECT("Corresp!"&CHAR(MID($AG43,7,1)+3+64)&":"&CHAR(MID($AG43,7,1)+3+64)),MATCH(F$5,Corresp!$A:$A,0)),Cycles!$1:$1,0)+WEEKDAY(F$5)-1)))) -> SSR | G43: =IF(G$5="","",IF(INDIRECT("CYCLES!"&ADDRESS(MATCH($A43,Cycles!$B:$B,0),MATCH("semaine"&INDEX(INDIRECT("Corresp!"&CHAR(MID($AG43,7,1)+3+64)&":"&CHAR(MID($AG43,7,1)+3+64)),MATCH(G$5,Corresp!$A:$A,0)),Cycles!$1:$1,0)+WEEKDAY(G$5)-1))=0,"",INDIRECT("CYCLES!"&ADDRESS(MATCH($A43,Cycles!$B:$B,0),MATCH("semaine"&INDEX(INDIRECT("Corresp!"&CHAR(MID($AG43,7,1)+3+64)&":"&CHAR(MID($AG43,7,1)+3+64)),MATCH(G$5,Corresp!$A:$A,0)),Cycles!$1:$1,0)+WEEKDAY(G$5)-1)))) -> SSR | H43: =IF(H$5="","",IF(INDIRECT("CYCLES!"&ADDRESS(MATCH($A43,Cycles!$B:$B,0),MATCH("semaine"&INDEX(INDIRECT("Corresp!"&CHAR(MID($AG43,7,1)+3+64)&":"&CHAR(MID($AG43,7,1)+3+64)),MATCH(H$5,Corresp!$A:$A,0)),Cycles!$1:$1,0)+WEEKDAY(H$5)-1))=0,"",INDIRECT("CYCLES!"&ADDRESS(MATCH($A43,Cycles!$B:$B,0),MATCH("semaine"&INDEX(INDIRECT("Corresp!"&CHAR(MID($AG43,7,1)+3+64)&":"&CHAR(MID($AG43,7,1)+3+64)),MATCH(H$5,Corresp!$A:$A,0)),Cycles!$1:$1,0)+WEEKDAY(H$5)-1)))) -> SSR | I43: =IF(I$5="","",IF(INDIRECT("CYCLES!"&ADDRESS(MATCH($A43,Cycles!$B:$B,0),MATCH("semaine"&INDEX(INDIRECT("Corresp!"&CHAR(MID($AG43,7,1)+3+64)&":"&CHAR(MID($AG43,7,1)+3+64)),MATCH(I$5,Corresp!$A:$A,0)),Cycles!$1:$1,0)+WEEKDAY(I$5)-1))=0,"",INDIRECT("CYCLES!"&ADDRESS(MATCH($A43,Cycles!$B:$B,0),MATCH("semaine"&INDEX(INDIRECT("Corresp!"&CHAR(MID($AG43,7,1)+3+64)&":"&CHAR(MID($AG43,7,1)+3+64)),MATCH(I$5,Corresp!$A:$A,0)),Cycles!$1:$1,0)+WEEKDAY(I$5)-1)))) | ... AF43: =IF(AF$5="","",IF(INDIRECT("CYCLES!"&ADDRESS(MATCH($A43,Cycles!$B:$B,0),MATCH("semaine"&INDEX(INDIRECT("Corresp!"&CHAR(MID($AG43,7,1)+3+64)&":"&CHAR(MID($AG43,7,1)+3+64)),MATCH(AF$5,Corresp!$A:$A,0)),Cycles!$1:$1,0)+WEEKDAY(AF$5)-1))=0,"",INDIRECT("CYCLES!"&ADDRESS(MATCH($A43,Cycles!$B:$B,0),MATCH("semaine"&INDEX(INDIRECT("Corresp!"&CHAR(MID($AG43,7,1)+3+64)&":"&CHAR(MID($AG43,7,1)+3+64)),MATCH(AF$5,Corresp!$A:$A,0)),Cycles!$1:$1,0)+WEEKDAY(AF$5)-1)))) | AG43: Cycle 1 - 7
A46: =INDIRECT("Affectations!"&CHAR(64+MATCH($B$2,Affectations!$1:$1,0))&MATCH($A$36,Affectations!$A:$A,0)+INT(ROW()-37)/3) -> REMPLACANT | B46: =IF(B$5="","",IF(INDIRECT("CYCLES!"&ADDRESS(MATCH($A46,Cycles!$B:$B,0),MATCH("semaine"&INDEX(INDIRECT("Corresp!"&CHAR(MID($AG46,7,1)+3+64)&":"&CHAR(MID($AG46,7,1)+3+64)),MATCH(B$5,Corresp!$A:$A,0)),Cycles!$1:$1,0)+WEEKDAY(B$5)-1))=0,"",INDIRECT("CYCLES!"&ADDRESS(MATCH($A46,Cycles!$B:$B,0),MATCH("semaine"&INDEX(INDIRECT("Corresp!"&CHAR(MID($AG46,7,1)+3+64)&":"&CHAR(MID($AG46,7,1)+3+64)),MATCH(B$5,Corresp!$A:$A,0)),Cycles!$1:$1,0)+WEEKDAY(B$5)-1)))) -> #N/A | C46: =IF(C$5="","",IF(INDIRECT("CYCLES!"&ADDRESS(MATCH($A46,Cycles!$B:$B,0),MATCH("semaine"&INDEX(INDIRECT("Corresp!"&CHAR(MID($AG46,7,1)+3+64)&":"&CHAR(MID($AG46,7,1)+3+64)),MATCH(C$5,Corresp!$A:$A,0)),Cycles!$1:$1,0)+WEEKDAY(C$5)-1))=0,"",INDIRECT("CYCLES!"&ADDRESS(MATCH($A46,Cycles!$B:$B,0),MATCH("semaine"&INDEX(INDIRECT("Corresp!"&CHAR(MID($AG46,7,1)+3+64)&":"&CHAR(MID($AG46,7,1)+3+64)),MATCH(C$5,Corresp!$A:$A,0)),Cycles!$1:$1,0)+WEEKDAY(C$5)-1)))) -> #N/A | D46: =IF(D$5="","",IF(INDIRECT("CYCLES!"&ADDRESS(MATCH($A46,Cycles!$B:$B,0),MATCH("semaine"&INDEX(INDIRECT("Corresp!"&CHAR(MID($AG46,7,1)+3+64)&":"&CHAR(MID($AG46,7,1)+3+64)),MATCH(D$5,Corresp!$A:$A,0)),Cycles!$1:$1,0)+WEEKDAY(D$5)-1))=0,"",INDIRECT("CYCLES!"&ADDRESS(MATCH($A46,Cycles!$B:$B,0),MATCH("semaine"&INDEX(INDIRECT("Corresp!"&CHAR(MID($AG46,7,1)+3+64)&":"&CHAR(MID($AG46,7,1)+3+64)),MATCH(D$5,Corresp!$A:$A,0)),Cycles!$1:$1,0)+WEEKDAY(D$5)-1)))) -> #N/A | E46: =IF(E$5="","",IF(INDIRECT("CYCLES!"&ADDRESS(MATCH($A46,Cycles!$B:$B,0),MATCH("semaine"&INDEX(INDIRECT("Corresp!"&CHAR(MID($AG46,7,1)+3+64)&":"&CHAR(MID($AG46,7,1)+3+64)),MATCH(E$5,Corresp!$A:$A,0)),Cycles!$1:$1,0)+WEEKDAY(E$5)-1))=0,"",INDIRECT("CYCLES!"&ADDRESS(MATCH($A46,Cycles!$B:$B,0),MATCH("semaine"&INDEX(INDIRECT("Corresp!"&CHAR(MID($AG46,7,1)+3+64)&":"&CHAR(MID($AG46,7,1)+3+64)),MATCH(E$5,Corresp!$A:$A,0)),Cycles!$1:$1,0)+WEEKDAY(E$5)-1)))) -> #N/A | F46: =IF(F$5="","",IF(INDIRECT("CYCLES!"&ADDRESS(MATCH($A46,Cycles!$B:$B,0),MATCH("semaine"&INDEX(INDIRECT("Corresp!"&CHAR(MID($AG46,7,1)+3+64)&":"&CHAR(MID($AG46,7,1)+3+64)),MATCH(F$5,Corresp!$A:$A,0)),Cycles!$1:$1,0)+WEEKDAY(F$5)-1))=0,"",INDIRECT("CYCLES!"&ADDRESS(MATCH($A46,Cycles!$B:$B,0),MATCH("semaine"&INDEX(INDIRECT("Corresp!"&CHAR(MID($AG46,7,1)+3+64)&":"&CHAR(MID($AG46,7,1)+3+64)),MATCH(F$5,Corresp!$A:$A,0)),Cycles!$1:$1,0)+WEEKDAY(F$5)-1)))) -> #N/A | G46: =IF(G$5="","",IF(INDIRECT("CYCLES!"&ADDRESS(MATCH($A46,Cycles!$B:$B,0),MATCH("semaine"&INDEX(INDIRECT("Corresp!"&CHAR(MID($AG46,7,1)+3+64)&":"&CHAR(MID($AG46,7,1)+3+64)),MATCH(G$5,Corresp!$A:$A,0)),Cycles!$1:$1,0)+WEEKDAY(G$5)-1))=0,"",INDIRECT("CYCLES!"&ADDRESS(MATCH($A46,Cycles!$B:$B,0),MATCH("semaine"&INDEX(INDIRECT("Corresp!"&CHAR(MID($AG46,7,1)+3+64)&":"&CHAR(MID($AG46,7,1)+3+64)),MATCH(G$5,Corresp!$A:$A,0)),Cycles!$1:$1,0)+WEEKDAY(G$5)-1)))) -> #N/A | H46: =IF(H$5="","",IF(INDIRECT("CYCLES!"&ADDRESS(MATCH($A46,Cycles!$B:$B,0),MATCH("semaine"&INDEX(INDIRECT("Corresp!"&CHAR(MID($AG46,7,1)+3+64)&":"&CHAR(MID($AG46,7,1)+3+64)),MATCH(H$5,Corresp!$A:$A,0)),Cycles!$1:$1,0)+WEEKDAY(H$5)-1))=0,"",INDIRECT("CYCLES!"&ADDRESS(MATCH($A46,Cycles!$B:$B,0),MATCH("semaine"&INDEX(INDIRECT("Corresp!"&CHAR(MID($AG46,7,1)+3+64)&":"&CHAR(MID($AG46,7,1)+3+64)),MATCH(H$5,Corresp!$A:$A,0)),Cycles!$1:$1,0)+WEEKDAY(H$5)-1)))) -> #N/A | I46: =IF(I$5="","",IF(INDIRECT("CYCLES!"&ADDRESS(MATCH($A46,Cycles!$B:$B,0),MATCH("semaine"&INDEX(INDIRECT("Corresp!"&CHAR(MID($AG46,7,1)+3+64)&":"&CHAR(MID($AG46,7,1)+3+64)),MATCH(I$5,Corresp!$A:$A,0)),Cycles!$1:$1,0)+WEEKDAY(I$5)-1))=0,"",INDIRECT("CYCLES!"&ADDRESS(MATCH($A46,Cycles!$B:$B,0),MATCH("semaine"&INDEX(INDIRECT("Corresp!"&CHAR(MID($AG46,7,1)+3+64)&":"&CHAR(MID($AG46,7,1)+3+64)),MATCH(I$5,Corresp!$A:$A,0)),Cycles!$1:$1,0)+WEEKDAY(I$5)-1)))) -> #N/A | ... AF46: =IF(AF$5="","",IF(INDIRECT("CYCLES!"&ADDRESS(MATCH($A46,Cycles!$B:$B,0),MATCH("semaine"&INDEX(INDIRECT("Corresp!"&CHAR(MID($AG46,7,1)+3+64)&":"&CHAR(MID($AG46,7,1)+3+64)),MATCH(AF$5,Corresp!$A:$A,0)),Cycles!$1:$1,0)+WEEKDAY(AF$5)-1))=0,"",INDIRECT("CYCLES!"&ADDRESS(MATCH($A46,Cycles!$B:$B,0),MATCH("semaine"&INDEX(INDIRECT("Corresp!"&CHAR(MID($AG46,7,1)+3+64)&":"&CHAR(MID($AG46,7,1)+3+64)),MATCH(AF$5,Corresp!$A:$A,0)),Cycles!$1:$1,0)+WEEKDAY(AF$5)-1)))) | AG46: Cycle 1 - 7
A49: ASD NUIT
