Workbook
Name Assignations: OFFSET(Validation!$D$2,0,0,COUNTA(Validation!$D:$D)-1,1)
Name Cycles: OFFSET(Validation!$A$2,0,0,COUNTA(Validation!$A:$A)-1,1)
Name Personnel: OFFSET(Validation!$B$2,0,0,COUNTA(Validation!$B:$B)-1,1)
Name Services: OFFSET(Validation!$C$2,0,0,COUNTA(Validation!$C:$C)-1,1)

Sheet Affectations
A1: Assignations - Services | B1: Médecine + Chimio | C1: DVO | D1: SSR | E1: Sommeil + SAS | F1: ORTHOPEDIE | G1: PEDIATRIE | H1: AMBULATOIRE | I1: Chimio | J1: SAS
A2: IDE JOUR | B2: GARIN | C2: LEREBOURG | D2: CHAZEAU | E2: CASANOVAS | F2: GOUX | G2: BONAMY | H2: AUBERTIN | I2: LASSALE-BAREILLE
B3: TALON | C3: BELKADI | D3: HAFFAF | E3: MARCHAL | F3: CANTELAUBE | G3: WACK | H3: DA SILVA | I3: GABRIEL
C4: REMPLACANT | D4: LANGLOIS | H4: BINOT
C5: RENFORT | D5: BARNETCHE | H5: CLOUTE
A6: IDE NUIT | B6: LANDROZ | C6: RENAUDET | D6: GRABOT | F6: BESSE | G6: MULLER
B7: VANIANBOURG | C7: IMBERT | D7: DIALLO | F7: BERTHELEMY
C8: FREYCHET | D8: PASCAL
C9: REMPLACANT | D9: REMPLACANT
A10: ASD JOUR | B10: DE OLIVEIRA | C10: CAVENA | D10: PLANTEY | E10: ZUMETA | F10: REY | G10: JOUBERT
B11: QAOUSS | C11: GIRAUDEAU | D11: GALLAIS | E11: ROUQUAT | F11: VIDEAU
C12: PASCAL | D12: CAZEAU
C13: REMPLACANT | D13: BOULOGNE
C14: RENFORT | D14: BOUNECHAR
A15: ASD NUIT | B15: FAUCHERIE | C15: CORDEIRO | D15: HAINAUT | E15: MASSIAS | F15: CHAYRON | G15: DELFORNO
B16: ROSSI | C16: SUPERVILLE | D16: ALCAMO | E16: RODRIGUER | F16: JESUS
C17: ERTLE | D17: ERTLE
C18: REMPLACANT
C19: RENFORT
A21: POSTE VACANT IDE JOUR | B21: BARNETCHE | C21: DECORBIN | D21: BARNETCHE | F21: DECORBIN | G21: DECORBIN
A22: POSTE VACANT ASD JOUR | C22: PASCAL | D22: PASCAL | F22: PASCAL
A23: POSTE VACANT IDE NUIT | B23: FREYCHET | C23: FREYCHET | D23: FREYCHET | F23: FREYCHET | G23: FREYCHET
A24: POSTE VACANT ASD NUIT | C24: ERTLE | D24: ERTLE | F24: ERTLE

Sheet Trame
A1: Date : | B1: =DATE($C$1,$D$1,1) -> 42156 | C1: 2015 | D1: 6 | F1: Il suffit de modifier l'Année dans la Cellule C1 … et le mois en D1 …pour que le Calendrier du Mois s'ajuste …
A2: Service : | B2: DVO | F2: Il suffit de choisir le Service en B2 …
A4: =CONCATENATE("Service"," ",B2," ",TEXT(B1,"mmmm"), " ",$C$1) -> Service DVO June 2015 | AG4: Cycles
A5: Date | B5: =$B$1 -> 42156 | C5: =B5+1 -> 42157 | D5: =C5+1 -> 42158 | E5: =D5+1 -> 42159 | F5: =E5+1 -> 42160 | G5: =F5+1 -> 42161 | H5: =G5+1 -> 42162 | I5: =H5+1 -> 42163 | J5: =I5+1 -> 42164 | ... AC5: =AB5+1 -> 42183 | AD5: =IF(AC5<>"",IF(MONTH(AC5)=MONTH(AC5+1),AC5+1,""),"") -> 42184 | AE5: =IF(AD5<>"",IF(MONTH(AD5)=MONTH(AD5+1),AD5+1,""),"") -> 42185 | AF5: =IF(AE5<>"",IF(MONTH(AE5)=MONTH(AE5+1),AE5+1,""),"")
B6: =B5 -> 42156 | C6: =B6+1 -> 42157 | D6: =C6+1 -> 42158 | E6: =D6+1 -> 42159 | F6: =E6+1 -> 42160 | G6: =F6+1 -> 42161 | H6: =G6+1 -> 42162 | I6: =H6+1 -> 42163 | J6: =I6+1 -> 42164 | ... AB6: =AA6+1 -> 42182 | AC6: =IF(AB6+1<=DATE($C$1,$D$1+1,0),AB6+1,"") -> 42183 | AD6: =IF(AC6+1<=DATE($C$1,$D$1+1,0),AC6+1,"") -> 42184 | AE6: =IF(AD6+1<=DATE($C$1,$D$1+1,0),AD6+1,"") -> 42185 | AF6: =IF(AE6+1<=DATE($C$1,$D$1+1,0),AE6+1,"")
A7: IDE JOUR
A8: =INDIRECT("Affectations!"&CHAR(64+MATCH($B$2,Affectations!$1:$1,0))&MATCH($A$7,Affectations!$A:$A,0)+INT(ROW()-8)/3) -> LEREBOURG | B8: =IF(B$5="","",IF(INDIRECT("CYCLES!"&ADDRESS(MATCH($A8,Cycles!$B:$B,0),MATCH("semaine"&INDEX(INDIRECT("Corresp!"&CHAR(MID($AG8,7,1)+3+64)&":"&CHAR(MID($AG8,7,1)+3+64)),MATCH(B$5,Corresp!$A:$A,0)),Cycles!$1:$1,0)+WEEKDAY(B$5)-1))=0,"",INDIRECT("CYCLES!"&ADDRESS(MATCH($A8,Cycles!$B:$B,0),MATCH("semaine"&INDEX(INDIRECT("Corresp!"&CHAR(MID($AG8,7,1)+3+64)&":"&CHAR(MID($AG8,7,1)+3+64)),MATCH(B$5,Corresp!$A:$A,0)),Cycles!$1:$1,0)+WEEKDAY(B$5)-1)))) -> sem2 | C8: =IF(C$5="","",IF(INDIRECT("CYCLES!"&ADDRESS(MATCH($A8,Cycles!$B:$B,0),MATCH("semaine"&INDEX(INDIRECT("Corresp!"&CHAR(MID($AG8,7,1)+3+64)&":"&CHAR(MID($AG8,7,1)+3+64)),MATCH(C$5,Corresp!$A:$A,0)),Cycles!$1:$1,0)+WEEKDAY(C$5)-1))=0,"",INDIRECT("CYCLES!"&ADDRESS(MATCH($A8,Cycles!$B:$B,0),MATCH("semaine"&INDEX(INDIRECT("Corresp!"&CHAR(MID($AG8,7,1)+3+64)&":"&CHAR(MID($AG8,7,1)+3+64)),MATCH(C$5,Corresp!$A:$A,0)),Cycles!$1:$1,0)+WEEKDAY(C$5)-1)))) | D8: =IF(D$5="","",IF(INDIRECT("CYCLES!"&ADDRESS(MATCH($A8,Cycles!$B:$B,0),MATCH("semaine"&INDEX(INDIRECT("Corresp!"&CHAR(MID($AG8,7,1)+3+64)&":"&CHAR(MID($AG8,7,1)+3+64)),MATCH(D$5,Corresp!$A:$A,0)),Cycles!$1:$1,0)+WEEKDAY(D$5)-1))=0,"",INDIRECT("CYCLES!"&ADDRESS(MATCH($A8,Cycles!$B:$B,0),MATCH("semaine"&INDEX(INDIRECT("Corresp!"&CHAR(MID($AG8,7,1)+3+64)&":"&CHAR(MID($AG8,7,1)+3+64)),MATCH(D$5,Corresp!$A:$A,0)),Cycles!$1:$1,0)+WEEKDAY(D$5)-1)))) -> 7H-19H15 | E8: =IF(E$5="","",IF(INDIRECT("CYCLES!"&ADDRESS(MATCH($A8,Cycles!$B:$B,0),MATCH("semaine"&INDEX(INDIRECT("Corresp!"&CHAR(MID($AG8,7,1)+3+64)&":"&CHAR(MID($AG8,7,1)+3+64)),MATCH(E$5,Corresp!$A:$A,0)),Cycles!$1:$1,0)+WEEKDAY(E$5)-1))=0,"",INDIRECT("CYCLES!"&ADDRESS(MATCH($A8,Cycles!$B:$B,0),MATCH("semaine"&INDEX(INDIRECT("Corresp!"&CHAR(MID($AG8,7,1)+3+64)&":"&CHAR(MID($AG8,7,1)+3+64)),MATCH(E$5,Corresp!$A:$A,0)),Cycles!$1:$1,0)+WEEKDAY(E$5)-1)))) -> 7H-19H15 | F8: =IF(F$5="","",IF(INDIRECT("CYCLES!"&ADDRESS(MATCH($A8,Cycles!$B:$B,0),MATCH("semaine"&INDEX(INDIRECT("Corresp!"&CHAR(MID($AG8,7,1)+3+64)&":"&CHAR(MID($AG8,7,1)+3+64)),MATCH(F$5,Corresp!$A:$A,0)),Cycles!$1:$1,0)+WEEKDAY(F$5)-1))=0,"",INDIRECT("CYCLES!"&ADDRESS(MATCH($A8,Cycles!$B:$B,0),MATCH("semaine"&INDEX(INDIRECT("Corresp!"&CHAR(MID($AG8,7,1)+3+64)&":"&CHAR(MID($AG8,7,1)+3+64)),MATCH(F$5,Corresp!$A:$A,0)),Cycles!$1:$1,0)+WEEKDAY(F$5)-1)))) | G8: =IF(G$5="","",IF(INDIRECT("CYCLES!"&ADDRESS(MATCH($A8,Cycles!$B:$B,0),MATCH("semaine"&INDEX(INDIRECT("Corresp!"&CHAR(MID($AG8,7,1)+3+64)&":"&CHAR(MID($AG8,7,1)+3+64)),MATCH(G$5,Corresp!$A:$A,0)),Cycles!$1:$1,0)+WEEKDAY(G$5)-1))=0,"",INDIRECT("CYCLES!"&ADDRESS(MATCH($A8,Cycles!$B:$B,0),MATCH("semaine"&INDEX(INDIRECT("Corresp!"&CHAR(MID($AG8,7,1)+3+64)&":"&CHAR(MID($AG8,7,1)+3+64)),MATCH(G$5,Corresp!$A:$A,0)),Cycles!$1:$1,0)+WEEKDAY(G$5)-1)))) | H8: =IF(H$5="","",IF(INDIRECT("CYCLES!"&ADDRESS(MATCH($A8,Cycles!$B:$B,0),MATCH("semaine"&INDEX(INDIRECT("Corresp!"&CHAR(MID($AG8,7,1)+3+64)&":"&CHAR(MID($AG8,7,1)+3+64)),MATCH(H$5,Corresp!$A:$A,0)),Cycles!$1:$1,0)+WEEKDAY(H$5)-1))=0,"",INDIRECT("CYCLES!"&ADDRESS(MATCH($A8,Cycles!$B:$B,0),MATCH("semaine"&INDEX(INDIRECT("Corresp!"&CHAR(MID($AG8,7,1)+3+64)&":"&CHAR(MID($AG8,7,1)+3+64)),MATCH(H$5,Corresp!$A:$A,0)),Cycles!$1:$1,0)+WEEKDAY(H$5)-1)))) -> sem3 | I8: =IF(I$5="","",IF(INDIRECT("CYCLES!"&ADDRESS(MATCH($A8,Cycles!$B:$B,0),MATCH("semaine"&INDEX(INDIRECT("Corresp!"&CHAR(MID($AG8,7,1)+3+64)&":"&CHAR(MID($AG8,7,1)+3+64)),MATCH(I$5,Corresp!$A:$A,0)),Cycles!$1:$1,0)+WEEKDAY(I$5)-1))=0,"",INDIRECT("CYCLES!"&ADDRESS(MATCH($A8,Cycles!$B:$B,0),MATCH("semaine"&INDEX(INDIRECT("Corresp!"&CHAR(MID($AG8,7,1)+3+64)&":"&CHAR(MID($AG8,7,1)+3+64)),MATCH(I$5,Corresp!$A:$A,0)),Cycles!$1:$1,0)+WEEKDAY(I$5)-1)))) -> 7H-19H15 | ... AF8: =IF(AF$5="","",IF(INDIRECT("CYCLES!"&ADDRESS(MATCH($A8,Cycles!$B:$B,0),MATCH("semaine"&INDEX(INDIRECT("Corresp!"&CHAR(MID($AG8,7,1)+3+64)&":"&CHAR(MID($AG8,7,1)+3+64)),MATCH(AF$5,Corresp!$A:$A,0)),Cycles!$1:$1,0)+WEEKDAY(AF$5)-1))=0,"",INDIRECT("CYCLES!"&ADDRESS(MATCH($A8,Cycles!$B:$B,0),MATCH("semaine"&INDEX(INDIRECT("Corresp!"&CHAR(MID($AG8,7,1)+3+64)&":"&CHAR(MID($AG8,7,1)+3+64)),MATCH(AF$5,Corresp!$A:$A,0)),Cycles!$1:$1,0)+WEEKDAY(AF$5)-1)))) | AG8: Cycle 5 - 5
A11: =INDIRECT("Affectations!"&CHAR(64+MATCH($B$2,Affectations!$1:$1,0))&MATCH($A$7,Affectations!$A:$A,0)+INT(ROW()-8)/3) -> BELKADI | B11: =IF(B$5="","",IF(INDIRECT("CYCLES!"&ADDRESS(MATCH($A11,Cycles!$B:$B,0),MATCH("semaine"&INDEX(INDIRECT("Corresp!"&CHAR(MID($AG11,7,1)+3+64)&":"&CHAR(MID($AG11,7,1)+3+64)),MATCH(B$5,Corresp!$A:$A,0)),Cycles!$1:$1,0)+WEEKDAY(B$5)-1))=0,"",INDIRECT("CYCLES!"&ADDRESS(MATCH($A11,Cycles!$B:$B,0),MATCH("semaine"&INDEX(INDIRECT("Corresp!"&CHAR(MID($AG11,7,1)+3+64)&":"&CHAR(MID($AG11,7,1)+3+64)),MATCH(B$5,Corresp!$A:$A,0)),Cycles!$1:$1,0)+WEEKDAY(B$5)-1)))) -> 7H-19H15 | C11: =IF(C$5="","",IF(INDIRECT("CYCLES!"&ADDRESS(MATCH($A11,Cycles!$B:$B,0),MATCH("semaine"&INDEX(INDIRECT("Corresp!"&CHAR(MID($AG11,7,1)+3+64)&":"&CHAR(MID($AG11,7,1)+3+64)),MATCH(C$5,Corresp!$A:$A,0)),Cycles!$1:$1,0)+WEEKDAY(C$5)-1))=0,"",INDIRECT("CYCLES!"&ADDRESS(MATCH($A11,Cycles!$B:$B,0),MATCH("semaine"&INDEX(INDIRECT("Corresp!"&CHAR(MID($AG11,7,1)+3+64)&":"&CHAR(MID($AG11,7,1)+3+64)),MATCH(C$5,Corresp!$A:$A,0)),Cycles!$1:$1,0)+WEEKDAY(C$5)-1)))) -> 7H-19H15 | D11: =IF(D$5="","",IF(INDIRECT("CYCLES!"&ADDRESS(MATCH($A11,Cycles!$B:$B,0),MATCH("semaine"&INDEX(INDIRECT("Corresp!"&CHAR(MID($AG11,7,1)+3+64)&":"&CHAR(MID($AG11,7,1)+3+64)),MATCH(D$5,Corresp!$A:$A,0)),Cycles!$1:$1,0)+WEEKDAY(D$5)-1))=0,"",INDIRECT("CYCLES!"&ADDRESS(MATCH($A11,Cycles!$B:$B,0),MATCH("semaine"&INDEX(INDIRECT("Corresp!"&CHAR(MID($AG11,7,1)+3+64)&":"&CHAR(MID($AG11,7,1)+3+64)),MATCH(D$5,Corresp!$A:$A,0)),Cycles!$1:$1,0)+WEEKDAY(D$5)-1)))) | E11: =IF(E$5="","",IF(INDIRECT("CYCLES!"&ADDRESS(MATCH($A11,Cycles!$B:$B,0),MATCH("semaine"&INDEX(INDIRECT("Corresp!"&CHAR(MID($AG11,7,1)+3+64)&":"&CHAR(MID($AG11,7,1)+3+64)),MATCH(E$5,Corresp!$A:$A,0)),Cycles!$1:$1,0)+WEEKDAY(E$5)-1))=0,"",INDIRECT("CYCLES!"&ADDRESS(MATCH($A11,Cycles!$B:$B,0),MATCH("semaine"&INDEX(INDIRECT("Corresp!"&CHAR(MID($AG11,7,1)+3+64)&":"&CHAR(MID($AG11,7,1)+3+64)),MATCH(E$5,Corresp!$A:$A,0)),Cycles!$1:$1,0)+WEEKDAY(E$5)-1)))) | F11: =IF(F$5="","",IF(INDIRECT("CYCLES!"&ADDRESS(MATCH($A11,Cycles!$B:$B,0),MATCH("semaine"&INDEX(INDIRECT("Corresp!"&CHAR(MID($AG11,7,1)+3+64)&":"&CHAR(MID($AG11,7,1)+3+64)),MATCH(F$5,Corresp!$A:$A,0)),Cycles!$1:$1,0)+WEEKDAY(F$5)-1))=0,"",INDIRECT("CYCLES!"&ADDRESS(MATCH($A11,Cycles!$B:$B,0),MATCH("semaine"&INDEX(INDIRECT("Corresp!"&CHAR(MID($AG11,7,1)+3+64)&":"&CHAR(MID($AG11,7,1)+3+64)),MATCH(F$5,Corresp!$A:$A,0)),Cycles!$1:$1,0)+WEEKDAY(F$5)-1)))) -> 7H-19H15 | G11: =IF(G$5="","",IF(INDIRECT("CYCLES!"&ADDRESS(MATCH($A11,Cycles!$B:$B,0),MATCH("semaine"&INDEX(INDIRECT("Corresp!"&CHAR(MID($AG11,7,1)+3+64)&":"&CHAR(MID($AG11,7,1)+3+64)),MATCH(G$5,Corresp!$A:$A,0)),Cycles!$1:$1,0)+WEEKDAY(G$5)-1))=0,"",INDIRECT("CYCLES!"&ADDRESS(MATCH($A11,Cycles!$B:$B,0),MATCH("semaine"&INDEX(INDIRECT("Corresp!"&CHAR(MID($AG11,7,1)+3+64)&":"&CHAR(MID($AG11,7,1)+3+64)),MATCH(G$5,Corresp!$A:$A,0)),Cycles!$1:$1,0)+WEEKDAY(G$5)-1)))) -> 7H-19H15 | H11: =IF(H$5="","",IF(INDIRECT("CYCLES!"&ADDRESS(MATCH($A11,Cycles!$B:$B,0),MATCH("semaine"&INDEX(INDIRECT("Corresp!"&CHAR(MID($AG11,7,1)+3+64)&":"&CHAR(MID($AG11,7,1)+3+64)),MATCH(H$5,Corresp!$A:$A,0)),Cycles!$1:$1,0)+WEEKDAY(H$5)-1))=0,"",INDIRECT("CYCLES!"&ADDRESS(MATCH($A11,Cycles!$B:$B,0),MATCH("semaine"&INDEX(INDIRECT("Corresp!"&CHAR(MID($AG11,7,1)+3+64)&":"&CHAR(MID($AG11,7,1)+3+64)),MATCH(H$5,Corresp!$A:$A,0)),Cycles!$1:$1,0)+WEEKDAY(H$5)-1)))) -> 7H-19H15 | I11: =IF(I$5="","",IF(INDIRECT("CYCLES!"&ADDRESS(MATCH($A11,Cycles!$B:$B,0),MATCH("semaine"&INDEX(INDIRECT("Corresp!"&CHAR(MID($AG11,7,1)+3+64)&":"&CHAR(MID($AG11,7,1)+3+64)),MATCH(I$5,Corresp!$A:$A,0)),Cycles!$1:$1,0)+WEEKDAY(I$5)-1))=0,"",INDIRECT("CYCLES!"&ADDRESS(MATCH($A11,Cycles!$B:$B,0),MATCH("semaine"&INDEX(INDIRECT("Corresp!"&CHAR(MID($AG11,7,1)+3+64)&":"&CHAR(MID($AG11,7,1)+3+64)),MATCH(I$5,Corresp!$A:$A,0)),Cycles!$1:$1,0)+WEEKDAY(I$5)-1)))) -> sem4 | ... AF11: =IF(AF$5="","",IF(INDIRECT("CYCLES!"&ADDRESS(MATCH($A11,Cycles!$B:$B,0),MATCH("semaine"&INDEX(INDIRECT("Corresp!"&CHAR(MID($AG11,7,1)+3+64)&":"&CHAR(MID($AG11,7,1)+3+64)),MATCH(AF$5,Corresp!$A:$A,0)),Cycles!$1:$1,0)+WEEKDAY(AF$5)-1))=0,"",INDIRECT("CYCLES!"&ADDRESS(MATCH($A11,Cycles!$B:$B,0),MATCH("semaine"&INDEX(INDIRECT("Corresp!"&CHAR(MID($AG11,7,1)+3+64)&":"&CHAR(MID($AG11,7,1)+3+64)),MATCH(AF$5,Corresp!$A:$A,0)),Cycles!$1:$1,0)+WEEKDAY(AF$5)-1)))) | AG11: Cycle 5 - 5
A14: =INDIRECT("Affectations!"&CHAR(64+MATCH($B$2,Affectations!$1:$1,0))&MATCH($A$7,Affectations!$A:$A,0)+INT(ROW()-8)/3) -> REMPLACANT | B14: =IF(B$5="","",IF(INDIRECT("CYCLES!"&ADDRESS(MATCH($A14,Cycles!$B:$B,0),MATCH("semaine"&INDEX(INDIRECT("Corresp!"&CHAR(MID($AG14,7,1)+3+64)&":"&CHAR(MID($AG14,7,1)+3+64)),MATCH(B$5,Corresp!$A:$A,0)),Cycles!$1:$1,0)+WEEKDAY(B$5)-1))=0,"",INDIRECT("CYCLES!"&ADDRESS(MATCH($A14,Cycles!$B:$B,0),MATCH("semaine"&INDEX(INDIRECT("Corresp!"&CHAR(MID($AG14,7,1)+3+64)&":"&CHAR(MID($AG14,7,1)+3+64)),MATCH(B$5,Corresp!$A:$A,0)),Cycles!$1:$1,0)+WEEKDAY(B$5)-1)))) -> #N/A | C14: =IF(C$5="","",IF(INDIRECT("CYCLES!"&ADDRESS(MATCH($A14,Cycles!$B:$B,0),MATCH("semaine"&INDEX(INDIRECT("Corresp!"&CHAR(MID($AG14,7,1)+3+64)&":"&CHAR(MID($AG14,7,1)+3+64)),MATCH(C$5,Corresp!$A:$A,0)),Cycles!$1:$1,0)+WEEKDAY(C$5)-1))=0,"",INDIRECT("CYCLES!"&ADDRESS(MATCH($A14,Cycles!$B:$B,0),MATCH("semaine"&INDEX(INDIRECT("Corresp!"&CHAR(MID($AG14,7,1)+3+64)&":"&CHAR(MID($AG14,7,1)+3+64)),MATCH(C$5,Corresp!$A:$A,0)),Cycles!$1:$1,0)+WEEKDAY(C$5)-1)))) -> #N/A | D14: =IF(D$5="","",IF(INDIRECT("CYCLES!"&ADDRESS(MATCH($A14,Cycles!$B:$B,0),MATCH("semaine"&INDEX(INDIRECT("Corresp!"&CHAR(MID($AG14,7,1)+3+64)&":"&CHAR(MID($AG14,7,1)+3+64)),MATCH(D$5,Corresp!$A:$A,0)),Cycles!$1:$1,0)+WEEKDAY(D$5)-1))=0,"",INDIRECT("CYCLES!"&ADDRESS(MATCH($A14,Cycles!$B:$B,0),MATCH("semaine"&INDEX(INDIRECT("Corresp!"&CHAR(MID($AG14,7,1)+3+64)&":"&CHAR(MID($AG14,7,1)+3+64)),MATCH(D$5,Corresp!$A:$A,0)),Cycles!$1:$1,0)+WEEKDAY(D$5)-1)))) -> #N/A | E14: =IF(E$5="","",IF(INDIRECT("CYCLES!"&ADDRESS(MATCH($A14,Cycles!$B:$B,0),MATCH("semaine"&INDEX(INDIRECT("Corresp!"&CHAR(MID($AG14,7,1)+3+64)&":"&CHAR(MID($AG14,7,1)+3+64)),MATCH(E$5,Corresp!$A:$A,0)),Cycles!$1:$1,0)+WEEKDAY(E$5)-1))=0,"",INDIRECT("CYCLES!"&ADDRESS(MATCH($A14,Cycles!$B:$B,0),MATCH("semaine"&INDEX(INDIRECT("Corresp!"&CHAR(MID($AG14,7,1)+3+64)&":"&CHAR(MID($AG14,7,1)+3+64)),MATCH(E$5,Corresp!$A:$A,0)),Cycles!$1:$1,0)+WEEKDAY(E$5)-1)))) -> #N/A | F14: =IF(F$5="","",IF(INDIRECT("CYCLES!"&ADDRESS(MATCH($A14,Cycles!$B:$B,0),MATCH("semaine"&INDEX(INDIRECT("Corresp!"&CHAR(MID($AG14,7,1)+3+64)&":"&CHAR(MID($AG14,7,1)+3+64)),MATCH(F$5,Corresp!$A:$A,0)),Cycles!$1:$1,0)+WEEKDAY(F$5)-1))=0,"",INDIRECT("CYCLES!"&ADDRESS(MATCH($A14,Cycles!$B:$B,0),MATCH("semaine"&INDEX(INDIRECT("Corresp!"&CHAR(MID($AG14,7,1)+3+64)&":"&CHAR(MID($AG14,7,1)+3+64)),MATCH(F$5,Corresp!$A:$A,0)),Cycles!$1:$1,0)+WEEKDAY(F$5)-1)))) -> #N/A | G14: =IF(G$5="","",IF(INDIRECT("CYCLES!"&ADDRESS(MATCH($A14,Cycles!$B:$B,0),MATCH("semaine"&INDEX(INDIRECT("Corresp!"&CHAR(MID($AG14,7,1)+3+64)&":"&CHAR(MID($AG14,7,1)+3+64)),MATCH(G$5,Corresp!$A:$A,0)),Cycles!$1:$1,0)+WEEKDAY(G$5)-1))=0,"",INDIRECT("CYCLES!"&ADDRESS(MATCH($A14,Cycles!$B:$B,0),MATCH("semaine"&INDEX(INDIRECT("Corresp!"&CHAR(MID($AG14,7,1)+3+64)&":"&CHAR(MID($AG14,7,1)+3+64)),MATCH(G$5,Corresp!$A:$A,0)),Cycles!$1:$1,0)+WEEKDAY(G$5)-1)))) -> #N/A | H14: =IF(H$5="","",IF(INDIRECT("CYCLES!"&ADDRESS(MATCH($A14,Cycles!$B:$B,0),MATCH("semaine"&INDEX(INDIRECT("Corresp!"&CHAR(MID($AG14,7,1)+3+64)&":"&CHAR(MID($AG14,7,1)+3+64)),MATCH(H$5,Corresp!$A:$A,0)),Cycles!$1:$1,0)+WEEKDAY(H$5)-1))=0,"",INDIRECT("CYCLES!"&ADDRESS(MATCH($A14,Cycles!$B:$B,0),MATCH("semaine"&INDEX(INDIRECT("Corresp!"&CHAR(MID($AG14,7,1)+3+64)&":"&CHAR(MID($AG14,7,1)+3+64)),MATCH(H$5,Corresp!$A:$A,0)),Cycles!$1:$1,0)+WEEKDAY(H$5)-1)))) -> #N/A | I14: =IF(I$5="","",IF(INDIRECT("CYCLES!"&ADDRESS(MATCH($A14,Cycles!$B:$B,0),MATCH("semaine"&INDEX(INDIRECT("Corresp!"&CHAR(MID($AG14,7,1)+3+64)&":"&CHAR(MID($AG14,7,1)+3+64)),MATCH(I$5,Corresp!$A:$A,0)),Cycles!$1:$1,0)+WEEKDAY(I$5)-1))=0,"",INDIRECT("CYCLES!"&ADDRESS(MATCH($A14,Cycles!$B:$B,0),MATCH("semaine"&INDEX(INDIRECT("Corresp!"&CHAR(MID($AG14,7,1)+3+64)&":"&CHAR(MID($AG14,7,1)+3+64)),MATCH(I$5,Corresp!$A:$A,0)),Cycles!$1:$1,0)+WEEKDAY(I$5)-1)))) -> #N/A | ... AF14: =IF(AF$5="","",IF(INDIRECT("CYCLES!"&ADDRESS(MATCH($A14,Cycles!$B:$B,0),MATCH("semaine"&INDEX(INDIRECT("Corresp!"&CHAR(MID($AG14,7,1)+3+64)&":"&CHAR(MID($AG14,7,1)+3+64)),MATCH(AF$5,Corresp!$A:$A,0)),Cycles!$1:$1,0)+WEEKDAY(AF$5)-1))=0,"",INDIRECT("CYCLES!"&ADDRESS(MATCH($A14,Cycles!$B:$B,0),MATCH("semaine"&INDEX(INDIRECT("Corresp!"&CHAR(MID($AG14,7,1)+3+64)&":"&CHAR(MID($AG14,7,1)+3+64)),MATCH(AF$5,Corresp!$A:$A,0)),Cycles!$1:$1,0)+WEEKDAY(AF$5)-1)))) | AG14: Cycle 5 - 5
A17: =INDIRECT("Affectations!"&CHAR(64+MATCH($B$2,Affectations!$1:$1,0))&MATCH($A$7,Affectations!$A:$A,0)+INT(ROW()-8)/3) -> RENFORT | B17: =IF(B$5="","",IF(INDIRECT("CYCLES!"&ADDRESS(MATCH($A17,Cycles!$B:$B,0),MATCH("semaine"&INDEX(INDIRECT("Corresp!"&CHAR(MID($AG17,7,1)+3+64)&":"&CHAR(MID($AG17,7,1)+3+64)),MATCH(B$5,Corresp!$A:$A,0)),Cycles!$1:$1,0)+WEEKDAY(B$5)-1))=0,"",INDIRECT("CYCLES!"&ADDRESS(MATCH($A17,Cycles!$B:$B,0),MATCH("semaine"&INDEX(INDIRECT("Corresp!"&CHAR(MID($AG17,7,1)+3+64)&":"&CHAR(MID($AG17,7,1)+3+64)),MATCH(B$5,Corresp!$A:$A,0)),Cycles!$1:$1,0)+WEEKDAY(B$5)-1)))) -> #N/A | C17: =IF(C$5="","",IF(INDIRECT("CYCLES!"&ADDRESS(MATCH($A17,Cycles!$B:$B,0),MATCH("semaine"&INDEX(INDIRECT("Corresp!"&CHAR(MID($AG17,7,1)+3+64)&":"&CHAR(MID($AG17,7,1)+3+64)),MATCH(C$5,Corresp!$A:$A,0)),Cycles!$1:$1,0)+WEEKDAY(C$5)-1))=0,"",INDIRECT("CYCLES!"&ADDRESS(MATCH($A17,Cycles!$B:$B,0),MATCH("semaine"&INDEX(INDIRECT("Corresp!"&CHAR(MID($AG17,7,1)+3+64)&":"&CHAR(MID($AG17,7,1)+3+64)),MATCH(C$5,Corresp!$A:$A,0)),Cycles!$1:$1,0)+WEEKDAY(C$5)-1)))) -> #N/A | D17: =IF(D$5="","",IF(INDIRECT("CYCLES!"&ADDRESS(MATCH($A17,Cycles!$B:$B,0),MATCH("semaine"&INDEX(INDIRECT("Corresp!"&CHAR(MID($AG17,7,1)+3+64)&":"&CHAR(MID($AG17,7,1)+3+64)),MATCH(D$5,Corresp!$A:$A,0)),Cycles!$1:$1,0)+WEEKDAY(D$5)-1))=0,"",INDIRECT("CYCLES!"&ADDRESS(MATCH($A17,Cycles!$B:$B,0),MATCH("semaine"&INDEX(INDIRECT("Corresp!"&CHAR(MID($AG17,7,1)+3+64)&":"&CHAR(MID($AG17,7,1)+3+64)),MATCH(D$5,Corresp!$A:$A,0)),Cycles!$1:$1,0)+WEEKDAY(D$5)-1)))) -> #N/A | E17: =IF(E$5="","",IF(INDIRECT("CYCLES!"&ADDRESS(MATCH($A17,Cycles!$B:$B,0),MATCH("semaine"&INDEX(INDIRECT("Corresp!"&CHAR(MID($AG17,7,1)+3+64)&":"&CHAR(MID($AG17,7,1)+3+64)),MATCH(E$5,Corresp!$A:$A,0)),Cycles!$1:$1,0)+WEEKDAY(E$5)-1))=0,"",INDIRECT("CYCLES!"&ADDRESS(MATCH($A17,Cycles!$B:$B,0),MATCH("semaine"&INDEX(INDIRECT("Corresp!"&CHAR(MID($AG17,7,1)+3+64)&":"&CHAR(MID($AG17,7,1)+3+64)),MATCH(E$5,Corresp!$A:$A,0)),Cycles!$1:$1,0)+WEEKDAY(E$5)-1)))) -> #N/A | F17: =IF(F$5="","",IF(INDIRECT("CYCLES!"&ADDRESS(MATCH($A17,Cycles!$B:$B,0),MATCH("semaine"&INDEX(INDIRECT("Corresp!"&CHAR(MID($AG17,7,1)+3+64)&":"&CHAR(MID($AG17,7,1)+3+64)),MATCH(F$5,Corresp!$A:$A,0)),Cycles!$1:$1,0)+WEEKDAY(F$5)-1))=0,"",INDIRECT("CYCLES!"&ADDRESS(MATCH($A17,Cycles!$B:$B,0),MATCH("semaine"&INDEX(INDIRECT("Corresp!"&CHAR(MID($AG17,7,1)+3+64)&":"&CHAR(MID($AG17,7,1)+3+64)),MATCH(F$5,Corresp!$A:$A,0)),Cycles!$1:$1,0)+WEEKDAY(F$5)-1)))) -> #N/A | G17: =IF(G$5="","",IF(INDIRECT("CYCLES!"&ADDRESS(MATCH($A17,Cycles!$B:$B,0),MATCH("semaine"&INDEX(INDIRECT("Corresp!"&CHAR(MID($AG17,7,1)+3+64)&":"&CHAR(MID($AG17,7,1)+3+64)),MATCH(G$5,Corresp!$A:$A,0)),Cycles!$1:$1,0)+WEEKDAY(G$5)-1))=0,"",INDIRECT("CYCLES!"&ADDRESS(MATCH($A17,Cycles!$B:$B,0),MATCH("semaine"&INDEX(INDIRECT("Corresp!"&CHAR(MID($AG17,7,1)+3+64)&":"&CHAR(MID($AG17,7,1)+3+64)),MATCH(G$5,Corresp!$A:$A,0)),Cycles!$1:$1,0)+WEEKDAY(G$5)-1)))) -> #N/A | H17: =IF(H$5="","",IF(INDIRECT("CYCLES!"&ADDRESS(MATCH($A17,Cycles!$B:$B,0),MATCH("semaine"&INDEX(INDIRECT("Corresp!"&CHAR(MID($AG17,7,1)+3+64)&":"&CHAR(MID($AG17,7,1)+3+64)),MATCH(H$5,Corresp!$A:$A,0)),Cycles!$1:$1,0)+WEEKDAY(H$5)-1))=0,"",INDIRECT("CYCLES!"&ADDRESS(MATCH($A17,Cycles!$B:$B,0),MATCH("semaine"&INDEX(INDIRECT("Corresp!"&CHAR(MID($AG17,7,1)+3+64)&":"&CHAR(MID($AG17,7,1)+3+64)),MATCH(H$5,Corresp!$A:$A,0)),Cycles!$1:$1,0)+WEEKDAY(H$5)-1)))) -> #N/A | I17: =IF(I$5="","",IF(INDIRECT("CYCLES!"&ADDRESS(MATCH($A17,Cycles!$B:$B,0),MATCH("semaine"&INDEX(INDIRECT("Corresp!"&CHAR(MID($AG17,7,1)+3+64)&":"&CHAR(MID($AG17,7,1)+3+64)),MATCH(I$5,Corresp!$A:$A,0)),Cycles!$1:$1,0)+WEEKDAY(I$5)-1))=0,"",INDIRECT("CYCLES!"&ADDRESS(MATCH($A17,Cycles!$B:$B,0),MATCH("semaine"&INDEX(INDIRECT("Corresp!"&CHAR(MID($AG17,7,1)+3+64)&":"&CHAR(MID($AG17,7,1)+3+64)),MATCH(I$5,Corresp!$A:$A,0)),Cycles!$1:$1,0)+WEEKDAY(I$5)-1)))) -> #N/A | ... AF17: =IF(AF$5="","",IF(INDIRECT("CYCLES!"&ADDRESS(MATCH($A17,Cycles!$B:$B,0),MATCH("semaine"&INDEX(INDIRECT("Corresp!"&CHAR(MID($AG17,7,1)+3+64)&":"&CHAR(MID($AG17,7,1)+3+64)),MATCH(AF$5,Corresp!$A:$A,0)),Cycles!$1:$1,0)+WEEKDAY(AF$5)-1))=0,"",INDIRECT("CYCLES!"&ADDRESS(MATCH($A17,Cycles!$B:$B,0),MATCH("semaine"&INDEX(INDIRECT("Corresp!"&CHAR(MID($AG17,7,1)+3+64)&":"&CHAR(MID($AG17,7,1)+3+64)),MATCH(AF$5,Corresp!$A:$A,0)),Cycles!$1:$1,0)+WEEKDAY(AF$5)-1)))) | AG17: Cycle 5 - 5
A20: ASD JOUR
A21: =INDIRECT("Affectations!"&CHAR(64+MATCH($B$2,Affectations!$1:$1,0))&MATCH($A$20,Affectations!$A:$A,0)+INT(ROW()-21)/3) -> CAVENA | B21: =IF(B$5="","",IF(INDIRECT("CYCLES!"&ADDRESS(MATCH($A21,Cycles!$B:$B,0),MATCH("semaine"&INDEX(INDIRECT("Corresp!"&CHAR(MID($AG21,7,1)+3+64)&":"&CHAR(MID($AG21,7,1)+3+64)),MATCH(B$5,Corresp!$A:$A,0)),Cycles!$1:$1,0)+WEEKDAY(B$5)-1))=0,"",INDIRECT("CYCLES!"&ADDRESS(MATCH($A21,Cycles!$B:$B,0),MATCH("semaine"&INDEX(INDIRECT("Corresp!"&CHAR(MID($AG21,7,1)+3+64)&":"&CHAR(MID($AG21,7,1)+3+64)),MATCH(B$5,Corresp!$A:$A,0)),Cycles!$1:$1,0)+WEEKDAY(B$5)-1)))) -> sem4 | C21: =IF(C$5="","",IF(INDIRECT("CYCLES!"&ADDRESS(MATCH($A21,Cycles!$B:$B,0),MATCH("semaine"&INDEX(INDIRECT("Corresp!"&CHAR(MID($AG21,7,1)+3+64)&":"&CHAR(MID($AG21,7,1)+3+64)),MATCH(C$5,Corresp!$A:$A,0)),Cycles!$1:$1,0)+WEEKDAY(C$5)-1))=0,"",INDIRECT("CYCLES!"&ADDRESS(MATCH($A21,Cycles!$B:$B,0),MATCH("semaine"&INDEX(INDIRECT("Corresp!"&CHAR(MID($AG21,7,1)+3+64)&":"&CHAR(MID($AG21,7,1)+3+64)),MATCH(C$5,Corresp!$A:$A,0)),Cycles!$1:$1,0)+WEEKDAY(C$5)-1)))) | D21: =IF(D$5="","",IF(INDIRECT("CYCLES!"&ADDRESS(MATCH($A21,Cycles!$B:$B,0),MATCH("semaine"&INDEX(INDIRECT("Corresp!"&CHAR(MID($AG21,7,1)+3+64)&":"&CHAR(MID($AG21,7,1)+3+64)),MATCH(D$5,Corresp!$A:$A,0)),Cycles!$1:$1,0)+WEEKDAY(D$5)-1))=0,"",INDIRECT("CYCLES!"&ADDRESS(MATCH($A21,Cycles!$B:$B,0),MATCH("semaine"&INDEX(INDIRECT("Corresp!"&CHAR(MID($AG21,7,1)+3+64)&":"&CHAR(MID($AG21,7,1)+3+64)),MATCH(D$5,Corresp!$A:$A,0)),Cycles!$1:$1,0)+WEEKDAY(D$5)-1)))) -> 7H-19H15 | E21: =IF(E$5="","",IF(INDIRECT("CYCLES!"&ADDRESS(MATCH($A21,Cycles!$B:$B,0),MATCH("semaine"&INDEX(INDIRECT("Corresp!"&CHAR(MID($AG21,7,1)+3+64)&":"&CHAR(MID($AG21,7,1)+3+64)),MATCH(E$5,Corresp!$A:$A,0)),Cycles!$1:$1,0)+WEEKDAY(E$5)-1))=0,"",INDIRECT("CYCLES!"&ADDRESS(MATCH($A21,Cycles!$B:$B,0),MATCH("semaine"&INDEX(INDIRECT("Corresp!"&CHAR(MID($AG21,7,1)+3+64)&":"&CHAR(MID($AG21,7,1)+3+64)),MATCH(E$5,Corresp!$A:$A,0)),Cycles!$1:$1,0)+WEEKDAY(E$5)-1)))) -> 7H-19H15 | F21: =IF(F$5="","",IF(INDIRECT("CYCLES!"&ADDRESS(MATCH($A21,Cycles!$B:$B,0),MATCH("semaine"&INDEX(INDIRECT("Corresp!"&CHAR(MID($AG21,7,1)+3+64)&":"&CHAR(MID($AG21,7,1)+3+64)),MATCH(F$5,Corresp!$A:$A,0)),Cycles!$1:$1,0)+WEEKDAY(F$5)-1))=0,"",INDIRECT("CYCLES!"&ADDRESS(MATCH($A21,Cycles!$B:$B,0),MATCH("semaine"&INDEX(INDIRECT("Corresp!"&CHAR(MID($AG21,7,1)+3+64)&":"&CHAR(MID($AG21,7,1)+3+64)),MATCH(F$5,Corresp!$A:$A,0)),Cycles!$1:$1,0)+WEEKDAY(F$5)-1)))) | G21: =IF(G$5="","",IF(INDIRECT("CYCLES!"&ADDRESS(MATCH($A21,Cycles!$B:$B,0),MATCH("semaine"&INDEX(INDIRECT("Corresp!"&CHAR(MID($AG21,7,1)+3+64)&":"&CHAR(MID($AG21,7,1)+3+64)),MATCH(G$5,Corresp!$A:$A,0)),Cycles!$1:$1,0)+WEEKDAY(G$5)-1))=0,"",INDIRECT("CYCLES!"&ADDRESS(MATCH($A21,Cycles!$B:$B,0),MATCH("semaine"&INDEX(INDIRECT("Corresp!"&CHAR(MID($AG21,7,1)+3+64)&":"&CHAR(MID($AG21,7,1)+3+64)),MATCH(G$5,Corresp!$A:$A,0)),Cycles!$1:$1,0)+WEEKDAY(G$5)-1)))) | H21: =IF(H$5="","",IF(INDIRECT("CYCLES!"&ADDRESS(MATCH($A21,Cycles!$B:$B,0),MATCH("semaine"&INDEX(INDIRECT("Corresp!"&CHAR(MID($AG21,7,1)+3+64)&":"&CHAR(MID($AG21,7,1)+3+64)),MATCH(H$5,Corresp!$A:$A,0)),Cycles!$1:$1,0)+WEEKDAY(H$5)-1))=0,"",INDIRECT("CYCLES!"&ADDRESS(MATCH($A21,Cycles!$B:$B,0),MATCH("semaine"&INDEX(INDIRECT("Corresp!"&CHAR(MID($AG21,7,1)+3+64)&":"&CHAR(MID($AG21,7,1)+3+64)),MATCH(H$5,Corresp!$A:$A,0)),Cycles!$1:$1,0)+WEEKDAY(H$5)-1)))) -> sem5 | I21: =IF(I$5="","",IF(INDIRECT("CYCLES!"&ADDRESS(MATCH($A21,Cycles!$B:$B,0),MATCH("semaine"&INDEX(INDIRECT("Corresp!"&CHAR(MID($AG21,7,1)+3+64)&":"&CHAR(MID($AG21,7,1)+3+64)),MATCH(I$5,Corresp!$A:$A,0)),Cycles!$1:$1,0)+WEEKDAY(I$5)-1))=0,"",INDIRECT("CYCLES!"&ADDRESS(MATCH($A21,Cycles!$B:$B,0),MATCH("semaine"&INDEX(INDIRECT("Corresp!"&CHAR(MID($AG21,7,1)+3+64)&":"&CHAR(MID($AG21,7,1)+3+64)),MATCH(I$5,Corresp!$A:$A,0)),Cycles!$1:$1,0)+WEEKDAY(I$5)-1)))) -> PEDIA | ... AF21: =IF(AF$5="","",IF(INDIRECT("CYCLES!"&ADDRESS(MATCH($A21,Cycles!$B:$B,0),MATCH("semaine"&INDEX(INDIRECT("Corresp!"&CHAR(MID($AG21,7,1)+3+64)&":"&CHAR(MID($AG21,7,1)+3+64)),MATCH(AF$5,Corresp!$A:$A,0)),Cycles!$1:$1,0)+WEEKDAY(AF$5)-1))=0,"",INDIRECT("CYCLES!"&ADDRESS(MATCH($A21,Cycles!$B:$B,0),MATCH("semaine"&INDEX(INDIRECT("Corresp!"&CHAR(MID($AG21,7,1)+3+64)&":"&CHAR(MID($AG21,7,1)+3+64)),MATCH(AF$5,Corresp!$A:$A,0)),Cycles!$1:$1,0)+WEEKDAY(AF$5)-1)))) | AG21: Cycle 5 - 5
A24: =INDIRECT("Affectations!"&CHAR(64+MATCH($B$2,Affectations!$1:$1,0))&MATCH($A$20,Affectations!$A:$A,0)+INT(ROW()-21)/3) -> GIRAUDEAU | B24: =IF(B$5="","",IF(INDIRECT("CYCLES!"&ADDRESS(MATCH($A24,Cycles!$B:$B,0),MATCH("semaine"&INDEX(INDIRECT("Corresp!"&CHAR(MID($AG24,7,1)+3+64)&":"&CHAR(MID($AG24,7,1)+3+64)),MATCH(B$5,Corresp!$A:$A,0)),Cycles!$1:$1,0)+WEEKDAY(B$5)-1))=0,"",INDIRECT("CYCLES!"&ADDRESS(MATCH($A24,Cycles!$B:$B,0),MATCH("semaine"&INDEX(INDIRECT("Corresp!"&CHAR(MID($AG24,7,1)+3+64)&":"&CHAR(MID($AG24,7,1)+3+64)),MATCH(B$5,Corresp!$A:$A,0)),Cycles!$1:$1,0)+WEEKDAY(B$5)-1)))) -> PEDIA | C24: =IF(C$5="","",IF(INDIRECT("CYCLES!"&ADDRESS(MATCH($A24,Cycles!$B:$B,0),MATCH("semaine"&INDEX(INDIRECT("Corresp!"&CHAR(MID($AG24,7,1)+3+64)&":"&CHAR(MID($AG24,7,1)+3+64)),MATCH(C$5,Corresp!$A:$A,0)),Cycles!$1:$1,0)+WEEKDAY(C$5)-1))=0,"",INDIRECT("CYCLES!"&ADDRESS(MATCH($A24,Cycles!$B:$B,0),MATCH("semaine"&INDEX(INDIRECT("Corresp!"&CHAR(MID($AG24,7,1)+3+64)&":"&CHAR(MID($AG24,7,1)+3+64)),MATCH(C$5,Corresp!$A:$A,0)),Cycles!$1:$1,0)+WEEKDAY(C$5)-1)))) | D24: =IF(D$5="","",IF(INDIRECT("CYCLES!"&ADDRESS(MATCH($A24,Cycles!$B:$B,0),MATCH("semaine"&INDEX(INDIRECT("Corresp!"&CHAR(MID($AG24,7,1)+3+64)&":"&CHAR(MID($AG24,7,1)+3+64)),MATCH(D$5,Corresp!$A:$A,0)),Cycles!$1:$1,0)+WEEKDAY(D$5)-1))=0,"",INDIRECT("CYCLES!"&ADDRESS(MATCH($A24,Cycles!$B:$B,0),MATCH("semaine"&INDEX(INDIRECT("Corresp!"&CHAR(MID($AG24,7,1)+3+64)&":"&CHAR(MID($AG24,7,1)+3+64)),MATCH(D$5,Corresp!$A:$A,0)),Cycles!$1:$1,0)+WEEKDAY(D$5)-1)))) | E24: =IF(E$5="","",IF(INDIRECT("CYCLES!"&ADDRESS(MATCH($A24,Cycles!$B:$B,0),MATCH("semaine"&INDEX(INDIRECT("Corresp!"&CHAR(MID($AG24,7,1)+3+64)&":"&CHAR(MID($AG24,7,1)+3+64)),MATCH(E$5,Corresp!$A:$A,0)),Cycles!$1:$1,0)+WEEKDAY(E$5)-1))=0,"",INDIRECT("CYCLES!"&ADDRESS(MATCH($A24,Cycles!$B:$B,0),MATCH("semaine"&INDEX(INDIRECT("Corresp!"&CHAR(MID($AG24,7,1)+3+64)&":"&CHAR(MID($AG24,7,1)+3+64)),MATCH(E$5,Corresp!$A:$A,0)),Cycles!$1:$1,0)+WEEKDAY(E$5)-1)))) | F24: =IF(F$5="","",IF(INDIRECT("CYCLES!"&ADDRESS(MATCH($A24,Cycles!$B:$B,0),MATCH("semaine"&INDEX(INDIRECT("Corresp!"&CHAR(MID($AG24,7,1)+3+64)&":"&CHAR(MID($AG24,7,1)+3+64)),MATCH(F$5,Corresp!$A:$A,0)),Cycles!$1:$1,0)+WEEKDAY(F$5)-1))=0,"",INDIRECT("CYCLES!"&ADDRESS(MATCH($A24,Cycles!$B:$B,0),MATCH("semaine"&INDEX(INDIRECT("Corresp!"&CHAR(MID($AG24,7,1)+3+64)&":"&CHAR(MID($AG24,7,1)+3+64)),MATCH(F$5,Corresp!$A:$A,0)),Cycles!$1:$1,0)+WEEKDAY(F$5)-1)))) | G24: =IF(G$5="","",IF(INDIRECT("CYCLES!"&ADDRESS(MATCH($A24,Cycles!$B:$B,0),MATCH("semaine"&INDEX(INDIRECT("Corresp!"&CHAR(MID($AG24,7,1)+3+64)&":"&CHAR(MID($AG24,7,1)+3+64)),MATCH(G$5,Corresp!$A:$A,0)),Cycles!$1:$1,0)+WEEKDAY(G$5)-1))=0,"",INDIRECT("CYCLES!"&ADDRESS(MATCH($A24,Cycles!$B:$B,0),MATCH("semaine"&INDEX(INDIRECT("Corresp!"&CHAR(MID($AG24,7,1)+3+64)&":"&CHAR(MID($AG24,7,1)+3+64)),MATCH(G$5,Corresp!$A:$A,0)),Cycles!$1:$1,0)+WEEKDAY(G$5)-1)))) | H24: =IF(H$5="","",IF(INDIRECT("CYCLES!"&ADDRESS(MATCH($A24,Cycles!$B:$B,0),MATCH("semaine"&INDEX(INDIRECT("Corresp!"&CHAR(MID($AG24,7,1)+3+64)&":"&CHAR(MID($AG24,7,1)+3+64)),MATCH(H$5,Corresp!$A:$A,0)),Cycles!$1:$1,0)+WEEKDAY(H$5)-1))=0,"",INDIRECT("CYCLES!"&ADDRESS(MATCH($A24,Cycles!$B:$B,0),MATCH("semaine"&INDEX(INDIRECT("Corresp!"&CHAR(MID($AG24,7,1)+3+64)&":"&CHAR(MID($AG24,7,1)+3+64)),MATCH(H$5,Corresp!$A:$A,0)),Cycles!$1:$1,0)+WEEKDAY(H$5)-1)))) -> sem1 | I24: =IF(I$5="","",IF(INDIRECT("CYCLES!"&ADDRESS(MATCH($A24,Cycles!$B:$B,0),MATCH("semaine"&INDEX(INDIRECT("Corresp!"&CHAR(MID($AG24,7,1)+3+64)&":"&CHAR(MID($AG24,7,1)+3+64)),MATCH(I$5,Corresp!$A:$A,0)),Cycles!$1:$1,0)+WEEKDAY(I$5)-1))=0,"",INDIRECT("CYCLES!"&ADDRESS(MATCH($A24,Cycles!$B:$B,0),MATCH("semaine"&INDEX(INDIRECT("Corresp!"&CHAR(MID($AG24,7,1)+3+64)&":"&CHAR(MID($AG24,7,1)+3+64)),MATCH(I$5,Corresp!$A:$A,0)),Cycles!$1:$1,0)+WEEKDAY(I$5)-1)))) -> 7H-19H15 | ... AF24: =IF(AF$5="","",IF(INDIRECT("CYCLES!"&ADDRESS(MATCH($A24,Cycles!$B:$B,0),MATCH("semaine"&INDEX(INDIRECT("Corresp!"&CHAR(MID($AG24,7,1)+3+64)&":"&CHAR(MID($AG24,7,1)+3+64)),MATCH(AF$5,Corresp!$A:$A,0)),Cycles!$1:$1,0)+WEEKDAY(AF$5)-1))=0,"",INDIRECT("CYCLES!"&ADDRESS(MATCH($A24,Cycles!$B:$B,0),MATCH("semaine"&INDEX(INDIRECT("Corresp!"&CHAR(MID($AG24,7,1)+3+64)&":"&CHAR(MID($AG24,7,1)+3+64)),MATCH(AF$5,Corresp!$A:$A,0)),Cycles!$1:$1,0)+WEEKDAY(AF$5)-1)))) | AG24: Cycle 5 - 5
A27: =INDIRECT("Affectations!"&CHAR(64+MATCH($B$2,Affectations!$1:$1,0))&MATCH($A$20,Affectations!$A:$A,0)+INT(ROW()-21)/3) -> PASCAL | B27: =IF(B$5="","",IF(INDIRECT("CYCLES!"&ADDRESS(MATCH($A27,Cycles!$B:$B,0),MATCH("semaine"&INDEX(INDIRECT("Corresp!"&CHAR(MID($AG27,7,1)+3+64)&":"&CHAR(MID($AG27,7,1)+3+64)),MATCH(B$5,Corresp!$A:$A,0)),Cycles!$1:$1,0)+WEEKDAY(B$5)-1))=0,"",INDIRECT("CYCLES!"&ADDRESS(MATCH($A27,Cycles!$B:$B,0),MATCH("semaine"&INDEX(INDIRECT("Corresp!"&CHAR(MID($AG27,7,1)+3+64)&":"&CHAR(MID($AG27,7,1)+3+64)),MATCH(B$5,Corresp!$A:$A,0)),Cycles!$1:$1,0)+WEEKDAY(B$5)-1)))) -> ORTHO | C27: =IF(C$5="","",IF(INDIRECT("CYCLES!"&ADDRESS(MATCH($A27,Cycles!$B:$B,0),MATCH("semaine"&INDEX(INDIRECT("Corresp!"&CHAR(MID($AG27,7,1)+3+64)&":"&CHAR(MID($AG27,7,1)+3+64)),MATCH(C$5,Corresp!$A:$A,0)),Cycles!$1:$1,0)+WEEKDAY(C$5)-1))=0,"",INDIRECT("CYCLES!"&ADDRESS(MATCH($A27,Cycles!$B:$B,0),MATCH("semaine"&INDEX(INDIRECT("Corresp!"&CHAR(MID($AG27,7,1)+3+64)&":"&CHAR(MID($AG27,7,1)+3+64)),MATCH(C$5,Corresp!$A:$A,0)),Cycles!$1:$1,0)+WEEKDAY(C$5)-1)))) | D27: =IF(D$5="","",IF(INDIRECT("CYCLES!"&ADDRESS(MATCH($A27,Cycles!$B:$B,0),MATCH("semaine"&INDEX(INDIRECT("Corresp!"&CHAR(MID($AG27,7,1)+3+64)&":"&CHAR(MID($AG27,7,1)+3+64)),MATCH(D$5,Corresp!$A:$A,0)),Cycles!$1:$1,0)+WEEKDAY(D$5)-1))=0,"",INDIRECT("CYCLES!"&ADDRESS(MATCH($A27,Cycles!$B:$B,0),MATCH("semaine"&INDEX(INDIRECT("Corresp!"&CHAR(MID($AG27,7,1)+3+64)&":"&CHAR(MID($AG27,7,1)+3+64)),MATCH(D$5,Corresp!$A:$A,0)),Cycles!$1:$1,0)+WEEKDAY(D$5)-1)))) -> sem4 | E27: =IF(E$5="","",IF(INDIRECT("CYCLES!"&ADDRESS(MATCH($A27,Cycles!$B:$B,0),MATCH("semaine"&INDEX(INDIRECT("Corresp!"&CHAR(MID($AG27,7,1)+3+64)&":"&CHAR(MID($AG27,7,1)+3+64)),MATCH(E$5,Corresp!$A:$A,0)),Cycles!$1:$1,0)+WEEKDAY(E$5)-1))=0,"",INDIRECT("CYCLES!"&ADDRESS(MATCH($A27,Cycles!$B:$B,0),MATCH("semaine"&INDEX(INDIRECT("Corresp!"&CHAR(MID($AG27,7,1)+3+64)&":"&CHAR(MID($AG27,7,1)+3+64)),MATCH(E$5,Corresp!$A:$A,0)),Cycles!$1:$1,0)+WEEKDAY(E$5)-1)))) -> ORTHO | F27: =IF(F$5="","",IF(INDIRECT("CYCLES!"&ADDRESS(MATCH($A27,Cycles!$B:$B,0),MATCH("semaine"&INDEX(INDIRECT("Corresp!"&CHAR(MID($AG27,7,1)+3+64)&":"&CHAR(MID($AG27,7,1)+3+64)),MATCH(F$5,Corresp!$A:$A,0)),Cycles!$1:$1,0)+WEEKDAY(F$5)-1))=0,"",INDIRECT("CYCLES!"&ADDRESS(MATCH($A27,Cycles!$B:$B,0),MATCH("semaine"&INDEX(INDIRECT("Corresp!"&CHAR(MID($AG27,7,1)+3+64)&":"&CHAR(MID($AG27,7,1)+3+64)),MATCH(F$5,Corresp!$A:$A,0)),Cycles!$1:$1,0)+WEEKDAY(F$5)-1)))) -> ORTHO | G27: =IF(G$5="","",IF(INDIRECT("CYCLES!"&ADDRESS(MATCH($A27,Cycles!$B:$B,0),MATCH("semaine"&INDEX(INDIRECT("Corresp!"&CHAR(MID($AG27,7,1)+3+64)&":"&CHAR(MID($AG27,7,1)+3+64)),MATCH(G$5,Corresp!$A:$A,0)),Cycles!$1:$1,0)+WEEKDAY(G$5)-1))=0,"",INDIRECT("CYCLES!"&ADDRESS(MATCH($A27,Cycles!$B:$B,0),MATCH("semaine"&INDEX(INDIRECT("Corresp!"&CHAR(MID($AG27,7,1)+3+64)&":"&CHAR(MID($AG27,7,1)+3+64)),MATCH(G$5,Corresp!$A:$A,0)),Cycles!$1:$1,0)+WEEKDAY(G$5)-1)))) | H27: =IF(H$5="","",IF(INDIRECT("CYCLES!"&ADDRESS(MATCH($A27,Cycles!$B:$B,0),MATCH("semaine"&INDEX(INDIRECT("Corresp!"&CHAR(MID($AG27,7,1)+3+64)&":"&CHAR(MID($AG27,7,1)+3+64)),MATCH(H$5,Corresp!$A:$A,0)),Cycles!$1:$1,0)+WEEKDAY(H$5)-1))=0,"",INDIRECT("CYCLES!"&ADDRESS(MATCH($A27,Cycles!$B:$B,0),MATCH("semaine"&INDEX(INDIRECT("Corresp!"&CHAR(MID($AG27,7,1)+3+64)&":"&CHAR(MID($AG27,7,1)+3+64)),MATCH(H$5,Corresp!$A:$A,0)),Cycles!$1:$1,0)+WEEKDAY(H$5)-1)))) -> ORTHO | I27: =IF(I$5="","",IF(INDIRECT("CYCLES!"&ADDRESS(MATCH($A27,Cycles!$B:$B,0),MATCH("semaine"&INDEX(INDIRECT("Corresp!"&CHAR(MID($AG27,7,1)+3+64)&":"&CHAR(MID($AG27,7,1)+3+64)),MATCH(I$5,Corresp!$A:$A,0)),Cycles!$1:$1,0)+WEEKDAY(I$5)-1))=0,"",INDIRECT("CYCLES!"&ADDRESS(MATCH($A27,Cycles!$B:$B,0),MATCH("semaine"&INDEX(INDIRECT("Corresp!"&CHAR(MID($AG27,7,1)+3+64)&":"&CHAR(MID($AG27,7,1)+3+64)),MATCH(I$5,Corresp!$A:$A,0)),Cycles!$1:$1,0)+WEEKDAY(I$5)-1)))) -> ORTHO | ... AF27: =IF(AF$5="","",IF(INDIRECT("CYCLES!"&ADDRESS(MATCH($A27,Cycles!$B:$B,0),MATCH("semaine"&INDEX(INDIRECT("Corresp!"&CHAR(MID($AG27,7,1)+3+64)&":"&CHAR(MID($AG27,7,1)+3+64)),MATCH(AF$5,Corresp!$A:$A,0)),Cycles!$1:$1,0)+WEEKDAY(AF$5)-1))=0,"",INDIRECT("CYCLES!"&ADDRESS(MATCH($A27,Cycles!$B:$B,0),MATCH("semaine"&INDEX(INDIRECT("Corresp!"&CHAR(MID($AG27,7,1)+3+64)&":"&CHAR(MID($AG27,7,1)+3+64)),MATCH(AF$5,Corresp!$A:$A,0)),Cycles!$1:$1,0)+WEEKDAY(AF$5)-1)))) | AG27: Cycle 6 - 1
A30: =INDIRECT("Affectations!"&CHAR(64+MATCH($B$2,Affectations!$1:$1,0))&MATCH($A$20,Affectations!$A:$A,0)+INT(ROW()-21)/3) -> REMPLACANT | B30: =IF(B$5="","",IF(INDIRECT("CYCLES!"&ADDRESS(MATCH($A30,Cycles!$B:$B,0),MATCH("semaine"&INDEX(INDIRECT("Corresp!"&CHAR(MID($AG30,7,1)+3+64)&":"&CHAR(MID($AG30,7,1)+3+64)),MATCH(B$5,Corresp!$A:$A,0)),Cycles!$1:$1,0)+WEEKDAY(B$5)-1))=0,"",INDIRECT("CYCLES!"&ADDRESS(MATCH($A30,Cycles!$B:$B,0),MATCH("semaine"&INDEX(INDIRECT("Corresp!"&CHAR(MID($AG30,7,1)+3+64)&":"&CHAR(MID($AG30,7,1)+3+64)),MATCH(B$5,Corresp!$A:$A,0)),Cycles!$1:$1,0)+WEEKDAY(B$5)-1)))) -> #N/A | C30: =IF(C$5="","",IF(INDIRECT("CYCLES!"&ADDRESS(MATCH($A30,Cycles!$B:$B,0),MATCH("semaine"&INDEX(INDIRECT("Corresp!"&CHAR(MID($AG30,7,1)+3+64)&":"&CHAR(MID($AG30,7,1)+3+64)),MATCH(C$5,Corresp!$A:$A,0)),Cycles!$1:$1,0)+WEEKDAY(C$5)-1))=0,"",INDIRECT("CYCLES!"&ADDRESS(MATCH($A30,Cycles!$B:$B,0),MATCH("semaine"&INDEX(INDIRECT("Corresp!"&CHAR(MID($AG30,7,1)+3+64)&":"&CHAR(MID($AG30,7,1)+3+64)),MATCH(C$5,Corresp!$A:$A,0)),Cycles!$1:$1,0)+WEEKDAY(C$5)-1)))) -> #N/A | D30: =IF(D$5="","",IF(INDIRECT("CYCLES!"&ADDRESS(MATCH($A30,Cycles!$B:$B,0),MATCH("semaine"&INDEX(INDIRECT("Corresp!"&CHAR(MID($AG30,7,1)+3+64)&":"&CHAR(MID($AG30,7,1)+3+64)),MATCH(D$5,Corresp!$A:$A,0)),Cycles!$1:$1,0)+WEEKDAY(D$5)-1))=0,"",INDIRECT("CYCLES!"&ADDRESS(MATCH($A30,Cycles!$B:$B,0),MATCH("semaine"&INDEX(INDIRECT("Corresp!"&CHAR(MID($AG30,7,1)+3+64)&":"&CHAR(MID($AG30,7,1)+3+64)),MATCH(D$5,Corresp!$A:$A,0)),Cycles!$1:$1,0)+WEEKDAY(D$5)-1)))) -> #N/A | E30: =IF(E$5="","",IF(INDIRECT("CYCLES!"&ADDRESS(MATCH($A30,Cycles!$B:$B,0),MATCH("semaine"&INDEX(INDIRECT("Corresp!"&CHAR(MID($AG30,7,1)+3+64)&":"&CHAR(MID($AG30,7,1)+3+64)),MATCH(E$5,Corresp!$A:$A,0)),Cycles!$1:$1,0)+WEEKDAY(E$5)-1))=0,"",INDIRECT("CYCLES!"&ADDRESS(MATCH($A30,Cycles!$B:$B,0),MATCH("semaine"&INDEX(INDIRECT("Corresp!"&CHAR(MID($AG30,7,1)+3+64)&":"&CHAR(MID($AG30,7,1)+3+64)),MATCH(E$5,Corresp!$A:$A,0)),Cycles!$1:$1,0)+WEEKDAY(E$5)-1)))) -> #N/A | F30: =IF(F$5="","",IF(INDIRECT("CYCLES!"&ADDRESS(MATCH($A30,Cycles!$B:$B,0),MATCH("semaine"&INDEX(INDIRECT("Corresp!"&CHAR(MID($AG30,7,1)+3+64)&":"&CHAR(MID($AG30,7,1)+3+64)),MATCH(F$5,Corresp!$A:$A,0)),Cycles!$1:$1,0)+WEEKDAY(F$5)-1))=0,"",INDIRECT("CYCLES!"&ADDRESS(MATCH($A30,Cycles!$B:$B,0),MATCH("semaine"&INDEX(INDIRECT("Corresp!"&CHAR(MID($AG30,7,1)+3+64)&":"&CHAR(MID($AG30,7,1)+3+64)),MATCH(F$5,Corresp!$A:$A,0)),Cycles!$1:$1,0)+WEEKDAY(F$5)-1)))) -> #N/A | G30: =IF(G$5="","",IF(INDIRECT("CYCLES!"&ADDRESS(MATCH($A30,Cycles!$B:$B,0),MATCH("semaine"&INDEX(INDIRECT("Corresp!"&CHAR(MID($AG30,7,1)+3+64)&":"&CHAR(MID($AG30,7,1)+3+64)),MATCH(G$5,Corresp!$A:$A,0)),Cycles!$1:$1,0)+WEEKDAY(G$5)-1))=0,"",INDIRECT("CYCLES!"&ADDRESS(MATCH($A30,Cycles!$B:$B,0),MATCH("semaine"&INDEX(INDIRECT("Corresp!"&CHAR(MID($AG30,7,1)+3+64)&":"&CHAR(MID($AG30,7,1)+3+64)),MATCH(G$5,Corresp!$A:$A,0)),Cycles!$1:$1,0)+WEEKDAY(G$5)-1)))) -> #N/A | H30: =IF(H$5="","",IF(INDIRECT("CYCLES!"&ADDRESS(MATCH($A30,Cycles!$B:$B,0),MATCH("semaine"&INDEX(INDIRECT("Corresp!"&CHAR(MID($AG30,7,1)+3+64)&":"&CHAR(MID($AG30,7,1)+3+64)),MATCH(H$5,Corresp!$A:$A,0)),Cycles!$1:$1,0)+WEEKDAY(H$5)-1))=0,"",INDIRECT("CYCLES!"&ADDRESS(MATCH($A30,Cycles!$B:$B,0),MATCH("semaine"&INDEX(INDIRECT("Corresp!"&CHAR(MID($AG30,7,1)+3+64)&":"&CHAR(MID($AG30,7,1)+3+64)),MATCH(H$5,Corresp!$A:$A,0)),Cycles!$1:$1,0)+WEEKDAY(H$5)-1)))) -> #N/A | I30: =IF(I$5="","",IF(INDIRECT("CYCLES!"&ADDRESS(MATCH($A30,Cycles!$B:$B,0),MATCH("semaine"&INDEX(INDIRECT("Corresp!"&CHAR(MID($AG30,7,1)+3+64)&":"&CHAR(MID($AG30,7,1)+3+64)),MATCH(I$5,Corresp!$A:$A,0)),Cycles!$1:$1,0)+WEEKDAY(I$5)-1))=0,"",INDIRECT("CYCLES!"&ADDRESS(MATCH($A30,Cycles!$B:$B,0),MATCH("semaine"&INDEX(INDIRECT("Corresp!"&CHAR(MID($AG30,7,1)+3+64)&":"&CHAR(MID($AG30,7,1)+3+64)),MATCH(I$5,Corresp!$A:$A,0)),Cycles!$1:$1,0)+WEEKDAY(I$5)-1)))) -> #N/A | ... AF30: =IF(AF$5="","",IF(INDIRECT("CYCLES!"&ADDRESS(MATCH($A30,Cycles!$B:$B,0),MATCH("semaine"&INDEX(INDIRECT("Corresp!"&CHAR(MID($AG30,7,1)+3+64)&":"&CHAR(MID($AG30,7,1)+3+64)),MATCH(AF$5,Corresp!$A:$A,0)),Cycles!$1:$1,0)+WEEKDAY(AF$5)-1))=0,"",INDIRECT("CYCLES!"&ADDRESS(MATCH($A30,Cycles!$B:$B,0),MATCH("semaine"&INDEX(INDIRECT("Corresp!"&CHAR(MID($AG30,7,1)+3+64)&":"&CHAR(MID($AG30,7,1)+3+64)),MATCH(AF$5,Corresp!$A:$A,0)),Cycles!$1:$1,0)+WEEKDAY(AF$5)-1)))) | AG30: Cycle 5 - 5
A33: =INDIRECT("Affectations!"&CHAR(64+MATCH($B$2,Affectations!$1:$1,0))&MATCH($A$20,Affectations!$A:$A,0)+INT(ROW()-21)/3) -> RENFORT | B33: =IF(B$5="","",IF(INDIRECT("CYCLES!"&ADDRESS(MATCH($A33,Cycles!$B:$B,0),MATCH("semaine"&INDEX(INDIRECT("Corresp!"&CHAR(MID($AG33,7,1)+3+64)&":"&CHAR(MID($AG33,7,1)+3+64)),MATCH(B$5,Corresp!$A:$A,0)),Cycles!$1:$1,0)+WEEKDAY(B$5)-1))=0,"",INDIRECT("CYCLES!"&ADDRESS(MATCH($A33,Cycles!$B:$B,0),MATCH("semaine"&INDEX(INDIRECT("Corresp!"&CHAR(MID($AG33,7,1)+3+64)&":"&CHAR(MID($AG33,7,1)+3+64)),MATCH(B$5,Corresp!$A:$A,0)),Cycles!$1:$1,0)+WEEKDAY(B$5)-1)))) -> #N/A | C33: =IF(C$5="","",IF(INDIRECT("CYCLES!"&ADDRESS(MATCH($A33,Cycles!$B:$B,0),MATCH("semaine"&INDEX(INDIRECT("Corresp!"&CHAR(MID($AG33,7,1)+3+64)&":"&CHAR(MID($AG33,7,1)+3+64)),MATCH(C$5,Corresp!$A:$A,0)),Cycles!$1:$1,0)+WEEKDAY(C$5)-1))=0,"",INDIRECT("CYCLES!"&ADDRESS(MATCH($A33,Cycles!$B:$B,0),MATCH("semaine"&INDEX(INDIRECT("Corresp!"&CHAR(MID($AG33,7,1)+3+64)&":"&CHAR(MID($AG33,7,1)+3+64)),MATCH(C$5,Corresp!$A:$A,0)),Cycles!$1:$1,0)+WEEKDAY(C$5)-1)))) -> #N/A | D33: =IF(D$5="","",IF(INDIRECT("CYCLES!"&ADDRESS(MATCH($A33,Cycles!$B:$B,0),MATCH("semaine"&INDEX(INDIRECT("Corresp!"&CHAR(MID($AG33,7,1)+3+64)&":"&CHAR(MID($AG33,7,1)+3+64)),MATCH(D$5,Corresp!$A:$A,0)),Cycles!$1:$1,0)+WEEKDAY(D$5)-1))=0,"",INDIRECT("CYCLES!"&ADDRESS(MATCH($A33,Cycles!$B:$B,0),MATCH("semaine"&INDEX(INDIRECT("Corresp!"&CHAR(MID($AG33,7,1)+3+64)&":"&CHAR(MID($AG33,7,1)+3+64)),MATCH(D$5,Corresp!$A:$A,0)),Cycles!$1:$1,0)+WEEKDAY(D$5)-1)))) -> #N/A | E33: =IF(E$5="","",IF(INDIRECT("CYCLES!"&ADDRESS(MATCH($A33,Cycles!$B:$B,0),MATCH("semaine"&INDEX(INDIRECT("Corresp!"&CHAR(MID($AG33,7,1)+3+64)&":"&CHAR(MID($AG33,7,1)+3+64)),MATCH(E$5,Corresp!$A:$A,0)),Cycles!$1:$1,0)+WEEKDAY(E$5)-1))=0,"",INDIRECT("CYCLES!"&ADDRESS(MATCH($A33,Cycles!$B:$B,0),MATCH("semaine"&INDEX(INDIRECT("Corresp!"&CHAR(MID($AG33,7,1)+3+64)&":"&CHAR(MID($AG33,7,1)+3+64)),MATCH(E$5,Corresp!$A:$A,0)),Cycles!$1:$1,0)+WEEKDAY(E$5)-1)))) -> #N/A | F33: =IF(F$5="","",IF(INDIRECT("CYCLES!"&ADDRESS(MATCH($A33,Cycles!$B:$B,0),MATCH("semaine"&INDEX(INDIRECT("Corresp!"&CHAR(MID($AG33,7,1)+3+64)&":"&CHAR(MID($AG33,7,1)+3+64)),MATCH(F$5,Corresp!$A:$A,0)),Cycles!$1:$1,0)+WEEKDAY(F$5)-1))=0,"",INDIRECT("CYCLES!"&ADDRESS(MATCH($A33,Cycles!$B:$B,0),MATCH("semaine"&INDEX(INDIRECT("Corresp!"&CHAR(MID($AG33,7,1)+3+64)&":"&CHAR(MID($AG33,7,1)+3+64)),MATCH(F$5,Corresp!$A:$A,0)),Cycles!$1:$1,0)+WEEKDAY(F$5)-1)))) -> #N/A | G33: =IF(G$5="","",IF(INDIRECT("CYCLES!"&ADDRESS(MATCH($A33,Cycles!$B:$B,0),MATCH("semaine"&INDEX(INDIRECT("Corresp!"&CHAR(MID($AG33,7,1)+3+64)&":"&CHAR(MID($AG33,7,1)+3+64)),MATCH(G$5,Corresp!$A:$A,0)),Cycles!$1:$1,0)+WEEKDAY(G$5)-1))=0,"",INDIRECT("CYCLES!"&ADDRESS(MATCH($A33,Cycles!$B:$B,0),MATCH("semaine"&INDEX(INDIRECT("Corresp!"&CHAR(MID($AG33,7,1)+3+64)&":"&CHAR(MID($AG33,7,1)+3+64)),MATCH(G$5,Corresp!$A:$A,0)),Cycles!$1:$1,0)+WEEKDAY(G$5)-1)))) -> #N/A | H33: =IF(H$5="","",IF(INDIRECT("CYCLES!"&ADDRESS(MATCH($A33,Cycles!$B:$B,0),MATCH("semaine"&INDEX(INDIRECT("Corresp!"&CHAR(MID($AG33,7,1)+3+64)&":"&CHAR(MID($AG33,7,1)+3+64)),MATCH(H$5,Corresp!$A:$A,0)),Cycles!$1:$1,0)+WEEKDAY(H$5)-1))=0,"",INDIRECT("CYCLES!"&ADDRESS(MATCH($A33,Cycles!$B:$B,0),MATCH("semaine"&INDEX(INDIRECT("Corresp!"&CHAR(MID($AG33,7,1)+3+64)&":"&CHAR(MID($AG33,7,1)+3+64)),MATCH(H$5,Corresp!$A:$A,0)),Cycles!$1:$1,0)+WEEKDAY(H$5)-1)))) -> #N/A | I33: =IF(I$5="","",IF(INDIRECT("CYCLES!"&ADDRESS(MATCH($A33,Cycles!$B:$B,0),MATCH("semaine"&INDEX(INDIRECT("Corresp!"&CHAR(MID($AG33,7,1)+3+64)&":"&CHAR(MID($AG33,7,1)+3+64)),MATCH(I$5,Corresp!$A:$A,0)),Cycles!$1:$1,0)+WEEKDAY(I$5)-1))=0,"",INDIRECT("CYCLES!"&ADDRESS(MATCH($A33,Cycles!$B:$B,0),MATCH("semaine"&INDEX(INDIRECT("Corresp!"&CHAR(MID($AG33,7,1)+3+64)&":"&CHAR(MID($AG33,7,1)+3+64)),MATCH(I$5,Corresp!$A:$A,0)),Cycles!$1:$1,0)+WEEKDAY(I$5)-1)))) -> #N/A | ... AF33: =IF(AF$5="","",IF(INDIRECT("CYCLES!"&ADDRESS(MATCH($A33,Cycles!$B:$B,0),MATCH("semaine"&INDEX(INDIRECT("Corresp!"&CHAR(MID($AG33,7,1)+3+64)&":"&CHAR(MID($AG33,7,1)+3+64)),MATCH(AF$5,Corresp!$A:$A,0)),Cycles!$1:$1,0)+WEEKDAY(AF$5)-1))=0,"",INDIRECT("CYCLES!"&ADDRESS(MATCH($A33,Cycles!$B:$B,0),MATCH("semaine"&INDEX(INDIRECT("Corresp!"&CHAR(MID($AG33,7,1)+3+64)&":"&CHAR(MID($AG33,7,1)+3+64)),MATCH(AF$5,Corresp!$A:$A,0)),Cycles!$1:$1,0)+WEEKDAY(AF$5)-1)))) | AG33: Cycle 5 - 5
A36: IDE NUIT
A37: =INDIRECT("Affectations!"&CHAR(64+MATCH($B$2,Affectations!$1:$1,0))&MATCH($A$36,Affectations!$A:$A,0)+INT(ROW()-37)/3) -> RENAUDET | B37: =IF(B$5="","",IF(INDIRECT("CYCLES!"&ADDRESS(MATCH($A37,Cycles!$B:$B,0),MATCH("semaine"&INDEX(INDIRECT("Corresp!"&CHAR(MID($AG37,7,1)+3+64)&":"&CHAR(MID($AG37,7,1)+3+64)),MATCH(B$5,Corresp!$A:$A,0)),Cycles!$1:$1,0)+WEEKDAY(B$5)-1))=0,"",INDIRECT("CYCLES!"&ADDRESS(MATCH($A37,Cycles!$B:$B,0),MATCH("semaine"&INDEX(INDIRECT("Corresp!"&CHAR(MID($AG37,7,1)+3+64)&":"&CHAR(MID($AG37,7,1)+3+64)),MATCH(B$5,Corresp!$A:$A,0)),Cycles!$1:$1,0)+WEEKDAY(B$5)-1)))) -> 19H-7H15 | C37: =IF(C$5="","",IF(INDIRECT("CYCLES!"&ADDRESS(MATCH($A37,Cycles!$B:$B,0),MATCH("semaine"&INDEX(INDIRECT("Corresp!"&CHAR(MID($AG37,7,1)+3+64)&":"&CHAR(MID($AG37,7,1)+3+64)),MATCH(C$5,Corresp!$A:$A,0)),Cycles!$1:$1,0)+WEEKDAY(C$5)-1))=0,"",INDIRECT("CYCLES!"&ADDRESS(MATCH($A37,Cycles!$B:$B,0),MATCH("semaine"&INDEX(INDIRECT("Corresp!"&CHAR(MID($AG37,7,1)+3+64)&":"&CHAR(MID($AG37,7,1)+3+64)),MATCH(C$5,Corresp!$A:$A,0)),Cycles!$1:$1,0)+WEEKDAY(C$5)-1)))) -> 19H-7H15 | D37: =IF(D$5="","",IF(INDIRECT("CYCLES!"&ADDRESS(MATCH($A37,Cycles!$B:$B,0),MATCH("semaine"&INDEX(INDIRECT("Corresp!"&CHAR(MID($AG37,7,1)+3+64)&":"&CHAR(MID($AG37,7,1)+3+64)),MATCH(D$5,Corresp!$A:$A,0)),Cycles!$1:$1,0)+WEEKDAY(D$5)-1))=0,"",INDIRECT("CYCLES!"&ADDRESS(MATCH($A37,Cycles!$B:$B,0),MATCH("semaine"&INDEX(INDIRECT("Corresp!"&CHAR(MID($AG37,7,1)+3+64)&":"&CHAR(MID($AG37,7,1)+3+64)),MATCH(D$5,Corresp!$A:$A,0)),Cycles!$1:$1,0)+WEEKDAY(D$5)-1)))) -> sem1 | E37: =IF(E$5="","",IF(INDIRECT("CYCLES!"&ADDRESS(MATCH($A37,Cycles!$B:$B,0),MATCH("semaine"&INDEX(INDIRECT("Corresp!"&CHAR(MID($AG37,7,1)+3+64)&":"&CHAR(MID($AG37,7,1)+3+64)),MATCH(E$5,Corresp!$A:$A,0)),Cycles!$1:$1,0)+WEEKDAY(E$5)-1))=0,"",INDIRECT("CYCLES!"&ADDRESS(MATCH($A37,Cycles!$B:$B,0),MATCH("semaine"&INDEX(INDIRECT("Corresp!"&CHAR(MID($AG37,7,1)+3+64)&":"&CHAR(MID($AG37,7,1)+3+64)),MATCH(E$5,Corresp!$A:$A,0)),Cycles!$1:$1,0)+WEEKDAY(E$5)-1)))) | F37: =IF(F$5="","",IF(INDIRECT("CYCLES!"&ADDRESS(MATCH($A37,Cycles!$B:$B,0),MATCH("semaine"&INDEX(INDIRECT("Corresp!"&CHAR(MID($AG37,7,1)+3+64)&":"&CHAR(MID($AG37,7,1)+3+64)),MATCH(F$5,Corresp!$A:$A,0)),Cycles!$1:$1,0)+WEEKDAY(F$5)-1))=0,"",INDIRECT("CYCLES!"&ADDRESS(MATCH($A37,Cycles!$B:$B,0),MATCH("semaine"&INDEX(INDIRECT("Corresp!"&CHAR(MID($AG37,7,1)+3+64)&":"&CHAR(MID($AG37,7,1)+3+64)),MATCH(F$5,Corresp!$A:$A,0)),Cycles!$1:$1,0)+WEEKDAY(F$5)-1)))) -> 19H-7H15 | G37: =IF(G$5="","",IF(INDIRECT("CYCLES!"&ADDRESS(MATCH($A37,Cycles!$B:$B,0),MATCH("semaine"&INDEX(INDIRECT("Corresp!"&CHAR(MID($AG37,7,1)+3+64)&":"&CHAR(MID($AG37,7,1)+3+64)),MATCH(G$5,Corresp!$A:$A,0)),Cycles!$1:$1,0)+WEEKDAY(G$5)-1))=0,"",INDIRECT("CYCLES!"&ADDRESS(MATCH($A37,Cycles!$B:$B,0),MATCH("semaine"&INDEX(INDIRECT("Corresp!"&CHAR(MID($AG37,7,1)+3+64)&":"&CHAR(MID($AG37,7,1)+3+64)),MATCH(G$5,Corresp!$A:$A,0)),Cycles!$1:$1,0)+WEEKDAY(G$5)-1)))) -> 19H-7H15 | H37: =IF(H$5="","",IF(INDIRECT("CYCLES!"&ADDRESS(MATCH($A37,Cycles!$B:$B,0),MATCH("semaine"&INDEX(INDIRECT("Corresp!"&CHAR(MID($AG37,7,1)+3+64)&":"&CHAR(MID($AG37,7,1)+3+64)),MATCH(H$5,Corresp!$A:$A,0)),Cycles!$1:$1,0)+WEEKDAY(H$5)-1))=0,"",INDIRECT("CYCLES!"&ADDRESS(MATCH($A37,Cycles!$B:$B,0),MATCH("semaine"&INDEX(INDIRECT("Corresp!"&CHAR(MID($AG37,7,1)+3+64)&":"&CHAR(MID($AG37,7,1)+3+64)),MATCH(H$5,Corresp!$A:$A,0)),Cycles!$1:$1,0)+WEEKDAY(H$5)-1)))) -> 19H-7H15 | I37: =IF(I$5="","",IF(INDIRECT("CYCLES!"&ADDRESS(MATCH($A37,Cycles!$B:$B,0),MATCH("semaine"&INDEX(INDIRECT("Corresp!"&CHAR(MID($AG37,7,1)+3+64)&":"&CHAR(MID($AG37,7,1)+3+64)),MATCH(I$5,Corresp!$A:$A,0)),Cycles!$1:$1,0)+WEEKDAY(I$5)-1))=0,"",INDIRECT("CYCLES!"&ADDRESS(MATCH($A37,Cycles!$B:$B,0),MATCH("semaine"&INDEX(INDIRECT("Corresp!"&CHAR(MID($AG37,7,1)+3+64)&":"&CHAR(MID($AG37,7,1)+3+64)),MATCH(I$5,Corresp!$A:$A,0)),Cycles!$1:$1,0)+WEEKDAY(I$5)-1)))) | ... AF37: =IF(AF$5="","",IF(INDIRECT("CYCLES!"&ADDRESS(MATCH($A37,Cycles!$B:$B,0),MATCH("semaine"&INDEX(INDIRECT("Corresp!"&CHAR(MID($AG37,7,1)+3+64)&":"&CHAR(MID($AG37,7,1)+3+64)),MATCH(AF$5,Corresp!$A:$A,0)),Cycles!$1:$1,0)+WEEKDAY(AF$5)-1))=0,"",INDIRECT("CYCLES!"&ADDRESS(MATCH($A37,Cycles!$B:$B,0),MATCH("semaine"&INDEX(INDIRECT("Corresp!"&CHAR(MID($AG37,7,1)+3+64)&":"&CHAR(MID($AG37,7,1)+3+64)),MATCH(AF$5,Corresp!$A:$A,0)),Cycles!$1:$1,0)+WEEKDAY(AF$5)-1)))) | AG37: Cycle 1 - 7
A40: =INDIRECT("Affectations!"&CHAR(64+MATCH($B$2,Affectations!$1:$1,0))&MATCH($A$36,Affectations!$A:$A,0)+INT(ROW()-37)/3) -> IMBERT | B40: =IF(B$5="","",IF(INDIRECT("CYCLES!"&ADDRESS(MATCH($A40,Cycles!$B:$B,0),MATCH("semaine"&INDEX(INDIRECT("Corresp!"&CHAR(MID($AG40,7,1)+3+64)&":"&CHAR(MID($AG40,7,1)+3+64)),MATCH(B$5,Corresp!$A:$A,0)),Cycles!$1:$1,0)+WEEKDAY(B$5)-1))=0,"",INDIRECT("CYCLES!"&ADDRESS(MATCH($A40,Cycles!$B:$B,0),MATCH("semaine"&INDEX(INDIRECT("Corresp!"&CHAR(MID($AG40,7,1)+3+64)&":"&CHAR(MID($AG40,7,1)+3+64)),MATCH(B$5,Corresp!$A:$A,0)),Cycles!$1:$1,0)+WEEKDAY(B$5)-1)))) | C40: =IF(C$5="","",IF(INDIRECT("CYCLES!"&ADDRESS(MATCH($A40,Cycles!$B:$B,0),MATCH("semaine"&INDEX(INDIRECT("Corresp!"&CHAR(MID($AG40,7,1)+3+64)&":"&CHAR(MID($AG40,7,1)+3+64)),MATCH(C$5,Corresp!$A:$A,0)),Cycles!$1:$1,0)+WEEKDAY(C$5)-1))=0,"",INDIRECT("CYCLES!"&ADDRESS(MATCH($A40,Cycles!$B:$B,0),MATCH("semaine"&INDEX(INDIRECT("Corresp!"&CHAR(MID($AG40,7,1)+3+64)&":"&CHAR(MID($AG40,7,1)+3+64)),MATCH(C$5,Corresp!$A:$A,0)),Cycles!$1:$1,0)+WEEKDAY(C$5)-1)))) -> sem2 | D40: =IF(D$5="","",IF(INDIRECT("CYCLES!"&ADDRESS(MATCH($A40,Cycles!$B:$B,0),MATCH("semaine"&INDEX(INDIRECT("Corresp!"&CHAR(MID($AG40,7,1)+3+64)&":"&CHAR(MID($AG40,7,1)+3+64)),MATCH(D$5,Corresp!$A:$A,0)),Cycles!$1:$1,0)+WEEKDAY(D$5)-1))=0,"",INDIRECT("CYCLES!"&ADDRESS(MATCH($A40,Cycles!$B:$B,0),MATCH("semaine"&INDEX(INDIRECT("Corresp!"&CHAR(MID($AG40,7,1)+3+64)&":"&CHAR(MID($AG40,7,1)+3+64)),MATCH(D$5,Corresp!$A:$A,0)),Cycles!$1:$1,0)+WEEKDAY(D$5)-1)))) -> 19H-7H15 | E40: =IF(E$5="","",IF(INDIRECT("CYCLES!"&ADDRESS(MATCH($A40,Cycles!$B:$B,0),MATCH("semaine"&INDEX(INDIRECT("Corresp!"&CHAR(MID($AG40,7,1)+3+64)&":"&CHAR(MID($AG40,7,1)+3+64)),MATCH(E$5,Corresp!$A:$A,0)),Cycles!$1:$1,0)+WEEKDAY(E$5)-1))=0,"",INDIRECT("CYCLES!"&ADDRESS(MATCH($A40,Cycles!$B:$B,0),MATCH("semaine"&INDEX(INDIRECT("Corresp!"&CHAR(MID($AG40,7,1)+3+64)&":"&CHAR(MID($AG40,7,1)+3+64)),MATCH(E$5,Corresp!$A:$A,0)),Cycles!$1:$1,0)+WEEKDAY(E$5)-1)))) -> 19H-7H15 | F40: =IF(F$5="","",IF(INDIRECT("CYCLES!"&ADDRESS(MATCH($A40,Cycles!$B:$B,0),MATCH("semaine"&INDEX(INDIRECT("Corresp!"&CHAR(MID($AG40,7,1)+3+64)&":"&CHAR(MID($AG40,7,1)+3+64)),MATCH(F$5,Corresp!$A:$A,0)),Cycles!$1:$1,0)+WEEKDAY(F$5)-1))=0,"",INDIRECT("CYCLES!"&ADDRESS(MATCH($A40,Cycles!$B:$B,0),MATCH("semaine"&INDEX(INDIRECT("Corresp!"&CHAR(MID($AG40,7,1)+3+64)&":"&CHAR(MID($AG40,7,1)+3+64)),MATCH(F$5,Corresp!$A:$A,0)),Cycles!$1:$1,0)+WEEKDAY(F$5)-1)))) | G40: =IF(G$5="","",IF(INDIRECT("CYCLES!"&ADDRESS(MATCH($A40,Cycles!$B:$B,0),MATCH("semaine"&INDEX(INDIRECT("Corresp!"&CHAR(MID($AG40,7,1)+3+64)&":"&CHAR(MID($AG40,7,1)+3+64)),MATCH(G$5,Corresp!$A:$A,0)),Cycles!$1:$1,0)+WEEKDAY(G$5)-1))=0,"",INDIRECT("CYCLES!"&ADDRESS(MATCH($A40,Cycles!$B:$B,0),MATCH("semaine"&INDEX(INDIRECT("Corresp!"&CHAR(MID($AG40,7,1)+3+64)&":"&CHAR(MID($AG40,7,1)+3+64)),MATCH(G$5,Corresp!$A:$A,0)),Cycles!$1:$1,0)+WEEKDAY(G$5)-1)))) | H40: =IF(H$5="","",IF(INDIRECT("CYCLES!"&ADDRESS(MATCH($A40,Cycles!$B:$B,0),MATCH("semaine"&INDEX(INDIRECT("Corresp!"&CHAR(MID($AG40,7,1)+3+64)&":"&CHAR(MID($AG40,7,1)+3+64)),MATCH(H$5,Corresp!$A:$A,0)),Cycles!$1:$1,0)+WEEKDAY(H$5)-1))=0,"",INDIRECT("CYCLES!"&ADDRESS(MATCH($A40,Cycles!$B:$B,0),MATCH("semaine"&INDEX(INDIRECT("Corresp!"&CHAR(MID($AG40,7,1)+3+64)&":"&CHAR(MID($AG40,7,1)+3+64)),MATCH(H$5,Corresp!$A:$A,0)),Cycles!$1:$1,0)+WEEKDAY(H$5)-1)))) | I40: =IF(I$5="","",IF(INDIRECT("CYCLES!"&ADDRESS(MATCH($A40,Cycles!$B:$B,0),MATCH("semaine"&INDEX(INDIRECT("Corresp!"&CHAR(MID($AG40,7,1)+3+64)&":"&CHAR(MID($AG40,7,1)+3+64)),MATCH(I$5,Corresp!$A:$A,0)),Cycles!$1:$1,0)+WEEKDAY(I$5)-1))=0,"",INDIRECT("CYCLES!"&ADDRESS(MATCH($A40,Cycles!$B:$B,0),MATCH("semaine"&INDEX(INDIRECT("Corresp!"&CHAR(MID($AG40,7,1)+3+64)&":"&CHAR(MID($AG40,7,1)+3+64)),MATCH(I$5,Corresp!$A:$A,0)),Cycles!$1:$1,0)+WEEKDAY(I$5)-1)))) -> 19H-7H15 | ... AF40: =IF(AF$5="","",IF(INDIRECT("CYCLES!"&ADDRESS(MATCH($A40,Cycles!$B:$B,0),MATCH("semaine"&INDEX(INDIRECT("Corresp!"&CHAR(MID($AG40,7,1)+3+64)&":"&CHAR(MID($AG40,7,1)+3+64)),MATCH(AF$5,Corresp!$A:$A,0)),Cycles!$1:$1,0)+WEEKDAY(AF$5)-1))=0,"",INDIRECT("CYCLES!"&ADDRESS(MATCH($A40,Cycles!$B:$B,0),MATCH("semaine"&INDEX(INDIRECT("Corresp!"&CHAR(MID($AG40,7,1)+3+64)&":"&CHAR(MID($AG40,7,1)+3+64)),MATCH(AF$5,Corresp!$A:$A,0)),Cycles!$1:$1,0)+WEEKDAY(AF$5)-1)))) | AG40: Cycle 1 - 7
A43: =INDIRECT("Affectations!"&CHAR(64+MATCH($B$2,Affectations!$1:$1,0))&MATCH($A$36,Affectations!$A:$A,0)+INT(ROW()-37)/3) -> FREYCHET | B43: =IF(B$5="","",IF(INDIRECT("CYCLES!"&ADDRESS(MATCH($A43,Cycles!$B:$B,0),MATCH("semaine"&INDEX(INDIRECT("Corresp!"&CHAR(MID($AG43,7,1)+3+64)&":"&CHAR(MID($AG43,7,1)+3+64)),MATCH(B$5,Corresp!$A:$A,0)),Cycles!$1:$1,0)+WEEKDAY(B$5)-1))=0,"",INDIRECT("CYCLES!"&ADDRESS(MATCH($A43,Cycles!$B:$B,0),MATCH("semaine"&INDEX(INDIRECT("Corresp!"&CHAR(MID($AG43,7,1)+3+64)&":"&CHAR(MID($AG43,7,1)+3+64)),MATCH(B$5,Corresp!$A:$A,0)),Cycles!$1:$1,0)+WEEKDAY(B$5)-1)))) -> SSR | C43: =IF(C$5="","",IF(INDIRECT("CYCLES!"&ADDRESS(MATCH($A43,Cycles!$B:$B,0),MATCH("semaine"&INDEX(INDIRECT("Corresp!"&CHAR(MID($AG43,7,1)+3+64)&":"&CHAR(MID($AG43,7,1)+3+64)),MATCH(C$5,Corresp!$A:$A,0)),Cycles!$1:$1,0)+WEEKDAY(C$5)-1))=0,"",INDIRECT("CYCLES!"&ADDRESS(MATCH($A43,Cycles!$B:$B,0),MATCH("semaine"&INDEX(INDIRECT("Corresp!"&CHAR(MID($AG43,7,1)+3+64)&":"&CHAR(MID($AG43,7,1)+3+64)),MATCH(C$5,Corresp!$A:$A,0)),Cycles!$1:$1,0)+WEEKDAY(C$5)-1)))) -> SSR | D43: =IF(D$5="","",IF(INDIRECT("CYCLES!"&ADDRESS(MATCH($A43,Cycles!$B:$B,0),MATCH("semaine"&INDEX(INDIRECT("Corresp!"&CHAR(MID($AG43,7,1)+3+64)&":"&CHAR(MID($AG43,7,1)+3+64)),MATCH(D$5,Corresp!$A:$A,0)),Cycles!$1:$1,0)+WEEKDAY(D$5)-1))=0,"",INDIRECT("CYCLES!"&ADDRESS(MATCH($A43,Cycles!$B:$B,0),MATCH("semaine"&INDEX(INDIRECT("Corresp!"&CHAR(MID($AG43,7,1)+3+64)&":"&CHAR(MID($AG43,7,1)+3+64)),MATCH(D$5,Corresp!$A:$A,0)),Cycles!$1:$1,0)+WEEKDAY(D$5)-1)))) -> sem5 | E43: =IF(E$5="","",IF(INDIRECT("CYCLES!"&ADDRESS(MATCH($A43,Cycles!$B:$B,0),MATCH("semaine"&INDEX(INDIRECT("Corresp!"&CHAR(MID($AG43,7,1)+3+64)&":"&CHAR(MID($AG43,7,1)+3+64)),MATCH(E$5,Corresp!$A:$A,0)),Cycles!$1:$1,0)+WEEKDAY(E$5)-1))=0,"",INDIRECT("CYCLES!"&ADDRESS(MATCH($A43,Cycles!$B:$B,0),MATCH("semaine"&INDEX(INDIRECT("Corresp!"&CHAR(MID($AG43,7,1)+3+64)&":"&CHAR(MID($AG43,7,1)+3+64)),MATCH(E$5,Corresp!$A:$A,0)),Cycles!$1:$1,0)+WEEKDAY(E$5)-1)))) | F43: =IF(F$5="","",IF(INDIRECT("CYCLES!"&ADDRESS(MATCH($A43,Cycles!$B:$B,0),MATCH("semaine"&INDEX(INDIRECT("Corresp!"&CHAR(MID($AG43,7,1)+3+64)&":"&CHAR(MID($AG43,7,1)+3+64)),MATCH(F$5,Corresp!$A:$A,0)),Cycles!$1:$1,0)+WEEKDAY(F$5)-1))=0,"",INDIRECT("CYCLES!"&ADDRESS(MATCH($A43,Cycles!$B:$B,0),MATCH("semaine"&INDEX(INDIRECT("Corresp!"&CHAR(MID($AG43,7,1)+3+64)&":"&CHAR(MID($AG43,7,1)+3+64)),MATCH(F$5,Corresp!$A:$A,0)),Cycles!$1:$1,0)+WEEKDAY(F$5)-1)))) -> SSR | G43: =IF(G$5="","",IF(INDIRECT("CYCLES!"&ADDRESS(MATCH($A43,Cycles!$B:$B,0),MATCH("semaine"&INDEX(INDIRECT("Corresp!"&CHAR(MID($AG43,7,1)+3+64)&":"&CHAR(MID($AG43,7,1)+3+64)),MATCH(G$5,Corresp!$A:$A,0)),Cycles!$1:$1,0)+WEEKDAY(G$5)-1))=0,"",INDIRECT("CYCLES!"&ADDRESS(MATCH($A43,Cycles!$B:$B,0),MATCH("semaine"&INDEX(INDIRECT("Corresp!"&CHAR(MID($AG43,7,1)+3+64)&":"&CHAR(MID($AG43,7,1)+3+64)),MATCH(G$5,Corresp!$A:$A,0)),Cycles!$1:$1,0)+WEEKDAY(G$5)-1)))) -> SSR | H43: =IF(H$5="","",IF(INDIRECT("CYCLES!"&ADDRESS(MATCH($A43,Cycles!$B:$B,0),MATCH("semaine"&INDEX(INDIRECT("Corresp!"&CHAR(MID($AG43,7,1)+3+64)&":"&CHAR(MID($AG43,7,1)+3+64)),MATCH(H$5,Corresp!$A:$A,0)),Cycles!$1:$1,0)+WEEKDAY(H$5)-1))=0,"",INDIRECT("CYCLES!"&ADDRESS(MATCH($A43,Cycles!$B:$B,0),MATCH("semaine"&INDEX(INDIRECT("Corresp!"&CHAR(MID($AG43,7,1)+3+64)&":"&CHAR(MID($AG43,7,1)+3+64)),MATCH(H$5,Corresp!$A:$A,0)),Cycles!$1:$1,0)+WEEKDAY(H$5)-1)))) -> SSR | I43: =IF(I$5="","",IF(INDIRECT("CYCLES!"&ADDRESS(MATCH($A43,Cycles!$B:$B,0),MATCH("semaine"&INDEX(INDIRECT("Corresp!"&CHAR(MID($AG43,7,1)+3+64)&":"&CHAR(MID($AG43,7,1)+3+64)),MATCH(I$5,Corresp!$A:$A,0)),Cycles!$1:$1,0)+WEEKDAY(I$5)-1))=0,"",INDIRECT("CYCLES!"&ADDRESS(MATCH($A43,Cycles!$B:$B,0),MATCH("semaine"&INDEX(INDIRECT("Corresp!"&CHAR(MID($AG43,7,1)+3+64)&":"&CHAR(MID($AG43,7,1)+3+64)),MATCH(I$5,Corresp!$A:$A,0)),Cycles!$1:$1,0)+WEEKDAY(I$5)-1)))) | ... AF43: =IF(AF$5="","",IF(INDIRECT("CYCLES!"&ADDRESS(MATCH($A43,Cycles!$B:$B,0),MATCH("semaine"&INDEX(INDIRECT("Corresp!"&CHAR(MID($AG43,7,1)+3+64)&":"&CHAR(MID($AG43,7,1)+3+64)),MATCH(AF$5,Corresp!$A:$A,0)),Cycles!$1:$1,0)+WEEKDAY(AF$5)-1))=0,"",INDIRECT("CYCLES!"&ADDRESS(MATCH($A43,Cycles!$B:$B,0),MATCH("semaine"&INDEX(INDIRECT("Corresp!"&CHAR(MID($AG43,7,1)+3+64)&":"&CHAR(MID($AG43,7,1)+3+64)),MATCH(AF$5,Corresp!$A:$A,0)),Cycles!$1:$1,0)+WEEKDAY(AF$5)-1)))) | AG43: Cycle 1 - 7
A46: =INDIRECT("Affectations!"&CHAR(64+MATCH($B$2,Affectations!$1:$1,0))&MATCH($A$36,Affectations!$A:$A,0)+INT(ROW()-37)/3) -> REMPLACANT | B46: =IF(B$5="","",IF(INDIRECT("CYCLES!"&ADDRESS(MATCH($A46,Cycles!$B:$B,0),MATCH("semaine"&INDEX(INDIRECT("Corresp!"&CHAR(MID($AG46,7,1)+3+64)&":"&CHAR(MID($AG46,7,1)+3+64)),MATCH(B$5,Corresp!$A:$A,0)),Cycles!$1:$1,0)+WEEKDAY(B$5)-1))=0,"",INDIRECT("CYCLES!"&ADDRESS(MATCH($A46,Cycles!$B:$B,0),MATCH("semaine"&INDEX(INDIRECT("Corresp!"&CHAR(MID($AG46,7,1)+3+64)&":"&CHAR(MID($AG46,7,1)+3+64)),MATCH(B$5,Corresp!$A:$A,0)),Cycles!$1:$1,0)+WEEKDAY(B$5)-1)))) -> #N/A | C46: =IF(C$5="","",IF(INDIRECT("CYCLES!"&ADDRESS(MATCH($A46,Cycles!$B:$B,0),MATCH("semaine"&INDEX(INDIRECT("Corresp!"&CHAR(MID($AG46,7,1)+3+64)&":"&CHAR(MID($AG46,7,1)+3+64)),MATCH(C$5,Corresp!$A:$A,0)),Cycles!$1:$1,0)+WEEKDAY(C$5)-1))=0,"",INDIRECT("CYCLES!"&ADDRESS(MATCH($A46,Cycles!$B:$B,0),MATCH("semaine"&INDEX(INDIRECT("Corresp!"&CHAR(MID($AG46,7,1)+3+64)&":"&CHAR(MID($AG46,7,1)+3+64)),MATCH(C$5,Corresp!$A:$A,0)),Cycles!$1:$1,0)+WEEKDAY(C$5)-1)))) -> #N/A | D46: =IF(D$5="","",IF(INDIRECT("CYCLES!"&ADDRESS(MATCH($A46,Cycles!$B:$B,0),MATCH("semaine"&INDEX(INDIRECT("Corresp!"&CHAR(MID($AG46,7,1)+3+64)&":"&CHAR(MID($AG46,7,1)+3+64)),MATCH(D$5,Corresp!$A:$A,0)),Cycles!$1:$1,0)+WEEKDAY(D$5)-1))=0,"",INDIRECT("CYCLES!"&ADDRESS(MATCH($A46,Cycles!$B:$B,0),MATCH("semaine"&INDEX(INDIRECT("Corresp!"&CHAR(MID($AG46,7,1)+3+64)&":"&CHAR(MID($AG46,7,1)+3+64)),MATCH(D$5,Corresp!$A:$A,0)),Cycles!$1:$1,0)+WEEKDAY(D$5)-1)))) -> #N/A | E46: =IF(E$5="","",IF(INDIRECT("CYCLES!"&ADDRESS(MATCH($A46,Cycles!$B:$B,0),MATCH("semaine"&INDEX(INDIRECT("Corresp!"&CHAR(MID($AG46,7,1)+3+64)&":"&CHAR(MID($AG46,7,1)+3+64)),MATCH(E$5,Corresp!$A:$A,0)),Cycles!$1:$1,0)+WEEKDAY(E$5)-1))=0,"",INDIRECT("CYCLES!"&ADDRESS(MATCH($A46,Cycles!$B:$B,0),MATCH("semaine"&INDEX(INDIRECT("Corresp!"&CHAR(MID($AG46,7,1)+3+64)&":"&CHAR(MID($AG46,7,1)+3+64)),MATCH(E$5,Corresp!$A:$A,0)),Cycles!$1:$1,0)+WEEKDAY(E$5)-1)))) -> #N/A | F46: =IF(F$5="","",IF(INDIRECT("CYCLES!"&ADDRESS(MATCH($A46,Cycles!$B:$B,0),MATCH("semaine"&INDEX(INDIRECT("Corresp!"&CHAR(MID($AG46,7,1)+3+64)&":"&CHAR(MID($AG46,7,1)+3+64)),MATCH(F$5,Corresp!$A:$A,0)),Cycles!$1:$1,0)+WEEKDAY(F$5)-1))=0,"",INDIRECT("CYCLES!"&ADDRESS(MATCH($A46,Cycles!$B:$B,0),MATCH("semaine"&INDEX(INDIRECT("Corresp!"&CHAR(MID($AG46,7,1)+3+64)&":"&CHAR(MID($AG46,7,1)+3+64)),MATCH(F$5,Corresp!$A:$A,0)),Cycles!$1:$1,0)+WEEKDAY(F$5)-1)))) -> #N/A | G46: =IF(G$5="","",IF(INDIRECT("CYCLES!"&ADDRESS(MATCH($A46,Cycles!$B:$B,0),MATCH("semaine"&INDEX(INDIRECT("Corresp!"&CHAR(MID($AG46,7,1)+3+64)&":"&CHAR(MID($AG46,7,1)+3+64)),MATCH(G$5,Corresp!$A:$A,0)),Cycles!$1:$1,0)+WEEKDAY(G$5)-1))=0,"",INDIRECT("CYCLES!"&ADDRESS(MATCH($A46,Cycles!$B:$B,0),MATCH("semaine"&INDEX(INDIRECT("Corresp!"&CHAR(MID($AG46,7,1)+3+64)&":"&CHAR(MID($AG46,7,1)+3+64)),MATCH(G$5,Corresp!$A:$A,0)),Cycles!$1:$1,0)+WEEKDAY(G$5)-1)))) -> #N/A | H46: =IF(H$5="","",IF(INDIRECT("CYCLES!"&ADDRESS(MATCH($A46,Cycles!$B:$B,0),MATCH("semaine"&INDEX(INDIRECT("Corresp!"&CHAR(MID($AG46,7,1)+3+64)&":"&CHAR(MID($AG46,7,1)+3+64)),MATCH(H$5,Corresp!$A:$A,0)),Cycles!$1:$1,0)+WEEKDAY(H$5)-1))=0,"",INDIRECT("CYCLES!"&ADDRESS(MATCH($A46,Cycles!$B:$B,0),MATCH("semaine"&INDEX(INDIRECT("Corresp!"&CHAR(MID($AG46,7,1)+3+64)&":"&CHAR(MID($AG46,7,1)+3+64)),MATCH(H$5,Corresp!$A:$A,0)),Cycles!$1:$1,0)+WEEKDAY(H$5)-1)))) -> #N/A | I46: =IF(I$5="","",IF(INDIRECT("CYCLES!"&ADDRESS(MATCH($A46,Cycles!$B:$B,0),MATCH("semaine"&INDEX(INDIRECT("Corresp!"&CHAR(MID($AG46,7,1)+3+64)&":"&CHAR(MID($AG46,7,1)+3+64)),MATCH(I$5,Corresp!$A:$A,0)),Cycles!$1:$1,0)+WEEKDAY(I$5)-1))=0,"",INDIRECT("CYCLES!"&ADDRESS(MATCH($A46,Cycles!$B:$B,0),MATCH("semaine"&INDEX(INDIRECT("Corresp!"&CHAR(MID($AG46,7,1)+3+64)&":"&CHAR(MID($AG46,7,1)+3+64)),MATCH(I$5,Corresp!$A:$A,0)),Cycles!$1:$1,0)+WEEKDAY(I$5)-1)))) -> #N/A | ... AF46: =IF(AF$5="","",IF(INDIRECT("CYCLES!"&ADDRESS(MATCH($A46,Cycles!$B:$B,0),MATCH("semaine"&INDEX(INDIRECT("Corresp!"&CHAR(MID($AG46,7,1)+3+64)&":"&CHAR(MID($AG46,7,1)+3+64)),MATCH(AF$5,Corresp!$A:$A,0)),Cycles!$1:$1,0)+WEEKDAY(AF$5)-1))=0,"",INDIRECT("CYCLES!"&ADDRESS(MATCH($A46,Cycles!$B:$B,0),MATCH("semaine"&INDEX(INDIRECT("Corresp!"&CHAR(MID($AG46,7,1)+3+64)&":"&CHAR(MID($AG46,7,1)+3+64)),MATCH(AF$5,Corresp!$A:$A,0)),Cycles!$1:$1,0)+WEEKDAY(AF$5)-1)))) | AG46: Cycle 1 - 7
A49: ASD NUIT
A50: =INDIRECT("Affectations!"&CHAR(64+MATCH($B$2,Affectations!$1:$1,0))&MATCH($A$49,Affectations!$A:$A,0)+INT(ROW()-50)/3) -> CORDEIRO | B50: =IF(B$5="","",IF(INDIRECT("CYCLES!"&ADDRESS(MATCH($A50,Cycles!$B:$B,0),MATCH("semaine"&INDEX(INDIRECT("Corresp!"&CHAR(MID($AG50,7,1)+3+64)&":"&CHAR(MID($AG50,7,1)+3+64)),MATCH(B$5,Corresp!$A:$A,0)),Cycles!$1:$1,0)+WEEKDAY(B$5)-1))=0,"",INDIRECT("CYCLES!"&ADDRESS(MATCH($A50,Cycles!$B:$B,0),MATCH("semaine"&INDEX(INDIRECT("Corresp!"&CHAR(MID($AG50,7,1)+3+64)&":"&CHAR(MID($AG50,7,1)+3+64)),MATCH(B$5,Corresp!$A:$A,0)),Cycles!$1:$1,0)+WEEKDAY(B$5)-1)))) | C50: =IF(C$5="","",IF(INDIRECT("CYCLES!"&ADDRESS(MATCH($A50,Cycles!$B:$B,0),MATCH("semaine"&INDEX(INDIRECT("Corresp!"&CHAR(MID($AG50,7,1)+3+64)&":"&CHAR(MID($AG50,7,1)+3+64)),MATCH(C$5,Corresp!$A:$A,0)),Cycles!$1:$1,0)+WEEKDAY(C$5)-1))=0,"",INDIRECT("CYCLES!"&ADDRESS(MATCH($A50,Cycles!$B:$B,0),MATCH("semaine"&INDEX(INDIRECT("Corresp!"&CHAR(MID($AG50,7,1)+3+64)&":"&CHAR(MID($AG50,7,1)+3+64)),MATCH(C$5,Corresp!$A:$A,0)),Cycles!$1:$1,0)+WEEKDAY(C$5)-1)))) | D50: =IF(D$5="","",IF(INDIRECT("CYCLES!"&ADDRESS(MATCH($A50,Cycles!$B:$B,0),MATCH("semaine"&INDEX(INDIRECT("Corresp!"&CHAR(MID($AG50,7,1)+3+64)&":"&CHAR(MID($AG50,7,1)+3+64)),MATCH(D$5,Corresp!$A:$A,0)),Cycles!$1:$1,0)+WEEKDAY(D$5)-1))=0,"",INDIRECT("CYCLES!"&ADDRESS(MATCH($A50,Cycles!$B:$B,0),MATCH("semaine"&INDEX(INDIRECT("Corresp!"&CHAR(MID($AG50,7,1)+3+64)&":"&CHAR(MID($AG50,7,1)+3+64)),MATCH(D$5,Corresp!$A:$A,0)),Cycles!$1:$1,0)+WEEKDAY(D$5)-1)))) -> sem7 | E50: =IF(E$5="","",IF(INDIRECT("CYCLES!"&ADDRESS(MATCH($A50,Cycles!$B:$B,0),MATCH("semaine"&INDEX(INDIRECT("Corresp!"&CHAR(MID($AG50,7,1)+3+64)&":"&CHAR(MID($AG50,7,1)+3+64)),MATCH(E$5,Corresp!$A:$A,0)),Cycles!$1:$1,0)+WEEKDAY(E$5)-1))=0,"",INDIRECT("CYCLES!"&ADDRESS(MATCH($A50,Cycles!$B:$B,0),MATCH("semaine"&INDEX(INDIRECT("Corresp!"&CHAR(MID($AG50,7,1)+3+64)&":"&CHAR(MID($AG50,7,1)+3+64)),MATCH(E$5,Corresp!$A:$A,0)),Cycles!$1:$1,0)+WEEKDAY(E$5)-1)))) | F50: =IF(F$5="","",IF(INDIRECT("CYCLES!"&ADDRESS(MATCH($A50,Cycles!$B:$B,0),MATCH("semaine"&INDEX(INDIRECT("Corresp!"&CHAR(MID($AG50,7,1)+3+64)&":"&CHAR(MID($AG50,7,1)+3+64)),MATCH(F$5,Corresp!$A:$A,0)),Cycles!$1:$1,0)+WEEKDAY(F$5)-1))=0,"",INDIRECT("CYCLES!"&ADDRESS(MATCH($A50,Cycles!$B:$B,0),MATCH("semaine"&INDEX(INDIRECT("Corresp!"&CHAR(MID($AG50,7,1)+3+64)&":"&CHAR(MID($AG50,7,1)+3+64)),MATCH(F$5,Corresp!$A:$A,0)),Cycles!$1:$1,0)+WEEKDAY(F$5)-1)))) | G50: =IF(G$5="","",IF(INDIRECT("CYCLES!"&ADDRESS(MATCH($A50,Cycles!$B:$B,0),MATCH("semaine"&INDEX(INDIRECT("Corresp!"&CHAR(MID($AG50,7,1)+3+64)&":"&CHAR(MID($AG50,7,1)+3+64)),MATCH(G$5,Corresp!$A:$A,0)),Cycles!$1:$1,0)+WEEKDAY(G$5)-1))=0,"",INDIRECT("CYCLES!"&ADDRESS(MATCH($A50,Cycles!$B:$B,0),MATCH("semaine"&INDEX(INDIRECT("Corresp!"&CHAR(MID($AG50,7,1)+3+64)&":"&CHAR(MID($AG50,7,1)+3+64)),MATCH(G$5,Corresp!$A:$A,0)),Cycles!$1:$1,0)+WEEKDAY(G$5)-1)))) | H50: =IF(H$5="","",IF(INDIRECT("CYCLES!"&ADDRESS(MATCH($A50,Cycles!$B:$B,0),MATCH("semaine"&INDEX(INDIRECT("Corresp!"&CHAR(MID($AG50,7,1)+3+64)&":"&CHAR(MID($AG50,7,1)+3+64)),MATCH(H$5,Corresp!$A:$A,0)),Cycles!$1:$1,0)+WEEKDAY(H$5)-1))=0,"",INDIRECT("CYCLES!"&ADDRESS(MATCH($A50,Cycles!$B:$B,0),MATCH("semaine"&INDEX(INDIRECT("Corresp!"&CHAR(MID($AG50,7,1)+3+64)&":"&CHAR(MID($AG50,7,1)+3+64)),MATCH(H$5,Corresp!$A:$A,0)),Cycles!$1:$1,0)+WEEKDAY(H$5)-1)))) | I50: =IF(I$5="","",IF(INDIRECT("CYCLES!"&ADDRESS(MATCH($A50,Cycles!$B:$B,0),MATCH("semaine"&INDEX(INDIRECT("Corresp!"&CHAR(MID($AG50,7,1)+3+64)&":"&CHAR(MID($AG50,7,1)+3+64)),MATCH(I$5,Corresp!$A:$A,0)),Cycles!$1:$1,0)+WEEKDAY(I$5)-1))=0,"",INDIRECT("CYCLES!"&ADDRESS(MATCH($A50,Cycles!$B:$B,0),MATCH("semaine"&INDEX(INDIRECT("Corresp!"&CHAR(MID($AG50,7,1)+3+64)&":"&CHAR(MID($AG50,7,1)+3+64)),MATCH(I$5,Corresp!$A:$A,0)),Cycles!$1:$1,0)+WEEKDAY(I$5)-1)))) -> 19H-7H15 | ... AF50: =IF(AF$5="","",IF(INDIRECT("CYCLES!"&ADDRESS(MATCH($A50,Cycles!$B:$B,0),MATCH("semaine"&INDEX(INDIRECT("Corresp!"&CHAR(MID($AG50,7,1)+3+64)&":"&CHAR(MID($AG50,7,1)+3+64)),MATCH(AF$5,Corresp!$A:$A,0)),Cycles!$1:$1,0)+WEEKDAY(AF$5)-1))=0,"",INDIRECT("CYCLES!"&ADDRESS(MATCH($A50,Cycles!$B:$B,0),MATCH("semaine"&INDEX(INDIRECT("Corresp!"&CHAR(MID($AG50,7,1)+3+64)&":"&CHAR(MID($AG50,7,1)+3+64)),MATCH(AF$5,Corresp!$A:$A,0)),Cycles!$1:$1,0)+WEEKDAY(AF$5)-1)))) | AG50: Cycle 1 - 7
A53: =INDIRECT("Affectations!"&CHAR(64+MATCH($B$2,Affectations!$1:$1,0))&MATCH($A$49,Affectations!$A:$A,0)+INT(ROW()-50)/3) -> SUPERVILLE | B53: =IF(B$5="","",IF(INDIRECT("CYCLES!"&ADDRESS(MATCH($A53,Cycles!$B:$B,0),MATCH("semaine"&INDEX(INDIRECT("Corresp!"&CHAR(MID($AG53,7,1)+3+64)&":"&CHAR(MID($AG53,7,1)+3+64)),MATCH(B$5,Corresp!$A:$A,0)),Cycles!$1:$1,0)+WEEKDAY(B$5)-1))=0,"",INDIRECT("CYCLES!"&ADDRESS(MATCH($A53,Cycles!$B:$B,0),MATCH("semaine"&INDEX(INDIRECT("Corresp!"&CHAR(MID($AG53,7,1)+3+64)&":"&CHAR(MID($AG53,7,1)+3+64)),MATCH(B$5,Corresp!$A:$A,0)),Cycles!$1:$1,0)+WEEKDAY(B$5)-1)))) -> 19H-7H15 | C53: =IF(C$5="","",IF(INDIRECT("CYCLES!"&ADDRESS(MATCH($A53,Cycles!$B:$B,0),MATCH("semaine"&INDEX(INDIRECT("Corresp!"&CHAR(MID($AG53,7,1)+3+64)&":"&CHAR(MID($AG53,7,1)+3+64)),MATCH(C$5,Corresp!$A:$A,0)),Cycles!$1:$1,0)+WEEKDAY(C$5)-1))=0,"",INDIRECT("CYCLES!"&ADDRESS(MATCH($A53,Cycles!$B:$B,0),MATCH("semaine"&INDEX(INDIRECT("Corresp!"&CHAR(MID($AG53,7,1)+3+64)&":"&CHAR(MID($AG53,7,1)+3+64)),MATCH(C$5,Corresp!$A:$A,0)),Cycles!$1:$1,0)+WEEKDAY(C$5)-1)))) -> 19H-7H15 | D53: =IF(D$5="","",IF(INDIRECT("CYCLES!"&ADDRESS(MATCH($A53,Cycles!$B:$B,0),MATCH("semaine"&INDEX(INDIRECT("Corresp!"&CHAR(MID($AG53,7,1)+3+64)&":"&CHAR(MID($AG53,7,1)+3+64)),MATCH(D$5,Corresp!$A:$A,0)),Cycles!$1:$1,0)+WEEKDAY(D$5)-1))=0,"",INDIRECT("CYCLES!"&ADDRESS(MATCH($A53,Cycles!$B:$B,0),MATCH("semaine"&INDEX(INDIRECT("Corresp!"&CHAR(MID($AG53,7,1)+3+64)&":"&CHAR(MID($AG53,7,1)+3+64)),MATCH(D$5,Corresp!$A:$A,0)),Cycles!$1:$1,0)+WEEKDAY(D$5)-1)))) -> sem1 | E53: =IF(E$5="","",IF(INDIRECT("CYCLES!"&ADDRESS(MATCH($A53,Cycles!$B:$B,0),MATCH("semaine"&INDEX(INDIRECT("Corresp!"&CHAR(MID($AG53,7,1)+3+64)&":"&CHAR(MID($AG53,7,1)+3+64)),MATCH(E$5,Corresp!$A:$A,0)),Cycles!$1:$1,0)+WEEKDAY(E$5)-1))=0,"",INDIRECT("CYCLES!"&ADDRESS(MATCH($A53,Cycles!$B:$B,0),MATCH("semaine"&INDEX(INDIRECT("Corresp!"&CHAR(MID($AG53,7,1)+3+64)&":"&CHAR(MID($AG53,7,1)+3+64)),MATCH(E$5,Corresp!$A:$A,0)),Cycles!$1:$1,0)+WEEKDAY(E$5)-1)))) | F53: =IF(F$5="","",IF(INDIRECT("CYCLES!"&ADDRESS(MATCH($A53,Cycles!$B:$B,0),MATCH("semaine"&INDEX(INDIRECT("Corresp!"&CHAR(MID($AG53,7,1)+3+64)&":"&CHAR(MID($AG53,7,1)+3+64)),MATCH(F$5,Corresp!$A:$A,0)),Cycles!$1:$1,0)+WEEKDAY(F$5)-1))=0,"",INDIRECT("CYCLES!"&ADDRESS(MATCH($A53,Cycles!$B:$B,0),MATCH("semaine"&INDEX(INDIRECT("Corresp!"&CHAR(MID($AG53,7,1)+3+64)&":"&CHAR(MID($AG53,7,1)+3+64)),MATCH(F$5,Corresp!$A:$A,0)),Cycles!$1:$1,0)+WEEKDAY(F$5)-1)))) -> 19H-7H15 | G53: =IF(G$5="","",IF(INDIRECT("CYCLES!"&ADDRESS(MATCH($A53,Cycles!$B:$B,0),MATCH("semaine"&INDEX(INDIRECT("Corresp!"&CHAR(MID($AG53,7,1)+3+64)&":"&CHAR(MID($AG53,7,1)+3+64)),MATCH(G$5,Corresp!$A:$A,0)),Cycles!$1:$1,0)+WEEKDAY(G$5)-1))=0,"",INDIRECT("CYCLES!"&ADDRESS(MATCH($A53,Cycles!$B:$B,0),MATCH("semaine"&INDEX(INDIRECT("Corresp!"&CHAR(MID($AG53,7,1)+3+64)&":"&CHAR(MID($AG53,7,1)+3+64)),MATCH(G$5,Corresp!$A:$A,0)),Cycles!$1:$1,0)+WEEKDAY(G$5)-1)))) -> 19H-7H15 | H53: =IF(H$5="","",IF(INDIRECT("CYCLES!"&ADDRESS(MATCH($A53,Cycles!$B:$B,0),MATCH("semaine"&INDEX(INDIRECT("Corresp!"&CHAR(MID($AG53,7,1)+3+64)&":"&CHAR(MID($AG53,7,1)+3+64)),MATCH(H$5,Corresp!$A:$A,0)),Cycles!$1:$1,0)+WEEKDAY(H$5)-1))=0,"",INDIRECT("CYCLES!"&ADDRESS(MATCH($A53,Cycles!$B:$B,0),MATCH("semaine"&INDEX(INDIRECT("Corresp!"&CHAR(MID($AG53,7,1)+3+64)&":"&CHAR(MID($AG53,7,1)+3+64)),MATCH(H$5,Corresp!$A:$A,0)),Cycles!$1:$1,0)+WEEKDAY(H$5)-1)))) -> 19H-7H15 | I53: =IF(I$5="","",IF(INDIRECT("CYCLES!"&ADDRESS(MATCH($A53,Cycles!$B:$B,0),MATCH("semaine"&INDEX(INDIRECT("Corresp!"&CHAR(MID($AG53,7,1)+3+64)&":"&CHAR(MID($AG53,7,1)+3+64)),MATCH(I$5,Corresp!$A:$A,0)),Cycles!$1:$1,0)+WEEKDAY(I$5)-1))=0,"",INDIRECT("CYCLES!"&ADDRESS(MATCH($A53,Cycles!$B:$B,0),MATCH("semaine"&INDEX(INDIRECT("Corresp!"&CHAR(MID($AG53,7,1)+3+64)&":"&CHAR(MID($AG53,7,1)+3+64)),MATCH(I$5,Corresp!$A:$A,0)),Cycles!$1:$1,0)+WEEKDAY(I$5)-1)))) | ... AF53: =IF(AF$5="","",IF(INDIRECT("CYCLES!"&ADDRESS(MATCH($A53,Cycles!$B:$B,0),MATCH("semaine"&INDEX(INDIRECT("Corresp!"&CHAR(MID($AG53,7,1)+3+64)&":"&CHAR(MID($AG53,7,1)+3+64)),MATCH(AF$5,Corresp!$A:$A,0)),Cycles!$1:$1,0)+WEEKDAY(AF$5)-1))=0,"",INDIRECT("CYCLES!"&ADDRESS(MATCH($A53,Cycles!$B:$B,0),MATCH("semaine"&INDEX(INDIRECT("Corresp!"&CHAR(MID($AG53,7,1)+3+64)&":"&CHAR(MID($AG53,7,1)+3+64)),MATCH(AF$5,Corresp!$A:$A,0)),Cycles!$1:$1,0)+WEEKDAY(AF$5)-1)))) | AG53: Cycle 1 - 7
A56: =INDIRECT("Affectations!"&CHAR(64+MATCH($B$2,Affectations!$1:$1,0))&MATCH($A$49,Affectations!$A:$A,0)+INT(ROW()-50)/3) -> ERTLE | B56: =IF(B$5="","",IF(INDIRECT("CYCLES!"&ADDRESS(MATCH($A56,Cycles!$B:$B,0),MATCH("semaine"&INDEX(INDIRECT("Corresp!"&CHAR(MID($AG56,7,1)+3+64)&":"&CHAR(MID($AG56,7,1)+3+64)),MATCH(B$5,Corresp!$A:$A,0)),Cycles!$1:$1,0)+WEEKDAY(B$5)-1))=0,"",INDIRECT("CYCLES!"&ADDRESS(MATCH($A56,Cycles!$B:$B,0),MATCH("semaine"&INDEX(INDIRECT("Corresp!"&CHAR(MID($AG56,7,1)+3+64)&":"&CHAR(MID($AG56,7,1)+3+64)),MATCH(B$5,Corresp!$A:$A,0)),Cycles!$1:$1,0)+WEEKDAY(B$5)-1)))) | C56: =IF(C$5="","",IF(INDIRECT("CYCLES!"&ADDRESS(MATCH($A56,Cycles!$B:$B,0),MATCH("semaine"&INDEX(INDIRECT("Corresp!"&CHAR(MID($AG56,7,1)+3+64)&":"&CHAR(MID($AG56,7,1)+3+64)),MATCH(C$5,Corresp!$A:$A,0)),Cycles!$1:$1,0)+WEEKDAY(C$5)-1))=0,"",INDIRECT("CYCLES!"&ADDRESS(MATCH($A56,Cycles!$B:$B,0),MATCH("semaine"&INDEX(INDIRECT("Corresp!"&CHAR(MID($AG56,7,1)+3+64)&":"&CHAR(MID($AG56,7,1)+3+64)),MATCH(C$5,Corresp!$A:$A,0)),Cycles!$1:$1,0)+WEEKDAY(C$5)-1)))) | D56: =IF(D$5="","",IF(INDIRECT("CYCLES!"&ADDRESS(MATCH($A56,Cycles!$B:$B,0),MATCH("semaine"&INDEX(INDIRECT("Corresp!"&CHAR(MID($AG56,7,1)+3+64)&":"&CHAR(MID($AG56,7,1)+3+64)),MATCH(D$5,Corresp!$A:$A,0)),Cycles!$1:$1,0)+WEEKDAY(D$5)-1))=0,"",INDIRECT("CYCLES!"&ADDRESS(MATCH($A56,Cycles!$B:$B,0),MATCH("semaine"&INDEX(INDIRECT("Corresp!"&CHAR(MID($AG56,7,1)+3+64)&":"&CHAR(MID($AG56,7,1)+3+64)),MATCH(D$5,Corresp!$A:$A,0)),Cycles!$1:$1,0)+WEEKDAY(D$5)-1)))) | E56: =IF(E$5="","",IF(INDIRECT("CYCLES!"&ADDRESS(MATCH($A56,Cycles!$B:$B,0),MATCH("semaine"&INDEX(INDIRECT("Corresp!"&CHAR(MID($AG56,7,1)+3+64)&":"&CHAR(MID($AG56,7,1)+3+64)),MATCH(E$5,Corresp!$A:$A,0)),Cycles!$1:$1,0)+WEEKDAY(E$5)-1))=0,"",INDIRECT("CYCLES!"&ADDRESS(MATCH($A56,Cycles!$B:$B,0),MATCH("semaine"&INDEX(INDIRECT("Corresp!"&CHAR(MID($AG56,7,1)+3+64)&":"&CHAR(MID($AG56,7,1)+3+64)),MATCH(E$5,Corresp!$A:$A,0)),Cycles!$1:$1,0)+WEEKDAY(E$5)-1)))) | F56: =IF(F$5="","",IF(INDIRECT("CYCLES!"&ADDRESS(MATCH($A56,Cycles!$B:$B,0),MATCH("semaine"&INDEX(INDIRECT("Corresp!"&CHAR(MID($AG56,7,1)+3+64)&":"&CHAR(MID($AG56,7,1)+3+64)),MATCH(F$5,Corresp!$A:$A,0)),Cycles!$1:$1,0)+WEEKDAY(F$5)-1))=0,"",INDIRECT("CYCLES!"&ADDRESS(MATCH($A56,Cycles!$B:$B,0),MATCH("semaine"&INDEX(INDIRECT("Corresp!"&CHAR(MID($AG56,7,1)+3+64)&":"&CHAR(MID($AG56,7,1)+3+64)),MATCH(F$5,Corresp!$A:$A,0)),Cycles!$1:$1,0)+WEEKDAY(F$5)-1)))) | G56: =IF(G$5="","",IF(INDIRECT("CYCLES!"&ADDRESS(MATCH($A56,Cycles!$B:$B,0),MATCH("semaine"&INDEX(INDIRECT("Corresp!"&CHAR(MID($AG56,7,1)+3+64)&":"&CHAR(MID($AG56,7,1)+3+64)),MATCH(G$5,Corresp!$A:$A,0)),Cycles!$1:$1,0)+WEEKDAY(G$5)-1))=0,"",INDIRECT("CYCLES!"&ADDRESS(MATCH($A56,Cycles!$B:$B,0),MATCH("semaine"&INDEX(INDIRECT("Corresp!"&CHAR(MID($AG56,7,1)+3+64)&":"&CHAR(MID($AG56,7,1)+3+64)),MATCH(G$5,Corresp!$A:$A,0)),Cycles!$1:$1,0)+WEEKDAY(G$5)-1)))) | H56: =IF(H$5="","",IF(INDIRECT("CYCLES!"&ADDRESS(MATCH($A56,Cycles!$B:$B,0),MATCH("semaine"&INDEX(INDIRECT("Corresp!"&CHAR(MID($AG56,7,1)+3+64)&":"&CHAR(MID($AG56,7,1)+3+64)),MATCH(H$5,Corresp!$A:$A,0)),Cycles!$1:$1,0)+WEEKDAY(H$5)-1))=0,"",INDIRECT("CYCLES!"&ADDRESS(MATCH($A56,Cycles!$B:$B,0),MATCH("semaine"&INDEX(INDIRECT("Corresp!"&CHAR(MID($AG56,7,1)+3+64)&":"&CHAR(MID($AG56,7,1)+3+64)),MATCH(H$5,Corresp!$A:$A,0)),Cycles!$1:$1,0)+WEEKDAY(H$5)-1)))) | I56: =IF(I$5="","",IF(INDIRECT("CYCLES!"&ADDRESS(MATCH($A56,Cycles!$B:$B,0),MATCH("semaine"&INDEX(INDIRECT("Corresp!"&CHAR(MID($AG56,7,1)+3+64)&":"&CHAR(MID($AG56,7,1)+3+64)),MATCH(I$5,Corresp!$A:$A,0)),Cycles!$1:$1,0)+WEEKDAY(I$5)-1))=0,"",INDIRECT("CYCLES!"&ADDRESS(MATCH($A56,Cycles!$B:$B,0),MATCH("semaine"&INDEX(INDIRECT("Corresp!"&CHAR(MID($AG56,7,1)+3+64)&":"&CHAR(MID($AG56,7,1)+3+64)),MATCH(I$5,Corresp!$A:$A,0)),Cycles!$1:$1,0)+WEEKDAY(I$5)-1)))) | ... AF56: =IF(AF$5="","",IF(INDIRECT("CYCLES!"&ADDRESS(MATCH($A56,Cycles!$B:$B,0),MATCH("semaine"&INDEX(INDIRECT("Corresp!"&CHAR(MID($AG56,7,1)+3+64)&":"&CHAR(MID($AG56,7,1)+3+64)),MATCH(AF$5,Corresp!$A:$A,0)),Cycles!$1:$1,0)+WEEKDAY(AF$5)-1))=0,"",INDIRECT("CYCLES!"&ADDRESS(MATCH($A56,Cycles!$B:$B,0),MATCH("semaine"&INDEX(INDIRECT("Corresp!"&CHAR(MID($AG56,7,1)+3+64)&":"&CHAR(MID($AG56,7,1)+3+64)),MATCH(AF$5,Corresp!$A:$A,0)),Cycles!$1:$1,0)+WEEKDAY(AF$5)-1)))) | AG56: Cycle 1 - 7
A59: =INDIRECT("Affectations!"&CHAR(64+MATCH($B$2,Affectations!$1:$1,0))&MATCH($A$49,Affectations!$A:$A,0)+INT(ROW()-50)/3) -> REMPLACANT | B59: =IF(B$5="","",IF(INDIRECT("CYCLES!"&ADDRESS(MATCH($A59,Cycles!$B:$B,0),MATCH("semaine"&INDEX(INDIRECT("Corresp!"&CHAR(MID($AG59,7,1)+3+64)&":"&CHAR(MID($AG59,7,1)+3+64)),MATCH(B$5,Corresp!$A:$A,0)),Cycles!$1:$1,0)+WEEKDAY(B$5)-1))=0,"",INDIRECT("CYCLES!"&ADDRESS(MATCH($A59,Cycles!$B:$B,0),MATCH("semaine"&INDEX(INDIRECT("Corresp!"&CHAR(MID($AG59,7,1)+3+64)&":"&CHAR(MID($AG59,7,1)+3+64)),MATCH(B$5,Corresp!$A:$A,0)),Cycles!$1:$1,0)+WEEKDAY(B$5)-1)))) -> #N/A | C59: =IF(C$5="","",IF(INDIRECT("CYCLES!"&ADDRESS(MATCH($A59,Cycles!$B:$B,0),MATCH("semaine"&INDEX(INDIRECT("Corresp!"&CHAR(MID($AG59,7,1)+3+64)&":"&CHAR(MID($AG59,7,1)+3+64)),MATCH(C$5,Corresp!$A:$A,0)),Cycles!$1:$1,0)+WEEKDAY(C$5)-1))=0,"",INDIRECT("CYCLES!"&ADDRESS(MATCH($A59,Cycles!$B:$B,0),MATCH("semaine"&INDEX(INDIRECT("Corresp!"&CHAR(MID($AG59,7,1)+3+64)&":"&CHAR(MID($AG59,7,1)+3+64)),MATCH(C$5,Corresp!$A:$A,0)),Cycles!$1:$1,0)+WEEKDAY(C$5)-1)))) -> #N/A | D59: =IF(D$5="","",IF(INDIRECT("CYCLES!"&ADDRESS(MATCH($A59,Cycles!$B:$B,0),MATCH("semaine"&INDEX(INDIRECT("Corresp!"&CHAR(MID($AG59,7,1)+3+64)&":"&CHAR(MID($AG59,7,1)+3+64)),MATCH(D$5,Corresp!$A:$A,0)),Cycles!$1:$1,0)+WEEKDAY(D$5)-1))=0,"",INDIRECT("CYCLES!"&ADDRESS(MATCH($A59,Cycles!$B:$B,0),MATCH("semaine"&INDEX(INDIRECT("Corresp!"&CHAR(MID($AG59,7,1)+3+64)&":"&CHAR(MID($AG59,7,1)+3+64)),MATCH(D$5,Corresp!$A:$A,0)),Cycles!$1:$1,0)+WEEKDAY(D$5)-1)))) -> #N/A | E59: =IF(E$5="","",IF(INDIRECT("CYCLES!"&ADDRESS(MATCH($A59,Cycles!$B:$B,0),MATCH("semaine"&INDEX(INDIRECT("Corresp!"&CHAR(MID($AG59,7,1)+3+64)&":"&CHAR(MID($AG59,7,1)+3+64)),MATCH(E$5,Corresp!$A:$A,0)),Cycles!$1:$1,0)+WEEKDAY(E$5)-1))=0,"",INDIRECT("CYCLES!"&ADDRESS(MATCH($A59,Cycles!$B:$B,0),MATCH("semaine"&INDEX(INDIRECT("Corresp!"&CHAR(MID($AG59,7,1)+3+64)&":"&CHAR(MID($AG59,7,1)+3+64)),MATCH(E$5,Corresp!$A:$A,0)),Cycles!$1:$1,0)+WEEKDAY(E$5)-1)))) -> #N/A | F59: =IF(F$5="","",IF(INDIRECT("CYCLES!"&ADDRESS(MATCH($A59,Cycles!$B:$B,0),MATCH("semaine"&INDEX(INDIRECT("Corresp!"&CHAR(MID($AG59,7,1)+3+64)&":"&CHAR(MID($AG59,7,1)+3+64)),MATCH(F$5,Corresp!$A:$A,0)),Cycles!$1:$1,0)+WEEKDAY(F$5)-1))=0,"",INDIRECT("CYCLES!"&ADDRESS(MATCH($A59,Cycles!$B:$B,0),MATCH("semaine"&INDEX(INDIRECT("Corresp!"&CHAR(MID($AG59,7,1)+3+64)&":"&CHAR(MID($AG59,7,1)+3+64)),MATCH(F$5,Corresp!$A:$A,0)),Cycles!$1:$1,0)+WEEKDAY(F$5)-1)))) -> #N/A | G59: =IF(G$5="","",IF(INDIRECT("CYCLES!"&ADDRESS(MATCH($A59,Cycles!$B:$B,0),MATCH("semaine"&INDEX(INDIRECT("Corresp!"&CHAR(MID($AG59,7,1)+3+64)&":"&CHAR(MID($AG59,7,1)+3+64)),MATCH(G$5,Corresp!$A:$A,0)),Cycles!$1:$1,0)+WEEKDAY(G$5)-1))=0,"",INDIRECT("CYCLES!"&ADDRESS(MATCH($A59,Cycles!$B:$B,0),MATCH("semaine"&INDEX(INDIRECT("Corresp!"&CHAR(MID($AG59,7,1)+3+64)&":"&CHAR(MID($AG59,7,1)+3+64)),MATCH(G$5,Corresp!$A:$A,0)),Cycles!$1:$1,0)+WEEKDAY(G$5)-1)))) -> #N/A | H59: =IF(H$5="","",IF(INDIRECT("CYCLES!"&ADDRESS(MATCH($A59,Cycles!$B:$B,0),MATCH("semaine"&INDEX(INDIRECT("Corresp!"&CHAR(MID($AG59,7,1)+3+64)&":"&CHAR(MID($AG59,7,1)+3+64)),MATCH(H$5,Corresp!$A:$A,0)),Cycles!$1:$1,0)+WEEKDAY(H$5)-1))=0,"",INDIRECT("CYCLES!"&ADDRESS(MATCH($A59,Cycles!$B:$B,0),MATCH("semaine"&INDEX(INDIRECT("Corresp!"&CHAR(MID($AG59,7,1)+3+64)&":"&CHAR(MID($AG59,7,1)+3+64)),MATCH(H$5,Corresp!$A:$A,0)),Cycles!$1:$1,0)+WEEKDAY(H$5)-1)))) -> #N/A | I59: =IF(I$5="","",IF(INDIRECT("CYCLES!"&ADDRESS(MATCH($A59,Cycles!$B:$B,0),MATCH("semaine"&INDEX(INDIRECT("Corresp!"&CHAR(MID($AG59,7,1)+3+64)&":"&CHAR(MID($AG59,7,1)+3+64)),MATCH(I$5,Corresp!$A:$A,0)),Cycles!$1:$1,0)+WEEKDAY(I$5)-1))=0,"",INDIRECT("CYCLES!"&ADDRESS(MATCH($A59,Cycles!$B:$B,0),MATCH("semaine"&INDEX(INDIRECT("Corresp!"&CHAR(MID($AG59,7,1)+3+64)&":"&CHAR(MID($AG59,7,1)+3+64)),MATCH(I$5,Corresp!$A:$A,0)),Cycles!$1:$1,0)+WEEKDAY(I$5)-1)))) -> #N/A | ... AF59: =IF(AF$5="","",IF(INDIRECT("CYCLES!"&ADDRESS(MATCH($A59,Cycles!$B:$B,0),MATCH("semaine"&INDEX(INDIRECT("Corresp!"&CHAR(MID($AG59,7,1)+3+64)&":"&CHAR(MID($AG59,7,1)+3+64)),MATCH(AF$5,Corresp!$A:$A,0)),Cycles!$1:$1,0)+WEEKDAY(AF$5)-1))=0,"",INDIRECT("CYCLES!"&ADDRESS(MATCH($A59,Cycles!$B:$B,0),MATCH("semaine"&INDEX(INDIRECT("Corresp!"&CHAR(MID($AG59,7,1)+3+64)&":"&CHAR(MID($AG59,7,1)+3+64)),MATCH(AF$5,Corresp!$A:$A,0)),Cycles!$1:$1,0)+WEEKDAY(AF$5)-1)))) | AG59: Cycle 1 - 7
A62: =INDIRECT("Affectations!"&CHAR(64+MATCH($B$2,Affectations!$1:$1,0))&MATCH($A$49,Affectations!$A:$A,0)+INT(ROW()-50)/3) -> RENFORT | B62: =IF(B$5="","",IF(INDIRECT("CYCLES!"&ADDRESS(MATCH($A62,Cycles!$B:$B,0),MATCH("semaine"&INDEX(INDIRECT("Corresp!"&CHAR(MID($AG62,7,1)+3+64)&":"&CHAR(MID($AG62,7,1)+3+64)),MATCH(B$5,Corresp!$A:$A,0)),Cycles!$1:$1,0)+WEEKDAY(B$5)-1))=0,"",INDIRECT("CYCLES!"&ADDRESS(MATCH($A62,Cycles!$B:$B,0),MATCH("semaine"&INDEX(INDIRECT("Corresp!"&CHAR(MID($AG62,7,1)+3+64)&":"&CHAR(MID($AG62,7,1)+3+64)),MATCH(B$5,Corresp!$A:$A,0)),Cycles!$1:$1,0)+WEEKDAY(B$5)-1)))) -> #N/A | C62: =IF(C$5="","",IF(INDIRECT("CYCLES!"&ADDRESS(MATCH($A62,Cycles!$B:$B,0),MATCH("semaine"&INDEX(INDIRECT("Corresp!"&CHAR(MID($AG62,7,1)+3+64)&":"&CHAR(MID($AG62,7,1)+3+64)),MATCH(C$5,Corresp!$A:$A,0)),Cycles!$1:$1,0)+WEEKDAY(C$5)-1))=0,"",INDIRECT("CYCLES!"&ADDRESS(MATCH($A62,Cycles!$B:$B,0),MATCH("semaine"&INDEX(INDIRECT("Corresp!"&CHAR(MID($AG62,7,1)+3+64)&":"&CHAR(MID($AG62,7,1)+3+64)),MATCH(C$5,Corresp!$A:$A,0)),Cycles!$1:$1,0)+WEEKDAY(C$5)-1)))) -> #N/A | D62: =IF(D$5="","",IF(INDIRECT("CYCLES!"&ADDRESS(MATCH($A62,Cycles!$B:$B,0),MATCH("semaine"&INDEX(INDIRECT("Corresp!"&CHAR(MID($AG62,7,1)+3+64)&":"&CHAR(MID($AG62,7,1)+3+64)),MATCH(D$5,Corresp!$A:$A,0)),Cycles!$1:$1,0)+WEEKDAY(D$5)-1))=0,"",INDIRECT("CYCLES!"&ADDRESS(MATCH($A62,Cycles!$B:$B,0),MATCH("semaine"&INDEX(INDIRECT("Corresp!"&CHAR(MID($AG62,7,1)+3+64)&":"&CHAR(MID($AG62,7,1)+3+64)),MATCH(D$5,Corresp!$A:$A,0)),Cycles!$1:$1,0)+WEEKDAY(D$5)-1)))) -> #N/A | E62: =IF(E$5="","",IF(INDIRECT("CYCLES!"&ADDRESS(MATCH($A62,Cycles!$B:$B,0),MATCH("semaine"&INDEX(INDIRECT("Corresp!"&CHAR(MID($AG62,7,1)+3+64)&":"&CHAR(MID($AG62,7,1)+3+64)),MATCH(E$5,Corresp!$A:$A,0)),Cycles!$1:$1,0)+WEEKDAY(E$5)-1))=0,"",INDIRECT("CYCLES!"&ADDRESS(MATCH($A62,Cycles!$B:$B,0),MATCH("semaine"&INDEX(INDIRECT("Corresp!"&CHAR(MID($AG62,7,1)+3+64)&":"&CHAR(MID($AG62,7,1)+3+64)),MATCH(E$5,Corresp!$A:$A,0)),Cycles!$1:$1,0)+WEEKDAY(E$5)-1)))) -> #N/A | F62: =IF(F$5="","",IF(INDIRECT("CYCLES!"&ADDRESS(MATCH($A62,Cycles!$B:$B,0),MATCH("semaine"&INDEX(INDIRECT("Corresp!"&CHAR(MID($AG62,7,1)+3+64)&":"&CHAR(MID($AG62,7,1)+3+64)),MATCH(F$5,Corresp!$A:$A,0)),Cycles!$1:$1,0)+WEEKDAY(F$5)-1))=0,"",INDIRECT("CYCLES!"&ADDRESS(MATCH($A62,Cycles!$B:$B,0),MATCH("semaine"&INDEX(INDIRECT("Corresp!"&CHAR(MID($AG62,7,1)+3+64)&":"&CHAR(MID($AG62,7,1)+3+64)),MATCH(F$5,Corresp!$A:$A,0)),Cycles!$1:$1,0)+WEEKDAY(F$5)-1)))) -> #N/A | G62: =IF(G$5="","",IF(INDIRECT("CYCLES!"&ADDRESS(MATCH($A62,Cycles!$B:$B,0),MATCH("semaine"&INDEX(INDIRECT("Corresp!"&CHAR(MID($AG62,7,1)+3+64)&":"&CHAR(MID($AG62,7,1)+3+64)),MATCH(G$5,Corresp!$A:$A,0)),Cycles!$1:$1,0)+WEEKDAY(G$5)-1))=0,"",INDIRECT("CYCLES!"&ADDRESS(MATCH($A62,Cycles!$B:$B,0),MATCH("semaine"&INDEX(INDIRECT("Corresp!"&CHAR(MID($AG62,7,1)+3+64)&":"&CHAR(MID($AG62,7,1)+3+64)),MATCH(G$5,Corresp!$A:$A,0)),Cycles!$1:$1,0)+WEEKDAY(G$5)-1)))) -> #N/A | H62: =IF(H$5="","",IF(INDIRECT("CYCLES!"&ADDRESS(MATCH($A62,Cycles!$B:$B,0),MATCH("semaine"&INDEX(INDIRECT("Corresp!"&CHAR(MID($AG62,7,1)+3+64)&":"&CHAR(MID($AG62,7,1)+3+64)),MATCH(H$5,Corresp!$A:$A,0)),Cycles!$1:$1,0)+WEEKDAY(H$5)-1))=0,"",INDIRECT("CYCLES!"&ADDRESS(MATCH($A62,Cycles!$B:$B,0),MATCH("semaine"&INDEX(INDIRECT("Corresp!"&CHAR(MID($AG62,7,1)+3+64)&":"&CHAR(MID($AG62,7,1)+3+64)),MATCH(H$5,Corresp!$A:$A,0)),Cycles!$1:$1,0)+WEEKDAY(H$5)-1)))) -> #N/A | I62: =IF(I$5="","",IF(INDIRECT("CYCLES!"&ADDRESS(MATCH($A62,Cycles!$B:$B,0),MATCH("semaine"&INDEX(INDIRECT("Corresp!"&CHAR(MID($AG62,7,1)+3+64)&":"&CHAR(MID($AG62,7,1)+3+64)),MATCH(I$5,Corresp!$A:$A,0)),Cycles!$1:$1,0)+WEEKDAY(I$5)-1))=0,"",INDIRECT("CYCLES!"&ADDRESS(MATCH($A62,Cycles!$B:$B,0),MATCH("semaine"&INDEX(INDIRECT("Corresp!"&CHAR(MID($AG62,7,1)+3+64)&":"&CHAR(MID($AG62,7,1)+3+64)),MATCH(I$5,Corresp!$A:$A,0)),Cycles!$1:$1,0)+WEEKDAY(I$5)-1)))) -> #N/A | ... AF62: =IF(AF$5="","",IF(INDIRECT("CYCLES!"&ADDRESS(MATCH($A62,Cycles!$B:$B,0),MATCH("semaine"&INDEX(INDIRECT("Corresp!"&CHAR(MID($AG62,7,1)+3+64)&":"&CHAR(MID($AG62,7,1)+3+64)),MATCH(AF$5,Corresp!$A:$A,0)),Cycles!$1:$1,0)+WEEKDAY(AF$5)-1))=0,"",INDIRECT("CYCLES!"&ADDRESS(MATCH($A62,Cycles!$B:$B,0),MATCH("semaine"&INDEX(INDIRECT("Corresp!"&CHAR(MID($AG62,7,1)+3+64)&":"&CHAR(MID($AG62,7,1)+3+64)),MATCH(AF$5,Corresp!$A:$A,0)),Cycles!$1:$1,0)+WEEKDAY(AF$5)-1)))) | AG62: Cycle 1 - 7

Sheet Cycles
A1: CYCLES | C1: semaineA | J1: semaineB | Q1: semaineC | X1: semaineD | AE1: semaineE | AL1: semaineF | AS1: semaineG
A2: Cycle 1 -7 | C2: Dimanche | D2: Lundi | E2: Mardi | F2: Mercredi | G2: Jeudi | H2: Vendredi | I2: Samedi | J2: Dimanche | K2: Lundi | L2: Mardi | M2: Mercredi | N2: Jeudi | O2: Vendredi | P2: Samedi | Q2: Dimanche | R2: Lundi | S2: Mardi | T2: Mercredi | U2: Jeudi | V2: Vendredi | W2: Samedi | X2: Dimanche | Y2: Lundi | Z2: Mardi | AA2: Mercredi | AB2: Jeudi | AC2: Vendredi | AD2: Samedi | AE2: Dimanche | AF2: Lundi | AG2: Mardi | AH2: Mercredi | AI2: Jeudi | AJ2: Vendredi | AK2: Samedi | AL2: Dimanche | AM2: Lundi | AN2: Mardi | AO2: Mercredi | AP2: Jeudi | AQ2: Vendredi | AR2: Samedi | AS2: Dimanche | AT2: Lundi | AU2: Mardi | AV2: Mercredi | AW2: Jeudi | AX2: Vendredi | AY2: Samedi
B3: BERTHELEMY | D3: 19H-7H15 | E3: 19H-7H15 | F3: sem3 | H3: 19H-7H15 | I3: 19H-7H15 | J3: 19H-7H15 | L3: sem4 | M3: 19H-7H15 | N3: 19H-7H15 | R3: 19H-7H15 | S3: 19H-7H15 | T3: sem5 | V3: 19H-7H15 | W3: 19H-7H15 | X3: 19H-7H15 | Z3: sem6 | AA3: 19H-7H15 | AB3: 19H-7H15 | AH3: sem7 | AM3: 19H-7H15 | AN3: 19H-7H15 | AO3: sem1 | AQ3: 19H-7H15 | AR3: 19H-7H15 | AS3: 19H-7H15 | AU3: sem2 | AV3: 19H-7H15 | AW3: 19H-7H15
B4: BESSE | C4: 19H-7H15 | E4: sem2 | F4: 19H-7H15 | G4: 19H-7H15 | K4: 19H-7H15 | L4: 19H-7H15 | M4: sem3 | O4: 19H-7H15 | P4: 19H-7H15 | Q4: 19H-7H15 | S4: sem4 | T4: 19H-7H15 | U4: 19H-7H15 | Y4: 19H-7H15 | Z4: 19H-7H15 | AA4: sem5 | AC4: 19H-7H15 | AD4: 19H-7H15 | AE4: 19H-7H15 | AG4: sem6 | AH4: 19H-7H15 | AI4: 19H-7H15 | AO4: sem7 | AT4: 19H-7H15 | AU4: 19H-7H15 | AV4: sem1 | AX4: 19H-7H15 | AY4: 19H-7H15
B5: FREYCHET | C5: DVO | E5: sem4 | F5: DVO | G5: DVO | K5: SSR | L5: SSR | M5: sem5 | O5: SSR | P5: SSR | Q5: SSR | S5: sem6 | T5: SSR | U5: SSR | AA5: sem7 | AF5: ORTHO | AG5: ORTHO | AH5: sem1 | AJ5: ORTHO | AK5: ORTHO | AN5: sem2 | AO5: ORTHO | AP5: ORTHO | AT5: DVO | AU5: DVO | AV5: sem3 | AX5: DVO | AY5: DVO
B6: JESUS | C6: 19H-7H15 | E6: sem2 | F6: 19H-7H15 | G6: 19H-7H15 | K6: 19H-7H15 | L6: 19H-7H15 | M6: sem3 | O6: 19H-7H15 | P6: 19H-7H15 | Q6: 19H-7H15 | S6: sem4 | T6: 19H-7H15 | U6: 19H-7H15 | Y6: 19H-7H15 | Z6: 19H-7H15 | AA6: sem5 | AC6: 19H-7H15 | AD6: 19H-7H15 | AE6: 19H-7H15 | AG6: sem6 | AH6: 19H-7H15 | AI6: 19H-7H15 | AO6: sem7 | AT6: 19H-7H15 | AU6: 19H-7H15 | AV6: sem1 | AX6: 19H-7H15 | AY6: 19H-7H15
B7: CHAYRON | D7: 19H-7H15 | E7: 19H-7H15 | F7: sem1 | H7: 19H-7H15 | I7: 19H-7H15 | J7: 19H-7H15 | L7: sem2 | M7: 19H-7H15 | N7: 19H-7H15 | R7: 19H-7H15 | S7: 19H-7H15 | T7: sem3 | V7: 19H-7H15 | W7: 19H-7H15 | X7: 19H-7H15 | Z7: sem4 | AA7: 19H-7H15 | AB7: 19H-7H15 | AF7: 19H-7H15 | AG7: 19H-7H15 | AH7: sem5 | AJ7: 19H-7H15 | AK7: 19H-7H15 | AL7: 19H-7H15 | AN7: sem6 | AO7: 19H-7H15 | AP7: 19H-7H15 | AV7: sem7
B8: ERTLE
B9: GRABOT | D9: 19H-7H15 | E9: 19H-7H15 | F9: sem5 | H9: 19H-7H15 | I9: 19H-7H15 | J9: 19H-7H15 | L9: sem6 | M9: 19H-7H15 | N9: 19H-7H15 | T9: sem7 | Y9: 19H-7H15 | Z9: 19H-7H15 | AA9: sem1 | AC9: 19H-7H15 | AD9: 19H-7H15 | AE9: 19H-7H15 | AG9: sem2 | AH9: 19H-7H15 | AI9: 19H-7H15 | AM9: 19H-7H15 | AN9: 19H-7H15 | AO9: sem3 | AQ9: 19H-7H15 | AR9: 19H-7H15 | AS9: 19H-7H15 | AU9: sem4 | AV9: 19H-7H15 | AW9: 19H-7H15
B10: DIALLO | C10: 19H-7H15 | E10: sem6 | F10: 19H-7H15 | G10: 19H-7H15 | M10: sem7 | R10: 19H-7H15 | S10: 19H-7H15 | T10: sem1 | V10: 19H-7H15 | W10: 19H-7H15 | X10: 19H-7H15 | Z10: sem2 | AA10: 19H-7H15 | AB10: 19H-7H15 | AF10: 19H-7H15 | AG10: 19H-7H15 | AH10: sem3 | AJ10: 19H-7H15 | AK10: 19H-7H15 | AL10: 19H-7H15 | AN10: sem4 | AO10: 19H-7H15 | AP10: 19H-7H15 | AT10: 19H-7H15 | AU10: 19H-7H15 | AV10: sem5 | AX10: 19H-7H15 | AY10: 19H-7H15
B11: HAINAUT | D11: 19H-7H15 | E11: 19H-7H15 | F11: sem5 | H11: 19H-7H15 | I11: 19H-7H15 | J11: 19H-7H15 | L11: sem6 | M11: 19H-7H15 | N11: 19H-7H15 | T11: sem7 | Y11: 19H-7H15 | Z11: 19H-7H15 | AA11: sem1 | AC11: 19H-7H15 | AD11: 19H-7H15 | AE11: 19H-7H15 | AG11: sem2 | AH11: 19H-7H15 | AI11: 19H-7H15 | AM11: 19H-7H15 | AN11: 19H-7H15 | AO11: sem3 | AQ11: 19H-7H15 | AR11: 19H-7H15 | AS11: 19H-7H15 | AU11: sem4 | AV11: 19H-7H15 | AW11: 19H-7H15
B12: ALCAMO | C12: 19H-7H15 | E12: sem4 | F12: 19H-7H15 | G12: 19H-7H15 | K12: 19H-7H15 | L12: 19H-7H15 | M12: sem5 | O12: 19H-7H15 | P12: 19H-7H15 | Q12: 19H-7H15 | S12: sem6 | T12: 19H-7H15 | U12: 19H-7H15 | AA12: sem7 | AF12: 19H-7H15 | AG12: 19H-7H15 | AH12: sem1 | AJ12: 19H-7H15 | AK12: 19H-7H15 | AL12: 19H-7H15 | AN12: sem2 | AO12: 19H-7H15 | AP12: 19H-7H15 | AT12: 19H-7H15 | AU12: 19H-7H15 | AV12: sem3 | AX12: 19H-7H15 | AY12: 19H-7H15
B13: CORDEIRO | C13: 19H-7H15 | E13: sem6 | F13: 19H-7H15 | G13: 19H-7H15 | M13: sem7 | R13: 19H-7H15 | S13: 19H-7H15 | T13: sem1 | V13: 19H-7H15 | W13: 19H-7H15 | X13: 19H-7H15 | Z13: sem2 | AA13: 19H-7H15 | AB13: 19H-7H15 | AF13: 19H-7H15 | AG13: 19H-7H15 | AH13: sem3 | AJ13: 19H-7H15 | AK13: 19H-7H15 | AL13: 19H-7H15 | AN13: sem4 | AO13: 19H-7H15 | AP13: 19H-7H15 | AT13: 19H-7H15 | AU13: 19H-7H15 | AV13: sem5 | AX13: 19H-7H15 | AY13: 19H-7H15
B14: SUPERVILLE | F14: sem7 | K14: 19H-7H15 | L14: 19H-7H15 | M14: sem1 | O14: 19H-7H15 | P14: 19H-7H15 | Q14: 19H-7H15 | S14: sem2 | T14: 19H-7H15 | U14: 19H-7H15 | Y14: 19H-7H15 | Z14: 19H-7H15 | AA14: sem3 | AC14: 19H-7H15 | AD14: 19H-7H15 | AE14: 19H-7H15 | AG14: sem4 | AH14: 19H-7H15 | AI14: 19H-7H15 | AM14: 19H-7H15 | AN14: 19H-7H15 | AO14: sem5 | AQ14: 19H-7H15 | AR14: 19H-7H15 | AS14: 19H-7H15 | AU14: sem6 | AV14: 19H-7H15 | AW14: 19H-7H15
B15: IMBERT | D15: 19H-7H15 | E15: 19H-7H15 | F15: sem1 | H15: 19H-7H15 | I15: 19H-7H15 | J15: 19H-7H15 | L15: sem2 | M15: 19H-7H15 | N15: 19H-7H15 | R15: 19H-7H15 | S15: 19H-7H15 | T15: sem3 | V15: 19H-7H15 | W15: 19H-7H15 | X15: 19H-7H15 | Z15: sem4 | AA15: 19H-7H15 | AB15: 19H-7H15 | AF15: 19H-7H15 | AG15: 19H-7H15 | AH15: sem5 | AJ15: 19H-7H15 | AK15: 19H-7H15 | AL15: 19H-7H15 | AN15: sem6 | AO15: 19H-7H15 | AP15: 19H-7H15 | AV15: sem7
B16: RENAUDET | F16: sem7 | K16: 19H-7H15 | L16: 19H-7H15 | M16: sem1 | O16: 19H-7H15 | P16: 19H-7H15 | Q16: 19H-7H15 | S16: sem2 | T16: 19H-7H15 | U16: 19H-7H15 | Y16: 19H-7H15 | Z16: 19H-7H15 | AA16: sem3 | AC16: 19H-7H15 | AD16: 19H-7H15 | AE16: 19H-7H15 | AG16: sem4 | AH16: 19H-7H15 | AI16: 19H-7H15 | AM16: 19H-7H15 | AN16: 19H-7H15 | AO16: sem5 | AQ16: 19H-7H15 | AR16: 19H-7H15 | AS16: 19H-7H15 | AU16: sem6 | AV16: 19H-7H15 | AW16: 19H-7H15
A17: Cycle 2 - 2
B18: TALON | D18: 7H-19H15 | F18: sem1 | H18: 7H-19H15 | I18: 7H-19H15 | J18: 7H-19H15 | L18: sem2 | M18: 7H-19H15 | N18: 7H-19H15
B19: GARIN | C19: 7H-19H15 | E19: sem2 | F19: 7H-19H15 | G19: 7H-19H15 | K19: 7H-19H15 | M19: sem1 | O19: 7H-19H15 | P19: 7H-19H15
B20: QAOUSS | E20: 7H-19H15 | F20: sem2 | I20: 7H-19H15 | J20: 7H-19H15 | K20: 7H-19H15 | M20: sem1 | N20: 7H-19H15 | O20: 7H-19H15
B21: DE OLIVEIRA | C21: 7H-19H15 | D21: 7H-19H15 | F21: sem1 | G21: 7H-19H15 | H21: 7H-19H15 | L21: 7H-19H15 | M21: sem2 | P21: 7H-19H15
B22: LANDROZ | D22: 7H-19H15 | E22: sem1 | H22: 7H-19H15 | I22: 7H-19H15 | J22: 7H-19H15 | L22: sem2 | M22: 7H-19H15 | N22: 7H-19H15
B23: VANIANBOURG | C23: 7H-19H15 | E23: sem2 | F23: 7H-19H15 | G23: 7H-19H15 | K23: 7H-19H15 | M23: sem1 | O23: 7H-19H15 | P23: 7H-19H15
B24: FAUCHERIE | E24: 19H-7H15 | F24: 19H-7H15 | G24: sem1 | I24: 19H-7H15 | J24: 19H-7H15 | L24: sem2 | N24: 19H-7H15 | O24: 19H-7H15
B25: ROSSI | C25: 19H-7H15 | E25: sem2 | G25: 19H-7H15 | H25: 19H-7H15 | L25: 19H-7H15 | M25: 19H-7H15 | N25: sem1 | P25: 7h-19h15
B26: BOUNAMY | D26: 7H-19H15 | E26: 7H-19H15 | F26: sem2 | G26: 7H-19H15 | L26: 7H-19H15 | M26: 7H-19H15 | N26: sem1 | O26: 7H-19H15
B27: WACK | E27: 7H-19H15 | F27: 7H-19H15 | G27: sem1 | H27: 7H-19H15 | K27: 7H-19H15 | L27: 7H-19H15 | M27: sem2 | N27: 7H-19H15
B28: ZUMETA | E28: sem2 | F28: 15H-20H | G28: 7H15-19H15 | H28: 7H15-19H15 | I28: 7H15-16H30 | K28: sem1 | L28: 7H15-19H15 | M28: 7H15-19H15 | N28: 15H-20H | O28: 15H-20H
B29: ROUQUAT | D29: sem1 | E29: 7H15-19H15 | F29: 7H15-19H15 | G29: 15H-20H | H29: 15H-20H | L29: sem2 | M29: 15H-20H | N29: 7H15-19H15 | O29: 7H15-19H15 | P29: 7H15-16H30
B30: RODRIGUER | D30: MED 19H-7H15 | E30: 19H45-8H | F30: sem1 | H30: 19H45-8H | K30: 19H45-8H | L30: sem2 | M30: 19H45-8H | N30: 19H45-8H
B31: MASSIAS | D31: 19H45-8H | E31: sem2 | F31: 19H45-8H | G31: 19H45-8H | K31: MED 19H-7H15 | L31: 19H45-8H | M31: sem1 | O31: 19H45-8H
B32: MARCHAL | D32: 9H-20H | E32: 9H-20H | F32: sem1 | L32: sem2 | N32: 9H-20H
B33: CASANOVAS | E33: sem1 | F33: 9H-20H | G33: 9H-20H | H33: 9H-20H | K33: 9H-20H | L33: 9H-20H | M33: 9H-20H | N33: sem2 | O33: 9H-20H
B34: HAFFAF | E34: 7H-19H15 | F34: sem2 | H34: 7H-19H15 | I34: 7H-19H15 | J34: 7H-19H15 | L34: sem1 | M34: 7H-19H15 | N34: 7H-19H15
B35: CHAZEAU | C35: 7H-19H15 | E35: sem1 | F35: 7H-19H15 | G35: 7H-19H15 | L35: 7H-19H15 | M35: sem2 | O35: 7H-19H15 | P35: 7H-19H15
A36: Cycle 3 - 3
B37: AUBERTIN | D37: 7H-16H55 | E37: 7H-16H55 | F37: sem1 | G37: 7H-16H55 | H37: 7H-16H55 | K37: sem2 | L37: 7H30-19H45 | M37: 7H30-19H45 | O37: 7H30-19H45 | R37: 7H30-19H45 | S37: sem3 | T37: 7H-16H55 | U37: 7H30-19H45
B38: DA SILVA | D38: sem2 | E38: 7H30-19H45 | F38: 7H30-19H45 | H38: 7H30-19H45 | K38: 7H30-19H45 | L38: sem2 | M38: 7H-16H55 | N38: 7H30-19H45 | R38: 7H-16H55 | S38: 7H-16H55 | T38: sem2 | U38: 7H-16H55 | V38: 7H-16H55
B39: CLOUTE | D39: 7H30-19H45 | E39: sem3 | F39: 7H-16H55 | G39: 7H30-19H45 | K39: 7H-16H55 | L39: 7H-16H55 | M39: sem1 | N39: 7H-16H55 | O39: 7H-16H55 | S39: 7H30-19H45 | T39: 7H30-19H45 | U39: sem3 | V39: 7H30-19H45
B40: BINOT | D40: 7H30-19H45 | E40: sem3 | F40: 7H-16H55 | G40: 7H30-19H45 | K40: 7H-16H55 | L40: 7H-16H55 | M40: sem1 | N40: 7H-16H55 | O40: 7H-16H55 | S40: 7H30-19H45 | T40: 7H30-19H45 | U40: sem3 | V40: 7H30-19H45
A41: Cycle 4 - 4
B42: BOULOGNE | E42: sem3 | H42: 7H-19H15 | I42: 7H-19H15 | J42: 7H-19H15 | L42: sem4 | M42: 7H-19H15 | N42: 7H-19H15 | R42: sem1 | S42: 7H-19H15 | T42: 7H-19H15 | W42: 7H-19H15 | X42: 7H-19H15 | Y42: 7H-19H15 | Z42: sem2 | AB42: 7H-19H15 | AC42: 7H-19H15
B43: GALLAIS | C43: 7H-19H15 | E43: sem4 | F43: 7H-19H15 | G43: 7H-19H15 | K43: sem1 | L43: 7H-19H15 | M43: 7H-19H15 | P43: 7H-19H15 | Q43: 7H-19H15 | S43: sem4 | T43: 7H-19H15 | U43: 7H-19H15 | Y43: sem1 | Z43: 7H-19H15 | AA43: 7H-19H15 | AD43: 7H-19H15
B44: BOUNECHAR | D44: sem1 | E44: 7H-19H15 | F44: 7H-19H15 | I44: 7H-19H15 | J44: 7H-19H15 | K44: 7H-19H15 | L44: sem2 | N44: 7H-19H15 | O44: 7H-19H15 | S44: sem3 | V44: 7H-19H15 | W44: 7H-19H15 | X44: 7H-19H15 | Z44: sem4 | AA44: 7H-19H15 | AB44: 7H-19H15
B45: PLANTEY | C45: 7H-19H15 | E45: sem4 | F45: 7H-19H15 | G45: 7H-19H15 | K45: sem1 | L45: 7H-19H15 | M45: 7H-19H15 | P45: 7H-19H15 | Q45: 7H-19H15 | S45: sem4 | T45: 7H-19H15 | U45: 7H-19H15 | Y45: sem1 | Z45: 7H-19H15 | AA45: 7H-19H15 | AD45: 7H-19H15
A46: Cycle 5 - 5
B47: VIDEAU | C47: sem5 | D47: SSR | J47: sem1 | L47: 7H-19H15 | M47: 7H-19H15 | P47: 7H-19H15 | Q47: 7H-19H15 | R47: 7H-19H15 | S47: sem2 | U47: 7H-19H15 | V47: 7H-19H15 | X47: sem3 | Z47: 7H-19H15 | AA47: 7H-19H15 | AD47: 7H-19H15 | AE47: 7H-19H15 | AF47: 7H-19H15 | AG47: sem4 | AI47: 7H-19H15 | AJ47: 7H-19H15
B48: REY | C48: sem1 | E48: 7H-19H15 | F48: 7H-19H15 | I48: 7H-19H15 | J48: 7H-19H15 | K48: 7H-19H15 | L48: sem2 | N48: 7H-19H15 | O48: 7H-19H15 | Q48: sem3 | S48: 7H-19H15 | T48: 7H-19H15 | W48: 7H-19H15 | X48: 7H-19H15 | Y48: 7H-19H15 | Z48: sem4 | AB48: 7H-19H15 | AC48: 7H-19H15 | AE48: sem5 | AF48: SSR
B49: CANTELAUBE | C49: sem3 | D49: 7H-19H15 | E49: 7H-19H15 | H49: 7H-19H15 | I49: 7H-19H15 | J49: 7H-19H15 | K49: sem4 | M49: 7H-19H15 | N49: 7H-19H15 | Q49: sem5 | R49: PEDIA | X49: sem1 | Y49: 7H-19H15 | Z49: 7H-19H15 | AC49: 7H-19H15 | AD49: 7H-19H15 | AE49: 7H-19H15 | AF49: sem2 | AH49: 7H-19H15 | AI49: 7H-19H15
B50: GOUX | C50: 7H-19H15 | D50: sem4 | F50: 7H-19H15 | G50: 7H-19H15 | J50: sem5 | K50: PEDIA | Q50: sem1 | R50: 7H-19H15 | S50: 7H-19H15 | V50: 7H-19H15 | W50: 7H-19H15 | X50: 7H-19H15 | Y50: sem2 | AA50: 7H-19H15 | AB50: 7H-19H15 | AE50: sem3 | AF50: 7H-19H15 | AG50: 7H-19H15 | AJ50: 7H-19H15 | AK50: 7H-19H15
B51: BELKADI | C51: sem1 | D51: 7H-19H15 | E51: 7H-19H15 | H51: 7H-19H15 | I51: 7H-19H15 | J51: 7H-19H15 | K51: sem2 | M51: 7H-19H15 | N51: 7H-19H15 | Q51: sem3 | R51: 7H-19H15 | S51: 7H-19H15 | V51: 7H-19H15 | W51: 7H-19H15 | X51: 7H-19H15 | Y51: sem4 | AA51: 7H-19H15 | AB51: 7H-19H15 | AE51: sem5 | AF51: PEDIA
B52: LEREBOURG | C52: sem5 | D52: PEDIA | J52: sem1 | K52: 7H-19H15 | L52: 7H-19H15 | O52: 7H-19H15 | P52: 7H-19H15 | Q52: 7H-19H15 | R52: sem2 | T52: 7H-19H15 | U52: 7H-19H15 | X52: sem3 | Y52: 7H-19H15 | Z52: 7H-19H15 | AC52: 7H-19H15 | AD52: 7H-19H15 | AE52: 7H-19H15 | AF52: sem4 | AH52: 7H-19H15 | AI52: 7H-19H15
B53: CAVENA | C53: 7H-19H15 | D53: sem2 | F53: 7H-19H15 | G53: 7H-19H15 | J53: sem3 | K53: 7H-19H15 | L53: 7H-19H15 | O53: 7H-19H15 | P53: 7H-19H15 | Q53: 7H-19H15 | R53: sem4 | T53: 7H-19H15 | U53: 7H-19H15 | X53: sem5 | Y53: PEDIA | AE53: sem1 | AF53: 7H-19H15 | AG53: 7H-19H15 | AJ53: 7H-19H15 | AK53: 7H-19H15
B54: GIRAUDEAU | C54: sem3 | D54: 7H-19H15 | E54: 7H-19H15 | H54: 7H-19H15 | I54: 7H-19H15 | J54: 7H-19H15 | K54: sem4 | M54: 7H-19H15 | N54: 7H-19H15 | Q54: sem5 | R54: PEDIA | X54: sem1 | Y54: 7H-19H15 | Z54: 7H-19H15 | AC54: 7H-19H15 | AD54: 7H-19H15 | AE54: 7H-19H15 | AF54: sem2 | AH54: 7H-19H15 | AI54: 7H-19H15
A55: Cycle 6 - 1
B56: DELFORNO | D56: 19H-7H15 | E56: 19H-7H15 | F56: 19H-7H15
B57: JOUBERT | F57: 19H-7H15 | G57: 19H-7H15 | H57: 19H-7H15
B58: CAZEAU | D58: 7H-14H30 | E58: 7H-14H30 | F58: 7H-14H30 | G58: 7H-14H30 | H58: 7H-14H30
B59: MORASSIN | D59: MED | E59: MED | F59: MED | G59: ORTHO
B60: FRAGA | E60: 8h-14h | F60: 8h-15h | G60: 8h-13h
B61: BARNETCHE | D61: SSR | E61: MED | G61: SSR/ 5,83 | H61: SSR /5,83
B62: LANGLOIS | D62: 7H-12H50 | E62: 7H-12H50 | F62: 7H-12H50
B63: GABA | D63: MED | G63: PEDIA
A64: Cycle 7 - 7
B65: LASSALE-BAREILLE | G65: 7h-19h15 | N65: 7h-19h15 | U65: 7h-19h15 | AB65: 7h-19h15 | AI65: 7h-19h15 | AP65: 7h-19h15 | AW65: 7h-19h15
B66: GABRIEL | F66: 7h-19h15 | M66: 7h-19h15 | T66: 7h-19h15 | AA66: 7h-19h15 | AH66: 7h-19h15 | AO66: 7h-19h15 | AV66: 7h-19h15
B78: DECORBIN | C78: DVO | E78: sem2 | F78: DVO | G78: DVO | K78: ORTHO | L78: ORTHO | M78: sem3 | O78: ORTHO | P78: ORTHO | Q78: ORTHO | S78: sem4 | T78: ORTHO | U78: ORTHO | Y78: PEDIA | AA78: sem5 | AF78: DVO | AG78: DVO | AI78: sem1 | AJ78: DVO | AK78: DVO | AL78: DVO | AN78: sem2 | AO78: DVO | AP78: DVO | AT78: ORTHO | AU78: ORTHO | AV78: sem3 | AX78: ORTHO | AY78: ORTHO
B79: PASCAL | C79: ORTHO | D79: ORTHO | F79: sem4 | G79: ORTHO | H79: ORTHO | K79: SSR | M79: sem5 | S79: DVO | T79: sem1 | V79: DVO | W79: DVO | X79: DVO | Y79: DVO | AB79: DVO | AC79: DVO | AD79: sem2 | AG79: ORTHO | AH79: ORTHO | AI79: sem3 | AK79: ORTHO | AL79: ORTHO | AM79: ORTHO | AO79: sem4 | AP79: ORTHO | AQ79: ORTHO | AT79: SSR
B80: MULLER | D80: 19h-7h15 | E80: sem1 | F80: 19h-7h15 | G80: 19h-7h15 | K80: 19h7h15 | L80: 19h7h15 | M80: 19h7h15 | N80: sem2 | R80: 19h-7h15 | S80: sem1 | T80: 19h-7h15 | U80: 19h-7h15 | Y80: 19h7h15 | Z80: 19h7h15 | AA80: 19h7h15 | AB80: sem2 | AF80: 19h-7h15 | AG80: sem1 | AH80: 19h-7h15 | AI80: 19h-7h15 | AM80: 19h7h15 | AN80: 19h7h15 | AO80: 19h7h15 | AP80: sem2 | AT80: 19h-7h15 | AU80: sem1 | AV80: 19h-7h15 | AW80: 19h-7h15

Sheet Corresp
A1: Dates | B1: Jour | C1: Jour Semaine | D1: Cycle 1 - 7 | E1: Cycle 2 - 2 | F1: Cycle 3 - 3 | G1: Cycle 4 - 4 | H1: Cycle 5 - 5 | I1: Cycle 6 - 1 | J1: Cycle 7 - 7 | K1: Cycle 8 - 3 | L1: Cycle 9 - 3
A2: =DATE(Trame!$C$1,1,1) -> 42005 | B2: =WEEKDAY(A2,2) -> 4 | C2: =CHOOSE(WEEKDAY(A2,2),"Lundi","Mardi","Mercredi","Jeudi","Vendredi","Samedi","Dimanche") -> Jeudi | D2: =CHAR((MOD(WEEKNUM($A2)-1,VALUE(RIGHT(D$1,1)))+1)+64) -> A | E2: =CHAR((MOD(WEEKNUM($A2)-1,VALUE(RIGHT(E$1,1)))+1)+64) -> A | F2: =CHAR((MOD(WEEKNUM($A2)-1,VALUE(RIGHT(F$1,1)))+1)+64) -> A | G2: =CHAR((MOD(WEEKNUM($A2)-1,VALUE(RIGHT(G$1,1)))+1)+64) -> A | H2: =CHAR((MOD(WEEKNUM($A2)-1,VALUE(RIGHT(H$1,1)))+1)+64) -> A | I2: =CHAR((MOD(WEEKNUM($A2)-1,VALUE(RIGHT(I$1,1)))+1)+64) -> A | J2: =CHAR((MOD(WEEKNUM($A2)-1,VALUE(RIGHT(J$1,1)))+1)+64) -> A | K2: =CHAR((MOD(WEEKNUM($A2)-1,VALUE(RIGHT(K$1,1)))+1)+64) -> A | L2: =CHAR((MOD(WEEKNUM($A2)-1,VALUE(RIGHT(L$1,1)))+1)+64) -> A
A3: =A2+1 -> 42006 | B3: =WEEKDAY(A3,2) -> 5 | C3: =CHOOSE(WEEKDAY(A3,2),"Lundi","Mardi","Mercredi","Jeudi","Vendredi","Samedi","Dimanche") -> Vendredi | D3: =CHAR((MOD(WEEKNUM($A3)-1,VALUE(RIGHT(D$1,1)))+1)+64) -> A | E3: =CHAR((MOD(WEEKNUM($A3)-1,VALUE(RIGHT(E$1,1)))+1)+64) -> A | F3: =CHAR((MOD(WEEKNUM($A3)-1,VALUE(RIGHT(F$1,1)))+1)+64) -> A | G3: =CHAR((MOD(WEEKNUM($A3)-1,VALUE(RIGHT(G$1,1)))+1)+64) -> A | H3: =CHAR((MOD(WEEKNUM($A3)-1,VALUE(RIGHT(H$1,1)))+1)+64) -> A | I3: =CHAR((MOD(WEEKNUM($A3)-1,VALUE(RIGHT(I$1,1)))+1)+64) -> A | J3: =CHAR((MOD(WEEKNUM($A3)-1,VALUE(RIGHT(J$1,1)))+1)+64) -> A | K3: =CHAR((MOD(WEEKNUM($A3)-1,VALUE(RIGHT(K$1,1)))+1)+64) -> A | L3: =CHAR((MOD(WEEKNUM($A3)-1,VALUE(RIGHT(L$1,1)))+1)+64) -> A
A4: =A3+1 -> 42007 | B4: =WEEKDAY(A4,2) -> 6 | C4: =CHOOSE(WEEKDAY(A4,2),"Lundi","Mardi","Mercredi","Jeudi","Vendredi","Samedi","Dimanche") -> Samedi | D4: =CHAR((MOD(WEEKNUM($A4)-1,VALUE(RIGHT(D$1,1)))+1)+64) -> A | E4: =CHAR((MOD(WEEKNUM($A4)-1,VALUE(RIGHT(E$1,1)))+1)+64) -> A | F4: =CHAR((MOD(WEEKNUM($A4)-1,VALUE(RIGHT(F$1,1)))+1)+64) -> A | G4: =CHAR((MOD(WEEKNUM($A4)-1,VALUE(RIGHT(G$1,1)))+1)+64) -> A | H4: =CHAR((MOD(WEEKNUM($A4)-1,VALUE(RIGHT(H$1,1)))+1)+64) -> A | I4: =CHAR((MOD(WEEKNUM($A4)-1,VALUE(RIGHT(I$1,1)))+1)+64) -> A | J4: =CHAR((MOD(WEEKNUM($A4)-1,VALUE(RIGHT(J$1,1)))+1)+64) -> A | K4: =CHAR((MOD(WEEKNUM($A4)-1,VALUE(RIGHT(K$1,1)))+1)+64) -> A | L4: =CHAR((MOD(WEEKNUM($A4)-1,VALUE(RIGHT(L$1,1)))+1)+64) -> A
A5: =A4+1 -> 42008 | B5: =WEEKDAY(A5,2) -> 7 | C5: =CHOOSE(WEEKDAY(A5,2),"Lundi","Mardi","Mercredi","Jeudi","Vendredi","Samedi","Dimanche") -> Dimanche | D5: =CHAR((MOD(WEEKNUM($A5)-1,VALUE(RIGHT(D$1,1)))+1)+64) -> B | E5: =CHAR((MOD(WEEKNUM($A5)-1,VALUE(RIGHT(E$1,1)))+1)+64) -> B | F5: =CHAR((MOD(WEEKNUM($A5)-1,VALUE(RIGHT(F$1,1)))+1)+64) -> B | G5: =CHAR((MOD(WEEKNUM($A5)-1,VALUE(RIGHT(G$1,1)))+1)+64) -> B | H5: =CHAR((MOD(WEEKNUM($A5)-1,VALUE(RIGHT(H$1,1)))+1)+64) -> B | I5: =CHAR((MOD(WEEKNUM($A5)-1,VALUE(RIGHT(I$1,1)))+1)+64) -> A | J5: =CHAR((MOD(WEEKNUM($A5)-1,VALUE(RIGHT(J$1,1)))+1)+64) -> B | K5: =CHAR((MOD(WEEKNUM($A5)-1,VALUE(RIGHT(K$1,1)))+1)+64) -> B | L5: =CHAR((MOD(WEEKNUM($A5)-1,VALUE(RIGHT(L$1,1)))+1)+64) -> B
A6: =A5+1 -> 42009 | B6: =WEEKDAY(A6,2) -> 1 | C6: =CHOOSE(WEEKDAY(A6,2),"Lundi","Mardi","Mercredi","Jeudi","Vendredi","Samedi","Dimanche") -> Lundi | D6: =CHAR((MOD(WEEKNUM($A6)-1,VALUE(RIGHT(D$1,1)))+1)+64) -> B | E6: =CHAR((MOD(WEEKNUM($A6)-1,VALUE(RIGHT(E$1,1)))+1)+64) -> B | F6: =CHAR((MOD(WEEKNUM($A6)-1,VALUE(RIGHT(F$1,1)))+1)+64) -> B | G6: =CHAR((MOD(WEEKNUM($A6)-1,VALUE(RIGHT(G$1,1)))+1)+64) -> B | H6: =CHAR((MOD(WEEKNUM($A6)-1,VALUE(RIGHT(H$1,1)))+1)+64) -> B | I6: =CHAR((MOD(WEEKNUM($A6)-1,VALUE(RIGHT(I$1,1)))+1)+64) -> A | J6: =CHAR((MOD(WEEKNUM($A6)-1,VALUE(RIGHT(J$1,1)))+1)+64) -> B | K6: =CHAR((MOD(WEEKNUM($A6)-1,VALUE(RIGHT(K$1,1)))+1)+64) -> B | L6: =CHAR((MOD(WEEKNUM($A6)-1,VALUE(RIGHT(L$1,1)))+1)+64) -> B
A7: =A6+1 -> 42010 | B7: =WEEKDAY(A7,2) -> 2 | C7: =CHOOSE(WEEKDAY(A7,2),"Lundi","Mardi","Mercredi","Jeudi","Vendredi","Samedi","Dimanche") -> Mardi | D7: =CHAR((MOD(WEEKNUM($A7)-1,VALUE(RIGHT(D$1,1)))+1)+64) -> B | E7: =CHAR((MOD(WEEKNUM($A7)-1,VALUE(RIGHT(E$1,1)))+1)+64) -> B | F7: =CHAR((MOD(WEEKNUM($A7)-1,VALUE(RIGHT(F$1,1)))+1)+64) -> B | G7: =CHAR((MOD(WEEKNUM($A7)-1,VALUE(RIGHT(G$1,1)))+1)+64) -> B | H7: =CHAR((MOD(WEEKNUM($A7)-1,VALUE(RIGHT(H$1,1)))+1)+64) -> B | I7: =CHAR((MOD(WEEKNUM($A7)-1,VALUE(RIGHT(I$1,1)))+1)+64) -> A | J7: =CHAR((MOD(WEEKNUM($A7)-1,VALUE(RIGHT(J$1,1)))+1)+64) -> B | K7: =CHAR((MOD(WEEKNUM($A7)-1,VALUE(RIGHT(K$1,1)))+1)+64) -> B | L7: =CHAR((MOD(WEEKNUM($A7)-1,VALUE(RIGHT(L$1,1)))+1)+64) -> B
A8: =A7+1 -> 42011 | B8: =WEEKDAY(A8,2) -> 3 | C8: =CHOOSE(WEEKDAY(A8,2),"Lundi","Mardi","Mercredi","Jeudi","Vendredi","Samedi","Dimanche") -> Mercredi | D8: =CHAR((MOD(WEEKNUM($A8)-1,VALUE(RIGHT(D$1,1)))+1)+64) -> B | E8: =CHAR((MOD(WEEKNUM($A8)-1,VALUE(RIGHT(E$1,1)))+1)+64) -> B | F8: =CHAR((MOD(WEEKNUM($A8)-1,VALUE(RIGHT(F$1,1)))+1)+64) -> B | G8: =CHAR((MOD(WEEKNUM($A8)-1,VALUE(RIGHT(G$1,1)))+1)+64) -> B | H8: =CHAR((MOD(WEEKNUM($A8)-1,VALUE(RIGHT(H$1,1)))+1)+64) -> B | I8: =CHAR((MOD(WEEKNUM($A8)-1,VALUE(RIGHT(I$1,1)))+1)+64) -> A | J8: =CHAR((MOD(WEEKNUM($A8)-1,VALUE(RIGHT(J$1,1)))+1)+64) -> B | K8: =CHAR((MOD(WEEKNUM($A8)-1,VALUE(RIGHT(K$1,1)))+1)+64) -> B | L8: =CHAR((MOD(WEEKNUM($A8)-1,VALUE(RIGHT(L$1,1)))+1)+64) -> B
A9: =A8+1 -> 42012 | B9: =WEEKDAY(A9,2) -> 4 | C9: =CHOOSE(WEEKDAY(A9,2),"Lundi","Mardi","Mercredi","Jeudi","Vendredi","Samedi","Dimanche") -> Jeudi | D9: =CHAR((MOD(WEEKNUM($A9)-1,VALUE(RIGHT(D$1,1)))+1)+64) -> B | E9: =CHAR((MOD(WEEKNUM($A9)-1,VALUE(RIGHT(E$1,1)))+1)+64) -> B | F9: =CHAR((MOD(WEEKNUM($A9)-1,VALUE(RIGHT(F$1,1)))+1)+64) -> B | G9: =CHAR((MOD(WEEKNUM($A9)-1,VALUE(RIGHT(G$1,1)))+1)+64) -> B | H9: =CHAR((MOD(WEEKNUM($A9)-1,VALUE(RIGHT(H$1,1)))+1)+64) -> B | I9: =CHAR((MOD(WEEKNUM($A9)-1,VALUE(RIGHT(I$1,1)))+1)+64) -> A | J9: =CHAR((MOD(WEEKNUM($A9)-1,VALUE(RIGHT(J$1,1)))+1)+64) -> B | K9: =CHAR((MOD(WEEKNUM($A9)-1,VALUE(RIGHT(K$1,1)))+1)+64) -> B | L9: =CHAR((MOD(WEEKNUM($A9)-1,VALUE(RIGHT(L$1,1)))+1)+64) -> B
A10: =A9+1 -> 42013 | B10: =WEEKDAY(A10,2) -> 5 | C10: =CHOOSE(WEEKDAY(A10,2),"Lundi","Mardi","Mercredi","Jeudi","Vendredi","Samedi","Dimanche") -> Vendredi | D10: =CHAR((MOD(WEEKNUM($A10)-1,VALUE(RIGHT(D$1,1)))+1)+64) -> B | E10: =CHAR((MOD(WEEKNUM($A10)-1,VALUE(RIGHT(E$1,1)))+1)+64) -> B | F10: =CHAR((MOD(WEEKNUM($A10)-1,VALUE(RIGHT(F$1,1)))+1)+64) -> B | G10: =CHAR((MOD(WEEKNUM($A10)-1,VALUE(RIGHT(G$1,1)))+1)+64) -> B | H10: =CHAR((MOD(WEEKNUM($A10)-1,VALUE(RIGHT(H$1,1)))+1)+64) -> B | I10: =CHAR((MOD(WEEKNUM($A10)-1,VALUE(RIGHT(I$1,1)))+1)+64) -> A | J10: =CHAR((MOD(WEEKNUM($A10)-1,VALUE(RIGHT(J$1,1)))+1)+64) -> B | K10: =CHAR((MOD(WEEKNUM($A10)-1,VALUE(RIGHT(K$1,1)))+1)+64) -> B | L10: =CHAR((MOD(WEEKNUM($A10)-1,VALUE(RIGHT(L$1,1)))+1)+64) -> B
A11: =A10+1 -> 42014 | B11: =WEEKDAY(A11,2) -> 6 | C11: =CHOOSE(WEEKDAY(A11,2),"Lundi","Mardi","Mercredi","Jeudi","Vendredi","Samedi","Dimanche") -> Samedi | D11: =CHAR((MOD(WEEKNUM($A11)-1,VALUE(RIGHT(D$1,1)))+1)+64) -> B | E11: =CHAR((MOD(WEEKNUM($A11)-1,VALUE(RIGHT(E$1,1)))+1)+64) -> B | F11: =CHAR((MOD(WEEKNUM($A11)-1,VALUE(RIGHT(F$1,1)))+1)+64) -> B | G11: =CHAR((MOD(WEEKNUM($A11)-1,VALUE(RIGHT(G$1,1)))+1)+64) -> B | H11: =CHAR((MOD(WEEKNUM($A11)-1,VALUE(RIGHT(H$1,1)))+1)+64) -> B | I11: =CHAR((MOD(WEEKNUM($A11)-1,VALUE(RIGHT(I$1,1)))+1)+64) -> A | J11: =CHAR((MOD(WEEKNUM($A11)-1,VALUE(RIGHT(J$1,1)))+1)+64) -> B | K11: =CHAR((MOD(WEEKNUM($A11)-1,VALUE(RIGHT(K$1,1)))+1)+64) -> B | L11: =CHAR((MOD(WEEKNUM($A11)-1,VALUE(RIGHT(L$1,1)))+1)+64) -> B
A12: =A11+1 -> 42015 | B12: =WEEKDAY(A12,2) -> 7 | C12: =CHOOSE(WEEKDAY(A12,2),"Lundi","Mardi","Mercredi","Jeudi","Vendredi","Samedi","Dimanche") -> Dimanche | D12: =CHAR((MOD(WEEKNUM($A12)-1,VALUE(RIGHT(D$1,1)))+1)+64) -> C | E12: =CHAR((MOD(WEEKNUM($A12)-1,VALUE(RIGHT(E$1,1)))+1)+64) -> A | F12: =CHAR((MOD(WEEKNUM($A12)-1,VALUE(RIGHT(F$1,1)))+1)+64) -> C | G12: =CHAR((MOD(WEEKNUM($A12)-1,VALUE(RIGHT(G$1,1)))+1)+64) -> C | H12: =CHAR((MOD(WEEKNUM($A12)-1,VALUE(RIGHT(H$1,1)))+1)+64) -> C | I12: =CHAR((MOD(WEEKNUM($A12)-1,VALUE(RIGHT(I$1,1)))+1)+64) -> A | J12: =CHAR((MOD(WEEKNUM($A12)-1,VALUE(RIGHT(J$1,1)))+1)+64) -> C | K12: =CHAR((MOD(WEEKNUM($A12)-1,VALUE(RIGHT(K$1,1)))+1)+64) -> C | L12: =CHAR((MOD(WEEKNUM($A12)-1,VALUE(RIGHT(L$1,1)))+1)+64) -> C
A13: =A12+1 -> 42016 | B13: =WEEKDAY(A13,2) -> 1 | C13: =CHOOSE(WEEKDAY(A13,2),"Lundi","Mardi","Mercredi","Jeudi","Vendredi","Samedi","Dimanche") -> Lundi | D13: =CHAR((MOD(WEEKNUM($A13)-1,VALUE(RIGHT(D$1,1)))+1)+64) -> C | E13: =CHAR((MOD(WEEKNUM($A13)-1,VALUE(RIGHT(E$1,1)))+1)+64) -> A | F13: =CHAR((MOD(WEEKNUM($A13)-1,VALUE(RIGHT(F$1,1)))+1)+64) -> C | G13: =CHAR((MOD(WEEKNUM($A13)-1,VALUE(RIGHT(G$1,1)))+1)+64) -> C | H13: =CHAR((MOD(WEEKNUM($A13)-1,VALUE(RIGHT(H$1,1)))+1)+64) -> C | I13: =CHAR((MOD(WEEKNUM($A13)-1,VALUE(RIGHT(I$1,1)))+1)+64) -> A | J13: =CHAR((MOD(WEEKNUM($A13)-1,VALUE(RIGHT(J$1,1)))+1)+64) -> C | K13: =CHAR((MOD(WEEKNUM($A13)-1,VALUE(RIGHT(K$1,1)))+1)+64) -> C | L13: =CHAR((MOD(WEEKNUM($A13)-1,VALUE(RIGHT(L$1,1)))+1)+64) -> C
A14: =A13+1 -> 42017 | B14: =WEEKDAY(A14,2) -> 2 | C14: =CHOOSE(WEEKDAY(A14,2),"Lundi","Mardi","Mercredi","Jeudi","Vendredi","Samedi","Dimanche") -> Mardi | D14: =CHAR((MOD(WEEKNUM($A14)-1,VALUE(RIGHT(D$1,1)))+1)+64) -> C | E14: =CHAR((MOD(WEEKNUM($A14)-1,VALUE(RIGHT(E$1,1)))+1)+64) -> A | F14: =CHAR((MOD(WEEKNUM($A14)-1,VALUE(RIGHT(F$1,1)))+1)+64) -> C | G14: =CHAR((MOD(WEEKNUM($A14)-1,VALUE(RIGHT(G$1,1)))+1)+64) -> C | H14: =CHAR((MOD(WEEKNUM($A14)-1,VALUE(RIGHT(H$1,1)))+1)+64) -> C | I14: =CHAR((MOD(WEEKNUM($A14)-1,VALUE(RIGHT(I$1,1)))+1)+64) -> A | J14: =CHAR((MOD(WEEKNUM($A14)-1,VALUE(RIGHT(J$1,1)))+1)+64) -> C | K14: =CHAR((MOD(WEEKNUM($A14)-1,VALUE(RIGHT(K$1,1)))+1)+64) -> C | L14: =CHAR((MOD(WEEKNUM($A14)-1,VALUE(RIGHT(L$1,1)))+1)+64) -> C
... A366: =A365+1 -> 42369 | B366: =WEEKDAY(A366,2) -> 4 | C366: =CHOOSE(WEEKDAY(A366,2),"Lundi","Mardi","Mercredi","Jeudi","Vendredi","Samedi","Dimanche") -> Jeudi | D366: =CHAR((MOD(WEEKNUM($A366)-1,VALUE(RIGHT(D$1,1)))+1)+64) -> D | E366: =CHAR((MOD(WEEKNUM($A366)-1,VALUE(RIGHT(E$1,1)))+1)+64) -> A | F366: =CHAR((MOD(WEEKNUM($A366)-1,VALUE(RIGHT(F$1,1)))+1)+64) -> B | G366: =CHAR((MOD(WEEKNUM($A366)-1,VALUE(RIGHT(G$1,1)))+1)+64) -> A | H366: =CHAR((MOD(WEEKNUM($A366)-1,VALUE(RIGHT(H$1,1)))+1)+64) -> C | I366: =CHAR((MOD(WEEKNUM($A366)-1,VALUE(RIGHT(I$1,1)))+1)+64) -> A | J366: =CHAR((MOD(WEEKNUM($A366)-1,VALUE(RIGHT(J$1,1)))+1)+64) -> D | K366: =CHAR((MOD(WEEKNUM($A366)-1,VALUE(RIGHT(K$1,1)))+1)+64) -> B | L366: =CHAR((MOD(WEEKNUM($A366)-1,VALUE(RIGHT(L$1,1)))+1)+64) -> B

Sheet Validation
A1: Cycles | B1: Personnel | C1: Services | D1: Assignations
A2: Cycle 1 - 7 | B2: ALCAMO | C2: Médecine + Chimio | D2: IDE JOUR
A3: Cycle 2 - 2 | B3: AUBERTIN | C3: DVO | D3: IDE NUIT
A4: Cycle 3 - 3 | B4: BARNETCHE | C4: SSR | D4: ASD JOUR
A5: Cycle 4 - 4 | B5: BELKADI | C5: Sommeil + SAS | D5: ASD NUIT
A6: Cycle 5 - 5 | B6: BERTHELEMY | C6: ORTHOPEDIE
A7: Cycle 6 - 1 | B7: BESSE | C7: PEDIATRIE
A8: Cycle 7 - 7 | B8: BINOT | C8: AMBULATOIRE
A9: Cycle 8 - 3 | B9: BOULOGNE | C9: Chimio
A10: Cycle 9 - 3 | B10: BOUNAMY | C10: SAS
B11: BOUNECHAR
B12: CANTELAUBE
B13: CASANOVAS
B14: CAVENA
B15: CAZEAU
B16: CHAYRON
B17: CHAZEAU
B18: CLOUTE
B19: CORDEIRO
B20: DA SILVA
B21: DE OLIVEIRA
B22: DECORBIN
... B64: RENFORT
