Workbook

Sheet Feuil1
A4: N° Ordre | B4: Colonne1 | C4: Date | D4: N° Facture | E4: Client | F4: Feuille BEA | G4: Feuille BNP | H4: Feuille CAS | I4: Synthèse
D5: 12/307 | F5: =INDEX(INDIRECT(RIGHT(F$4,3)&"!G5:G19"),MATCH(D5,INDIRECT(RIGHT(F$4,3)&"!D5:D19"),0)) -> 0 | G5: =INDEX(INDIRECT(RIGHT(G$4,3)&"!G5:G19"),MATCH(D5,INDIRECT(RIGHT(G$4,3)&"!D5:D19"),0)) -> 0 | H5: =INDEX(INDIRECT(RIGHT(H$4,3)&"!G5:G19"),MATCH(D5,INDIRECT(RIGHT(H$4,3)&"!D5:D19"),0)) -> A6B6C6 | I5: =IF(ISNA(VLOOKUP(Feuil1!E5,CAS!D:D,1,FALSE)),"",CAS!$A$2)
D6: 12/124 | F6: =INDEX(INDIRECT(RIGHT(F$4,3)&"!G5:G19"),MATCH(D6,INDIRECT(RIGHT(F$4,3)&"!D5:D19"),0)) -> 0 | G6: =INDEX(INDIRECT(RIGHT(G$4,3)&"!G5:G19"),MATCH(D6,INDIRECT(RIGHT(G$4,3)&"!D5:D19"),0)) -> 0 | H6: =INDEX(INDIRECT(RIGHT(H$4,3)&"!G5:G19"),MATCH(D6,INDIRECT(RIGHT(H$4,3)&"!D5:D19"),0)) -> 0 | I6: =IF(ISNA(VLOOKUP(Feuil1!E6,CAS!D:D,1,FALSE)),"",CAS!$A$2)
D7: 15/118 | F7: =INDEX(INDIRECT(RIGHT(F$4,3)&"!G5:G19"),MATCH(D7,INDIRECT(RIGHT(F$4,3)&"!D5:D19"),0)) -> 0 | G7: =INDEX(INDIRECT(RIGHT(G$4,3)&"!G5:G19"),MATCH(D7,INDIRECT(RIGHT(G$4,3)&"!D5:D19"),0)) -> DEFGH | H7: =INDEX(INDIRECT(RIGHT(H$4,3)&"!G5:G19"),MATCH(D7,INDIRECT(RIGHT(H$4,3)&"!D5:D19"),0)) -> 0 | I7: =IF(ISNA(VLOOKUP(Feuil1!E7,CAS!D:D,1,FALSE)),"",CAS!$A$2)
D8: 15/119 | F8: =INDEX(INDIRECT(RIGHT(F$4,3)&"!G5:G19"),MATCH(D8,INDIRECT(RIGHT(F$4,3)&"!D5:D19"),0)) -> 0 | G8: =INDEX(INDIRECT(RIGHT(G$4,3)&"!G5:G19"),MATCH(D8,INDIRECT(RIGHT(G$4,3)&"!D5:D19"),0)) -> 0 | H8: =INDEX(INDIRECT(RIGHT(H$4,3)&"!G5:G19"),MATCH(D8,INDIRECT(RIGHT(H$4,3)&"!D5:D19"),0)) -> A4B4C4 | I8: =IF(ISNA(VLOOKUP(Feuil1!E8,CAS!D:D,1,FALSE)),"",CAS!$A$2)
D9: 15/116 | F9: =INDEX(INDIRECT(RIGHT(F$4,3)&"!G5:G19"),MATCH(D9,INDIRECT(RIGHT(F$4,3)&"!D5:D19"),0)) -> 0 | G9: =INDEX(INDIRECT(RIGHT(G$4,3)&"!G5:G19"),MATCH(D9,INDIRECT(RIGHT(G$4,3)&"!D5:D19"),0)) -> 0 | H9: =INDEX(INDIRECT(RIGHT(H$4,3)&"!G5:G19"),MATCH(D9,INDIRECT(RIGHT(H$4,3)&"!D5:D19"),0)) -> A3B3C3 | I9: =IF(ISNA(VLOOKUP(Feuil1!E9,CAS!D:D,1,FALSE)),"",CAS!$A$2)
D10: 15/120 | F10: =INDEX(INDIRECT(RIGHT(F$4,3)&"!G5:G19"),MATCH(D10,INDIRECT(RIGHT(F$4,3)&"!D5:D19"),0)) -> 1234 | G10: =INDEX(INDIRECT(RIGHT(G$4,3)&"!G5:G19"),MATCH(D10,INDIRECT(RIGHT(G$4,3)&"!D5:D19"),0)) -> 0 | H10: =INDEX(INDIRECT(RIGHT(H$4,3)&"!G5:G19"),MATCH(D10,INDIRECT(RIGHT(H$4,3)&"!D5:D19"),0)) -> 0 | I10: =IF(ISNA(VLOOKUP(Feuil1!E10,CAS!D:D,1,FALSE)),"",CAS!$A$2)
D11: 12/106 | F11: =INDEX(INDIRECT(RIGHT(F$4,3)&"!G5:G19"),MATCH(D11,INDIRECT(RIGHT(F$4,3)&"!D5:D19"),0)) -> 0 | G11: =INDEX(INDIRECT(RIGHT(G$4,3)&"!G5:G19"),MATCH(D11,INDIRECT(RIGHT(G$4,3)&"!D5:D19"),0)) -> 0 | H11: =INDEX(INDIRECT(RIGHT(H$4,3)&"!G5:G19"),MATCH(D11,INDIRECT(RIGHT(H$4,3)&"!D5:D19"),0)) -> A5B5C5 | I11: =IF(ISNA(VLOOKUP(Feuil1!E11,CAS!D:D,1,FALSE)),"",CAS!$A$2)
D12: 15/070 | F12: =INDEX(INDIRECT(RIGHT(F$4,3)&"!G5:G19"),MATCH(D12,INDIRECT(RIGHT(F$4,3)&"!D5:D19"),0)) -> 0 | G12: =INDEX(INDIRECT(RIGHT(G$4,3)&"!G5:G19"),MATCH(D12,INDIRECT(RIGHT(G$4,3)&"!D5:D19"),0)) -> ABCDE | H12: =INDEX(INDIRECT(RIGHT(H$4,3)&"!G5:G19"),MATCH(D12,INDIRECT(RIGHT(H$4,3)&"!D5:D19"),0)) -> 0 | I12: =IF(ISNA(VLOOKUP(Feuil1!E12,CAS!D:D,1,FALSE)),"",CAS!$A$2)
D13: 15/115 | F13: =INDEX(INDIRECT(RIGHT(F$4,3)&"!G5:G19"),MATCH(D13,INDIRECT(RIGHT(F$4,3)&"!D5:D19"),0)) -> 2345 | G13: =INDEX(INDIRECT(RIGHT(G$4,3)&"!G5:G19"),MATCH(D13,INDIRECT(RIGHT(G$4,3)&"!D5:D19"),0)) -> 0 | H13: =INDEX(INDIRECT(RIGHT(H$4,3)&"!G5:G19"),MATCH(D13,INDIRECT(RIGHT(H$4,3)&"!D5:D19"),0)) -> 0 | I13: =IF(ISNA(VLOOKUP(Feuil1!E13,CAS!D:D,1,FALSE)),"",CAS!$A$2)
D14: 14/467 | F14: =INDEX(INDIRECT(RIGHT(F$4,3)&"!G5:G19"),MATCH(D14,INDIRECT(RIGHT(F$4,3)&"!D5:D19"),0)) -> 0 | G14: =INDEX(INDIRECT(RIGHT(G$4,3)&"!G5:G19"),MATCH(D14,INDIRECT(RIGHT(G$4,3)&"!D5:D19"),0)) -> BCDEF | H14: =INDEX(INDIRECT(RIGHT(H$4,3)&"!G5:G19"),MATCH(D14,INDIRECT(RIGHT(H$4,3)&"!D5:D19"),0)) -> 0 | I14: =IF(ISNA(VLOOKUP(Feuil1!E14,CAS!D:D,1,FALSE)),"",CAS!$A$2)
D15: 15/121 | F15: =INDEX(INDIRECT(RIGHT(F$4,3)&"!G5:G19"),MATCH(D15,INDIRECT(RIGHT(F$4,3)&"!D5:D19"),0)) -> 3456 | G15: =INDEX(INDIRECT(RIGHT(G$4,3)&"!G5:G19"),MATCH(D15,INDIRECT(RIGHT(G$4,3)&"!D5:D19"),0)) -> 0 | H15: =INDEX(INDIRECT(RIGHT(H$4,3)&"!G5:G19"),MATCH(D15,INDIRECT(RIGHT(H$4,3)&"!D5:D19"),0)) -> 0 | I15: =IF(ISNA(VLOOKUP(Feuil1!E15,CAS!D:D,1,FALSE)),"",CAS!$A$2)
D16: 15/122 | F16: =INDEX(INDIRECT(RIGHT(F$4,3)&"!G5:G19"),MATCH(D16,INDIRECT(RIGHT(F$4,3)&"!D5:D19"),0)) -> 0 | G16: =INDEX(INDIRECT(RIGHT(G$4,3)&"!G5:G19"),MATCH(D16,INDIRECT(RIGHT(G$4,3)&"!D5:D19"),0)) -> CDEFG | H16: =INDEX(INDIRECT(RIGHT(H$4,3)&"!G5:G19"),MATCH(D16,INDIRECT(RIGHT(H$4,3)&"!D5:D19"),0)) -> 0 | I16: =IF(ISNA(VLOOKUP(Feuil1!E16,CAS!D:D,1,FALSE)),"",CAS!$A$2)
... D19: 15/117 | F19: =INDEX(INDIRECT(RIGHT(F$4,3)&"!G5:G19"),MATCH(D19,INDIRECT(RIGHT(F$4,3)&"!D5:D19"),0)) -> 0 | G19: =INDEX(INDIRECT(RIGHT(G$4,3)&"!G5:G19"),MATCH(D19,INDIRECT(RIGHT(G$4,3)&"!D5:D19"),0)) -> 0 | H19: =INDEX(INDIRECT(RIGHT(H$4,3)&"!G5:G19"),MATCH(D19,INDIRECT(RIGHT(H$4,3)&"!D5:D19"),0)) -> 0 | I19: =IF(ISNA(VLOOKUP(Feuil1!E19,CAS!D:D,1,FALSE)),"",CAS!$A$2)
F23: 3 FORMULES A FUSIONNER EN 1 SEULE EN COLONNE I
F24: Les formules sont dans les plages F5:F19, G5:G19 et H5:H19
F26: =INDEX(BEA!$G$5:$G$19;EQUIV(D26;BEA!$D$5:$D$19;0))
F28: =INDEX(BNP!$G$5:$G$19;EQUIV(C28;BNP!$D$5:$D$19;0))
F30: =INDEX(CAS!$G$5:$G$19;EQUIV(B30;CAS!$D$5:$D$19;0))

Sheet BEA
B1: BEA
A4: N° Ordre | B4: Colonne1 | C4: Colonne2 | D4: N° Facture | E4: Colonne3 | F4: Colonne4 | G4: Réf. Paiement
D5: 15/120 | G5: 1234
D6: 12/106
D7: 15/070
D8: 15/115 | G8: 2345
D9: 15/116
D10: 12/307
D11: 12/124
D12: 14/467
D13: 15/121 | G13: 3456
D14: 15/122
D15: 15/123
D16: 15/124 | G16: 4567
D17: 15/117
D18: 15/118
D19: 15/119

Sheet BNP
B1: BNP
A4: N° Ordre | B4: Colonne1 | C4: Colonne2 | D4: N° Facture | E4: Colonne3 | F4: Colonne4 | G4: Réf. Paiement
D5: 12/106
D6: 15/070 | G6: ABCDE
D7: 12/307
D8: 12/124
D9: 14/467 | G9: BCDEF
D10: 15/120
D11: 15/121
D12: 15/122 | G12: CDEFG
D13: 15/123
D14: 15/124
D15: 15/115
D16: 15/116
D17: 15/117
D18: 15/118 | G18: DEFGH
D19: 15/119
E607: 17.05-41
E608: -1190
E609: =#REF!+E608 -> #REF!

Sheet CAS
B1: CAS
A4: N° Ordre | B4: Colonne1 | C4: Colonne2 | D4: N° Facture | E4: Colonne3 | F4: Colonne4 | G4: Réf. Paiement
D5: 15/119 | G5: A4B4C4
D6: 15/120
D7: 15/121
D8: 15/122
D9: 15/123 | G9: A2B2C2
D10: 15/124 | G10: A1B1C1
D11: 15/116 | G11: A3B3C3
D12: 15/117
D13: 15/118
D14: 14/467
D15: 12/106 | G15: A5B5C5
D16: 15/070
D17: 15/115
D18: 12/307 | G18: A6B6C6
D19: 12/124
