Workbook

Sheet Présence
B2: Semaine | C2: 2
B4: Jour | C4: Date | D4: Présence Paul | E4: Présence Jack
B5: Lundi | C5: =INDEX(Date!$B$1:$B$22,MATCH($C$2,Date!$A$1:$A$22,0)) -> 42009 | D5: =SUMPRODUCT((Date!$A$2:$A$22=Présence!$C$2)*(WEEKDAY(Date!$B$2:$B$22,2)=ROW()-4)*(Date!$C$2:$C$22)) -> 3 | E5: =SUMPRODUCT((Date!$A$2:$A$22=Présence!$C$2)*(WEEKDAY(Date!$B$2:$B$22,2)=ROW()-4)*(Date!$D$2:$D$22)) -> 1
B6: Mardi | C6: =C5+1 -> 42010 | D6: =SUMPRODUCT((Date!$A$2:$A$22=Présence!$C$2)*(WEEKDAY(Date!$B$2:$B$22,2)=ROW()-4)*(Date!$C$2:$C$22)) -> 4 | E6: =SUMPRODUCT((Date!$A$2:$A$22=Présence!$C$2)*(WEEKDAY(Date!$B$2:$B$22,2)=ROW()-4)*(Date!$D$2:$D$22)) -> 7
B7: Mercredi | C7: =C6+1 -> 42011 | D7: =SUMPRODUCT((Date!$A$2:$A$22=Présence!$C$2)*(WEEKDAY(Date!$B$2:$B$22,2)=ROW()-4)*(Date!$C$2:$C$22)) -> 5 | E7: =SUMPRODUCT((Date!$A$2:$A$22=Présence!$C$2)*(WEEKDAY(Date!$B$2:$B$22,2)=ROW()-4)*(Date!$D$2:$D$22)) -> 2
B8: Jeudi | C8: =C7+1 -> 42012 | D8: =SUMPRODUCT((Date!$A$2:$A$22=Présence!$C$2)*(WEEKDAY(Date!$B$2:$B$22,2)=ROW()-4)*(Date!$C$2:$C$22)) -> 6 | E8: =SUMPRODUCT((Date!$A$2:$A$22=Présence!$C$2)*(WEEKDAY(Date!$B$2:$B$22,2)=ROW()-4)*(Date!$D$2:$D$22)) -> 3
B9: Vendredi | C9: =C8+1 -> 42013 | D9: =SUMPRODUCT((Date!$A$2:$A$22=Présence!$C$2)*(WEEKDAY(Date!$B$2:$B$22,2)=ROW()-4)*(Date!$C$2:$C$22)) -> 7 | E9: =SUMPRODUCT((Date!$A$2:$A$22=Présence!$C$2)*(WEEKDAY(Date!$B$2:$B$22,2)=ROW()-4)*(Date!$D$2:$D$22)) -> 4
B10: Samedi | C10: =C9+1 -> 42014
B11: Dimanche | C11: =C10+1 -> 42015

Sheet Date
A1: Semaine | B1: Jour | C1: Présence Paul | D1: Présence Jack | G1: Jour | H1: 42006
A2: =WEEKNUM(B2,2) -> 1 | B2: =DATE(2015,1,1) -> 42005 | C2: 7 | D2: 7 | G2: Valeur | H2: ???
A3: =WEEKNUM(B3,2) -> 1 | B3: =B2+1 -> 42006 | C3: 7 | D3: 0
A4: =WEEKNUM(B4,2) -> 1 | B4: =B3+1 -> 42007 | C4: 7 | D4: 0
A5: =WEEKNUM(B5,2) -> 1 | B5: =B4+1 -> 42008 | C5: 7 | D5: 0
A6: =WEEKNUM(B6,2) -> 2 | B6: =B5+1 -> 42009 | C6: 3 | D6: 1
A7: =WEEKNUM(B7,2) -> 2 | B7: =B6+1 -> 42010 | C7: 4 | D7: 7
A8: =WEEKNUM(B8,2) -> 2 | B8: =B7+1 -> 42011 | C8: 5 | D8: 2
A9: =WEEKNUM(B9,2) -> 2 | B9: =B8+1 -> 42012 | C9: 6 | D9: 3
A10: =WEEKNUM(B10,2) -> 2 | B10: =B9+1 -> 42013 | C10: 7 | D10: 4
A11: =WEEKNUM(B11,2) -> 2 | B11: =B10+1 -> 42014 | C11: 7 | D11: 7
A12: =WEEKNUM(B12,2) -> 2 | B12: =B11+1 -> 42015 | C12: 7 | D12: 0
A13: =WEEKNUM(B13,2) -> 3 | B13: =B12+1 -> 42016 | C13: 7 | D13: 0
A14: =WEEKNUM(B14,2) -> 3 | B14: =B13+1 -> 42017 | C14: 7 | D14: 0
... A22: =WEEKNUM(B22,2) -> 4 | B22: =B21+1 -> 42025 | C22: 7 | D22: 7
