Workbook

Sheet Tables
A1: TrajetZone1 | B1: TrajetZone2 | C1: TrajetZone3 | D1: TrajetZone4 | E1: TrajetZone5 | F1: TrajetZone6 | G1: TrajetZone7 | H1: TrajetZone8 | I1: TrajetZone9 | J1: TrajetZone10 | K1: TrajetZone11 | L1: TrajetZone12
A2: 1.99 | B2: 3.91 | C2: 5.68 | D2: 7.37 | E2: 9.09 | F2: 11.24 | G2: 13.12 | H2: 5 | I2: 16.86 | J2: 18.74 | K2: 20.61 | L2: 22.49

Sheet Déplacements
A1: Matricule | B1: NOM | C1: CHANTIER 1 | D1: zone | E1: CHANTIER 2 | F1: zone | G1: CHANTIER 3 | H1: zone | I1: CHANTIER 4 | J1: zone | K1: CHANTIER 5 | L1: zone | M1: 43586 | N1: =IF(WEEKDAY(M1)=6,M1+3,M1+1) -> 43587 | O1: =IF(WEEKDAY(N1)=6,N1+3,N1+1) -> 43588 | P1: =IF(WEEKDAY(O1)=6,O1+3,O1+1) -> 43591 | Q1: =IF(WEEKDAY(P1)=6,P1+3,P1+1) -> 43592 | R1: =IF(WEEKDAY(Q1)=6,Q1+3,Q1+1) -> 43593 | S1: =IF(WEEKDAY(R1)=6,R1+3,R1+1) -> 43594 | T1: =IF(WEEKDAY(S1)=6,S1+3,S1+1) -> 43595 | U1: =IF(WEEKDAY(T1)=6,T1+3,T1+1) -> 43598 | ... AI1: =IF(WEEKDAY(AH1)=6,AH1+3,AH1+1) -> 43616 | AP1: CHANTIER 1 | AQ1: CHANTIER 2 | AR1: CHANTIER 3 | AS1: CHANTIER 4 | AT1: CHANTIER 5 | AU1: TrajetZone1 | AW1: TrajetZone2 | AY1: TrajetZone3 | BA1: TrajetZone4 | BC1: TrajetZone5 | BE1: TrajetZone6 | BG1: TrajetZone7 | BI1: TrajetZone8 | BK1: TrajetZone9 | BM1: TrajetZone10 | BO1: TrajetZone11 | BQ1: TrajetZone12 | BS1: PrExcept
A2: 1 | B2: a | C2: PARIS | D2: 1 | E2: MELUN | F2: 1 | G2: CAEN | H2: 3 | I2: ROUEN | J2: 6 | N2: PARIS | O2: PARIS | P2: PARIS | Q2: PARIS | R2: PARIS | S2: PARIS | T2: PARIS | U2: CAEN | V2: CAEN | W2: CAEN | X2: CAEN | Y2: CAEN | Z2: CAEN | AA2: CAEN | AB2: CAEN | AC2: CAEN | AD2: CAEN | AE2: ROUEN | AF2: ROUEN | AG2: ROUEN | AH2: MELUN | AP2: =COUNTIF(M2:AO2,C2) -> 7 | AQ2: =COUNTIF(M2:AO2,E2) -> 1 | AR2: =COUNTIF(M2:AO2,G2) -> 10 | AS2: =COUNTIF(M2:AO2,I2) -> 3 | AT2: =COUNTIF(M2:AO2,K2) -> 0 | AU2: =IF(OFFSET(Zones!$C2,0,0)="",0,COUNTIF($M2:$AO2,OFFSET(Zones!$C2,0,0)))+IF(OFFSET(Zones!$C2,0,1)="",0,COUNTIF($M2:$AO2,OFFSET(Zones!$C2,0,1)))+IF(OFFSET(Zones!$C2,0,2)="",0,COUNTIF($M2:$AO2,OFFSET(Zones!$C2,0,2)))+IF(OFFSET(Zones!$C2,0,3)="",0,COUNTIF($M2:$AO2,OFFSET(Zones!$C2,0,3)))+IF(OFFSET(Zones!$C2,0,4)="",0,COUNTIF($M2:$AO2,OFFSET(Zones!$C2,0,4))) -> 8 | AV2: =AU2*Tables!A$2 -> 15.92 | AW2: =IF(OFFSET(Zones!$H2,0,0)="",0,COUNTIF($M2:$AO2,OFFSET(Zones!$H2,0,0)))+IF(OFFSET(Zones!$H2,0,1)="",0,COUNTIF($M2:$AO2,OFFSET(Zones!$H2,0,1)))+IF(OFFSET(Zones!$H2,0,2)="",0,COUNTIF($M2:$AO2,OFFSET(Zones!$H2,0,2)))+IF(OFFSET(Zones!$H2,0,3)="",0,COUNTIF($M2:$AO2,OFFSET(Zones!$H2,0,3)))+IF(OFFSET(Zones!$H2,0,4)="",0,COUNTIF($M2:$AO2,OFFSET(Zones!$H2,0,4))) -> 0 | AX2: =AW2*Tables!B$2 -> 0 | AY2: =IF(OFFSET(Zones!$M2,0,0)="",0,COUNTIF($M2:$AO2,OFFSET(Zones!$M2,0,0)))+IF(OFFSET(Zones!$M2,0,1)="",0,COUNTIF($M2:$AO2,OFFSET(Zones!$M2,0,1)))+IF(OFFSET(Zones!$M2,0,2)="",0,COUNTIF($M2:$AO2,OFFSET(Zones!$M2,0,2)))+IF(OFFSET(Zones!$M2,0,3)="",0,COUNTIF($M2:$AO2,OFFSET(Zones!$M2,0,3)))+IF(OFFSET(Zones!$M2,0,4)="",0,COUNTIF($M2:$AO2,OFFSET(Zones!$M2,0,4))) -> 10 | AZ2: =AY2*Tables!C$2 -> 56.8 | BA2: =IF(OFFSET(Zones!$R2,0,0)="",0,COUNTIF($M2:$AO2,OFFSET(Zones!$R2,0,0)))+IF(OFFSET(Zones!$R2,0,1)="",0,COUNTIF($M2:$AO2,OFFSET(Zones!$R2,0,1)))+IF(OFFSET(Zones!$R2,0,2)="",0,COUNTIF($M2:$AO2,OFFSET(Zones!$R2,0,2)))+IF(OFFSET(Zones!$R2,0,3)="",0,COUNTIF($M2:$AO2,OFFSET(Zones!$R2,0,3)))+IF(OFFSET(Zones!$R2,0,4)="",0,COUNTIF($M2:$AO2,OFFSET(Zones!$R2,0,4))) -> 0 | BB2: =BA2*Tables!D$2 -> 0 | BC2: =IF(OFFSET(Zones!$W2,0,0)="",0,COUNTIF($M2:$AO2,OFFSET(Zones!$W2,0,0)))+IF(OFFSET(Zones!$W2,0,1)="",0,COUNTIF($M2:$AO2,OFFSET(Zones!$W2,0,1)))+IF(OFFSET(Zones!$W2,0,2)="",0,COUNTIF($M2:$AO2,OFFSET(Zones!$W2,0,2)))+IF(OFFSET(Zones!$W2,0,3)="",0,COUNTIF($M2:$AO2,OFFSET(Zones!$W2,0,3)))+IF(OFFSET(Zones!$W2,0,4)="",0,COUNTIF($M2:$AO2,OFFSET(Zones!$W2,0,4))) -> 0 | BD2: =BC2*Tables!E$2 -> 0 | BE2: =IF(OFFSET(Zones!$AB2,0,0)="",0,COUNTIF($M2:$AO2,OFFSET(Zones!$AB2,0,0)))+IF(OFFSET(Zones!$AB2,0,1)="",0,COUNTIF($M2:$AO2,OFFSET(Zones!$AB2,0,1)))+IF(OFFSET(Zones!$AB2,0,2)="",0,COUNTIF($M2:$AO2,OFFSET(Zones!$AB2,0,2)))+IF(OFFSET(Zones!$AB2,0,3)="",0,COUNTIF($M2:$AO2,OFFSET(Zones!$AB2,0,3)))+IF(OFFSET(Zones!$AB2,0,4)="",0,COUNTIF($M2:$AO2,OFFSET(Zones!$AB2,0,4))) -> 3 | BF2: =Déplacements!BE2*Tables!F$2 -> 33.72 | BG2: =IF(OFFSET(Zones!$AG2,0,0)="",0,COUNTIF($M2:$AO2,OFFSET(Zones!$AG2,0,0)))+IF(OFFSET(Zones!$AG2,0,1)="",0,COUNTIF($M2:$AO2,OFFSET(Zones!$AG2,0,1)))+IF(OFFSET(Zones!$AG2,0,2)="",0,COUNTIF($M2:$AO2,OFFSET(Zones!$AG2,0,2)))+IF(OFFSET(Zones!$AG2,0,3)="",0,COUNTIF($M2:$AO2,OFFSET(Zones!$AG2,0,3)))+IF(OFFSET(Zones!$AG2,0,4)="",0,COUNTIF($M2:$AO2,OFFSET(Zones!$AG2,0,4))) -> 0 | BH2: =BG2*Tables!G$2 -> 0 | BI2: =IF(OFFSET(Zones!$AL2,0,0)="",0,COUNTIF($M2:$AO2,OFFSET(Zones!$AL2,0,0)))+IF(OFFSET(Zones!$AL2,0,1)="",0,COUNTIF($M2:$AO2,OFFSET(Zones!$AL2,0,1)))+IF(OFFSET(Zones!$AL2,0,2)="",0,COUNTIF($M2:$AO2,OFFSET(Zones!$AL2,0,2)))+IF(OFFSET(Zones!$AL2,0,3)="",0,COUNTIF($M2:$AO2,OFFSET(Zones!$AL2,0,3)))+IF(OFFSET(Zones!$AL2,0,4)="",0,COUNTIF($M2:$AO2,OFFSET(Zones!$AL2,0,4))) -> 0 | BJ2: =BI2*Tables!H$2 -> 0 | BK2: =IF(OFFSET(Zones!$AQ2,0,0)="",0,COUNTIF($M2:$AO2,OFFSET(Zones!$AQ2,0,0)))+IF(OFFSET(Zones!$AQ2,0,1)="",0,COUNTIF($M2:$AO2,OFFSET(Zones!$AQ2,0,1)))+IF(OFFSET(Zones!$AQ2,0,2)="",0,COUNTIF($M2:$AO2,OFFSET(Zones!$AQ2,0,2)))+IF(OFFSET(Zones!$AQ2,0,3)="",0,COUNTIF($M2:$AO2,OFFSET(Zones!$AQ2,0,3)))+IF(OFFSET(Zones!$AQ2,0,4)="",0,COUNTIF($M2:$AO2,OFFSET(Zones!$AQ2,0,4))) -> 0 | BL2: =BK2*Tables!I$2 -> 0 | BM2: =IF(OFFSET(Zones!$AV2,0,0)="",0,COUNTIF($M2:$AO2,OFFSET(Zones!$AV2,0,0)))+IF(OFFSET(Zones!$AV2,0,1)="",0,COUNTIF($M2:$AO2,OFFSET(Zones!$AV2,0,1)))+IF(OFFSET(Zones!$AV2,0,2)="",0,COUNTIF($M2:$AO2,OFFSET(Zones!$AV2,0,2)))+IF(OFFSET(Zones!$AV2,0,3)="",0,COUNTIF($M2:$AO2,OFFSET(Zones!$AV2,0,3)))+IF(OFFSET(Zones!$AV2,0,4)="",0,COUNTIF($M2:$AO2,OFFSET(Zones!$AV2,0,4))) -> 0 | BN2: =BM2*Tables!J$2 -> 0 | BO2: =IF(OFFSET(Zones!$BA2,0,0)="",0,COUNTIF($M2:$AO2,OFFSET(Zones!$BA2,0,0)))+IF(OFFSET(Zones!$BA2,0,1)="",0,COUNTIF($M2:$AO2,OFFSET(Zones!$BA2,0,1)))+IF(OFFSET(Zones!$BA2,0,2)="",0,COUNTIF($M2:$AO2,OFFSET(Zones!$BA2,0,2)))+IF(OFFSET(Zones!$BA2,0,3)="",0,COUNTIF($M2:$AO2,OFFSET(Zones!$BA2,0,3)))+IF(OFFSET(Zones!$BA2,0,4)="",0,COUNTIF($M2:$AO2,OFFSET(Zones!$BA2,0,4))) -> 0 | BP2: =BO2*Tables!K$2 -> 0 | BQ2: =IF(OFFSET(Zones!$BF2,0,0)="",0,COUNTIF($M2:$AO2,OFFSET(Zones!$BF2,0,0)))+IF(OFFSET(Zones!$BF2,0,1)="",0,COUNTIF($M2:$AO2,OFFSET(Zones!$BF2,0,1)))+IF(OFFSET(Zones!$BF2,0,2)="",0,COUNTIF($M2:$AO2,OFFSET(Zones!$BF2,0,2)))+IF(OFFSET(Zones!$BF2,0,3)="",0,COUNTIF($M2:$AO2,OFFSET(Zones!$BF2,0,3)))+IF(OFFSET(Zones!$BF2,0,4)="",0,COUNTIF($M2:$AO2,OFFSET(Zones!$BF2,0,4))) -> 0 | BR2: =BQ2*Tables!L$2 -> 0
A3: 2 | B3: c | C3: RENNES | D3: 8 | E3: VANNES | F3: 8 | G3: ST MALO | H3: 8 | N3: RENNES | O3: VANNES | P3: VANNES | Q3: VANNES | R3: VANNES | S3: VANNES | T3: VANNES | U3: ST MALO | V3: ST MALO | W3: ST MALO | X3: ST MALO | Y3: ST MALO | Z3: ST MALO | AA3: ST MALO | AB3: ST MALO | AC3: ST MALO | AD3: ST MALO | AE3: VANNES | AF3: VANNES | AG3: VANNES | AH3: VANNES | AP3: =COUNTIF(M3:AO3,C3) -> 1 | AQ3: =COUNTIF(M3:AO3,E3) -> 10 | AR3: =COUNTIF(M3:AO3,G3) -> 10 | AS3: =COUNTIF(M3:AO3,I3) -> 0 | AT3: =COUNTIF(M3:AO3,K3) -> 0 | AU3: =IF(OFFSET(Zones!$C3,0,0)="",0,COUNTIF($M3:$AO3,OFFSET(Zones!$C3,0,0)))+IF(OFFSET(Zones!$C3,0,1)="",0,COUNTIF($M3:$AO3,OFFSET(Zones!$C3,0,1)))+IF(OFFSET(Zones!$C3,0,2)="",0,COUNTIF($M3:$AO3,OFFSET(Zones!$C3,0,2)))+IF(OFFSET(Zones!$C3,0,3)="",0,COUNTIF($M3:$AO3,OFFSET(Zones!$C3,0,3)))+IF(OFFSET(Zones!$C3,0,4)="",0,COUNTIF($M3:$AO3,OFFSET(Zones!$C3,0,4))) -> 0 | AV3: =AU3*Tables!A$2 -> 0 | AW3: =IF(OFFSET(Zones!$H3,0,0)="",0,COUNTIF($M3:$AO3,OFFSET(Zones!$H3,0,0)))+IF(OFFSET(Zones!$H3,0,1)="",0,COUNTIF($M3:$AO3,OFFSET(Zones!$H3,0,1)))+IF(OFFSET(Zones!$H3,0,2)="",0,COUNTIF($M3:$AO3,OFFSET(Zones!$H3,0,2)))+IF(OFFSET(Zones!$H3,0,3)="",0,COUNTIF($M3:$AO3,OFFSET(Zones!$H3,0,3)))+IF(OFFSET(Zones!$H3,0,4)="",0,COUNTIF($M3:$AO3,OFFSET(Zones!$H3,0,4))) -> 0 | AX3: =AW3*Tables!B$2 -> 0 | AY3: =IF(OFFSET(Zones!$M3,0,0)="",0,COUNTIF($M3:$AO3,OFFSET(Zones!$M3,0,0)))+IF(OFFSET(Zones!$M3,0,1)="",0,COUNTIF($M3:$AO3,OFFSET(Zones!$M3,0,1)))+IF(OFFSET(Zones!$M3,0,2)="",0,COUNTIF($M3:$AO3,OFFSET(Zones!$M3,0,2)))+IF(OFFSET(Zones!$M3,0,3)="",0,COUNTIF($M3:$AO3,OFFSET(Zones!$M3,0,3)))+IF(OFFSET(Zones!$M3,0,4)="",0,COUNTIF($M3:$AO3,OFFSET(Zones!$M3,0,4))) -> 0 | AZ3: =AY3*Tables!C$2 -> 0 | BA3: =IF(OFFSET(Zones!$R3,0,0)="",0,COUNTIF($M3:$AO3,OFFSET(Zones!$R3,0,0)))+IF(OFFSET(Zones!$R3,0,1)="",0,COUNTIF($M3:$AO3,OFFSET(Zones!$R3,0,1)))+IF(OFFSET(Zones!$R3,0,2)="",0,COUNTIF($M3:$AO3,OFFSET(Zones!$R3,0,2)))+IF(OFFSET(Zones!$R3,0,3)="",0,COUNTIF($M3:$AO3,OFFSET(Zones!$R3,0,3)))+IF(OFFSET(Zones!$R3,0,4)="",0,COUNTIF($M3:$AO3,OFFSET(Zones!$R3,0,4))) -> 0 | BB3: =BA3*Tables!D$2 -> 0 | BC3: =IF(OFFSET(Zones!$W3,0,0)="",0,COUNTIF($M3:$AO3,OFFSET(Zones!$W3,0,0)))+IF(OFFSET(Zones!$W3,0,1)="",0,COUNTIF($M3:$AO3,OFFSET(Zones!$W3,0,1)))+IF(OFFSET(Zones!$W3,0,2)="",0,COUNTIF($M3:$AO3,OFFSET(Zones!$W3,0,2)))+IF(OFFSET(Zones!$W3,0,3)="",0,COUNTIF($M3:$AO3,OFFSET(Zones!$W3,0,3)))+IF(OFFSET(Zones!$W3,0,4)="",0,COUNTIF($M3:$AO3,OFFSET(Zones!$W3,0,4))) -> 0 | BD3: =BC3*Tables!E$2 -> 0 | BE3: =IF(OFFSET(Zones!$AB3,0,0)="",0,COUNTIF($M3:$AO3,OFFSET(Zones!$AB3,0,0)))+IF(OFFSET(Zones!$AB3,0,1)="",0,COUNTIF($M3:$AO3,OFFSET(Zones!$AB3,0,1)))+IF(OFFSET(Zones!$AB3,0,2)="",0,COUNTIF($M3:$AO3,OFFSET(Zones!$AB3,0,2)))+IF(OFFSET(Zones!$AB3,0,3)="",0,COUNTIF($M3:$AO3,OFFSET(Zones!$AB3,0,3)))+IF(OFFSET(Zones!$AB3,0,4)="",0,COUNTIF($M3:$AO3,OFFSET(Zones!$AB3,0,4))) -> 0 | BF3: =Déplacements!BE3*Tables!F$2 -> 0 | BG3: =IF(OFFSET(Zones!$AG3,0,0)="",0,COUNTIF($M3:$AO3,OFFSET(Zones!$AG3,0,0)))+IF(OFFSET(Zones!$AG3,0,1)="",0,COUNTIF($M3:$AO3,OFFSET(Zones!$AG3,0,1)))+IF(OFFSET(Zones!$AG3,0,2)="",0,COUNTIF($M3:$AO3,OFFSET(Zones!$AG3,0,2)))+IF(OFFSET(Zones!$AG3,0,3)="",0,COUNTIF($M3:$AO3,OFFSET(Zones!$AG3,0,3)))+IF(OFFSET(Zones!$AG3,0,4)="",0,COUNTIF($M3:$AO3,OFFSET(Zones!$AG3,0,4))) -> 0 | BH3: =BG3*Tables!G$2 -> 0 | BI3: =IF(OFFSET(Zones!$AL3,0,0)="",0,COUNTIF($M3:$AO3,OFFSET(Zones!$AL3,0,0)))+IF(OFFSET(Zones!$AL3,0,1)="",0,COUNTIF($M3:$AO3,OFFSET(Zones!$AL3,0,1)))+IF(OFFSET(Zones!$AL3,0,2)="",0,COUNTIF($M3:$AO3,OFFSET(Zones!$AL3,0,2)))+IF(OFFSET(Zones!$AL3,0,3)="",0,COUNTIF($M3:$AO3,OFFSET(Zones!$AL3,0,3)))+IF(OFFSET(Zones!$AL3,0,4)="",0,COUNTIF($M3:$AO3,OFFSET(Zones!$AL3,0,4))) -> 21 | BJ3: =BI3*Tables!H$2 -> 105 | BK3: =IF(OFFSET(Zones!$AQ3,0,0)="",0,COUNTIF($M3:$AO3,OFFSET(Zones!$AQ3,0,0)))+IF(OFFSET(Zones!$AQ3,0,1)="",0,COUNTIF($M3:$AO3,OFFSET(Zones!$AQ3,0,1)))+IF(OFFSET(Zones!$AQ3,0,2)="",0,COUNTIF($M3:$AO3,OFFSET(Zones!$AQ3,0,2)))+IF(OFFSET(Zones!$AQ3,0,3)="",0,COUNTIF($M3:$AO3,OFFSET(Zones!$AQ3,0,3)))+IF(OFFSET(Zones!$AQ3,0,4)="",0,COUNTIF($M3:$AO3,OFFSET(Zones!$AQ3,0,4))) -> 0 | BL3: =BK3*Tables!I$2 -> 0 | BM3: =IF(OFFSET(Zones!$AV3,0,0)="",0,COUNTIF($M3:$AO3,OFFSET(Zones!$AV3,0,0)))+IF(OFFSET(Zones!$AV3,0,1)="",0,COUNTIF($M3:$AO3,OFFSET(Zones!$AV3,0,1)))+IF(OFFSET(Zones!$AV3,0,2)="",0,COUNTIF($M3:$AO3,OFFSET(Zones!$AV3,0,2)))+IF(OFFSET(Zones!$AV3,0,3)="",0,COUNTIF($M3:$AO3,OFFSET(Zones!$AV3,0,3)))+IF(OFFSET(Zones!$AV3,0,4)="",0,COUNTIF($M3:$AO3,OFFSET(Zones!$AV3,0,4))) -> 0 | BN3: =BM3*Tables!J$2 -> 0 | BO3: =IF(OFFSET(Zones!$BA3,0,0)="",0,COUNTIF($M3:$AO3,OFFSET(Zones!$BA3,0,0)))+IF(OFFSET(Zones!$BA3,0,1)="",0,COUNTIF($M3:$AO3,OFFSET(Zones!$BA3,0,1)))+IF(OFFSET(Zones!$BA3,0,2)="",0,COUNTIF($M3:$AO3,OFFSET(Zones!$BA3,0,2)))+IF(OFFSET(Zones!$BA3,0,3)="",0,COUNTIF($M3:$AO3,OFFSET(Zones!$BA3,0,3)))+IF(OFFSET(Zones!$BA3,0,4)="",0,COUNTIF($M3:$AO3,OFFSET(Zones!$BA3,0,4))) -> 0 | BP3: =BO3*Tables!K$2 -> 0 | BQ3: =IF(OFFSET(Zones!$BF3,0,0)="",0,COUNTIF($M3:$AO3,OFFSET(Zones!$BF3,0,0)))+IF(OFFSET(Zones!$BF3,0,1)="",0,COUNTIF($M3:$AO3,OFFSET(Zones!$BF3,0,1)))+IF(OFFSET(Zones!$BF3,0,2)="",0,COUNTIF($M3:$AO3,OFFSET(Zones!$BF3,0,2)))+IF(OFFSET(Zones!$BF3,0,3)="",0,COUNTIF($M3:$AO3,OFFSET(Zones!$BF3,0,3)))+IF(OFFSET(Zones!$BF3,0,4)="",0,COUNTIF($M3:$AO3,OFFSET(Zones!$BF3,0,4))) -> 0 | BR3: =BQ3*Tables!L$2 -> 0
A4: 3 | B4: b | G4: ROUEN | H4: 2 | N4: ATELIER | O4: ATELIER | P4: ATELIER | Q4: ATELIER | R4: ATELIER | S4: ATELIER | T4: ATELIER | U4: ROUEN | V4: ROUEN | W4: ROUEN | X4: ROUEN | Y4: ROUEN | Z4: ROUEN | AA4: ROUEN | AB4: ROUEN | AC4: ROUEN | AD4: ROUEN | AE4: ROUEN | AF4: ROUEN | AG4: ROUEN | AH4: ROUEN | AP4: =COUNTIF(M4:AO4,C4) -> 0 | AQ4: =COUNTIF(M4:AO4,E4) -> 0 | AR4: =COUNTIF(M4:AO4,G4) -> 14 | AS4: =COUNTIF(M4:AO4,I4) -> 0 | AT4: =COUNTIF(M4:AO4,K4) -> 0 | AU4: =IF(OFFSET(Zones!$C4,0,0)="",0,COUNTIF($M4:$AO4,OFFSET(Zones!$C4,0,0)))+IF(OFFSET(Zones!$C4,0,1)="",0,COUNTIF($M4:$AO4,OFFSET(Zones!$C4,0,1)))+IF(OFFSET(Zones!$C4,0,2)="",0,COUNTIF($M4:$AO4,OFFSET(Zones!$C4,0,2)))+IF(OFFSET(Zones!$C4,0,3)="",0,COUNTIF($M4:$AO4,OFFSET(Zones!$C4,0,3)))+IF(OFFSET(Zones!$C4,0,4)="",0,COUNTIF($M4:$AO4,OFFSET(Zones!$C4,0,4))) -> 0 | AV4: =AU4*Tables!A$2 -> 0 | AW4: =IF(OFFSET(Zones!$H4,0,0)="",0,COUNTIF($M4:$AO4,OFFSET(Zones!$H4,0,0)))+IF(OFFSET(Zones!$H4,0,1)="",0,COUNTIF($M4:$AO4,OFFSET(Zones!$H4,0,1)))+IF(OFFSET(Zones!$H4,0,2)="",0,COUNTIF($M4:$AO4,OFFSET(Zones!$H4,0,2)))+IF(OFFSET(Zones!$H4,0,3)="",0,COUNTIF($M4:$AO4,OFFSET(Zones!$H4,0,3)))+IF(OFFSET(Zones!$H4,0,4)="",0,COUNTIF($M4:$AO4,OFFSET(Zones!$H4,0,4))) -> 14 | AX4: =AW4*Tables!B$2 -> 54.74 | AY4: =IF(OFFSET(Zones!$M4,0,0)="",0,COUNTIF($M4:$AO4,OFFSET(Zones!$M4,0,0)))+IF(OFFSET(Zones!$M4,0,1)="",0,COUNTIF($M4:$AO4,OFFSET(Zones!$M4,0,1)))+IF(OFFSET(Zones!$M4,0,2)="",0,COUNTIF($M4:$AO4,OFFSET(Zones!$M4,0,2)))+IF(OFFSET(Zones!$M4,0,3)="",0,COUNTIF($M4:$AO4,OFFSET(Zones!$M4,0,3)))+IF(OFFSET(Zones!$M4,0,4)="",0,COUNTIF($M4:$AO4,OFFSET(Zones!$M4,0,4))) -> 0 | AZ4: =AY4*Tables!C$2 -> 0 | BA4: =IF(OFFSET(Zones!$R4,0,0)="",0,COUNTIF($M4:$AO4,OFFSET(Zones!$R4,0,0)))+IF(OFFSET(Zones!$R4,0,1)="",0,COUNTIF($M4:$AO4,OFFSET(Zones!$R4,0,1)))+IF(OFFSET(Zones!$R4,0,2)="",0,COUNTIF($M4:$AO4,OFFSET(Zones!$R4,0,2)))+IF(OFFSET(Zones!$R4,0,3)="",0,COUNTIF($M4:$AO4,OFFSET(Zones!$R4,0,3)))+IF(OFFSET(Zones!$R4,0,4)="",0,COUNTIF($M4:$AO4,OFFSET(Zones!$R4,0,4))) -> 0 | BB4: =BA4*Tables!D$2 -> 0 | BC4: =IF(OFFSET(Zones!$W4,0,0)="",0,COUNTIF($M4:$AO4,OFFSET(Zones!$W4,0,0)))+IF(OFFSET(Zones!$W4,0,1)="",0,COUNTIF($M4:$AO4,OFFSET(Zones!$W4,0,1)))+IF(OFFSET(Zones!$W4,0,2)="",0,COUNTIF($M4:$AO4,OFFSET(Zones!$W4,0,2)))+IF(OFFSET(Zones!$W4,0,3)="",0,COUNTIF($M4:$AO4,OFFSET(Zones!$W4,0,3)))+IF(OFFSET(Zones!$W4,0,4)="",0,COUNTIF($M4:$AO4,OFFSET(Zones!$W4,0,4))) -> 0 | BD4: =BC4*Tables!E$2 -> 0 | BE4: =IF(OFFSET(Zones!$AB4,0,0)="",0,COUNTIF($M4:$AO4,OFFSET(Zones!$AB4,0,0)))+IF(OFFSET(Zones!$AB4,0,1)="",0,COUNTIF($M4:$AO4,OFFSET(Zones!$AB4,0,1)))+IF(OFFSET(Zones!$AB4,0,2)="",0,COUNTIF($M4:$AO4,OFFSET(Zones!$AB4,0,2)))+IF(OFFSET(Zones!$AB4,0,3)="",0,COUNTIF($M4:$AO4,OFFSET(Zones!$AB4,0,3)))+IF(OFFSET(Zones!$AB4,0,4)="",0,COUNTIF($M4:$AO4,OFFSET(Zones!$AB4,0,4))) -> 0 | BF4: =Déplacements!BE4*Tables!F$2 -> 0 | BG4: =IF(OFFSET(Zones!$AG4,0,0)="",0,COUNTIF($M4:$AO4,OFFSET(Zones!$AG4,0,0)))+IF(OFFSET(Zones!$AG4,0,1)="",0,COUNTIF($M4:$AO4,OFFSET(Zones!$AG4,0,1)))+IF(OFFSET(Zones!$AG4,0,2)="",0,COUNTIF($M4:$AO4,OFFSET(Zones!$AG4,0,2)))+IF(OFFSET(Zones!$AG4,0,3)="",0,COUNTIF($M4:$AO4,OFFSET(Zones!$AG4,0,3)))+IF(OFFSET(Zones!$AG4,0,4)="",0,COUNTIF($M4:$AO4,OFFSET(Zones!$AG4,0,4))) -> 0 | BH4: =BG4*Tables!G$2 -> 0 | BI4: =IF(OFFSET(Zones!$AL4,0,0)="",0,COUNTIF($M4:$AO4,OFFSET(Zones!$AL4,0,0)))+IF(OFFSET(Zones!$AL4,0,1)="",0,COUNTIF($M4:$AO4,OFFSET(Zones!$AL4,0,1)))+IF(OFFSET(Zones!$AL4,0,2)="",0,COUNTIF($M4:$AO4,OFFSET(Zones!$AL4,0,2)))+IF(OFFSET(Zones!$AL4,0,3)="",0,COUNTIF($M4:$AO4,OFFSET(Zones!$AL4,0,3)))+IF(OFFSET(Zones!$AL4,0,4)="",0,COUNTIF($M4:$AO4,OFFSET(Zones!$AL4,0,4))) -> 0 | BJ4: =BI4*Tables!H$2 -> 0 | BK4: =IF(OFFSET(Zones!$AQ4,0,0)="",0,COUNTIF($M4:$AO4,OFFSET(Zones!$AQ4,0,0)))+IF(OFFSET(Zones!$AQ4,0,1)="",0,COUNTIF($M4:$AO4,OFFSET(Zones!$AQ4,0,1)))+IF(OFFSET(Zones!$AQ4,0,2)="",0,COUNTIF($M4:$AO4,OFFSET(Zones!$AQ4,0,2)))+IF(OFFSET(Zones!$AQ4,0,3)="",0,COUNTIF($M4:$AO4,OFFSET(Zones!$AQ4,0,3)))+IF(OFFSET(Zones!$AQ4,0,4)="",0,COUNTIF($M4:$AO4,OFFSET(Zones!$AQ4,0,4))) -> 0 | BL4: =BK4*Tables!I$2 -> 0 | BM4: =IF(OFFSET(Zones!$AV4,0,0)="",0,COUNTIF($M4:$AO4,OFFSET(Zones!$AV4,0,0)))+IF(OFFSET(Zones!$AV4,0,1)="",0,COUNTIF($M4:$AO4,OFFSET(Zones!$AV4,0,1)))+IF(OFFSET(Zones!$AV4,0,2)="",0,COUNTIF($M4:$AO4,OFFSET(Zones!$AV4,0,2)))+IF(OFFSET(Zones!$AV4,0,3)="",0,COUNTIF($M4:$AO4,OFFSET(Zones!$AV4,0,3)))+IF(OFFSET(Zones!$AV4,0,4)="",0,COUNTIF($M4:$AO4,OFFSET(Zones!$AV4,0,4))) -> 0 | BN4: =BM4*Tables!J$2 -> 0 | BO4: =IF(OFFSET(Zones!$BA4,0,0)="",0,COUNTIF($M4:$AO4,OFFSET(Zones!$BA4,0,0)))+IF(OFFSET(Zones!$BA4,0,1)="",0,COUNTIF($M4:$AO4,OFFSET(Zones!$BA4,0,1)))+IF(OFFSET(Zones!$BA4,0,2)="",0,COUNTIF($M4:$AO4,OFFSET(Zones!$BA4,0,2)))+IF(OFFSET(Zones!$BA4,0,3)="",0,COUNTIF($M4:$AO4,OFFSET(Zones!$BA4,0,3)))+IF(OFFSET(Zones!$BA4,0,4)="",0,COUNTIF($M4:$AO4,OFFSET(Zones!$BA4,0,4))) -> 0 | BP4: =BO4*Tables!K$2 -> 0 | BQ4: =IF(OFFSET(Zones!$BF4,0,0)="",0,COUNTIF($M4:$AO4,OFFSET(Zones!$BF4,0,0)))+IF(OFFSET(Zones!$BF4,0,1)="",0,COUNTIF($M4:$AO4,OFFSET(Zones!$BF4,0,1)))+IF(OFFSET(Zones!$BF4,0,2)="",0,COUNTIF($M4:$AO4,OFFSET(Zones!$BF4,0,2)))+IF(OFFSET(Zones!$BF4,0,3)="",0,COUNTIF($M4:$AO4,OFFSET(Zones!$BF4,0,3)))+IF(OFFSET(Zones!$BF4,0,4)="",0,COUNTIF($M4:$AO4,OFFSET(Zones!$BF4,0,4))) -> 0 | BR4: =BQ4*Tables!L$2 -> 0
A5: 4 | B5: d | C5: FLERS | D5: 1 | E5: ST GEORGES | F5: 1 | G5: CONDE | H5: 3 | N5: CONDE | P5: FLERS | Q5: FLERS | R5: FLERS | S5: FLERS | T5: FLERS | V5: ST GEORGES | W5: ST GEORGES | X5: ST GEORGES | AA5: ST GEORGES | AB5: ST GEORGES | AC5: ST GEORGES | AF5: CONDE | AG5: CONDE | AH5: CONDE | AP5: =COUNTIF(M5:AO5,C5) -> 5 | AQ5: =COUNTIF(M5:AO5,E5) -> 6 | AR5: =COUNTIF(M5:AO5,G5) -> 4 | AS5: =COUNTIF(M5:AO5,I5) -> 0 | AT5: =COUNTIF(M5:AO5,K5) -> 0 | AU5: =IF(OFFSET(Zones!$C5,0,0)="",0,COUNTIF($M5:$AO5,OFFSET(Zones!$C5,0,0)))+IF(OFFSET(Zones!$C5,0,1)="",0,COUNTIF($M5:$AO5,OFFSET(Zones!$C5,0,1)))+IF(OFFSET(Zones!$C5,0,2)="",0,COUNTIF($M5:$AO5,OFFSET(Zones!$C5,0,2)))+IF(OFFSET(Zones!$C5,0,3)="",0,COUNTIF($M5:$AO5,OFFSET(Zones!$C5,0,3)))+IF(OFFSET(Zones!$C5,0,4)="",0,COUNTIF($M5:$AO5,OFFSET(Zones!$C5,0,4))) -> 11 | AV5: =AU5*Tables!A$2 -> 21.89 | AW5: =IF(OFFSET(Zones!$H5,0,0)="",0,COUNTIF($M5:$AO5,OFFSET(Zones!$H5,0,0)))+IF(OFFSET(Zones!$H5,0,1)="",0,COUNTIF($M5:$AO5,OFFSET(Zones!$H5,0,1)))+IF(OFFSET(Zones!$H5,0,2)="",0,COUNTIF($M5:$AO5,OFFSET(Zones!$H5,0,2)))+IF(OFFSET(Zones!$H5,0,3)="",0,COUNTIF($M5:$AO5,OFFSET(Zones!$H5,0,3)))+IF(OFFSET(Zones!$H5,0,4)="",0,COUNTIF($M5:$AO5,OFFSET(Zones!$H5,0,4))) -> 0 | AX5: =AW5*Tables!B$2 -> 0 | AY5: =IF(OFFSET(Zones!$M5,0,0)="",0,COUNTIF($M5:$AO5,OFFSET(Zones!$M5,0,0)))+IF(OFFSET(Zones!$M5,0,1)="",0,COUNTIF($M5:$AO5,OFFSET(Zones!$M5,0,1)))+IF(OFFSET(Zones!$M5,0,2)="",0,COUNTIF($M5:$AO5,OFFSET(Zones!$M5,0,2)))+IF(OFFSET(Zones!$M5,0,3)="",0,COUNTIF($M5:$AO5,OFFSET(Zones!$M5,0,3)))+IF(OFFSET(Zones!$M5,0,4)="",0,COUNTIF($M5:$AO5,OFFSET(Zones!$M5,0,4))) -> 4 | AZ5: =AY5*Tables!C$2 -> 22.72 | BA5: =IF(OFFSET(Zones!$R5,0,0)="",0,COUNTIF($M5:$AO5,OFFSET(Zones!$R5,0,0)))+IF(OFFSET(Zones!$R5,0,1)="",0,COUNTIF($M5:$AO5,OFFSET(Zones!$R5,0,1)))+IF(OFFSET(Zones!$R5,0,2)="",0,COUNTIF($M5:$AO5,OFFSET(Zones!$R5,0,2)))+IF(OFFSET(Zones!$R5,0,3)="",0,COUNTIF($M5:$AO5,OFFSET(Zones!$R5,0,3)))+IF(OFFSET(Zones!$R5,0,4)="",0,COUNTIF($M5:$AO5,OFFSET(Zones!$R5,0,4))) -> 0 | BB5: =BA5*Tables!D$2 -> 0 | BC5: =IF(OFFSET(Zones!$W5,0,0)="",0,COUNTIF($M5:$AO5,OFFSET(Zones!$W5,0,0)))+IF(OFFSET(Zones!$W5,0,1)="",0,COUNTIF($M5:$AO5,OFFSET(Zones!$W5,0,1)))+IF(OFFSET(Zones!$W5,0,2)="",0,COUNTIF($M5:$AO5,OFFSET(Zones!$W5,0,2)))+IF(OFFSET(Zones!$W5,0,3)="",0,COUNTIF($M5:$AO5,OFFSET(Zones!$W5,0,3)))+IF(OFFSET(Zones!$W5,0,4)="",0,COUNTIF($M5:$AO5,OFFSET(Zones!$W5,0,4))) -> 0 | BD5: =BC5*Tables!E$2 -> 0 | BE5: =IF(OFFSET(Zones!$AB5,0,0)="",0,COUNTIF($M5:$AO5,OFFSET(Zones!$AB5,0,0)))+IF(OFFSET(Zones!$AB5,0,1)="",0,COUNTIF($M5:$AO5,OFFSET(Zones!$AB5,0,1)))+IF(OFFSET(Zones!$AB5,0,2)="",0,COUNTIF($M5:$AO5,OFFSET(Zones!$AB5,0,2)))+IF(OFFSET(Zones!$AB5,0,3)="",0,COUNTIF($M5:$AO5,OFFSET(Zones!$AB5,0,3)))+IF(OFFSET(Zones!$AB5,0,4)="",0,COUNTIF($M5:$AO5,OFFSET(Zones!$AB5,0,4))) -> 0 | BF5: =Déplacements!BE5*Tables!F$2 -> 0 | BG5: =IF(OFFSET(Zones!$AG5,0,0)="",0,COUNTIF($M5:$AO5,OFFSET(Zones!$AG5,0,0)))+IF(OFFSET(Zones!$AG5,0,1)="",0,COUNTIF($M5:$AO5,OFFSET(Zones!$AG5,0,1)))+IF(OFFSET(Zones!$AG5,0,2)="",0,COUNTIF($M5:$AO5,OFFSET(Zones!$AG5,0,2)))+IF(OFFSET(Zones!$AG5,0,3)="",0,COUNTIF($M5:$AO5,OFFSET(Zones!$AG5,0,3)))+IF(OFFSET(Zones!$AG5,0,4)="",0,COUNTIF($M5:$AO5,OFFSET(Zones!$AG5,0,4))) -> 0 | BH5: =BG5*Tables!G$2 -> 0 | BI5: =IF(OFFSET(Zones!$AL5,0,0)="",0,COUNTIF($M5:$AO5,OFFSET(Zones!$AL5,0,0)))+IF(OFFSET(Zones!$AL5,0,1)="",0,COUNTIF($M5:$AO5,OFFSET(Zones!$AL5,0,1)))+IF(OFFSET(Zones!$AL5,0,2)="",0,COUNTIF($M5:$AO5,OFFSET(Zones!$AL5,0,2)))+IF(OFFSET(Zones!$AL5,0,3)="",0,COUNTIF($M5:$AO5,OFFSET(Zones!$AL5,0,3)))+IF(OFFSET(Zones!$AL5,0,4)="",0,COUNTIF($M5:$AO5,OFFSET(Zones!$AL5,0,4))) -> 0 | BJ5: =BI5*Tables!H$2 -> 0 | BK5: =IF(OFFSET(Zones!$AQ5,0,0)="",0,COUNTIF($M5:$AO5,OFFSET(Zones!$AQ5,0,0)))+IF(OFFSET(Zones!$AQ5,0,1)="",0,COUNTIF($M5:$AO5,OFFSET(Zones!$AQ5,0,1)))+IF(OFFSET(Zones!$AQ5,0,2)="",0,COUNTIF($M5:$AO5,OFFSET(Zones!$AQ5,0,2)))+IF(OFFSET(Zones!$AQ5,0,3)="",0,COUNTIF($M5:$AO5,OFFSET(Zones!$AQ5,0,3)))+IF(OFFSET(Zones!$AQ5,0,4)="",0,COUNTIF($M5:$AO5,OFFSET(Zones!$AQ5,0,4))) -> 0 | BL5: =BK5*Tables!I$2 -> 0 | BM5: =IF(OFFSET(Zones!$AV5,0,0)="",0,COUNTIF($M5:$AO5,OFFSET(Zones!$AV5,0,0)))+IF(OFFSET(Zones!$AV5,0,1)="",0,COUNTIF($M5:$AO5,OFFSET(Zones!$AV5,0,1)))+IF(OFFSET(Zones!$AV5,0,2)="",0,COUNTIF($M5:$AO5,OFFSET(Zones!$AV5,0,2)))+IF(OFFSET(Zones!$AV5,0,3)="",0,COUNTIF($M5:$AO5,OFFSET(Zones!$AV5,0,3)))+IF(OFFSET(Zones!$AV5,0,4)="",0,COUNTIF($M5:$AO5,OFFSET(Zones!$AV5,0,4))) -> 0 | BN5: =BM5*Tables!J$2 -> 0 | BO5: =IF(OFFSET(Zones!$BA5,0,0)="",0,COUNTIF($M5:$AO5,OFFSET(Zones!$BA5,0,0)))+IF(OFFSET(Zones!$BA5,0,1)="",0,COUNTIF($M5:$AO5,OFFSET(Zones!$BA5,0,1)))+IF(OFFSET(Zones!$BA5,0,2)="",0,COUNTIF($M5:$AO5,OFFSET(Zones!$BA5,0,2)))+IF(OFFSET(Zones!$BA5,0,3)="",0,COUNTIF($M5:$AO5,OFFSET(Zones!$BA5,0,3)))+IF(OFFSET(Zones!$BA5,0,4)="",0,COUNTIF($M5:$AO5,OFFSET(Zones!$BA5,0,4))) -> 0 | BP5: =BO5*Tables!K$2 -> 0 | BQ5: =IF(OFFSET(Zones!$BF5,0,0)="",0,COUNTIF($M5:$AO5,OFFSET(Zones!$BF5,0,0)))+IF(OFFSET(Zones!$BF5,0,1)="",0,COUNTIF($M5:$AO5,OFFSET(Zones!$BF5,0,1)))+IF(OFFSET(Zones!$BF5,0,2)="",0,COUNTIF($M5:$AO5,OFFSET(Zones!$BF5,0,2)))+IF(OFFSET(Zones!$BF5,0,3)="",0,COUNTIF($M5:$AO5,OFFSET(Zones!$BF5,0,3)))+IF(OFFSET(Zones!$BF5,0,4)="",0,COUNTIF($M5:$AO5,OFFSET(Zones!$BF5,0,4))) -> 0 | BR5: =BQ5*Tables!L$2 -> 0
A6: 5 | B6: e | C6: BREST | D6: 1 | E6: LIMOGES | F6: 12 | N6: LIMOGES | O6: LIMOGES | P6: LIMOGES | Q6: LIMOGES | R6: LIMOGES | S6: LIMOGES | T6: LIMOGES | U6: LIMOGES | V6: BREST | W6: BREST | X6: BREST | Y6: BREST | Z6: BREST | AA6: BREST | AB6: BREST | AC6: BREST | AD6: BREST | AE6: BREST | AF6: BREST | AG6: BREST | AH6: BREST | AP6: =COUNTIF(M6:AO6,C6) -> 13 | AQ6: =COUNTIF(M6:AO6,E6) -> 8 | AR6: =COUNTIF(M6:AO6,G6) -> 0 | AS6: =COUNTIF(M6:AO6,I6) -> 0 | AT6: =COUNTIF(M6:AO6,K6) -> 0 | AU6: =IF(OFFSET(Zones!$C6,0,0)="",0,COUNTIF($M6:$AO6,OFFSET(Zones!$C6,0,0)))+IF(OFFSET(Zones!$C6,0,1)="",0,COUNTIF($M6:$AO6,OFFSET(Zones!$C6,0,1)))+IF(OFFSET(Zones!$C6,0,2)="",0,COUNTIF($M6:$AO6,OFFSET(Zones!$C6,0,2)))+IF(OFFSET(Zones!$C6,0,3)="",0,COUNTIF($M6:$AO6,OFFSET(Zones!$C6,0,3)))+IF(OFFSET(Zones!$C6,0,4)="",0,COUNTIF($M6:$AO6,OFFSET(Zones!$C6,0,4))) -> 13 | AV6: =AU6*Tables!A$2 -> 25.87 | AW6: =IF(OFFSET(Zones!$H6,0,0)="",0,COUNTIF($M6:$AO6,OFFSET(Zones!$H6,0,0)))+IF(OFFSET(Zones!$H6,0,1)="",0,COUNTIF($M6:$AO6,OFFSET(Zones!$H6,0,1)))+IF(OFFSET(Zones!$H6,0,2)="",0,COUNTIF($M6:$AO6,OFFSET(Zones!$H6,0,2)))+IF(OFFSET(Zones!$H6,0,3)="",0,COUNTIF($M6:$AO6,OFFSET(Zones!$H6,0,3)))+IF(OFFSET(Zones!$H6,0,4)="",0,COUNTIF($M6:$AO6,OFFSET(Zones!$H6,0,4))) -> 0 | AX6: =AW6*Tables!B$2 -> 0 | AY6: =IF(OFFSET(Zones!$M6,0,0)="",0,COUNTIF($M6:$AO6,OFFSET(Zones!$M6,0,0)))+IF(OFFSET(Zones!$M6,0,1)="",0,COUNTIF($M6:$AO6,OFFSET(Zones!$M6,0,1)))+IF(OFFSET(Zones!$M6,0,2)="",0,COUNTIF($M6:$AO6,OFFSET(Zones!$M6,0,2)))+IF(OFFSET(Zones!$M6,0,3)="",0,COUNTIF($M6:$AO6,OFFSET(Zones!$M6,0,3)))+IF(OFFSET(Zones!$M6,0,4)="",0,COUNTIF($M6:$AO6,OFFSET(Zones!$M6,0,4))) -> 0 | AZ6: =AY6*Tables!C$2 -> 0 | BA6: =IF(OFFSET(Zones!$R6,0,0)="",0,COUNTIF($M6:$AO6,OFFSET(Zones!$R6,0,0)))+IF(OFFSET(Zones!$R6,0,1)="",0,COUNTIF($M6:$AO6,OFFSET(Zones!$R6,0,1)))+IF(OFFSET(Zones!$R6,0,2)="",0,COUNTIF($M6:$AO6,OFFSET(Zones!$R6,0,2)))+IF(OFFSET(Zones!$R6,0,3)="",0,COUNTIF($M6:$AO6,OFFSET(Zones!$R6,0,3)))+IF(OFFSET(Zones!$R6,0,4)="",0,COUNTIF($M6:$AO6,OFFSET(Zones!$R6,0,4))) -> 0 | BB6: =BA6*Tables!D$2 -> 0 | BC6: =IF(OFFSET(Zones!$W6,0,0)="",0,COUNTIF($M6:$AO6,OFFSET(Zones!$W6,0,0)))+IF(OFFSET(Zones!$W6,0,1)="",0,COUNTIF($M6:$AO6,OFFSET(Zones!$W6,0,1)))+IF(OFFSET(Zones!$W6,0,2)="",0,COUNTIF($M6:$AO6,OFFSET(Zones!$W6,0,2)))+IF(OFFSET(Zones!$W6,0,3)="",0,COUNTIF($M6:$AO6,OFFSET(Zones!$W6,0,3)))+IF(OFFSET(Zones!$W6,0,4)="",0,COUNTIF($M6:$AO6,OFFSET(Zones!$W6,0,4))) -> 0 | BD6: =BC6*Tables!E$2 -> 0 | BE6: =IF(OFFSET(Zones!$AB6,0,0)="",0,COUNTIF($M6:$AO6,OFFSET(Zones!$AB6,0,0)))+IF(OFFSET(Zones!$AB6,0,1)="",0,COUNTIF($M6:$AO6,OFFSET(Zones!$AB6,0,1)))+IF(OFFSET(Zones!$AB6,0,2)="",0,COUNTIF($M6:$AO6,OFFSET(Zones!$AB6,0,2)))+IF(OFFSET(Zones!$AB6,0,3)="",0,COUNTIF($M6:$AO6,OFFSET(Zones!$AB6,0,3)))+IF(OFFSET(Zones!$AB6,0,4)="",0,COUNTIF($M6:$AO6,OFFSET(Zones!$AB6,0,4))) -> 0 | BF6: =Déplacements!BE6*Tables!F$2 -> 0 | BG6: =IF(OFFSET(Zones!$AG6,0,0)="",0,COUNTIF($M6:$AO6,OFFSET(Zones!$AG6,0,0)))+IF(OFFSET(Zones!$AG6,0,1)="",0,COUNTIF($M6:$AO6,OFFSET(Zones!$AG6,0,1)))+IF(OFFSET(Zones!$AG6,0,2)="",0,COUNTIF($M6:$AO6,OFFSET(Zones!$AG6,0,2)))+IF(OFFSET(Zones!$AG6,0,3)="",0,COUNTIF($M6:$AO6,OFFSET(Zones!$AG6,0,3)))+IF(OFFSET(Zones!$AG6,0,4)="",0,COUNTIF($M6:$AO6,OFFSET(Zones!$AG6,0,4))) -> 0 | BH6: =BG6*Tables!G$2 -> 0 | BI6: =IF(OFFSET(Zones!$AL6,0,0)="",0,COUNTIF($M6:$AO6,OFFSET(Zones!$AL6,0,0)))+IF(OFFSET(Zones!$AL6,0,1)="",0,COUNTIF($M6:$AO6,OFFSET(Zones!$AL6,0,1)))+IF(OFFSET(Zones!$AL6,0,2)="",0,COUNTIF($M6:$AO6,OFFSET(Zones!$AL6,0,2)))+IF(OFFSET(Zones!$AL6,0,3)="",0,COUNTIF($M6:$AO6,OFFSET(Zones!$AL6,0,3)))+IF(OFFSET(Zones!$AL6,0,4)="",0,COUNTIF($M6:$AO6,OFFSET(Zones!$AL6,0,4))) -> 0 | BJ6: =BI6*Tables!H$2 -> 0 | BK6: =IF(OFFSET(Zones!$AQ6,0,0)="",0,COUNTIF($M6:$AO6,OFFSET(Zones!$AQ6,0,0)))+IF(OFFSET(Zones!$AQ6,0,1)="",0,COUNTIF($M6:$AO6,OFFSET(Zones!$AQ6,0,1)))+IF(OFFSET(Zones!$AQ6,0,2)="",0,COUNTIF($M6:$AO6,OFFSET(Zones!$AQ6,0,2)))+IF(OFFSET(Zones!$AQ6,0,3)="",0,COUNTIF($M6:$AO6,OFFSET(Zones!$AQ6,0,3)))+IF(OFFSET(Zones!$AQ6,0,4)="",0,COUNTIF($M6:$AO6,OFFSET(Zones!$AQ6,0,4))) -> 0 | BL6: =BK6*Tables!I$2 -> 0 | BM6: =IF(OFFSET(Zones!$AV6,0,0)="",0,COUNTIF($M6:$AO6,OFFSET(Zones!$AV6,0,0)))+IF(OFFSET(Zones!$AV6,0,1)="",0,COUNTIF($M6:$AO6,OFFSET(Zones!$AV6,0,1)))+IF(OFFSET(Zones!$AV6,0,2)="",0,COUNTIF($M6:$AO6,OFFSET(Zones!$AV6,0,2)))+IF(OFFSET(Zones!$AV6,0,3)="",0,COUNTIF($M6:$AO6,OFFSET(Zones!$AV6,0,3)))+IF(OFFSET(Zones!$AV6,0,4)="",0,COUNTIF($M6:$AO6,OFFSET(Zones!$AV6,0,4))) -> 0 | BN6: =BM6*Tables!J$2 -> 0 | BO6: =IF(OFFSET(Zones!$BA6,0,0)="",0,COUNTIF($M6:$AO6,OFFSET(Zones!$BA6,0,0)))+IF(OFFSET(Zones!$BA6,0,1)="",0,COUNTIF($M6:$AO6,OFFSET(Zones!$BA6,0,1)))+IF(OFFSET(Zones!$BA6,0,2)="",0,COUNTIF($M6:$AO6,OFFSET(Zones!$BA6,0,2)))+IF(OFFSET(Zones!$BA6,0,3)="",0,COUNTIF($M6:$AO6,OFFSET(Zones!$BA6,0,3)))+IF(OFFSET(Zones!$BA6,0,4)="",0,COUNTIF($M6:$AO6,OFFSET(Zones!$BA6,0,4))) -> 0 | BP6: =BO6*Tables!K$2 -> 0 | BQ6: =IF(OFFSET(Zones!$BF6,0,0)="",0,COUNTIF($M6:$AO6,OFFSET(Zones!$BF6,0,0)))+IF(OFFSET(Zones!$BF6,0,1)="",0,COUNTIF($M6:$AO6,OFFSET(Zones!$BF6,0,1)))+IF(OFFSET(Zones!$BF6,0,2)="",0,COUNTIF($M6:$AO6,OFFSET(Zones!$BF6,0,2)))+IF(OFFSET(Zones!$BF6,0,3)="",0,COUNTIF($M6:$AO6,OFFSET(Zones!$BF6,0,3)))+IF(OFFSET(Zones!$BF6,0,4)="",0,COUNTIF($M6:$AO6,OFFSET(Zones!$BF6,0,4))) -> 8 | BR6: =BQ6*Tables!L$2 -> 179.92
A7: 6 | B7: f | C7: FECAMP | D7: 2 | E7: DIEPPE | F7: 2 | G7: ROUEN | H7: 8 | M7: FECAMP | N7: DIEPPE | O7: DIEPPE | P7: DIEPPE | Q7: FECAMP | R7: FECAMP | S7: FECAMP | T7: FECAMP | U7: ROUEN | V7: ROUEN | W7: ROUEN | X7: ROUEN | Y7: ROUEN | Z7: ROUEN | AA7: ROUEN | AB7: ROUEN | AC7: ROUEN | AD7: ROUEN | AE7: ROUEN | AF7: ROUEN | AG7: ROUEN | AH7: ROUEN | AP7: =COUNTIF(M7:AO7,C7) -> 5 | AQ7: =COUNTIF(M7:AO7,E7) -> 3 | AR7: =COUNTIF(M7:AO7,G7) -> 14 | AS7: =COUNTIF(M7:AO7,I7) -> 0 | AT7: =COUNTIF(M7:AO7,K7) -> 0 | AU7: =IF(OFFSET(Zones!$C7,0,0)="",0,COUNTIF($M7:$AO7,OFFSET(Zones!$C7,0,0)))+IF(OFFSET(Zones!$C7,0,1)="",0,COUNTIF($M7:$AO7,OFFSET(Zones!$C7,0,1)))+IF(OFFSET(Zones!$C7,0,2)="",0,COUNTIF($M7:$AO7,OFFSET(Zones!$C7,0,2)))+IF(OFFSET(Zones!$C7,0,3)="",0,COUNTIF($M7:$AO7,OFFSET(Zones!$C7,0,3)))+IF(OFFSET(Zones!$C7,0,4)="",0,COUNTIF($M7:$AO7,OFFSET(Zones!$C7,0,4))) -> 0 | AV7: =AU7*Tables!A$2 -> 0 | AW7: =IF(OFFSET(Zones!$H7,0,0)="",0,COUNTIF($M7:$AO7,OFFSET(Zones!$H7,0,0)))+IF(OFFSET(Zones!$H7,0,1)="",0,COUNTIF($M7:$AO7,OFFSET(Zones!$H7,0,1)))+IF(OFFSET(Zones!$H7,0,2)="",0,COUNTIF($M7:$AO7,OFFSET(Zones!$H7,0,2)))+IF(OFFSET(Zones!$H7,0,3)="",0,COUNTIF($M7:$AO7,OFFSET(Zones!$H7,0,3)))+IF(OFFSET(Zones!$H7,0,4)="",0,COUNTIF($M7:$AO7,OFFSET(Zones!$H7,0,4))) -> 8 | AX7: =AW7*Tables!B$2 -> 31.28 | AY7: =IF(OFFSET(Zones!$M7,0,0)="",0,COUNTIF($M7:$AO7,OFFSET(Zones!$M7,0,0)))+IF(OFFSET(Zones!$M7,0,1)="",0,COUNTIF($M7:$AO7,OFFSET(Zones!$M7,0,1)))+IF(OFFSET(Zones!$M7,0,2)="",0,COUNTIF($M7:$AO7,OFFSET(Zones!$M7,0,2)))+IF(OFFSET(Zones!$M7,0,3)="",0,COUNTIF($M7:$AO7,OFFSET(Zones!$M7,0,3)))+IF(OFFSET(Zones!$M7,0,4)="",0,COUNTIF($M7:$AO7,OFFSET(Zones!$M7,0,4))) -> 0 | AZ7: =AY7*Tables!C$2 -> 0 | BA7: =IF(OFFSET(Zones!$R7,0,0)="",0,COUNTIF($M7:$AO7,OFFSET(Zones!$R7,0,0)))+IF(OFFSET(Zones!$R7,0,1)="",0,COUNTIF($M7:$AO7,OFFSET(Zones!$R7,0,1)))+IF(OFFSET(Zones!$R7,0,2)="",0,COUNTIF($M7:$AO7,OFFSET(Zones!$R7,0,2)))+IF(OFFSET(Zones!$R7,0,3)="",0,COUNTIF($M7:$AO7,OFFSET(Zones!$R7,0,3)))+IF(OFFSET(Zones!$R7,0,4)="",0,COUNTIF($M7:$AO7,OFFSET(Zones!$R7,0,4))) -> 0 | BB7: =BA7*Tables!D$2 -> 0 | BC7: =IF(OFFSET(Zones!$W7,0,0)="",0,COUNTIF($M7:$AO7,OFFSET(Zones!$W7,0,0)))+IF(OFFSET(Zones!$W7,0,1)="",0,COUNTIF($M7:$AO7,OFFSET(Zones!$W7,0,1)))+IF(OFFSET(Zones!$W7,0,2)="",0,COUNTIF($M7:$AO7,OFFSET(Zones!$W7,0,2)))+IF(OFFSET(Zones!$W7,0,3)="",0,COUNTIF($M7:$AO7,OFFSET(Zones!$W7,0,3)))+IF(OFFSET(Zones!$W7,0,4)="",0,COUNTIF($M7:$AO7,OFFSET(Zones!$W7,0,4))) -> 0 | BD7: =BC7*Tables!E$2 -> 0 | BE7: =IF(OFFSET(Zones!$AB7,0,0)="",0,COUNTIF($M7:$AO7,OFFSET(Zones!$AB7,0,0)))+IF(OFFSET(Zones!$AB7,0,1)="",0,COUNTIF($M7:$AO7,OFFSET(Zones!$AB7,0,1)))+IF(OFFSET(Zones!$AB7,0,2)="",0,COUNTIF($M7:$AO7,OFFSET(Zones!$AB7,0,2)))+IF(OFFSET(Zones!$AB7,0,3)="",0,COUNTIF($M7:$AO7,OFFSET(Zones!$AB7,0,3)))+IF(OFFSET(Zones!$AB7,0,4)="",0,COUNTIF($M7:$AO7,OFFSET(Zones!$AB7,0,4))) -> 0 | BF7: =Déplacements!BE7*Tables!F$2 -> 0 | BG7: =IF(OFFSET(Zones!$AG7,0,0)="",0,COUNTIF($M7:$AO7,OFFSET(Zones!$AG7,0,0)))+IF(OFFSET(Zones!$AG7,0,1)="",0,COUNTIF($M7:$AO7,OFFSET(Zones!$AG7,0,1)))+IF(OFFSET(Zones!$AG7,0,2)="",0,COUNTIF($M7:$AO7,OFFSET(Zones!$AG7,0,2)))+IF(OFFSET(Zones!$AG7,0,3)="",0,COUNTIF($M7:$AO7,OFFSET(Zones!$AG7,0,3)))+IF(OFFSET(Zones!$AG7,0,4)="",0,COUNTIF($M7:$AO7,OFFSET(Zones!$AG7,0,4))) -> 0 | BH7: =BG7*Tables!G$2 -> 0 | BI7: =IF(OFFSET(Zones!$AL7,0,0)="",0,COUNTIF($M7:$AO7,OFFSET(Zones!$AL7,0,0)))+IF(OFFSET(Zones!$AL7,0,1)="",0,COUNTIF($M7:$AO7,OFFSET(Zones!$AL7,0,1)))+IF(OFFSET(Zones!$AL7,0,2)="",0,COUNTIF($M7:$AO7,OFFSET(Zones!$AL7,0,2)))+IF(OFFSET(Zones!$AL7,0,3)="",0,COUNTIF($M7:$AO7,OFFSET(Zones!$AL7,0,3)))+IF(OFFSET(Zones!$AL7,0,4)="",0,COUNTIF($M7:$AO7,OFFSET(Zones!$AL7,0,4))) -> 14 | BJ7: =BI7*Tables!H$2 -> 70 | BK7: =IF(OFFSET(Zones!$AQ7,0,0)="",0,COUNTIF($M7:$AO7,OFFSET(Zones!$AQ7,0,0)))+IF(OFFSET(Zones!$AQ7,0,1)="",0,COUNTIF($M7:$AO7,OFFSET(Zones!$AQ7,0,1)))+IF(OFFSET(Zones!$AQ7,0,2)="",0,COUNTIF($M7:$AO7,OFFSET(Zones!$AQ7,0,2)))+IF(OFFSET(Zones!$AQ7,0,3)="",0,COUNTIF($M7:$AO7,OFFSET(Zones!$AQ7,0,3)))+IF(OFFSET(Zones!$AQ7,0,4)="",0,COUNTIF($M7:$AO7,OFFSET(Zones!$AQ7,0,4))) -> 0 | BL7: =BK7*Tables!I$2 -> 0 | BM7: =IF(OFFSET(Zones!$AV7,0,0)="",0,COUNTIF($M7:$AO7,OFFSET(Zones!$AV7,0,0)))+IF(OFFSET(Zones!$AV7,0,1)="",0,COUNTIF($M7:$AO7,OFFSET(Zones!$AV7,0,1)))+IF(OFFSET(Zones!$AV7,0,2)="",0,COUNTIF($M7:$AO7,OFFSET(Zones!$AV7,0,2)))+IF(OFFSET(Zones!$AV7,0,3)="",0,COUNTIF($M7:$AO7,OFFSET(Zones!$AV7,0,3)))+IF(OFFSET(Zones!$AV7,0,4)="",0,COUNTIF($M7:$AO7,OFFSET(Zones!$AV7,0,4))) -> 0 | BN7: =BM7*Tables!J$2 -> 0 | BO7: =IF(OFFSET(Zones!$BA7,0,0)="",0,COUNTIF($M7:$AO7,OFFSET(Zones!$BA7,0,0)))+IF(OFFSET(Zones!$BA7,0,1)="",0,COUNTIF($M7:$AO7,OFFSET(Zones!$BA7,0,1)))+IF(OFFSET(Zones!$BA7,0,2)="",0,COUNTIF($M7:$AO7,OFFSET(Zones!$BA7,0,2)))+IF(OFFSET(Zones!$BA7,0,3)="",0,COUNTIF($M7:$AO7,OFFSET(Zones!$BA7,0,3)))+IF(OFFSET(Zones!$BA7,0,4)="",0,COUNTIF($M7:$AO7,OFFSET(Zones!$BA7,0,4))) -> 0 | BP7: =BO7*Tables!K$2 -> 0 | BQ7: =IF(OFFSET(Zones!$BF7,0,0)="",0,COUNTIF($M7:$AO7,OFFSET(Zones!$BF7,0,0)))+IF(OFFSET(Zones!$BF7,0,1)="",0,COUNTIF($M7:$AO7,OFFSET(Zones!$BF7,0,1)))+IF(OFFSET(Zones!$BF7,0,2)="",0,COUNTIF($M7:$AO7,OFFSET(Zones!$BF7,0,2)))+IF(OFFSET(Zones!$BF7,0,3)="",0,COUNTIF($M7:$AO7,OFFSET(Zones!$BF7,0,3)))+IF(OFFSET(Zones!$BF7,0,4)="",0,COUNTIF($M7:$AO7,OFFSET(Zones!$BF7,0,4))) -> 0 | BR7: =BQ7*Tables!L$2 -> 0
A8: 7 | B8: g | C8: PARIS | D8: 5 | E8: VERSAILLES | F8: 5 | G8: ROUEN | H8: 1 | M8: PARIS | N8: PARIS | O8: PARIS | P8: PARIS | Q8: PARIS | R8: PARIS | S8: PARIS | T8: VERSAILLES | U8: VERSAILLES | V8: VERSAILLES | W8: VERSAILLES | X8: VERSAILLES | Y8: VERSAILLES | Z8: VERSAILLES | AA8: VERSAILLES | AB8: VERSAILLES | AC8: ROUEN | AD8: ROUEN | AE8: ROUEN | AF8: ROUEN | AG8: ROUEN | AH8: ROUEN | AP8: =COUNTIF(M8:AO8,C8) -> 7 | AQ8: =COUNTIF(M8:AO8,E8) -> 9 | AR8: =COUNTIF(M8:AO8,G8) -> 6 | AS8: =COUNTIF(M8:AO8,I8) -> 0 | AT8: =COUNTIF(M8:AO8,K8) -> 0 | AU8: =IF(OFFSET(Zones!$C8,0,0)="",0,COUNTIF($M8:$AO8,OFFSET(Zones!$C8,0,0)))+IF(OFFSET(Zones!$C8,0,1)="",0,COUNTIF($M8:$AO8,OFFSET(Zones!$C8,0,1)))+IF(OFFSET(Zones!$C8,0,2)="",0,COUNTIF($M8:$AO8,OFFSET(Zones!$C8,0,2)))+IF(OFFSET(Zones!$C8,0,3)="",0,COUNTIF($M8:$AO8,OFFSET(Zones!$C8,0,3)))+IF(OFFSET(Zones!$C8,0,4)="",0,COUNTIF($M8:$AO8,OFFSET(Zones!$C8,0,4))) -> 6 | AV8: =AU8*Tables!A$2 -> 11.94 | AW8: =IF(OFFSET(Zones!$H8,0,0)="",0,COUNTIF($M8:$AO8,OFFSET(Zones!$H8,0,0)))+IF(OFFSET(Zones!$H8,0,1)="",0,COUNTIF($M8:$AO8,OFFSET(Zones!$H8,0,1)))+IF(OFFSET(Zones!$H8,0,2)="",0,COUNTIF($M8:$AO8,OFFSET(Zones!$H8,0,2)))+IF(OFFSET(Zones!$H8,0,3)="",0,COUNTIF($M8:$AO8,OFFSET(Zones!$H8,0,3)))+IF(OFFSET(Zones!$H8,0,4)="",0,COUNTIF($M8:$AO8,OFFSET(Zones!$H8,0,4))) -> 0 | AX8: =AW8*Tables!B$2 -> 0 | AY8: =IF(OFFSET(Zones!$M8,0,0)="",0,COUNTIF($M8:$AO8,OFFSET(Zones!$M8,0,0)))+IF(OFFSET(Zones!$M8,0,1)="",0,COUNTIF($M8:$AO8,OFFSET(Zones!$M8,0,1)))+IF(OFFSET(Zones!$M8,0,2)="",0,COUNTIF($M8:$AO8,OFFSET(Zones!$M8,0,2)))+IF(OFFSET(Zones!$M8,0,3)="",0,COUNTIF($M8:$AO8,OFFSET(Zones!$M8,0,3)))+IF(OFFSET(Zones!$M8,0,4)="",0,COUNTIF($M8:$AO8,OFFSET(Zones!$M8,0,4))) -> 0 | AZ8: =AY8*Tables!C$2 -> 0 | BA8: =IF(OFFSET(Zones!$R8,0,0)="",0,COUNTIF($M8:$AO8,OFFSET(Zones!$R8,0,0)))+IF(OFFSET(Zones!$R8,0,1)="",0,COUNTIF($M8:$AO8,OFFSET(Zones!$R8,0,1)))+IF(OFFSET(Zones!$R8,0,2)="",0,COUNTIF($M8:$AO8,OFFSET(Zones!$R8,0,2)))+IF(OFFSET(Zones!$R8,0,3)="",0,COUNTIF($M8:$AO8,OFFSET(Zones!$R8,0,3)))+IF(OFFSET(Zones!$R8,0,4)="",0,COUNTIF($M8:$AO8,OFFSET(Zones!$R8,0,4))) -> 0 | BB8: =BA8*Tables!D$2 -> 0 | BC8: =IF(OFFSET(Zones!$W8,0,0)="",0,COUNTIF($M8:$AO8,OFFSET(Zones!$W8,0,0)))+IF(OFFSET(Zones!$W8,0,1)="",0,COUNTIF($M8:$AO8,OFFSET(Zones!$W8,0,1)))+IF(OFFSET(Zones!$W8,0,2)="",0,COUNTIF($M8:$AO8,OFFSET(Zones!$W8,0,2)))+IF(OFFSET(Zones!$W8,0,3)="",0,COUNTIF($M8:$AO8,OFFSET(Zones!$W8,0,3)))+IF(OFFSET(Zones!$W8,0,4)="",0,COUNTIF($M8:$AO8,OFFSET(Zones!$W8,0,4))) -> 16 | BD8: =BC8*Tables!E$2 -> 145.44 | BE8: =IF(OFFSET(Zones!$AB8,0,0)="",0,COUNTIF($M8:$AO8,OFFSET(Zones!$AB8,0,0)))+IF(OFFSET(Zones!$AB8,0,1)="",0,COUNTIF($M8:$AO8,OFFSET(Zones!$AB8,0,1)))+IF(OFFSET(Zones!$AB8,0,2)="",0,COUNTIF($M8:$AO8,OFFSET(Zones!$AB8,0,2)))+IF(OFFSET(Zones!$AB8,0,3)="",0,COUNTIF($M8:$AO8,OFFSET(Zones!$AB8,0,3)))+IF(OFFSET(Zones!$AB8,0,4)="",0,COUNTIF($M8:$AO8,OFFSET(Zones!$AB8,0,4))) -> 0 | BF8: =Déplacements!BE8*Tables!F$2 -> 0 | BG8: =IF(OFFSET(Zones!$AG8,0,0)="",0,COUNTIF($M8:$AO8,OFFSET(Zones!$AG8,0,0)))+IF(OFFSET(Zones!$AG8,0,1)="",0,COUNTIF($M8:$AO8,OFFSET(Zones!$AG8,0,1)))+IF(OFFSET(Zones!$AG8,0,2)="",0,COUNTIF($M8:$AO8,OFFSET(Zones!$AG8,0,2)))+IF(OFFSET(Zones!$AG8,0,3)="",0,COUNTIF($M8:$AO8,OFFSET(Zones!$AG8,0,3)))+IF(OFFSET(Zones!$AG8,0,4)="",0,COUNTIF($M8:$AO8,OFFSET(Zones!$AG8,0,4))) -> 0 | BH8: =BG8*Tables!G$2 -> 0 | BI8: =IF(OFFSET(Zones!$AL8,0,0)="",0,COUNTIF($M8:$AO8,OFFSET(Zones!$AL8,0,0)))+IF(OFFSET(Zones!$AL8,0,1)="",0,COUNTIF($M8:$AO8,OFFSET(Zones!$AL8,0,1)))+IF(OFFSET(Zones!$AL8,0,2)="",0,COUNTIF($M8:$AO8,OFFSET(Zones!$AL8,0,2)))+IF(OFFSET(Zones!$AL8,0,3)="",0,COUNTIF($M8:$AO8,OFFSET(Zones!$AL8,0,3)))+IF(OFFSET(Zones!$AL8,0,4)="",0,COUNTIF($M8:$AO8,OFFSET(Zones!$AL8,0,4))) -> 0 | BJ8: =BI8*Tables!H$2 -> 0 | BK8: =IF(OFFSET(Zones!$AQ8,0,0)="",0,COUNTIF($M8:$AO8,OFFSET(Zones!$AQ8,0,0)))+IF(OFFSET(Zones!$AQ8,0,1)="",0,COUNTIF($M8:$AO8,OFFSET(Zones!$AQ8,0,1)))+IF(OFFSET(Zones!$AQ8,0,2)="",0,COUNTIF($M8:$AO8,OFFSET(Zones!$AQ8,0,2)))+IF(OFFSET(Zones!$AQ8,0,3)="",0,COUNTIF($M8:$AO8,OFFSET(Zones!$AQ8,0,3)))+IF(OFFSET(Zones!$AQ8,0,4)="",0,COUNTIF($M8:$AO8,OFFSET(Zones!$AQ8,0,4))) -> 0 | BL8: =BK8*Tables!I$2 -> 0 | BM8: =IF(OFFSET(Zones!$AV8,0,0)="",0,COUNTIF($M8:$AO8,OFFSET(Zones!$AV8,0,0)))+IF(OFFSET(Zones!$AV8,0,1)="",0,COUNTIF($M8:$AO8,OFFSET(Zones!$AV8,0,1)))+IF(OFFSET(Zones!$AV8,0,2)="",0,COUNTIF($M8:$AO8,OFFSET(Zones!$AV8,0,2)))+IF(OFFSET(Zones!$AV8,0,3)="",0,COUNTIF($M8:$AO8,OFFSET(Zones!$AV8,0,3)))+IF(OFFSET(Zones!$AV8,0,4)="",0,COUNTIF($M8:$AO8,OFFSET(Zones!$AV8,0,4))) -> 0 | BN8: =BM8*Tables!J$2 -> 0 | BO8: =IF(OFFSET(Zones!$BA8,0,0)="",0,COUNTIF($M8:$AO8,OFFSET(Zones!$BA8,0,0)))+IF(OFFSET(Zones!$BA8,0,1)="",0,COUNTIF($M8:$AO8,OFFSET(Zones!$BA8,0,1)))+IF(OFFSET(Zones!$BA8,0,2)="",0,COUNTIF($M8:$AO8,OFFSET(Zones!$BA8,0,2)))+IF(OFFSET(Zones!$BA8,0,3)="",0,COUNTIF($M8:$AO8,OFFSET(Zones!$BA8,0,3)))+IF(OFFSET(Zones!$BA8,0,4)="",0,COUNTIF($M8:$AO8,OFFSET(Zones!$BA8,0,4))) -> 0 | BP8: =BO8*Tables!K$2 -> 0 | BQ8: =IF(OFFSET(Zones!$BF8,0,0)="",0,COUNTIF($M8:$AO8,OFFSET(Zones!$BF8,0,0)))+IF(OFFSET(Zones!$BF8,0,1)="",0,COUNTIF($M8:$AO8,OFFSET(Zones!$BF8,0,1)))+IF(OFFSET(Zones!$BF8,0,2)="",0,COUNTIF($M8:$AO8,OFFSET(Zones!$BF8,0,2)))+IF(OFFSET(Zones!$BF8,0,3)="",0,COUNTIF($M8:$AO8,OFFSET(Zones!$BF8,0,3)))+IF(OFFSET(Zones!$BF8,0,4)="",0,COUNTIF($M8:$AO8,OFFSET(Zones!$BF8,0,4))) -> 0 | BR8: =BQ8*Tables!L$2 -> 0

Sheet IMPORT
A1: Matricule | B1: NOM | C1: TrajetZone1 | D1: TrajetZone2 | E1: TrajetZone3 | F1: TrajetZone4 | G1: TrajetZone5 | H1: TrajetZone6 | I1: TrajetZone7 | J1: TrajetZone8 | K1: TrajetZone9 | L1: TrajetZone10 | M1: TrajetZone11 | N1: TrajetZone12
A2: 1 | B2: a | C2: =OFFSET(Déplacements!AU$1,ROW()-1,,,) -> 8 | D2: =OFFSET(Déplacements!AW$1,ROW()-1,,,) -> 0 | E2: =OFFSET(Déplacements!AY$1,ROW()-1,,,) -> 10 | F2: =OFFSET(Déplacements!BA$1,ROW()-1,,,) -> 0 | G2: =OFFSET(Déplacements!BC$1,ROW()-1,,,) -> 0 | H2: =OFFSET(Déplacements!BE$1,ROW()-1,,,) -> 3 | I2: =OFFSET(Déplacements!BG$1,ROW()-1,,,) -> 0 | J2: =OFFSET(Déplacements!BI$1,ROW()-1,,,) -> 0 | K2: =OFFSET(Déplacements!BK$1,ROW()-1,,,) -> 0 | L2: =OFFSET(Déplacements!BM$1,ROW()-1,,,) -> 0 | M2: =OFFSET(Déplacements!BO$1,ROW()-1,,,) -> 0 | N2: =OFFSET(Déplacements!BQ$1,ROW()-1,,,) -> 0
A3: 2 | B3: c | C3: =OFFSET(Déplacements!AU$1,ROW()-1,,,) -> 0 | D3: =OFFSET(Déplacements!AW$1,ROW()-1,,,) -> 0 | E3: =OFFSET(Déplacements!AY$1,ROW()-1,,,) -> 0 | F3: =OFFSET(Déplacements!BA$1,ROW()-1,,,) -> 0 | G3: =OFFSET(Déplacements!BC$1,ROW()-1,,,) -> 0 | H3: =OFFSET(Déplacements!BE$1,ROW()-1,,,) -> 0 | I3: =OFFSET(Déplacements!BG$1,ROW()-1,,,) -> 0 | J3: =OFFSET(Déplacements!BI$1,ROW()-1,,,) -> 21 | K3: =OFFSET(Déplacements!BK$1,ROW()-1,,,) -> 0 | L3: =OFFSET(Déplacements!BM$1,ROW()-1,,,) -> 0 | M3: =OFFSET(Déplacements!BO$1,ROW()-1,,,) -> 0 | N3: =OFFSET(Déplacements!BQ$1,ROW()-1,,,) -> 0
A4: 3 | B4: b | C4: =OFFSET(Déplacements!AU$1,ROW()-1,,,) -> 0 | D4: =OFFSET(Déplacements!AW$1,ROW()-1,,,) -> 14 | E4: =OFFSET(Déplacements!AY$1,ROW()-1,,,) -> 0 | F4: =OFFSET(Déplacements!BA$1,ROW()-1,,,) -> 0 | G4: =OFFSET(Déplacements!BC$1,ROW()-1,,,) -> 0 | H4: =OFFSET(Déplacements!BE$1,ROW()-1,,,) -> 0 | I4: =OFFSET(Déplacements!BG$1,ROW()-1,,,) -> 0 | J4: =OFFSET(Déplacements!BI$1,ROW()-1,,,) -> 0 | K4: =OFFSET(Déplacements!BK$1,ROW()-1,,,) -> 0 | L4: =OFFSET(Déplacements!BM$1,ROW()-1,,,) -> 0 | M4: =OFFSET(Déplacements!BO$1,ROW()-1,,,) -> 0 | N4: =OFFSET(Déplacements!BQ$1,ROW()-1,,,) -> 0
A5: 4 | B5: d | C5: =OFFSET(Déplacements!AU$1,ROW()-1,,,) -> 11 | D5: =OFFSET(Déplacements!AW$1,ROW()-1,,,) -> 0 | E5: =OFFSET(Déplacements!AY$1,ROW()-1,,,) -> 4 | F5: =OFFSET(Déplacements!BA$1,ROW()-1,,,) -> 0 | G5: =OFFSET(Déplacements!BC$1,ROW()-1,,,) -> 0 | H5: =OFFSET(Déplacements!BE$1,ROW()-1,,,) -> 0 | I5: =OFFSET(Déplacements!BG$1,ROW()-1,,,) -> 0 | J5: =OFFSET(Déplacements!BI$1,ROW()-1,,,) -> 0 | K5: =OFFSET(Déplacements!BK$1,ROW()-1,,,) -> 0 | L5: =OFFSET(Déplacements!BM$1,ROW()-1,,,) -> 0 | M5: =OFFSET(Déplacements!BO$1,ROW()-1,,,) -> 0 | N5: =OFFSET(Déplacements!BQ$1,ROW()-1,,,) -> 0
A6: 5 | B6: e | C6: =OFFSET(Déplacements!AU$1,ROW()-1,,,) -> 13 | D6: =OFFSET(Déplacements!AW$1,ROW()-1,,,) -> 0 | E6: =OFFSET(Déplacements!AY$1,ROW()-1,,,) -> 0 | F6: =OFFSET(Déplacements!BA$1,ROW()-1,,,) -> 0 | G6: =OFFSET(Déplacements!BC$1,ROW()-1,,,) -> 0 | H6: =OFFSET(Déplacements!BE$1,ROW()-1,,,) -> 0 | I6: =OFFSET(Déplacements!BG$1,ROW()-1,,,) -> 0 | J6: =OFFSET(Déplacements!BI$1,ROW()-1,,,) -> 0 | K6: =OFFSET(Déplacements!BK$1,ROW()-1,,,) -> 0 | L6: =OFFSET(Déplacements!BM$1,ROW()-1,,,) -> 0 | M6: =OFFSET(Déplacements!BO$1,ROW()-1,,,) -> 0 | N6: =OFFSET(Déplacements!BQ$1,ROW()-1,,,) -> 8
A7: 6 | B7: f | C7: =OFFSET(Déplacements!AU$1,ROW()-1,,,) -> 0 | D7: =OFFSET(Déplacements!AW$1,ROW()-1,,,) -> 8 | E7: =OFFSET(Déplacements!AY$1,ROW()-1,,,) -> 0 | F7: =OFFSET(Déplacements!BA$1,ROW()-1,,,) -> 0 | G7: =OFFSET(Déplacements!BC$1,ROW()-1,,,) -> 0 | H7: =OFFSET(Déplacements!BE$1,ROW()-1,,,) -> 0 | I7: =OFFSET(Déplacements!BG$1,ROW()-1,,,) -> 0 | J7: =OFFSET(Déplacements!BI$1,ROW()-1,,,) -> 14 | K7: =OFFSET(Déplacements!BK$1,ROW()-1,,,) -> 0 | L7: =OFFSET(Déplacements!BM$1,ROW()-1,,,) -> 0 | M7: =OFFSET(Déplacements!BO$1,ROW()-1,,,) -> 0 | N7: =OFFSET(Déplacements!BQ$1,ROW()-1,,,) -> 0
A8: 7 | B8: g | C8: =OFFSET(Déplacements!AU$1,ROW()-1,,,) -> 6 | D8: =OFFSET(Déplacements!AW$1,ROW()-1,,,) -> 0 | E8: =OFFSET(Déplacements!AY$1,ROW()-1,,,) -> 0 | F8: =OFFSET(Déplacements!BA$1,ROW()-1,,,) -> 0 | G8: =OFFSET(Déplacements!BC$1,ROW()-1,,,) -> 16 | H8: =OFFSET(Déplacements!BE$1,ROW()-1,,,) -> 0 | I8: =OFFSET(Déplacements!BG$1,ROW()-1,,,) -> 0 | J8: =OFFSET(Déplacements!BI$1,ROW()-1,,,) -> 0 | K8: =OFFSET(Déplacements!BK$1,ROW()-1,,,) -> 0 | L8: =OFFSET(Déplacements!BM$1,ROW()-1,,,) -> 0 | M8: =OFFSET(Déplacements!BO$1,ROW()-1,,,) -> 0 | N8: =OFFSET(Déplacements!BQ$1,ROW()-1,,,) -> 0
A9: 8 | B9: h | C9: =OFFSET(Déplacements!AU$1,ROW()-1,,,) -> 0 | D9: =OFFSET(Déplacements!AW$1,ROW()-1,,,) -> 0 | E9: =OFFSET(Déplacements!AY$1,ROW()-1,,,) -> 0 | F9: =OFFSET(Déplacements!BA$1,ROW()-1,,,) -> 0 | G9: =OFFSET(Déplacements!BC$1,ROW()-1,,,) -> 0 | H9: =OFFSET(Déplacements!BE$1,ROW()-1,,,) -> 0 | I9: =OFFSET(Déplacements!BG$1,ROW()-1,,,) -> 0 | J9: =OFFSET(Déplacements!BI$1,ROW()-1,,,) -> 0 | K9: =OFFSET(Déplacements!BK$1,ROW()-1,,,) -> 0 | L9: =OFFSET(Déplacements!BM$1,ROW()-1,,,) -> 0 | M9: =OFFSET(Déplacements!BO$1,ROW()-1,,,) -> 0 | N9: =OFFSET(Déplacements!BQ$1,ROW()-1,,,) -> 0
A10: 9 | B10: i | C10: =OFFSET(Déplacements!AU$1,ROW()-1,,,) -> 0 | D10: =OFFSET(Déplacements!AW$1,ROW()-1,,,) -> 0 | E10: =OFFSET(Déplacements!AY$1,ROW()-1,,,) -> 0 | F10: =OFFSET(Déplacements!BA$1,ROW()-1,,,) -> 0 | G10: =OFFSET(Déplacements!BC$1,ROW()-1,,,) -> 0 | H10: =OFFSET(Déplacements!BE$1,ROW()-1,,,) -> 0 | I10: =OFFSET(Déplacements!BG$1,ROW()-1,,,) -> 0 | J10: =OFFSET(Déplacements!BI$1,ROW()-1,,,) -> 0 | K10: =OFFSET(Déplacements!BK$1,ROW()-1,,,) -> 0 | L10: =OFFSET(Déplacements!BM$1,ROW()-1,,,) -> 0 | M10: =OFFSET(Déplacements!BO$1,ROW()-1,,,) -> 0 | N10: =OFFSET(Déplacements!BQ$1,ROW()-1,,,) -> 0
A11: 10 | B11: j | C11: =OFFSET(Déplacements!AU$1,ROW()-1,,,) -> 0 | D11: =OFFSET(Déplacements!AW$1,ROW()-1,,,) -> 0 | E11: =OFFSET(Déplacements!AY$1,ROW()-1,,,) -> 0 | F11: =OFFSET(Déplacements!BA$1,ROW()-1,,,) -> 0 | G11: =OFFSET(Déplacements!BC$1,ROW()-1,,,) -> 0 | H11: =OFFSET(Déplacements!BE$1,ROW()-1,,,) -> 0 | I11: =OFFSET(Déplacements!BG$1,ROW()-1,,,) -> 0 | J11: =OFFSET(Déplacements!BI$1,ROW()-1,,,) -> 0 | K11: =OFFSET(Déplacements!BK$1,ROW()-1,,,) -> 0 | L11: =OFFSET(Déplacements!BM$1,ROW()-1,,,) -> 0 | M11: =OFFSET(Déplacements!BO$1,ROW()-1,,,) -> 0 | N11: =OFFSET(Déplacements!BQ$1,ROW()-1,,,) -> 0
A12: 11 | B12: k | C12: =OFFSET(Déplacements!AU$1,ROW()-1,,,) -> 0 | D12: =OFFSET(Déplacements!AW$1,ROW()-1,,,) -> 0 | E12: =OFFSET(Déplacements!AY$1,ROW()-1,,,) -> 0 | F12: =OFFSET(Déplacements!BA$1,ROW()-1,,,) -> 0 | G12: =OFFSET(Déplacements!BC$1,ROW()-1,,,) -> 0 | H12: =OFFSET(Déplacements!BE$1,ROW()-1,,,) -> 0 | I12: =OFFSET(Déplacements!BG$1,ROW()-1,,,) -> 0 | J12: =OFFSET(Déplacements!BI$1,ROW()-1,,,) -> 0 | K12: =OFFSET(Déplacements!BK$1,ROW()-1,,,) -> 0 | L12: =OFFSET(Déplacements!BM$1,ROW()-1,,,) -> 0 | M12: =OFFSET(Déplacements!BO$1,ROW()-1,,,) -> 0 | N12: =OFFSET(Déplacements!BQ$1,ROW()-1,,,) -> 0
A13: 12 | B13: l | C13: =OFFSET(Déplacements!AU$1,ROW()-1,,,) -> 0 | D13: =OFFSET(Déplacements!AW$1,ROW()-1,,,) -> 0 | E13: =OFFSET(Déplacements!AY$1,ROW()-1,,,) -> 0 | F13: =OFFSET(Déplacements!BA$1,ROW()-1,,,) -> 0 | G13: =OFFSET(Déplacements!BC$1,ROW()-1,,,) -> 0 | H13: =OFFSET(Déplacements!BE$1,ROW()-1,,,) -> 0 | I13: =OFFSET(Déplacements!BG$1,ROW()-1,,,) -> 0 | J13: =OFFSET(Déplacements!BI$1,ROW()-1,,,) -> 0 | K13: =OFFSET(Déplacements!BK$1,ROW()-1,,,) -> 0 | L13: =OFFSET(Déplacements!BM$1,ROW()-1,,,) -> 0 | M13: =OFFSET(Déplacements!BO$1,ROW()-1,,,) -> 0 | N13: =OFFSET(Déplacements!BQ$1,ROW()-1,,,) -> 0
... A46: 45 | B46: b | C46: =OFFSET(Déplacements!AU$1,ROW()-1,,,) -> 0 | D46: =OFFSET(Déplacements!AW$1,ROW()-1,,,) -> 0 | E46: =OFFSET(Déplacements!AY$1,ROW()-1,,,) -> 0 | F46: =OFFSET(Déplacements!BA$1,ROW()-1,,,) -> 0 | G46: =OFFSET(Déplacements!BC$1,ROW()-1,,,) -> 0 | H46: =OFFSET(Déplacements!BE$1,ROW()-1,,,) -> 0 | I46: =OFFSET(Déplacements!BG$1,ROW()-1,,,) -> 0 | J46: =OFFSET(Déplacements!BI$1,ROW()-1,,,) -> 0 | K46: =OFFSET(Déplacements!BK$1,ROW()-1,,,) -> 0 | L46: =OFFSET(Déplacements!BM$1,ROW()-1,,,) -> 0 | M46: =OFFSET(Déplacements!BO$1,ROW()-1,,,) -> 0 | N46: =OFFSET(Déplacements!BQ$1,ROW()-1,,,) -> 0

Sheet Zones
A1: Matricule | B1: NOM | C1: Zone 1 | H1: Zone 2 | M1: Zone 3 | R1: Zone 4 | W1: Zone 5 | AB1: Zone 6 | AG1: Zone 7 | AL1: Zone 8 | AQ1: Zone 9 | AV1: Zone 10 | BA1: Zone 11 | BF1: Zone 12
A2: =Déplacements!A2 -> 1 | B2: =Déplacements!B2 -> a | C2: {=IFERROR(INDEX(Déplacements!$C2:$L2,SMALL(IF(Déplacements!$C2:$L2=INT(INT(COLUMN()-3)/5)+1,COLUMN(Déplacements!$C2:$L2)-COLUMN(Déplacements!$C$2)),COLUMNS($C$2:C2))),"")} -> PARIS | D2: {=IFERROR(INDEX(Déplacements!$C2:$L2,SMALL(IF(Déplacements!$C2:$L2=INT(INT(COLUMN()-3)/5)+1,COLUMN(Déplacements!$C2:$L2)-COLUMN(Déplacements!$C$2)),COLUMNS($C$2:D2))),"")} -> MELUN | E2: {=IFERROR(INDEX(Déplacements!$C2:$L2,SMALL(IF(Déplacements!$C2:$L2=INT(INT(COLUMN()-3)/5)+1,COLUMN(Déplacements!$C2:$L2)-COLUMN(Déplacements!$C$2)),COLUMNS($C$2:E2))),"")} | F2: {=IFERROR(INDEX(Déplacements!$C2:$L2,SMALL(IF(Déplacements!$C2:$L2=INT(INT(COLUMN()-3)/5)+1,COLUMN(Déplacements!$C2:$L2)-COLUMN(Déplacements!$C$2)),COLUMNS($C$2:F2))),"")} | G2: {=IFERROR(INDEX(Déplacements!$C2:$L2,SMALL(IF(Déplacements!$C2:$L2=INT(INT(COLUMN()-3)/5)+1,COLUMN(Déplacements!$C2:$L2)-COLUMN(Déplacements!$C$2)),COLUMNS($C$2:G2))),"")} | H2: {=IFERROR(INDEX(Déplacements!$C2:$L2,SMALL(IF(Déplacements!$C2:$L2=INT(INT(COLUMN()-3)/5)+1,COLUMN(Déplacements!$C2:$L2)-COLUMN(Déplacements!$C$2)),COLUMNS($H$2:H2))),"")} | I2: {=IFERROR(INDEX(Déplacements!$C2:$L2,SMALL(IF(Déplacements!$C2:$L2=INT(INT(COLUMN()-3)/5)+1,COLUMN(Déplacements!$C2:$L2)-COLUMN(Déplacements!$C$2)),COLUMNS($H$2:I2))),"")} | J2: {=IFERROR(INDEX(Déplacements!$C2:$L2,SMALL(IF(Déplacements!$C2:$L2=INT(INT(COLUMN()-3)/5)+1,COLUMN(Déplacements!$C2:$L2)-COLUMN(Déplacements!$C$2)),COLUMNS($H$2:J2))),"")} | K2: {=IFERROR(INDEX(Déplacements!$C2:$L2,SMALL(IF(Déplacements!$C2:$L2=INT(INT(COLUMN()-3)/5)+1,COLUMN(Déplacements!$C2:$L2)-COLUMN(Déplacements!$C$2)),COLUMNS($H$2:K2))),"")} | L2: {=IFERROR(INDEX(Déplacements!$C2:$L2,SMALL(IF(Déplacements!$C2:$L2=INT(INT(COLUMN()-3)/5)+1,COLUMN(Déplacements!$C2:$L2)-COLUMN(Déplacements!$C$2)),COLUMNS($H$2:L2))),"")} | M2: {=IFERROR(INDEX(Déplacements!$C2:$L2,SMALL(IF(Déplacements!$C2:$L2=INT(INT(COLUMN()-3)/5)+1,COLUMN(Déplacements!$C2:$L2)-COLUMN(Déplacements!$C$2)),COLUMNS($M$2:M2))),"")} -> CAEN | N2: {=IFERROR(INDEX(Déplacements!$C2:$L2,SMALL(IF(Déplacements!$C2:$L2=INT(INT(COLUMN()-3)/5)+1,COLUMN(Déplacements!$C2:$L2)-COLUMN(Déplacements!$C$2)),COLUMNS($M$2:N2))),"")} | O2: {=IFERROR(INDEX(Déplacements!$C2:$L2,SMALL(IF(Déplacements!$C2:$L2=INT(INT(COLUMN()-3)/5)+1,COLUMN(Déplacements!$C2:$L2)-COLUMN(Déplacements!$C$2)),COLUMNS($M$2:O2))),"")} | P2: {=IFERROR(INDEX(Déplacements!$C2:$L2,SMALL(IF(Déplacements!$C2:$L2=INT(INT(COLUMN()-3)/5)+1,COLUMN(Déplacements!$C2:$L2)-COLUMN(Déplacements!$C$2)),COLUMNS($M$2:P2))),"")} | Q2: {=IFERROR(INDEX(Déplacements!$C2:$L2,SMALL(IF(Déplacements!$C2:$L2=INT(INT(COLUMN()-3)/5)+1,COLUMN(Déplacements!$C2:$L2)-COLUMN(Déplacements!$C$2)),COLUMNS($M$2:Q2))),"")} | R2: {=IFERROR(INDEX(Déplacements!$C2:$L2,SMALL(IF(Déplacements!$C2:$L2=INT(INT(COLUMN()-3)/5)+1,COLUMN(Déplacements!$C2:$L2)-COLUMN(Déplacements!$C$2)),COLUMNS($R$2:R2))),"")} | S2: {=IFERROR(INDEX(Déplacements!$C2:$L2,SMALL(IF(Déplacements!$C2:$L2=INT(INT(COLUMN()-3)/5)+1,COLUMN(Déplacements!$C2:$L2)-COLUMN(Déplacements!$C$2)),COLUMNS($R$2:S2))),"")} | T2: {=IFERROR(INDEX(Déplacements!$C2:$L2,SMALL(IF(Déplacements!$C2:$L2=INT(INT(COLUMN()-3)/5)+1,COLUMN(Déplacements!$C2:$L2)-COLUMN(Déplacements!$C$2)),COLUMNS($R$2:T2))),"")} | U2: {=IFERROR(INDEX(Déplacements!$C2:$L2,SMALL(IF(Déplacements!$C2:$L2=INT(INT(COLUMN()-3)/5)+1,COLUMN(Déplacements!$C2:$L2)-COLUMN(Déplacements!$C$2)),COLUMNS($R$2:U2))),"")} | V2: {=IFERROR(INDEX(Déplacements!$C2:$L2,SMALL(IF(Déplacements!$C2:$L2=INT(INT(COLUMN()-3)/5)+1,COLUMN(Déplacements!$C2:$L2)-COLUMN(Déplacements!$C$2)),COLUMNS($R$2:V2))),"")} | W2: {=IFERROR(INDEX(Déplacements!$C2:$L2,SMALL(IF(Déplacements!$C2:$L2=INT(INT(COLUMN()-3)/5)+1,COLUMN(Déplacements!$C2:$L2)-COLUMN(Déplacements!$C$2)),COLUMNS($W$2:W2))),"")} | X2: {=IFERROR(INDEX(Déplacements!$C2:$L2,SMALL(IF(Déplacements!$C2:$L2=INT(INT(COLUMN()-3)/5)+1,COLUMN(Déplacements!$C2:$L2)-COLUMN(Déplacements!$C$2)),COLUMNS($W$2:X2))),"")} | Y2: {=IFERROR(INDEX(Déplacements!$C2:$L2,SMALL(IF(Déplacements!$C2:$L2=INT(INT(COLUMN()-3)/5)+1,COLUMN(Déplacements!$C2:$L2)-COLUMN(Déplacements!$C$2)),COLUMNS($W$2:Y2))),"")} | Z2: {=IFERROR(INDEX(Déplacements!$C2:$L2,SMALL(IF(Déplacements!$C2:$L2=INT(INT(COLUMN()-3)/5)+1,COLUMN(Déplacements!$C2:$L2)-COLUMN(Déplacements!$C$2)),COLUMNS($W$2:Z2))),"")} | AA2: {=IFERROR(INDEX(Déplacements!$C2:$L2,SMALL(IF(Déplacements!$C2:$L2=INT(INT(COLUMN()-3)/5)+1,COLUMN(Déplacements!$C2:$L2)-COLUMN(Déplacements!$C$2)),COLUMNS($W$2:AA2))),"")} | AB2: {=IFERROR(INDEX(Déplacements!$C2:$L2,SMALL(IF(Déplacements!$C2:$L2=INT(INT(COLUMN()-3)/5)+1,COLUMN(Déplacements!$C2:$L2)-COLUMN(Déplacements!$C$2)),COLUMNS($AB$2:AB2))),"")} -> ROUEN | AC2: {=IFERROR(INDEX(Déplacements!$C2:$L2,SMALL(IF(Déplacements!$C2:$L2=INT(INT(COLUMN()-3)/5)+1,COLUMN(Déplacements!$C2:$L2)-COLUMN(Déplacements!$C$2)),COLUMNS($AB$2:AC2))),"")} | AD2: {=IFERROR(INDEX(Déplacements!$C2:$L2,SMALL(IF(Déplacements!$C2:$L2=INT(INT(COLUMN()-3)/5)+1,COLUMN(Déplacements!$C2:$L2)-COLUMN(Déplacements!$C$2)),COLUMNS($AB$2:AD2))),"")} | AE2: {=IFERROR(INDEX(Déplacements!$C2:$L2,SMALL(IF(Déplacements!$C2:$L2=INT(INT(COLUMN()-3)/5)+1,COLUMN(Déplacements!$C2:$L2)-COLUMN(Déplacements!$C$2)),COLUMNS($AB$2:AE2))),"")} | AF2: {=IFERROR(INDEX(Déplacements!$C2:$L2,SMALL(IF(Déplacements!$C2:$L2=INT(INT(COLUMN()-3)/5)+1,COLUMN(Déplacements!$C2:$L2)-COLUMN(Déplacements!$C$2)),COLUMNS($AB$2:AF2))),"")} | AG2: {=IFERROR(INDEX(Déplacements!$C2:$L2,SMALL(IF(Déplacements!$C2:$L2=INT(INT(COLUMN()-3)/5)+1,COLUMN(Déplacements!$C2:$L2)-COLUMN(Déplacements!$C$2)),COLUMNS($AG$2:AG2))),"")} | AH2: {=IFERROR(INDEX(Déplacements!$C2:$L2,SMALL(IF(Déplacements!$C2:$L2=INT(INT(COLUMN()-3)/5)+1,COLUMN(Déplacements!$C2:$L2)-COLUMN(Déplacements!$C$2)),COLUMNS($AG$2:AH2))),"")} | AI2: {=IFERROR(INDEX(Déplacements!$C2:$L2,SMALL(IF(Déplacements!$C2:$L2=INT(INT(COLUMN()-3)/5)+1,COLUMN(Déplacements!$C2:$L2)-COLUMN(Déplacements!$C$2)),COLUMNS($AG$2:AI2))),"")} | AJ2: {=IFERROR(INDEX(Déplacements!$C2:$L2,SMALL(IF(Déplacements!$C2:$L2=INT(INT(COLUMN()-3)/5)+1,COLUMN(Déplacements!$C2:$L2)-COLUMN(Déplacements!$C$2)),COLUMNS($AG$2:AJ2))),"")} | AK2: {=IFERROR(INDEX(Déplacements!$C2:$L2,SMALL(IF(Déplacements!$C2:$L2=INT(INT(COLUMN()-3)/5)+1,COLUMN(Déplacements!$C2:$L2)-COLUMN(Déplacements!$C$2)),COLUMNS($AG$2:AK2))),"")} | AL2: {=IFERROR(INDEX(Déplacements!$C2:$L2,SMALL(IF(Déplacements!$C2:$L2=INT(INT(COLUMN()-3)/5)+1,COLUMN(Déplacements!$C2:$L2)-COLUMN(Déplacements!$C$2)),COLUMNS($AL$2:AL2))),"")} | AM2: {=IFERROR(INDEX(Déplacements!$C2:$L2,SMALL(IF(Déplacements!$C2:$L2=INT(INT(COLUMN()-3)/5)+1,COLUMN(Déplacements!$C2:$L2)-COLUMN(Déplacements!$C$2)),COLUMNS($AL$2:AM2))),"")} | AN2: {=IFERROR(INDEX(Déplacements!$C2:$L2,SMALL(IF(Déplacements!$C2:$L2=INT(INT(COLUMN()-3)/5)+1,COLUMN(Déplacements!$C2:$L2)-COLUMN(Déplacements!$C$2)),COLUMNS($AL$2:AN2))),"")} | AO2: {=IFERROR(INDEX(Déplacements!$C2:$L2,SMALL(IF(Déplacements!$C2:$L2=INT(INT(COLUMN()-3)/5)+1,COLUMN(Déplacements!$C2:$L2)-COLUMN(Déplacements!$C$2)),COLUMNS($AL$2:AO2))),"")} | AP2: {=IFERROR(INDEX(Déplacements!$C2:$L2,SMALL(IF(Déplacements!$C2:$L2=INT(INT(COLUMN()-3)/5)+1,COLUMN(Déplacements!$C2:$L2)-COLUMN(Déplacements!$C$2)),COLUMNS($AL$2:AP2))),"")} | AQ2: {=IFERROR(INDEX(Déplacements!$C2:$L2,SMALL(IF(Déplacements!$C2:$L2=INT(INT(COLUMN()-3)/5)+1,COLUMN(Déplacements!$C2:$L2)-COLUMN(Déplacements!$C$2)),COLUMNS($AQ$2:AQ2))),"")} | AR2: {=IFERROR(INDEX(Déplacements!$C2:$L2,SMALL(IF(Déplacements!$C2:$L2=INT(INT(COLUMN()-3)/5)+1,COLUMN(Déplacements!$C2:$L2)-COLUMN(Déplacements!$C$2)),COLUMNS($AQ$2:AR2))),"")} | AS2: {=IFERROR(INDEX(Déplacements!$C2:$L2,SMALL(IF(Déplacements!$C2:$L2=INT(INT(COLUMN()-3)/5)+1,COLUMN(Déplacements!$C2:$L2)-COLUMN(Déplacements!$C$2)),COLUMNS($AQ$2:AS2))),"")} | AT2: {=IFERROR(INDEX(Déplacements!$C2:$L2,SMALL(IF(Déplacements!$C2:$L2=INT(INT(COLUMN()-3)/5)+1,COLUMN(Déplacements!$C2:$L2)-COLUMN(Déplacements!$C$2)),COLUMNS($AQ$2:AT2))),"")} | AU2: {=IFERROR(INDEX(Déplacements!$C2:$L2,SMALL(IF(Déplacements!$C2:$L2=INT(INT(COLUMN()-3)/5)+1,COLUMN(Déplacements!$C2:$L2)-COLUMN(Déplacements!$C$2)),COLUMNS($AQ$2:AU2))),"")} | AV2: {=IFERROR(INDEX(Déplacements!$C2:$L2,SMALL(IF(Déplacements!$C2:$L2=INT(INT(COLUMN()-3)/5)+1,COLUMN(Déplacements!$C2:$L2)-COLUMN(Déplacements!$C$2)),COLUMNS($AV$2:AV2))),"")} | AW2: {=IFERROR(INDEX(Déplacements!$C2:$L2,SMALL(IF(Déplacements!$C2:$L2=INT(INT(COLUMN()-3)/5)+1,COLUMN(Déplacements!$C2:$L2)-COLUMN(Déplacements!$C$2)),COLUMNS($AV$2:AW2))),"")} | AX2: {=IFERROR(INDEX(Déplacements!$C2:$L2,SMALL(IF(Déplacements!$C2:$L2=INT(INT(COLUMN()-3)/5)+1,COLUMN(Déplacements!$C2:$L2)-COLUMN(Déplacements!$C$2)),COLUMNS($AV$2:AX2))),"")} | AY2: {=IFERROR(INDEX(Déplacements!$C2:$L2,SMALL(IF(Déplacements!$C2:$L2=INT(INT(COLUMN()-3)/5)+1,COLUMN(Déplacements!$C2:$L2)-COLUMN(Déplacements!$C$2)),COLUMNS($AV$2:AY2))),"")} | AZ2: {=IFERROR(INDEX(Déplacements!$C2:$L2,SMALL(IF(Déplacements!$C2:$L2=INT(INT(COLUMN()-3)/5)+1,COLUMN(Déplacements!$C2:$L2)-COLUMN(Déplacements!$C$2)),COLUMNS($AV$2:AZ2))),"")} | BA2: {=IFERROR(INDEX(Déplacements!$C2:$L2,SMALL(IF(Déplacements!$C2:$L2=INT(INT(COLUMN()-3)/5)+1,COLUMN(Déplacements!$C2:$L2)-COLUMN(Déplacements!$C$2)),COLUMNS($BA$2:BA2))),"")} | BB2: {=IFERROR(INDEX(Déplacements!$C2:$L2,SMALL(IF(Déplacements!$C2:$L2=INT(INT(COLUMN()-3)/5)+1,COLUMN(Déplacements!$C2:$L2)-COLUMN(Déplacements!$C$2)),COLUMNS($BA$2:BB2))),"")} | BC2: {=IFERROR(INDEX(Déplacements!$C2:$L2,SMALL(IF(Déplacements!$C2:$L2=INT(INT(COLUMN()-3)/5)+1,COLUMN(Déplacements!$C2:$L2)-COLUMN(Déplacements!$C$2)),COLUMNS($BA$2:BC2))),"")} | BD2: {=IFERROR(INDEX(Déplacements!$C2:$L2,SMALL(IF(Déplacements!$C2:$L2=INT(INT(COLUMN()-3)/5)+1,COLUMN(Déplacements!$C2:$L2)-COLUMN(Déplacements!$C$2)),COLUMNS($BA$2:BD2))),"")} | BE2: {=IFERROR(INDEX(Déplacements!$C2:$L2,SMALL(IF(Déplacements!$C2:$L2=INT(INT(COLUMN()-3)/5)+1,COLUMN(Déplacements!$C2:$L2)-COLUMN(Déplacements!$C$2)),COLUMNS($BA$2:BE2))),"")} | BF2: {=IFERROR(INDEX(Déplacements!$C2:$L2,SMALL(IF(Déplacements!$C2:$L2=INT(INT(COLUMN()-3)/5)+1,COLUMN(Déplacements!$C2:$L2)-COLUMN(Déplacements!$C$2)),COLUMNS($BF$2:BF2))),"")} | BG2: {=IFERROR(INDEX(Déplacements!$C2:$L2,SMALL(IF(Déplacements!$C2:$L2=INT(INT(COLUMN()-3)/5)+1,COLUMN(Déplacements!$C2:$L2)-COLUMN(Déplacements!$C$2)),COLUMNS($BF$2:BG2))),"")} | BH2: {=IFERROR(INDEX(Déplacements!$C2:$L2,SMALL(IF(Déplacements!$C2:$L2=INT(INT(COLUMN()-3)/5)+1,COLUMN(Déplacements!$C2:$L2)-COLUMN(Déplacements!$C$2)),COLUMNS($BF$2:BH2))),"")} | BI2: {=IFERROR(INDEX(Déplacements!$C2:$L2,SMALL(IF(Déplacements!$C2:$L2=INT(INT(COLUMN()-3)/5)+1,COLUMN(Déplacements!$C2:$L2)-COLUMN(Déplacements!$C$2)),COLUMNS($BF$2:BI2))),"")} | BJ2: {=IFERROR(INDEX(Déplacements!$C2:$L2,SMALL(IF(Déplacements!$C2:$L2=INT(INT(COLUMN()-3)/5)+1,COLUMN(Déplacements!$C2:$L2)-COLUMN(Déplacements!$C$2)),COLUMNS($BF$2:BJ2))),"")}
