Workbook

Sheet Tables
A1: TrajetZone1 | B1: TrajetZone2 | C1: TrajetZone3 | D1: TrajetZone4 | E1: TrajetZone5 | F1: TrajetZone6 | G1: TrajetZone7 | H1: TrajetZone8 | I1: TrajetZone9 | J1: TrajetZone10 | K1: TrajetZone11 | L1: TrajetZone12
A2: 1.99 | B2: 3.91 | C2: 5.68 | D2: 7.37 | E2: 9.09 | F2: 11.24 | G2: 13.12 | H2: 5 | I2: 16.86 | J2: 18.74 | K2: 20.61 | L2: 22.49

Sheet Déplacements
A1: Matricule | B1: NOM | C1: CHANTIER 1 | D1: zone | E1: CHANTIER 2 | F1: zone | G1: CHANTIER 3 | H1: zone | I1: CHANTIER 4 | J1: zone | K1: CHANTIER 5 | L1: zone | M1: 43586 | N1: =IF(WEEKDAY(M1)=6,M1+3,M1+1) -> 43587 | O1: =IF(WEEKDAY(N1)=6,N1+3,N1+1) -> 43588 | P1: =IF(WEEKDAY(O1)=6,O1+3,O1+1) -> 43591 | Q1: =IF(WEEKDAY(P1)=6,P1+3,P1+1) -> 43592 | R1: =IF(WEEKDAY(Q1)=6,Q1+3,Q1+1) -> 43593 | S1: =IF(WEEKDAY(R1)=6,R1+3,R1+1) -> 43594 | T1: =IF(WEEKDAY(S1)=6,S1+3,S1+1) -> 43595 | U1: =IF(WEEKDAY(T1)=6,T1+3,T1+1) -> 43598 | ... AI1: =IF(WEEKDAY(AH1)=6,AH1+3,AH1+1) -> 43616 | AP1: CHANTIER 1 | AQ1: CHANTIER 2 | AR1: CHANTIER 3 | AS1: CHANTIER 4 | AT1: CHANTIER 5 | AU1: TrajetZone1 | AW1: TrajetZone2 | AY1: TrajetZone3 | BA1: TrajetZone4 | BC1: TrajetZone5 | BE1: TrajetZone6 | BG1: TrajetZone7 | BI1: TrajetZone8 | BK1: TrajetZone9 | BM1: TrajetZone10 | BO1: TrajetZone11 | BQ1: TrajetZone12 | BS1: PrExcept
A2: 1 | B2: a | C2: PARIS | D2: 1 | E2: MELUN | F2: 1 | G2: CAEN | H2: 3 | I2: ROUEN | J2: 6 | N2: PARIS | O2: PARIS | P2: PARIS | Q2: PARIS | R2: PARIS | S2: PARIS | T2: PARIS | U2: CAEN | V2: CAEN | W2: CAEN | X2: CAEN | Y2: CAEN | Z2: CAEN | AA2: CAEN | AB2: CAEN | AC2: CAEN | AD2: CAEN | AE2: ROUEN | AF2: ROUEN | AG2: ROUEN | AH2: MELUN | AP2: =COUNTIF(M2:AO2,C2) -> 7 | AQ2: =COUNTIF(M2:AO2,E2) -> 1 | AR2: =COUNTIF(M2:AO2,G2) -> 10 | AS2: =COUNTIF(M2:AO2,I2) -> 3 | AT2: =COUNTIF(M2:AO2,K2) -> 0 | AU2: =IF(OFFSET(Zones!$C2,0,0)="",0,COUNTIF($M2:$AO2,OFFSET(Zones!$C2,0,0)))+IF(OFFSET(Zones!$C2,0,1)="",0,COUNTIF($M2:$AO2,OFFSET(Zones!$C2,0,1)))+IF(OFFSET(Zones!$C2,0,2)="",0,COUNTIF($M2:$AO2,OFFSET(Zones!$C2,0,2)))+IF(OFFSET(Zones!$C2,0,3)="",0,COUNTIF($M2:$AO2,OFFSET(Zones!$C2,0,3)))+IF(OFFSET(Zones!$C2,0,4)="",0,COUNTIF($M2:$AO2,OFFSET(Zones!$C2,0,4))) -> 8 | AV2: =AU2*Tables!A$2 -> 15.92 | AW2: =IF(OFFSET(Zones!$H2,0,0)="",0,COUNTIF($M2:$AO2,OFFSET(Zones!$H2,0,0)))+IF(OFFSET(Zones!$H2,0,1)="",0,COUNTIF($M2:$AO2,OFFSET(Zones!$H2,0,1)))+IF(OFFSET(Zones!$H2,0,2)="",0,COUNTIF($M2:$AO2,OFFSET(Zones!$H2,0,2)))+IF(OFFSET(Zones!$H2,0,3)="",0,COUNTIF($M2:$AO2,OFFSET(Zones!$H2,0,3)))+IF(OFFSET(Zones!$H2,0,4)="",0,COUNTIF($M2:$AO2,OFFSET(Zones!$H2,0,4))) -> 0 | AX2: =AW2*Tables!B$2 -> 0 | AY2: =IF(OFFSET(Zones!$M2,0,0)="",0,COUNTIF($M2:$AO2,OFFSET(Zones!$M2,0,0)))+IF(OFFSET(Zones!$M2,0,1)="",0,COUNTIF($M2:$AO2,OFFSET(Zones!$M2,0,1)))+IF(OFFSET(Zones!$M2,0,2)="",0,COUNTIF($M2:$AO2,OFFSET(Zones!$M2,0,2)))+IF(OFFSET(Zones!$M2,0,3)="",0,COUNTIF($M2:$AO2,OFFSET(Zones!$M2,0,3)))+IF(OFFSET(Zones!$M2,0,4)="",0,COUNTIF($M2:$AO2,OFFSET(Zones!$M2,0,4))) -> 10 | AZ2: =AY2*Tables!C$2 -> 56.8 | BA2: =IF(OFFSET(Zones!$R2,0,0)="",0,COUNTIF($M2:$AO2,OFFSET(Zones!$R2,0,0)))+IF(OFFSET(Zones!$R2,0,1)="",0,COUNTIF($M2:$AO2,OFFSET(Zones!$R2,0,1)))+IF(OFFSET(Zones!$R2,0,2)="",0,COUNTIF($M2:$AO2,OFFSET(Zones!$R2,0,2)))+IF(OFFSET(Zones!$R2,0,3)="",0,COUNTIF($M2:$AO2,OFFSET(Zones!$R2,0,3)))+IF(OFFSET(Zones!$R2,0,4)="",0,COUNTIF($M2:$AO2,OFFSET(Zones!$R2,0,4))) -> 0 | BB2: =BA2*Tables!D$2 -> 0 | BC2: =IF(OFFSET(Zones!$W2,0,0)="",0,COUNTIF($M2:$AO2,OFFSET(Zones!$W2,0,0)))+IF(OFFSET(Zones!$W2,0,1)="",0,COUNTIF($M2:$AO2,OFFSET(Zones!$W2,0,1)))+IF(OFFSET(Zones!$W2,0,2)="",0,COUNTIF($M2:$AO2,OFFSET(Zones!$W2,0,2)))+IF(OFFSET(Zones!$W2,0,3)="",0,COUNTIF($M2:$AO2,OFFSET(Zones!$W2,0,3)))+IF(OFFSET(Zones!$W2,0,4)="",0,COUNTIF($M2:$AO2,OFFSET(Zones!$W2,0,4))) -> 0 | BD2: =BC2*Tables!E$2 -> 0 | BE2: =IF(OFFSET(Zones!$AB2,0,0)="",0,COUNTIF($M2:$AO2,OFFSET(Zones!$AB2,0,0)))+IF(OFFSET(Zones!$AB2,0,1)="",0,COUNTIF($M2:$AO2,OFFSET(Zones!$AB2,0,1)))+IF(OFFSET(Zones!$AB2,0,2)="",0,COUNTIF($M2:$AO2,OFFSET(Zones!$AB2,0,2)))+IF(OFFSET(Zones!$AB2,0,3)="",0,COUNTIF($M2:$AO2,OFFSET(Zones!$AB2,0,3)))+IF(OFFSET(Zones!$AB2,0,4)="",0,COUNTIF($M2:$AO2,OFFSET(Zones!$AB2,0,4))) -> 3 | BF2: =Déplacements!BE2*Tables!F$2 -> 33.72 | BG2: =IF(OFFSET(Zones!$AG2,0,0)="",0,COUNTIF($M2:$AO2,OFFSET(Zones!$AG2,0,0)))+IF(OFFSET(Zones!$AG2,0,1)="",0,COUNTIF($M2:$AO2,OFFSET(Zones!$AG2,0,1)))+IF(OFFSET(Zones!$AG2,0,2)="",0,COUNTIF($M2:$AO2,OFFSET(Zones!$AG2,0,2)))+IF(OFFSET(Zones!$AG2,0,3)="",0,COUNTIF($M2:$AO2,OFFSET(Zones!$AG2,0,3)))+IF(OFFSET(Zones!$AG2,0,4)="",0,COUNTIF($M2:$AO2,OFFSET(Zones!$AG2,0,4))) -> 0 | BH2: =BG2*Tables!G$2 -> 0 | BI2: =IF(OFFSET(Zones!$AL2,0,0)="",0,COUNTIF($M2:$AO2,OFFSET(Zones!$AL2,0,0)))+IF(OFFSET(Zones!$AL2,0,1)="",0,COUNTIF($M2:$AO2,OFFSET(Zones!$AL2,0,1)))+IF(OFFSET(Zones!$AL2,0,2)="",0,COUNTIF($M2:$AO2,OFFSET(Zones!$AL2,0,2)))+IF(OFFSET(Zones!$AL2,0,3)="",0,COUNTIF($M2:$AO2,OFFSET(Zones!$AL2,0,3)))+IF(OFFSET(Zones!$AL2,0,4)="",0,COUNTIF($M2:$AO2,OFFSET(Zones!$AL2,0,4))) -> 0 | BJ2: =BI2*Tables!H$2 -> 0 | BK2: =IF(OFFSET(Zones!$AQ2,0,0)="",0,COUNTIF($M2:$AO2,OFFSET(Zones!$AQ2,0,0)))+IF(OFFSET(Zones!$AQ2,0,1)="",0,COUNTIF($M2:$AO2,OFFSET(Zones!$AQ2,0,1)))+IF(OFFSET(Zones!$AQ2,0,2)="",0,COUNTIF($M2:$AO2,OFFSET(Zones!$AQ2,0,2)))+IF(OFFSET(Zones!$AQ2,0,3)="",0,COUNTIF($M2:$AO2,OFFSET(Zones!$AQ2,0,3)))+IF(OFFSET(Zones!$AQ2,0,4)="",0,COUNTIF($M2:$AO2,OFFSET(Zones!$AQ2,0,4))) -> 0 | BL2: =BK2*Tables!I$2 -> 0 | BM2: =IF(OFFSET(Zones!$AV2,0,0)="",0,COUNTIF($M2:$AO2,OFFSET(Zones!$AV2,0,0)))+IF(OFFSET(Zones!$AV2,0,1)="",0,COUNTIF($M2:$AO2,OFFSET(Zones!$AV2,0,1)))+IF(OFFSET(Zones!$AV2,0,2)="",0,COUNTIF($M2:$AO2,OFFSET(Zones!$AV2,0,2)))+IF(OFFSET(Zones!$AV2,0,3)="",0,COUNTIF($M2:$AO2,OFFSET(Zones!$AV2,0,3)))+IF(OFFSET(Zones!$AV2,0,4)="",0,COUNTIF($M2:$AO2,OFFSET(Zones!$AV2,0,4))) -> 0 | BN2: =BM2*Tables!J$2 -> 0 | BO2: =IF(OFFSET(Zones!$BA2,0,0)="",0,COUNTIF($M2:$AO2,OFFSET(Zones!$BA2,0,0)))+IF(OFFSET(Zones!$BA2,0,1)="",0,COUNTIF($M2:$AO2,OFFSET(Zones!$BA2,0,1)))+IF(OFFSET(Zones!$BA2,0,2)="",0,COUNTIF($M2:$AO2,OFFSET(Zones!$BA2,0,2)))+IF(OFFSET(Zones!$BA2,0,3)="",0,COUNTIF($M2:$AO2,OFFSET(Zones!$BA2,0,3)))+IF(OFFSET(Zones!$BA2,0,4)="",0,COUNTIF($M2:$AO2,OFFSET(Zones!$BA2,0,4))) -> 0 | BP2: =BO2*Tables!K$2 -> 0 | BQ2: =IF(OFFSET(Zones!$BF2,0,0)="",0,COUNTIF($M2:$AO2,OFFSET(Zones!$BF2,0,0)))+IF(OFFSET(Zones!$BF2,0,1)="",0,COUNTIF($M2:$AO2,OFFSET(Zones!$BF2,0,1)))+IF(OFFSET(Zones!$BF2,0,2)="",0,COUNTIF($M2:$AO2,OFFSET(Zones!$BF2,0,2)))+IF(OFFSET(Zones!$BF2,0,3)="",0,COUNTIF($M2:$AO2,OFFSET(Zones!$BF2,0,3)))+IF(OFFSET(Zones!$BF2,0,4)="",0,COUNTIF($M2:$AO2,OFFSET(Zones!$BF2,0,4))) -> 0 | BR2: =BQ2*Tables!L$2 -> 0
A3: 2 | B3: c | C3: RENNES | D3: 8 | E3: VANNES | F3: 8 | G3: ST MALO | H3: 8 | N3: RENNES | O3: VANNES | P3: VANNES | Q3: VANNES | R3: VANNES | S3: VANNES | T3: VANNES | U3: ST MALO | V3: ST MALO | W3: ST MALO | X3: ST MALO | Y3: ST MALO | Z3: ST MALO | AA3: ST MALO | AB3: ST MALO | AC3: ST MALO | AD3: ST MALO | AE3: VANNES | AF3: VANNES | AG3: VANNES | AH3: VANNES | AP3: =COUNTIF(M3:AO3,C3) -> 1 | AQ3: =COUNTIF(M3:AO3,E3) -> 10 | AR3: =COUNTIF(M3:AO3,G3) -> 10 | AS3: =COUNTIF(M3:AO3,I3) -> 0 | AT3: =COUNTIF(M3:AO3,K3) -> 0 | AU3: =IF(OFFSET(Zones!$C3,0,0)="",0,COUNTIF($M3:$AO3,OFFSET(Zones!$C3,0,0)))+IF(OFFSET(Zones!$C3,0,1)="",0,COUNTIF($M3:$AO3,OFFSET(Zones!$C3,0,1)))+IF(OFFSET(Zones!$C3,0,2)="",0,COUNTIF($M3:$AO3,OFFSET(Zones!$C3,0,2)))+IF(OFFSET(Zones!$C3,0,3)="",0,COUNTIF($M3:$AO3,OFFSET(Zones!$C3,0,3)))+IF(OFFSET(Zones!$C3,0,4)="",0,COUNTIF($M3:$AO3,OFFSET(Zones!$C3,0,4))) -> 0 | AV3: =AU3*Tables!A$2 -> 0 | AW3: =IF(OFFSET(Zones!$H3,0,0)="",0,COUNTIF($M3:$AO3,OFFSET(Zones!$H3,0,0)))+IF(OFFSET(Zones!$H3,0,1)="",0,COUNTIF($M3:$AO3,OFFSET(Zones!$H3,0,1)))+IF(OFFSET(Zones!$H3,0,2)="",0,COUNTIF($M3:$AO3,OFFSET(Zones!$H3,0,2)))+IF(OFFSET(Zones!$H3,0,3)="",0,COUNTIF($M3:$AO3,OFFSET(Zones!$H3,0,3)))+IF(OFFSET(Zones!$H3,0,4)="",0,COUNTIF($M3:$AO3,OFFSET(Zones!$H3,0,4))) -> 0 | AX3: =AW3*Tables!B$2 -> 0 | AY3: =IF(OFFSET(Zones!$M3,0,0)="",0,COUNTIF($M3:$AO3,OFFSET(Zones!$M3,0,0)))+IF(OFFSET(Zones!$M3,0,1)="",0,COUNTIF($M3:$AO3,OFFSET(Zones!$M3,0,1)))+IF(OFFSET(Zones!$M3,0,2)="",0,COUNTIF($M3:$AO3,OFFSET(Zones!$M3,0,2)))+IF(OFFSET(Zones!$M3,0,3)="",0,COUNTIF($M3:$AO3,OFFSET(Zones!$M3,0,3)))+IF(OFFSET(Zones!$M3,0,4)="",0,COUNTIF($M3:$AO3,OFFSET(Zones!$M3,0,4))) -> 0 | AZ3: =AY3*Tables!C$2 -> 0 | BA3: =IF(OFFSET(Zones!$R3,0,0)="",0,COUNTIF($M3:$AO3,OFFSET(Zones!$R3,0,0)))+IF(OFFSET(Zones!$R3,0,1)="",0,COUNTIF($M3:$AO3,OFFSET(Zones!$R3,0,1)))+IF(OFFSET(Zones!$R3,0,2)="",0,COUNTIF($M3:$AO3,OFFSET(Zones!$R3,0,2)))+IF(OFFSET(Zones!$R3,0,3)="",0,COUNTIF($M3:$AO3,OFFSET(Zones!$R3,0,3)))+IF(OFFSET(Zones!$R3,0,4)="",0,COUNTIF($M3:$AO3,OFFSET(Zones!$R3,0,4))) -> 0 | BB3: =BA3*Tables!D$2 -> 0 | BC3: =IF(OFFSET(Zones!$W3,0,0)="",0,COUNTIF($M3:$AO3,OFFSET(Zones!$W3,0,0)))+IF(OFFSET(Zones!$W3,0,1)="",0,COUNTIF($M3:$AO3,OFFSET(Zones!$W3,0,1)))+IF(OFFSET(Zones!$W3,0,2)="",0,COUNTIF($M3:$AO3,OFFSET(Zones!$W3,0,2)))+IF(OFFSET(Zones!$W3,0,3)="",0,COUNTIF($M3:$AO3,OFFSET(Zones!$W3,0,3)))+IF(OFFSET(Zones!$W3,0,4)="",0,COUNTIF($M3:$AO3,OFFSET(Zones!$W3,0,4))) -> 0 | BD3: =BC3*Tables!E$2 -> 0 | BE3: =IF(OFFSET(Zones!$AB3,0,0)="",0,COUNTIF($M3:$AO3,OFFSET(Zones!$AB3,0,0)))+IF(OFFSET(Zones!$AB3,0,1)="",0,COUNTIF($M3:$AO3,OFFSET(Zones!$AB3,0,1)))+IF(OFFSET(Zones!$AB3,0,2)="",0,COUNTIF($M3:$AO3,OFFSET(Zones!$AB3,0,2)))+IF(OFFSET(Zones!$AB3,0,3)="",0,COUNTIF($M3:$AO3,OFFSET(Zones!$AB3,0,3)))+IF(OFFSET(Zones!$AB3,0,4)="",0,COUNTIF($M3:$AO3,OFFSET(Zones!$AB3,0,4))) -> 0 | BF3: =Déplacements!BE3*Tables!F$2 -> 0 | BG3: =IF(OFFSET(Zones!$AG3,0,0)="",0,COUNTIF($M3:$AO3,OFFSET(Zones!$AG3,0,0)))+IF(OFFSET(Zones!$AG3,0,1)="",0,COUNTIF($M3:$AO3,OFFSET(Zones!$AG3,0,1)))+IF(OFFSET(Zones!$AG3,0,2)="",0,COUNTIF($M3:$AO3,OFFSET(Zones!$AG3,0,2)))+IF(OFFSET(Zones!$AG3,0,3)="",0,COUNTIF($M3:$AO3,OFFSET(Zones!$AG3,0,3)))+IF(OFFSET(Zones!$AG3,0,4)="",0,COUNTIF($M3:$AO3,OFFSET(Zones!$AG3,0,4))) -> 0 | BH3: =BG3*Tables!G$2 -> 0 | BI3: =IF(OFFSET(Zones!$AL3,0,0)="",0,COUNTIF($M3:$AO3,OFFSET(Zones!$AL3,0,0)))+IF(OFFSET(Zones!$AL3,0,1)="",0,COUNTIF($M3:$AO3,OFFSET(Zones!$AL3,0,1)))+IF(OFFSET(Zones!$AL3,0,2)="",0,COUNTIF($M3:$AO3,OFFSET(Zones!$AL3,0,2)))+IF(OFFSET(Zones!$AL3,0,3)="",0,COUNTIF($M3:$AO3,OFFSET(Zones!$AL3,0,3)))+IF(OFFSET(Zones!$AL3,0,4)="",0,COUNTIF($M3:$AO3,OFFSET(Zones!$AL3,0,4))) -> 21 | BJ3: =BI3*Tables!H$2 -> 105 | BK3: =IF(OFFSET(Zones!$AQ3,0,0)="",0,COUNTIF($M3:$AO3,OFFSET(Zones!$AQ3,0,0)))+IF(OFFSET(Zones!$AQ3,0,1)="",0,COUNTIF($M3:$AO3,OFFSET(Zones!$AQ3,0,1)))+IF(OFFSET(Zones!$AQ3,0,2)="",0,COUNTIF($M3:$AO3,OFFSET(Zones!$AQ3,0,2)))+IF(OFFSET(Zones!$AQ3,0,3)="",0,COUNTIF($M3:$AO3,OFFSET(Zones!$AQ3,0,3)))+IF(OFFSET(Zones!$AQ3,0,4)="",0,COUNTIF($M3:$AO3,OFFSET(Zones!$AQ3,0,4))) -> 0 | BL3: =BK3*Tables!I$2 -> 0 | BM3: =IF(OFFSET(Zones!$AV3,0,0)="",0,COUNTIF($M3:$AO3,OFFSET(Zones!$AV3,0,0)))+IF(OFFSET(Zones!$AV3,0,1)="",0,COUNTIF($M3:$AO3,OFFSET(Zones!$AV3,0,1)))+IF(OFFSET(Zones!$AV3,0,2)="",0,COUNTIF($M3:$AO3,OFFSET(Zones!$AV3,0,2)))+IF(OFFSET(Zones!$AV3,0,3)="",0,COUNTIF($M3:$AO3,OFFSET(Zones!$AV3,0,3)))+IF(OFFSET(Zones!$AV3,0,4)="",0,COUNTIF($M3:$AO3,OFFSET(Zones!$AV3,0,4))) -> 0 | BN3: =BM3*Tables!J$2 -> 0 | BO3: =IF(OFFSET(Zones!$BA3,0,0)="",0,COUNTIF($M3:$AO3,OFFSET(Zones!$BA3,0,0)))+IF(OFFSET(Zones!$BA3,0,1)="",0,COUNTIF($M3:$AO3,OFFSET(Zones!$BA3,0,1)))+IF(OFFSET(Zones!$BA3,0,2)="",0,COUNTIF($M3:$AO3,OFFSET(Zones!$BA3,0,2)))+IF(OFFSET(Zones!$BA3,0,3)="",0,COUNTIF($M3:$AO3,OFFSET(Zones!$BA3,0,3)))+IF(OFFSET(Zones!$BA3,0,4)="",0,COUNTIF($M3:$AO3,OFFSET(Zones!$BA3,0,4))) -> 0 | BP3: =BO3*Tables!K$2 -> 0 | BQ3: =IF(OFFSET(Zones!$BF3,0,0)="",0,COUNTIF($M3:$AO3,OFFSET(Zones!$BF3,0,0)))+IF(OFFSET(Zones!$BF3,0,1)="",0,COUNTIF($M3:$AO3,OFFSET(Zones!$BF3,0,1)))+IF(OFFSET(Zones!$BF3,0,2)="",0,COUNTIF($M3:$AO3,OFFSET(Zones!$BF3,0,2)))+IF(OFFSET(Zones!$BF3,0,3)="",0,COUNTIF($M3:$AO3,OFFSET(Zones!$BF3,0,3)))+IF(OFFSET(Zones!$BF3,0,4)="",0,COUNTIF($M3:$AO3,OFFSET(Zones!$BF3,0,4))) -> 0 | BR3: =BQ3*Tables!L$2 -> 0
A4: 3 | B4: b | G4: ROUEN | H4: 2 | N4: ATELIER | O4: ATELIER | P4: ATELIER | Q4: ATELIER | R4: ATELIER | S4: ATELIER | T4: ATELIER | U4: ROUEN | V4: ROUEN | W4: ROUEN | X4: ROUEN | Y4: ROUEN | Z4: ROUEN | AA4: ROUEN | AB4: ROUEN | AC4: ROUEN | AD4: ROUEN | AE4: ROUEN | AF4: ROUEN | AG4: ROUEN | AH4: ROUEN | AP4: =COUNTIF(M4:AO4,C4) -> 0 | AQ4: =COUNTIF(M4:AO4,E4) -> 0 | AR4: =COUNTIF(M4:AO4,G4) -> 14 | AS4: =COUNTIF(M4:AO4,I4) -> 0 | AT4: =COUNTIF(M4:AO4,K4) -> 0 | AU4: =IF(OFFSET(Zones!$C4,0,0)="",0,COUNTIF($M4:$AO4,OFFSET(Zones!$C4,0,0)))+IF(OFFSET(Zones!$C4,0,1)="",0,COUNTIF($M4:$AO4,OFFSET(Zones!$C4,0,1)))+IF(OFFSET(Zones!$C4,0,2)="",0,COUNTIF($M4:$AO4,OFFSET(Zones!$C4,0,2)))+IF(OFFSET(Zones!$C4,0,3)="",0,COUNTIF($M4:$AO4,OFFSET(Zones!$C4,0,3)))+IF(OFFSET(Zones!$C4,0,4)="",0,COUNTIF($M4:$AO4,OFFSET(Zones!$C4,0,4))) -> 0 | AV4: =AU4*Tables!A$2 -> 0 | AW4: =IF(OFFSET(Zones!$H4,0,0)="",0,COUNTIF($M4:$AO4,OFFSET(Zones!$H4,0,0)))+IF(OFFSET(Zones!$H4,0,1)="",0,COUNTIF($M4:$AO4,OFFSET(Zones!$H4,0,1)))+IF(OFFSET(Zones!$H4,0,2)="",0,COUNTIF($M4:$AO4,OFFSET(Zones!$H4,0,2)))+IF(OFFSET(Zones!$H4,0,3)="",0,COUNTIF($M4:$AO4,OFFSET(Zones!$H4,0,3)))+IF(OFFSET(Zones!$H4,0,4)="",0,COUNTIF($M4:$AO4,OFFSET(Zones!$H4,0,4))) -> 14 | AX4: =AW4*Tables!B$2 -> 54.74 | AY4: =IF(OFFSET(Zones!$M4,0,0)="",0,COUNTIF($M4:$AO4,OFFSET(Zones!$M4,0,0)))+IF(OFFSET(Zones!$M4,0,1)="",0,COUNTIF($M4:$AO4,OFFSET(Zones!$M4,0,1)))+IF(OFFSET(Zones!$M4,0,2)="",0,COUNTIF($M4:$AO4,OFFSET(Zones!$M4,0,2)))+IF(OFFSET(Zones!$M4,0,3)="",0,COUNTIF($M4:$AO4,OFFSET(Zones!$M4,0,3)))+IF(OFFSET(Zones!$M4,0,4)="",0,COUNTIF($M4:$AO4,OFFSET(Zones!$M4,0,4))) -> 0 | AZ4: =AY4*Tables!C$2 -> 0 | BA4: =IF(OFFSET(Zones!$R4,0,0)="",0,COUNTIF($M4:$AO4,OFFSET(Zones!$R4,0,0)))+IF(OFFSET(Zones!$R4,0,1)="",0,COUNTIF($M4:$AO4,OFFSET(Zones!$R4,0,1)))+IF(OFFSET(Zones!$R4,0,2)="",0,COUNTIF($M4:$AO4,OFFSET(Zones!$R4,0,2)))+IF(OFFSET(Zones!$R4,0,3)="",0,COUNTIF($M4:$AO4,OFFSET(Zones!$R4,0,3)))+IF(OFFSET(Zones!$R4,0,4)="",0,COUNTIF($M4:$AO4,OFFSET(Zones!$R4,0,4))) -> 0 | BB4: =BA4*Tables!D$2 -> 0 | BC4: =IF(OFFSET(Zones!$W4,0,0)="",0,COUNTIF($M4:$AO4,OFFSET(Zones!$W4,0,0)))+IF(OFFSET(Zones!$W4,0,1)="",0,COUNTIF($M4:$AO4,OFFSET(Zones!$W4,0,1)))+IF(OFFSET(Zones!$W4,0,2)="",0,COUNTIF($M4:$AO4,OFFSET(Zones!$W4,0,2)))+IF(OFFSET(Zones!$W4,0,3)="",0,COUNTIF($M4:$AO4,OFFSET(Zones!$W4,0,3)))+IF(OFFSET(Zones!$W4,0,4)="",0,COUNTIF($M4:$AO4,OFFSET(Zones!$W4,0,4))) -> 0 | BD4: =BC4*Tables!E$2 -> 0 | BE4: =IF(OFFSET(Zones!$AB4,0,0)="",0,COUNTIF($M4:$AO4,OFFSET(Zones!$AB4,0,0)))+IF(OFFSET(Zones!$AB4,0,1)="",0,COUNTIF($M4:$AO4,OFFSET(Zones!$AB4,0,1)))+IF(OFFSET(Zones!$AB4,0,2)="",0,COUNTIF($M4:$AO4,OFFSET(Zones!$AB4,0,2)))+IF(OFFSET(Zones!$AB4,0,3)="",0,COUNTIF($M4:$AO4,OFFSET(Zones!$AB4,0,3)))+IF(OFFSET(Zones!$AB4,0,4)="",0,COUNTIF($M4:$AO4,OFFSET(Zones!$AB4,0,4))) -> 0 | BF4: =Déplacements!BE4*Tables!F$2 -> 0 | BG4: =IF(OFFSET(Zones!$AG4,0,0)="",0,COUNTIF($M4:$AO4,OFFSET(Zones!$AG4,0,0)))+IF(OFFSET(Zones!$AG4,0,1)="",0,COUNTIF($M4:$AO4,OFFSET(Zones!$AG4,0,1)))+IF(OFFSET(Zones!$AG4,0,2)="",0,COUNTIF($M4:$AO4,OFFSET(Zones!$AG4,0,2)))+IF(OFFSET(Zones!$AG4,0,3)="",0,COUNTIF($M4:$AO4,OFFSET(Zones!$AG4,0,3)))+IF(OFFSET(Zones!$AG4,0,4)="",0,COUNTIF($M4:$AO4,OFFSET(Zones!$AG4,0,4))) -> 0 | BH4: =BG4*Tables!G$2 -> 0 | BI4: =IF(OFFSET(Zones!$AL4,0,0)="",0,COUNTIF($M4:$AO4,OFFSET(Zones!$AL4,0,0)))+IF(OFFSET(Zones!$AL4,0,1)="",0,COUNTIF($M4:$AO4,OFFSET(Zones!$AL4,0,1)))+IF(OFFSET(Zones!$AL4,0,2)="",0,COUNTIF($M4:$AO4,OFFSET(Zones!$AL4,0,2)))+IF(OFFSET(Zones!$AL4,0,3)="",0,COUNTIF($M4:$AO4,OFFSET(Zones!$AL4,0,3)))+IF(OFFSET(Zones!$AL4,0,4)="",0,COUNTIF($M4:$AO4,OFFSET(Zones!$AL4,0,4))) -> 0 | BJ4: =BI4*Tables!H$2 -> 0 | BK4: =IF(OFFSET(Zones!$AQ4,0,0)="",0,COUNTIF($M4:$AO4,OFFSET(Zones!$AQ4,0,0)))+IF(OFFSET(Zones!$AQ4,0,1)="",0,COUNTIF($M4:$AO4,OFFSET(Zones!$AQ4,0,1)))+IF(OFFSET(Zones!$AQ4,0,2)="",0,COUNTIF($M4:$AO4,OFFSET(Zones!$AQ4,0,2)))+IF(OFFSET(Zones!$AQ4,0,3)="",0,COUNTIF($M4:$AO4,OFFSET(Zones!$AQ4,0,3)))+IF(OFFSET(Zones!$AQ4,0,4)="",0,COUNTIF($M4:$AO4,OFFSET(Zones!$AQ4,0,4))) -> 0 | BL4: =BK4*Tables!I$2 -> 0 | BM4: =IF(OFFSET(Zones!$AV4,0,0)="",0,COUNTIF($M4:$AO4,OFFSET(Zones!$AV4,0,0)))+IF(OFFSET(Zones!$AV4,0,1)="",0,COUNTIF($M4:$AO4,OFFSET(Zones!$AV4,0,1)))+IF(OFFSET(Zones!$AV4,0,2)="",0,COUNTIF($M4:$AO4,OFFSET(Zones!$AV4,0,2)))+IF(OFFSET(Zones!$AV4,0,3)="",0,COUNTIF($M4:$AO4,OFFSET(Zones!$AV4,0,3)))+IF(OFFSET(Zones!$AV4,0,4)="",0,COUNTIF($M4:$AO4,OFFSET(Zones!$AV4,0,4))) -> 0 | BN4: =BM4*Tables!J$2 -> 0 | BO4: =IF(OFFSET(Zones!$BA4,0,0)="",0,COUNTIF($M4:$AO4,OFFSET(Zones!$BA4,0,0)))+IF(OFFSET(Zones!$BA4,0,1)="",0,COUNTIF($M4:$AO4,OFFSET(Zones!$BA4,0,1)))+IF(OFFSET(Zones!$BA4,0,2)="",0,COUNTIF($M4:$AO4,OFFSET(Zones!$BA4,0,2)))+IF(OFFSET(Zones!$BA4,0,3)="",0,COUNTIF($M4:$AO4,OFFSET(Zones!$BA4,0,3)))+IF(OFFSET(Zones!$BA4,0,4)="",0,COUNTIF($M4:$AO4,OFFSET(Zones!$BA4,0,4))) -> 0 | BP4: =BO4*Tables!K$2 -> 0 | BQ4: =IF(OFFSET(Zones!$BF4,0,0)="",0,COUNTIF($M4:$AO4,OFFSET(Zones!$BF4,0,0)))+IF(OFFSET(Zones!$BF4,0,1)="",0,COUNTIF($M4:$AO4,OFFSET(Zones!$BF4,0,1)))+IF(OFFSET(Zones!$BF4,0,2)="",0,COUNTIF($M4:$AO4,OFFSET(Zones!$BF4,0,2)))+IF(OFFSET(Zones!$BF4,0,3)="",0,COUNTIF($M4:$AO4,OFFSET(Zones!$BF4,0,3)))+IF(OFFSET(Zones!$BF4,0,4)="",0,COUNTIF($M4:$AO4,OFFSET(Zones!$BF4,0,4))) -> 0 | BR4: =BQ4*Tables!L$2 -> 0
A5: 4 | B5: d | C5: FLERS | D5: 1 | E5: ST GEORGES | F5: 1 | G5: CONDE | H5: 3 | N5: CONDE | P5: FLERS | Q5: FLERS | R5: FLERS | S5: FLERS | T5: FLERS | V5: ST GEORGES | W5: ST GEORGES | X5: ST GEORGES | AA5: ST GEORGES | AB5: ST GEORGES | AC5: ST GEORGES | AF5: CONDE | AG5: CONDE | AH5: CONDE | AP5: =COUNTIF(M5:AO5,C5) -> 5 | AQ5: =COUNTIF(M5:AO5,E5) -> 6 | AR5: =COUNTIF(M5:AO5,G5) -> 4 | AS5: =COUNTIF(M5:AO5,I5) -> 0 | AT5: =COUNTIF(M5:AO5,K5) -> 0 | AU5: =IF(OFFSET(Zones!$C5,0,0)="",0,COUNTIF($M5:$AO5,OFFSET(Zones!$C5,0,0)))+IF(OFFSET(Zones!$C5,0,1)="",0,COUNTIF($M5:$AO5,OFFSET(Zones!$C5,0,1)))+IF(OFFSET(Zones!$C5,0,2)="",0,COUNTIF($M5:$AO5,OFFSET(Zones!$C5,0,2)))+IF(OFFSET(Zones!$C5,0,3)="",0,COUNTIF($M5:$AO5,OFFSET(Zones!$C5,0,3)))+IF(OFFSET(Zones!$C5,0,4)="",0,COUNTIF($M5:$AO5,OFFSET(Zones!$C5,0,4))) -> 11 | AV5: =AU5*Tables!A$2 -> 21.89 | AW5: =IF(OFFSET(Zones!$H5,0,0)="",0,COUNTIF($M5:$AO5,OFFSET(Zones!$H5,0,0)))+IF(OFFSET(Zones!$H5,0,1)="",0,COUNTIF($M5:$AO5,OFFSET(Zones!$H5,0,1)))+IF(OFFSET(Zones!$H5,0,2)="",0,COUNTIF($M5:$AO5,OFFSET(Zones!$H5,0,2)))+IF(OFFSET(Zones!$H5,0,3)="",0,COUNTIF($M5:$AO5,OFFSET(Zones!$H5,0,3)))+IF(OFFSET(Zones!$H5,0,4)="",0,COUNTIF($M5:$AO5,OFFSET(Zones!$H5,0,4))) -> 0 | AX5: =AW5*Tables!B$2 -> 0 | AY5: =IF(OFFSET(Zones!$M5,0,0)="",0,COUNTIF($M5:$AO5,OFFSET(Zones!$M5,0,0)))+IF(OFFSET(Zones!$M5,0,1)="",0,COUNTIF($M5:$AO5,OFFSET(Zones!$M5,0,1)))+IF(OFFSET(Zones!$M5,0,2)="",0,COUNTIF($M5:$AO5,OFFSET(Zones!$M5,0,2)))+IF(OFFSET(Zones!$M5,0,3)="",0,COUNTIF($M5:$AO5,OFFSET(Zones!$M5,0,3)))+IF(OFFSET(Zones!$M5,0,4)="",0,COUNTIF($M5:$AO5,OFFSET(Zones!$M5,0,4))) -> 4 | AZ5: =AY5*Tables!C$2 -> 22.72 | BA5: =IF(OFFSET(Zones!$R5,0,0)="",0,COUNTIF($M5:$AO5,OFFSET(Zones!$R5,0,0)))+IF(OFFSET(Zones!$R5,0,1)="",0,COUNTIF($M5:$AO5,OFFSET(Zones!$R5,0,1)))+IF(OFFSET(Zones!$R5,0,2)="",0,COUNTIF($M5:$AO5,OFFSET(Zones!$R5,0,2)))+IF(OFFSET(Zones!$R5,0,3)="",0,COUNTIF($M5:$AO5,OFFSET(Zones!$R5,0,3)))+IF(OFFSET(Zones!$R5,0,4)="",0,COUNTIF($M5:$AO5,OFFSET(Zones!$R5,0,4))) -> 0 | BB5: =BA5*Tables!D$2 -> 0 | BC5: =IF(OFFSET(Zones!$W5,0,0)="",0,COUNTIF($M5:$AO5,OFFSET(Zones!$W5,0,0)))+IF(OFFSET(Zones!$W5,0,1)="",0,COUNTIF($M5:$AO5,OFFSET(Zones!$W5,0,1)))+IF(OFFSET(Zones!$W5,0,2)="",0,COUNTIF($M5:$AO5,OFFSET(Zones!$W5,0,2)))+IF(OFFSET(Zones!$W5,0,3)="",0,COUNTIF($M5:$AO5,OFFSET(Zones!$W5,0,3)))+IF(OFFSET(Zones!$W5,0,4)="",0,COUNTIF($M5:$AO5,OFFSET(Zones!$W5,0,4))) -> 0 | BD5: =BC5*Tables!E$2 -> 0 | BE5: =IF(OFFSET(Zones!$AB5,0,0)="",0,COUNTIF($M5:$AO5,OFFSET(Zones!$AB5,0,0)))+IF(OFFSET(Zones!$AB5,0,1)="",0,COUNTIF($M5:$AO5,OFFSET(Zones!$AB5,0,1)))+IF(OFFSET(Zones!$AB5,0,2)="",0,COUNTIF($M5:$AO5,OFFSET(Zones!$AB5,0,2)))+IF(OFFSET(Zones!$AB5,0,3)="",0,COUNTIF($M5:$AO5,OFFSET(Zones!$AB5,0,3)))+IF(OFFSET(Zones!$AB5,0,4)="",0,COUNTIF($M5:$AO5,OFFSET(Zones!$AB5,0,4))) -> 0 | BF5: =Déplacements!BE5*Tables!F$2 -> 0 | BG5: =IF(OFFSET(Zones!$AG5,0,0)="",0,COUNTIF($M5:$AO5,OFFSET(Zones!$AG5,0,0)))+IF(OFFSET(Zones!$AG5,0,1)="",0,COUNTIF($M5:$AO5,OFFSET(Zones!$AG5,0,1)))+IF(OFFSET(Zones!$AG5,0,2)="",0,COUNTIF($M5:$AO5,OFFSET(Zones!$AG5,0,2)))+IF(OFFSET(Zones!$AG5,0,3)="",0,COUNTIF($M5:$AO5,OFFSET(Zones!$AG5,0,3)))+IF(OFFSET(Zones!$AG5,0,4)="",0,COUNTIF($M5:$AO5,OFFSET(Zones!$AG5,0,4))) -> 0 | BH5: =BG5*Tables!G$2 -> 0 | BI5: =IF(OFFSET(Zones!$AL5,0,0)="",0,COUNTIF($M5:$AO5,OFFSET(Zones!$AL5,0,0)))+IF(OFFSET(Zones!$AL5,0,1)="",0,COUNTIF($M5:$AO5,OFFSET(Zones!$AL5,0,1)))+IF(OFFSET(Zones!$AL5,0,2)="",0,COUNTIF($M5:$AO5,OFFSET(Zones!$AL5,0,2)))+IF(OFFSET(Zones!$AL5,0,3)="",0,COUNTIF($M5:$AO5,OFFSET(Zones!$AL5,0,3)))+IF(OFFSET(Zones!$AL5,0,4)="",0,COUNTIF($M5:$AO5,OFFSET(Zones!$AL5,0,4))) -> 0 | BJ5: =BI5*Tables!H$2 -> 0 | BK5: =IF(OFFSET(Zones!$AQ5,0,0)="",0,COUNTIF($M5:$AO5,OFFSET(Zones!$AQ5,0,0)))+IF(OFFSET(Zones!$AQ5,0,1)="",0,COUNTIF($M5:$AO5,OFFSET(Zones!$AQ5,0,1)))+IF(OFFSET(Zones!$AQ5,0,2)="",0,COUNTIF($M5:$AO5,OFFSET(Zones!$AQ5,0,2)))+IF(OFFSET(Zones!$AQ5,0,3)="",0,COUNTIF($M5:$AO5,OFFSET(Zones!$AQ5,0,3)))+IF(OFFSET(Zones!$AQ5,0,4)="",0,COUNTIF($M5:$AO5,OFFSET(Zones!$AQ5,0,4))) -> 0 | BL5: =BK5*Tables!I$2 -> 0 | BM5: =IF(OFFSET(Zones!$AV5,0,0)="",0,COUNTIF($M5:$AO5,OFFSET(Zones!$AV5,0,0)))+IF(OFFSET(Zones!$AV5,0,1)="",0,COUNTIF($M5:$AO5,OFFSET(Zones!$AV5,0,1)))+IF(OFFSET(Zones!$AV5,0,2)="",0,COUNTIF($M5:$AO5,OFFSET(Zones!$AV5,0,2)))+IF(OFFSET(Zones!$AV5,0,3)="",0,COUNTIF($M5:$AO5,OFFSET(Zones!$AV5,0,3)))+IF(OFFSET(Zones!$AV5,0,4)="",0,COUNTIF($M5:$AO5,OFFSET(Zones!$AV5,0,4))) -> 0 | BN5: =BM5*Tables!J$2 -> 0 | BO5: =IF(OFFSET(Zones!$BA5,0,0)="",0,COUNTIF($M5:$AO5,OFFSET(Zones!$BA5,0,0)))+IF(OFFSET(Zones!$BA5,0,1)="",0,COUNTIF($M5:$AO5,OFFSET(Zones!$BA5,0,1)))+IF(OFFSET(Zones!$BA5,0,2)="",0,COUNTIF($M5:$AO5,OFFSET(Zones!$BA5,0,2)))+IF(OFFSET(Zones!$BA5,0,3)="",0,COUNTIF($M5:$AO5,OFFSET(Zones!$BA5,0,3)))+IF(OFFSET(Zones!$BA5,0,4)="",0,COUNTIF($M5:$AO5,OFFSET(Zones!$BA5,0,4))) -> 0 | BP5: =BO5*Tables!K$2 -> 0 | BQ5: =IF(OFFSET(Zones!$BF5,0,0)="",0,COUNTIF($M5:$AO5,OFFSET(Zones!$BF5,0,0)))+IF(OFFSET(Zones!$BF5,0,1)="",0,COUNTIF($M5:$AO5,OFFSET(Zones!$BF5,0,1)))+IF(OFFSET(Zones!$BF5,0,2)="",0,COUNTIF($M5:$AO5,OFFSET(Zones!$BF5,0,2)))+IF(OFFSET(Zones!$BF5,0,3)="",0,COUNTIF($M5:$AO5,OFFSET(Zones!$BF5,0,3)))+IF(OFFSET(Zones!$BF5,0,4)="",0,COUNTIF($M5:$AO5,OFFSET(Zones!$BF5,0,4))) -> 0 | BR5: =BQ5*Tables!L$2 -> 0
A6: 5 | B6: e | C6: BREST | D6: 1 | E6: LIMOGES | F6: 12 | N6: LIMOGES | O6: LIMOGES | P6: LIMOGES | Q6: LIMOGES | R6: LIMOGES | S6: LIMOGES | T6: LIMOGES | U6: LIMOGES | V6: BREST | W6: BREST | X6: BREST | Y6: BREST | Z6: BREST | AA6: BREST | AB6: BREST | AC6: BREST | AD6: BREST | AE6: BREST | AF6: BREST | AG6: BREST | AH6: BREST | AP6: =COUNTIF(M6:AO6,C6) -> 13 | AQ6: =COUNTIF(M6:AO6,E6) -> 8 | AR6: =COUNTIF(M6:AO6,G6) -> 0 | AS6: =COUNTIF(M6:AO6,I6) -> 0 | AT6: =COUNTIF(M6:AO6,K6) -> 0 | AU6: =IF(OFFSET(Zones!$C6,0,0)="",0,COUNTIF($M6:$AO6,OFFSET(Zones!$C6,0,0)))+IF(OFFSET(Zones!$C6,0,1)="",0,COUNTIF($M6:$AO6,OFFSET(Zones!$C6,0,1)))+IF(OFFSET(Zones!$C6,0,2)="",0,COUNTIF($M6:$AO6,OFFSET(Zones!$C6,0,2)))+IF(OFFSET(Zones!$C6,0,3)="",0,COUNTIF($M6:$AO6,OFFSET(Zones!$C6,0,3)))+IF(OFFSET(Zones!$C6,0,4)="",0,COUNTIF($M6:$AO6,OFFSET(Zones!$C6,0,4))) -> 13 | AV6: =AU6*Tables!A$2 -> 25.87 | AW6: =IF(OFFSET(Zones!$H6,0,0)="",0,COUNTIF($M6:$AO6,OFFSET(Zones!$H6,0,0)))+IF(OFFSET(Zones!$H6,0,1)="",0,COUNTIF($M6:$AO6,OFFSET(Zones!$H6,0,1)))+IF(OFFSET(Zones!$H6,0,2)="",0,COUNTIF($M6:$AO6,OFFSET(Zones!$H6,0,2)))+IF(OFFSET(Zones!$H6,0,3)="",0,COUNTIF($M6:$AO6,OFFSET(Zones!$H6,0,3)))+IF(OFFSET(Zones!$H6,0,4)="",0,COUNTIF($M6:$AO6,OFFSET(Zones!$H6,0,4))) -> 0 | AX6: =AW6*Tables!B$2 -> 0 | AY6: =IF(OFFSET(Zones!$M6,0,0)="",0,COUNTIF($M6:$AO6,OFFSET(Zones!$M6,0,0)))+IF(OFFSET(Zones!$M6,0,1)="",0,COUNTIF($M6:$AO6,OFFSET(Zones!$M6,0,1)))+IF(OFFSET(Zones!$M6,0,2)="",0,COUNTIF($M6:$AO6,OFFSET(Zones!$M6,0,2)))+IF(OFFSET(Zones!$M6,0,3)="",0,COUNTIF($M6:$AO6,OFFSET(Zones!$M6,0,3)))+IF(OFFSET(Zones!$M6,0,4)="",0,COUNTIF($M6:$AO6,OFFSET(Zones!$M6,0,4))) -> 0 | AZ6: =AY6*Tables!C$2 -> 0 | BA6: =IF(OFFSET(Zones!$R6,0,0)="",0,COUNTIF($M6:$AO6,OFFSET(Zones!$R6,0,0)))+IF(OFFSET(Zones!$R6,0,1)="",0,COUNTIF($M6:$AO6,OFFSET(Zones!$R6,0,1)))+IF(OFFSET(Zones!$R6,0,2)="",0,COUNTIF($M6:$AO6,OFFSET(Zones!$R6,0,2)))+IF(OFFSET(Zones!$R6,0,3)="",0,COUNTIF($M6:$AO6,OFFSET(Zones!$R6,0,3)))+IF(OFFSET(Zones!$R6,0,4)="",0,COUNTIF($M6:$AO6,OFFSET(Zones!$R6,0,4))) -> 0 | BB6: =BA6*Tables!D$2 -> 0 | BC6: =IF(OFFSET(Zones!$W6,0,0)="",0,COUNTIF($M6:$AO6,OFFSET(Zones!$W6,0,0)))+IF(OFFSET(Zones!$W6,0,1)="",0,COUNTIF($M6:$AO6,OFFSET(Zones!$W6,0,1)))+IF(OFFSET(Zones!$W6,0,2)="",0,COUNTIF($M6:$AO6,OFFSET(Zones!$W6,0,2)))+IF(OFFSET(Zones!$W6,0,3)="",0,COUNTIF($M6:$AO6,OFFSET(Zones!$W6,0,3)))+IF(OFFSET(Zones!$W6,0,4)="",0,COUNTIF($M6:$AO6,OFFSET(Zones!$W6,0,4))) -> 0 | BD6: =BC6*Tables!E$2 -> 0 | BE6: =IF(OFFSET(Zones!$AB6,0,0)="",0,COUNTIF($M6:$AO6,OFFSET(Zones!$AB6,0,0)))+IF(OFFSET(Zones!$AB6,0,1)="",0,COUNTIF($M6:$AO6,OFFSET(Zones!$AB6,0,1)))+IF(OFFSET(Zones!$AB6,0,2)="",0,COUNTIF($M6:$AO6,OFFSET(Zones!$AB6,0,2)))+IF(OFFSET(Zones!$AB6,0,3)="",0,COUNTIF($M6:$AO6,OFFSET(Zones!$AB6,0,3)))+IF(OFFSET(Zones!$AB6,0,4)="",0,COUNTIF($M6:$AO6,OFFSET(Zones!$AB6,0,4))) -> 0 | BF6: =Déplacements!BE6*Tables!F$2 -> 0 | BG6: =IF(OFFSET(Zones!$AG6,0,0)="",0,COUNTIF($M6:$AO6,OFFSET(Zones!$AG6,0,0)))+IF(OFFSET(Zones!$AG6,0,1)="",0,COUNTIF($M6:$AO6,OFFSET(Zones!$AG6,0,1)))+IF(OFFSET(Zones!$AG6,0,2)="",0,COUNTIF($M6:$AO6,OFFSET(Zones!$AG6,0,2)))+IF(OFFSET(Zones!$AG6,0,3)="",0,COUNTIF($M6:$AO6,OFFSET(Zones!$AG6,0,3)))+IF(OFFSET(Zones!$AG6,0,4)="",0,COUNTIF($M6:$AO6,OFFSET(Zones!$AG6,0,4))) -> 0 | BH6: =BG6*Tables!G$2 -> 0 | BI6: =IF(OFFSET(Zones!$AL6,0,0)="",0,COUNTIF($M6:$AO6,OFFSET(Zones!$AL6,0,0)))+IF(OFFSET(Zones!$AL6,0,1)="",0,COUNTIF($M6:$AO6,OFFSET(Zones!$AL6,0,1)))+IF(OFFSET(Zones!$AL6,0,2)="",0,COUNTIF($M6:$AO6,OFFSET(Zones!$AL6,0,2)))+IF(OFFSET(Zones!$AL6,0,3)="",0,COUNTIF($M6:$AO6,OFFSET(Zones!$AL6,0,3)))+IF(OFFSET(Zones!$AL6,0,4)="",0,COUNTIF($M6:$AO6,OFFSET(Zones!$AL6,0,4))) -> 0 | BJ6: =BI6*Tables!H$2 -> 0 | BK6: =IF(OFFSET(Zones!$AQ6,0,0)="",0,COUNTIF($M6:$AO6,OFFSET(Zones!$AQ6,0,0)))+IF(OFFSET(Zones!$AQ6,0,1)="",0,COUNTIF($M6:$AO6,OFFSET(Zones!$AQ6,0,1)))+IF(OFFSET(Zones!$AQ6,0,2)="",0,COUNTIF($M6:$AO6,OFFSET(Zones!$AQ6,0,2)))+IF(OFFSET(Zones!$AQ6,0,3)="",0,COUNTIF($M6:$AO6,OFFSET(Zones!$AQ6,0,3)))+IF(OFFSET(Zones!$AQ6,0,4)="",0,COUNTIF($M6:$AO6,OFFSET(Zones!$AQ6,0,4))) -> 0 | BL6: =BK6*Tables!I$2 -> 0 | BM6: =IF(OFFSET(Zones!$AV6,0,0)="",0,COUNTIF($M6:$AO6,OFFSET(Zones!$AV6,0,0)))+IF(OFFSET(Zones!$AV6,0,1)="",0,COUNTIF($M6:$AO6,OFFSET(Zones!$AV6,0,1)))+IF(OFFSET(Zones!$AV6,0,2)="",0,COUNTIF($M6:$AO6,OFFSET(Zones!$AV6,0,2)))+IF(OFFSET(Zones!$AV6,0,3)="",0,COUNTIF($M6:$AO6,OFFSET(Zones!$AV6,0,3)))+IF(OFFSET(Zones!$AV6,0,4)="",0,COUNTIF($M6:$AO6,OFFSET(Zones!$AV6,0,4))) -> 0 | BN6: =BM6*Tables!J$2 -> 0 | BO6: =IF(OFFSET(Zones!$BA6,0,0)="",0,COUNTIF($M6:$AO6,OFFSET(Zones!$BA6,0,0)))+IF(OFFSET(Zones!$BA6,0,1)="",0,COUNTIF($M6:$AO6,OFFSET(Zones!$BA6,0,1)))+IF(OFFSET(Zones!$BA6,0,2)="",0,COUNTIF($M6:$AO6,OFFSET(Zones!$BA6,0,2)))+IF(OFFSET(Zones!$BA6,0,3)="",0,COUNTIF($M6:$AO6,OFFSET(Zones!$BA6,0,3)))+IF(OFFSET(Zones!$BA6,0,4)="",0,COUNTIF($M6:$AO6,OFFSET(Zones!$BA6,0,4))) -> 0 | BP6: =BO6*Tables!K$2 -> 0 | BQ6: =IF(OFFSET(Zones!$BF6,0,0)="",0,COUNTIF($M6:$AO6,OFFSET(Zones!$BF6,0,0)))+IF(OFFSET(Zones!$BF6,0,1)="",0,COUNTIF($M6:$AO6,OFFSET(Zones!$BF6,0,1)))+IF(OFFSET(Zones!$BF6,0,2)="",0,COUNTIF($M6:$AO6,OFFSET(Zones!$BF6,0,2)))+IF(OFFSET(Zones!$BF6,0,3)="",0,COUNTIF($M6:$AO6,OFFSET(Zones!$BF6,0,3)))+IF(OFFSET(Zones!$BF6,0,4)="",0,COUNTIF($M6:$AO6,OFFSET(Zones!$BF6,0,4))) -> 8 | BR6: =BQ6*Tables!L$2 -> 179.92
A7: 6 | B7: f | C7: FECAMP | D7: 2 | E7: DIEPPE | F7: 2 | G7: ROUEN | H7: 8 | M7: FECAMP | N7: DIEPPE | O7: DIEPPE | P7: DIEPPE | Q7: FECAMP | R7: FECAMP | S7: FECAMP | T7: FECAMP | U7: ROUEN | V7: ROUEN | W7: ROUEN | X7: ROUEN | Y7: ROUEN | Z7: ROUEN | AA7: ROUEN | AB7: ROUEN | AC7: ROUEN | AD7: ROUEN | AE7: ROUEN | AF7: ROUEN | AG7: ROUEN | AH7: ROUEN | AP7: =COUNTIF(M7:AO7,C7) -> 5 | AQ7: =COUNTIF(M7:AO7,E7) -> 3 | AR7: =COUNTIF(M7:AO7,G7) -> 14 | AS7: =COUNTIF(M7:AO7,I7) -> 0 | AT7: =COUNTIF(M7:AO7,K7) -> 0 | AU7: =IF(OFFSET(Zones!$C7,0,0)="",0,COUNTIF($M7:$AO7,OFFSET(Zones!$C7,0,0)))+IF(OFFSET(Zones!$C7,0,1)="",0,COUNTIF($M7:$AO7,OFFSET(Zones!$C7,0,1)))+IF(OFFSET(Zones!$C7,0,2)="",0,COUNTIF($M7:$AO7,OFFSET(Zones!$C7,0,2)))+IF(OFFSET(Zones!$C7,0,3)="",0,COUNTIF($M7:$AO7,OFFSET(Zones!$C7,0,3)))+IF(OFFSET(Zones!$C7,0,4)="",0,COUNTIF($M7:$AO7,OFFSET(Zones!$C7,0,4))) -> 0 | AV7: =AU7*Tables!A$2 -> 0 | AW7: =IF(OFFSET(Zones!$H7,0,0)="",0,COUNTIF($M7:$AO7,OFFSET(Zones!$H7,0,0)))+IF(OFFSET(Zones!$H7,0,1)="",0,COUNTIF($M7:$AO7,OFFSET(Zones!$H7,0,1)))+IF(OFFSET(Zones!$H7,0,2)="",0,COUNTIF($M7:$AO7,OFFSET(Zones!$H7,0,2)))+IF(OFFSET(Zones!$H7,0,3)="",0,COUNTIF($M7:$AO7,OFFSET(Zones!$H7,0,3)))+IF(OFFSET(Zones!$H7,0,4)="",0,COUNTIF($M7:$AO7,OFFSET(Zones!$H7,0,4))) -> 8 | AX7: =AW7*Tables!B$2 -> 31.28 | AY7: =IF(OFFSET(Zones!$M7,0,0)="",0,COUNTIF($M7:$AO7,OFFSET(Zones!$M7,0,0)))+IF(OFFSET(Zones!$M7,0,1)="",0,COUNTIF($M7:$AO7,OFFSET(Zones!$M7,0,1)))+IF(OFFSET(Zones!$M7,0,2)="",0,COUNTIF($M7:$AO7,OFFSET(Zones!$M7,0,2)))+IF(OFFSET(Zones!$M7,0,3)="",0,COUNTIF($M7:$AO7,OFFSET(Zones!$M7,0,3)))+IF(OFFSET(Zones!$M7,0,4)="",0,COUNTIF($M7:$AO7,OFFSET(Zones!$M7,0,4))) -> 0 | AZ7: =AY7*Tables!C$2 -> 0 | BA7: =IF(OFFSET(Zones!$R7,0,0)="",0,COUNTIF($M7:$AO7,OFFSET(Zones!$R7,0,0)))+IF(OFFSET(Zones!$R7,0,1)="",0,COUNTIF($M7:$AO7,OFFSET(Zones!$R7,0,1)))+IF(OFFSET(Zones!$R7,0,2)="",0,COUNTIF($M7:$AO7,OFFSET(Zones!$R7,0,2)))+IF(OFFSET(Zones!$R7,0,3)="",0,COUNTIF($M7:$AO7,OFFSET(Zones!$R7,0,3)))+IF(OFFSET(Zones!$R7,0,4)="",0,COUNTIF($M7:$AO7,OFFSET(Zones!$R7,0,4))) -> 0 | BB7: =BA7*Tables!D$2 -> 0 | BC7: =IF(OFFSET(Zones!$W7,0,0)="",0,COUNTIF($M7:$AO7,OFFSET(Zones!$W7,0,0)))+IF(OFFSET(Zones!$W7,0,1)="",0,COUNTIF($M7:$AO7,OFFSET(Zones!$W7,0,1)))+IF(OFFSET(Zones!$W7,0,2)="",0,COUNTIF($M7:$AO7,OFFSET(Zones!$W7,0,2)))+IF(OFFSET(Zones!$W7,0,3)="",0,COUNTIF($M7:$AO7,OFFSET(Zones!$W7,0,3)))+IF(OFFSET(Zones!$W7,0,4)="",0,COUNTIF($M7:$AO7,OFFSET(Zones!$W7,0,4))) -> 0 | BD7: =BC7*Tables!E$2 -> 0 | BE7: =IF(OFFSET(Zones!$AB7,0,0)="",0,COUNTIF($M7:$AO7,OFFSET(Zones!$AB7,0,0)))+IF(OFFSET(Zones!$AB7,0,1)="",0,COUNTIF($M7:$AO7,OFFSET(Zones!$AB7,0,1)))+IF(OFFSET(Zones!$AB7,0,2)="",0,COUNTIF($M7:$AO7,OFFSET(Zones!$AB7,0,2)))+IF(OFFSET(Zones!$AB7,0,3)="",0,COUNTIF($M7:$AO7,OFFSET(Zones!$AB7,0,3)))+IF(OFFSET(Zones!$AB7,0,4)="",0,COUNTIF($M7:$AO7,OFFSET(Zones!$AB7,0,4))) -> 0 | BF7: =Déplacements!BE7*Tables!F$2 -> 0 | BG7: =IF(OFFSET(Zones!$AG7,0,0)="",0,COUNTIF($M7:$AO7,OFFSET(Zones!$AG7,0,0)))+IF(OFFSET(Zones!$AG7,0,1)="",0,COUNTIF($M7:$AO7,OFFSET(Zones!$AG7,0,1)))+IF(OFFSET(Zones!$AG7,0,2)="",0,COUNTIF($M7:$AO7,OFFSET(Zones!$AG7,0,2)))+IF(OFFSET(Zones!$AG7,0,3)="",0,COUNTIF($M7:$AO7,OFFSET(Zones!$AG7,0,3)))+IF(OFFSET(Zones!$AG7,0,4)="",0,COUNTIF($M7:$AO7,OFFSET(Zones!$AG7,0,4))) -> 0 | BH7: =BG7*Tables!G$2 -> 0 | BI7: =IF(OFFSET(Zones!$AL7,0,0)="",0,COUNTIF($M7:$AO7,OFFSET(Zones!$AL7,0,0)))+IF(OFFSET(Zones!$AL7,0,1)="",0,COUNTIF($M7:$AO7,OFFSET(Zones!$AL7,0,1)))+IF(OFFSET(Zones!$AL7,0,2)="",0,COUNTIF($M7:$AO7,OFFSET(Zones!$AL7,0,2)))+IF(OFFSET(Zones!$AL7,0,3)="",0,COUNTIF($M7:$AO7,OFFSET(Zones!$AL7,0,3)))+IF(OFFSET(Zones!$AL7,0,4)="",0,COUNTIF($M7:$AO7,OFFSET(Zones!$AL7,0,4))) -> 14 | BJ7: =BI7*Tables!H$2 -> 70 | BK7: =IF(OFFSET(Zones!$AQ7,0,0)="",0,COUNTIF($M7:$AO7,OFFSET(Zones!$AQ7,0,0)))+IF(OFFSET(Zones!$AQ7,0,1)="",0,COUNTIF($M7:$AO7,OFFSET(Zones!$AQ7,0,1)))+IF(OFFSET(Zones!$AQ7,0,2)="",0,COUNTIF($M7:$AO7,OFFSET(Zones!$AQ7,0,2)))+IF(OFFSET(Zones!$AQ7,0,3)="",0,COUNTIF($M7:$AO7,OFFSET(Zones!$AQ7,0,3)))+IF(OFFSET(Zones!$AQ7,0,4)="",0,COUNTIF($M7:$AO7,OFFSET(Zones!$AQ7,0,4))) -> 0 | BL7: =BK7*Tables!I$2 -> 0 | BM7: =IF(OFFSET(Zones!$AV7,0,0)="",0,COUNTIF($M7:$AO7,OFFSET(Zones!$AV7,0,0)))+IF(OFFSET(Zones!$AV7,0,1)="",0,COUNTIF($M7:$AO7,OFFSET(Zones!$AV7,0,1)))+IF(OFFSET(Zones!$AV7,0,2)="",0,COUNTIF($M7:$AO7,OFFSET(Zones!$AV7,0,2)))+IF(OFFSET(Zones!$AV7,0,3)="",0,COUNTIF($M7:$AO7,OFFSET(Zones!$AV7,0,3)))+IF(OFFSET(Zones!$AV7,0,4)="",0,COUNTIF($M7:$AO7,OFFSET(Zones!$AV7,0,4))) -> 0 | BN7: =BM7*Tables!J$2 -> 0 | BO7: =IF(OFFSET(Zones!$BA7,0,0)="",0,COUNTIF($M7:$AO7,OFFSET(Zones!$BA7,0,0)))+IF(OFFSET(Zones!$BA7,0,1)="",0,COUNTIF($M7:$AO7,OFFSET(Zones!$BA7,0,1)))+IF(OFFSET(Zones!$BA7,0,2)="",0,COUNTIF($M7:$AO7,OFFSET(Zones!$BA7,0,2)))+IF(OFFSET(Zones!$BA7,0,3)="",0,COUNTIF($M7:$AO7,OFFSET(Zones!$BA7,0,3)))+IF(OFFSET(Zones!$BA7,0,4)="",0,COUNTIF($M7:$AO7,OFFSET(Zones!$BA7,0,4))) -> 0 | BP7: =BO7*Tables!K$2 -> 0 | BQ7: =IF(OFFSET(Zones!$BF7,0,0)="",0,COUNTIF($M7:$AO7,OFFSET(Zones!$BF7,0,0)))+IF(OFFSET(Zones!$BF7,0,1)="",0,COUNTIF($M7:$AO7,OFFSET(Zones!$BF7,0,1)))+IF(OFFSET(Zones!$BF7,0,2)="",0,COUNTIF($M7:$AO7,OFFSET(Zones!$BF7,0,2)))+IF(OFFSET(Zones!$BF7,0,3)="",0,COUNTIF($M7:$AO7,OFFSET(Zones!$BF7,0,3)))+IF(OFFSET(Zones!$BF7,0,4)="",0,COUNTIF($M7:$AO7,OFFSET(Zones!$BF7,0,4))) -> 0 | BR7: =BQ7*Tables!L$2 -> 0
A8: 7 | B8: g | C8: PARIS | D8: 5 | E8: VERSAILLES | F8: 5 | G8: ROUEN | H8: 1 | M8: PARIS | N8: PARIS | O8: PARIS | P8: PARIS | Q8: PARIS | R8: PARIS | S8: PARIS | T8: VERSAILLES | U8: VERSAILLES | V8: VERSAILLES | W8: VERSAILLES | X8: VERSAILLES | Y8: VERSAILLES | Z8: VERSAILLES | AA8: VERSAILLES | AB8: VERSAILLES | AC8: ROUEN | AD8: ROUEN | AE8: ROUEN | AF8: ROUEN | AG8: ROUEN | AH8: ROUEN | AP8: =COUNTIF(M8:AO8,C8) -> 7 | AQ8: =COUNTIF(M8:AO8,E8) -> 9 | AR8: =COUNTIF(M8:AO8,G8) -> 6 | AS8: =COUNTIF(M8:AO8,I8) -> 0 | AT8: =COUNTIF(M8:AO8,K8) -> 0 | AU8: =IF(OFFSET(Zones!$C8,0,0)="",0,COUNTIF($M8:$AO8,OFFSET(Zones!$C8,0,0)))+IF(OFFSET(Zones!$C8,0,1)="",0,COUNTIF($M8:$AO8,OFFSET(Zones!$C8,0,1)))+IF(OFFSET(Zones!$C8,0,2)="",0,COUNTIF($M8:$AO8,OFFSET(Zones!$C8,0,2)))+IF(OFFSET(Zones!$C8,0,3)="",0,COUNTIF($M8:$AO8,OFFSET(Zones!$C8,0,3)))+IF(OFFSET(Zones!$C8,0,4)="",0,COUNTIF($M8:$AO8,OFFSET(Zones!$C8,0,4))) -> 6 | AV8: =AU8*Tables!A$2 -> 11.94 | AW8: =IF(OFFSET(Zones!$H8,0,0)="",0,COUNTIF($M8:$AO8,OFFSET(Zones!$H8,0,0)))+IF(OFFSET(Zones!$H8,0,1)="",0,COUNTIF($M8:$AO8,OFFSET(Zones!$H8,0,1)))+IF(OFFSET(Zones!$H8,0,2)="",0,COUNTIF($M8:$AO8,OFFSET(Zones!$H8,0,2)))+IF(OFFSET(Zones!$H8,0,3)="",0,COUNTIF($M8:$AO8,OFFSET(Zones!$H8,0,3)))+IF(OFFSET(Zones!$H8,0,4)="",0,COUNTIF($M8:$AO8,OFFSET(Zones!$H8,0,4))) -> 0 | AX8: =AW8*Tables!B$2 -> 0 | AY8: =IF(OFFSET(Zones!$M8,0,0)="",0,COUNTIF($M8:$AO8,OFFSET(Zones!$M8,0,0)))+IF(OFFSET(Zones!$M8,0,1)="",0,COUNTIF($M8:$AO8,OFFSET(Zones!$M8,0,1)))+IF(OFFSET(Zones!$M8,0,2)="",0,COUNTIF($M8:$AO8,OFFSET(Zones!$M8,0,2)))+IF(OFFSET(Zones!$M8,0,3)="",0,COUNTIF($M8:$AO8,OFFSET(Zones!$M8,0,3)))+IF(OFFSET(Zones!$M8,0,4)="",0,COUNTIF($M8:$AO8,OFFSET(Zones!$M8,0,4))) -> 0 | AZ8: =AY8*Tables!C$2 -> 0 | BA8: =IF(OFFSET(Zones!$R8,0,0)="",0,COUNTIF($M8:$AO8,OFFSET(Zones!$R8,0,0)))+IF(OFFSET(Zones!$R8,0,1)="",0,COUNTIF($M8:$AO8,OFFSET(Zones!$R8,0,1)))+IF(OFFSET(Zones!$R8,0,2)="",0,COUNTIF($M8:$AO8,OFFSET(Zones!$R8,0,2)))+IF(OFFSET(Zones!$R8,0,3)="",0,COUNTIF($M8:$AO8,OFFSET(Zones!$R8,0,3)))+IF(OFFSET(Zones!$R8,0,4)="",0,COUNTIF($M8:$AO8,OFFSET(Zones!$R8,0,4))) -> 0 | BB8: =BA8*Tables!D$2 -> 0 | BC8: =IF(OFFSET(Zones!$W8,0,0)="",0,COUNTIF($M8:$AO8,OFFSET(Zones!$W8,0,0)))+IF(OFFSET(Zones!$W8,0,1)="",0,COUNTIF($M8:$AO8,OFFSET(Zones!$W8,0,1)))+IF(OFFSET(Zones!$W8,0,2)="",0,COUNTIF($M8:$AO8,OFFSET(Zones!$W8,0,2)))+IF(OFFSET(Zones!$W8,0,3)="",0,COUNTIF($M8:$AO8,OFFSET(Zones!$W8,0,3)))+IF(OFFSET(Zones!$W8,0,4)="",0,COUNTIF($M8:$AO8,OFFSET(Zones!$W8,0,4))) -> 16 | BD8: =BC8*Tables!E$2 -> 145.44 | BE8: =IF(OFFSET(Zones!$AB8,0,0)="",0,COUNTIF($M8:$AO8,OFFSET(Zones!$AB8,0,0)))+IF(OFFSET(Zones!$AB8,0,1)="",0,COUNTIF($M8:$AO8,OFFSET(Zones!$AB8,0,1)))+IF(OFFSET(Zones!$AB8,0,2)="",0,COUNTIF($M8:$AO8,OFFSET(Zones!$AB8,0,2)))+IF(OFFSET(Zones!$AB8,0,3)="",0,COUNTIF($M8:$AO8,OFFSET(Zones!$AB8,0,3)))+IF(OFFSET(Zones!$AB8,0,4)="",0,COUNTIF($M8:$AO8,OFFSET(Zones!$AB8,0,4))) -> 0 | BF8: =Déplacements!BE8*Tables!F$2 -> 0 | BG8: =IF(OFFSET(Zones!$AG8,0,0)="",0,COUNTIF($M8:$AO8,OFFSET(Zones!$AG8,0,0)))+IF(OFFSET(Zones!$AG8,0,1)="",0,COUNTIF($M8:$AO8,OFFSET(Zones!$AG8,0,1)))+IF(OFFSET(Zones!$AG8,0,2)="",0,COUNTIF($M8:$AO8,OFFSET(Zones!$AG8,0,2)))+IF(OFFSET(Zones!$AG8,0,3)="",0,COUNTIF($M8:$AO8,OFFSET(Zones!$AG8,0,3)))+IF(OFFSET(Zones!$AG8,0,4)="",0,COUNTIF($M8:$AO8,OFFSET(Zones!$AG8,0,4))) -> 0 | BH8: =BG8*Tables!G$2 -> 0 | BI8: =IF(OFFSET(Zones!$AL8,0,0)="",0,COUNTIF($M8:$AO8,OFFSET(Zones!$AL8,0,0)))+IF(OFFSET(Zones!$AL8,0,1)="",0,COUNTIF($M8:$AO8,OFFSET(Zones!$AL8,0,1)))+IF(OFFSET(Zones!$AL8,0,2)="",0,COUNTIF($M8:$AO8,OFFSET(Zones!$AL8,0,2)))+IF(OFFSET(Zones!$AL8,0,3)="",0,COUNTIF($M8:$AO8,OFFSET(Zones!$AL8,0,3)))+IF(OFFSET(Zones!$AL8,0,4)="",0,COUNTIF($M8:$AO8,OFFSET(Zones!$AL8,0,4))) -> 0 | BJ8: =BI8*Tables!H$2 -> 0 | BK8: =IF(OFFSET(Zones!$AQ8,0,0)="",0,COUNTIF($M8:$AO8,OFFSET(Zones!$AQ8,0,0)))+IF(OFFSET(Zones!$AQ8,0,1)="",0,COUNTIF($M8:$AO8,OFFSET(Zones!$AQ8,0,1)))+IF(OFFSET(Zones!$AQ8,0,2)="",0,COUNTIF($M8:$AO8,OFFSET(Zones!$AQ8,0,2)))+IF(OFFSET(Zones!$AQ8,0,3)="",0,COUNTIF($M8:$AO8,OFFSET(Zones!$AQ8,0,3)))+IF(OFFSET(Zones!$AQ8,0,4)="",0,COUNTIF($M8:$AO8,OFFSET(Zones!$AQ8,0,4))) -> 0 | BL8: =BK8*Tables!I$2 -> 0 | BM8: =IF(OFFSET(Zones!$AV8,0,0)="",0,COUNTIF($M8:$AO8,OFFSET(Zones!$AV8,0,0)))+IF(OFFSET(Zones!$AV8,0,1)="",0,COUNTIF($M8:$AO8,OFFSET(Zones!$AV8,0,1)))+IF(OFFSET(Zones!$AV8,0,2)="",0,COUNTIF($M8:$AO8,OFFSET(Zones!$AV8,0,2)))+IF(OFFSET(Zones!$AV8,0,3)="",0,COUNTIF($M8:$AO8,OFFSET(Zones!$AV8,0,3)))+IF(OFFSET(Zones!$AV8,0,4)="",0,COUNTIF($M8:$AO8,OFFSET(Zones!$AV8,0,4))) -> 0 | BN8: =BM8*Tables!J$2 -> 0 | BO8: =IF(OFFSET(Zones!$BA8,0,0)="",0,COUNTIF($M8:$AO8,OFFSET(Zones!$BA8,0,0)))+IF(OFFSET(Zones!$BA8,0,1)="",0,COUNTIF($M8:$AO8,OFFSET(Zones!$BA8,0,1)))+IF(OFFSET(Zones!$BA8,0,2)="",0,COUNTIF($M8:$AO8,OFFSET(Zones!$BA8,0,2)))+IF(OFFSET(Zones!$BA8,0,3)="",0,COUNTIF($M8:$AO8,OFFSET(Zones!$BA8,0,3)))+IF(OFFSET(Zones!$BA8,0,4)="",0,COUNTIF($M8:$AO8,OFFSET(Zones!$BA8,0,4))) -> 0 | BP8: =BO8*Tables!K$2 -> 0 | BQ8: =IF(OFFSET(Zones!$BF8,0,0)="",0,COUNTIF($M8:$AO8,OFFSET(Zones!$BF8,0,0)))+IF(OFFSET(Zones!$BF8,0,1)="",0,COUNTIF($M8:$AO8,OFFSET(Zones!$BF8,0,1)))+IF(OFFSET(Zones!$BF8,0,2)="",0,COUNTIF($M8:$AO8,OFFSET(Zones!$BF8,0,2)))+IF(OFFSET(Zones!$BF8,0,3)="",0,COUNTIF($M8:$AO8,OFFSET(Zones!$BF8,0,3)))+IF(OFFSET(Zones!$BF8,0,4)="",0,COUNTIF($M8:$AO8,OFFSET(Zones!$BF8,0,4))) -> 0 | BR8: =BQ8*Tables!L$2 -> 0

Sheet IMPORT
A1: Matricule | B1: NOM | C1: TrajetZone1 | D1: TrajetZone2 | E1: TrajetZone3 | F1: TrajetZone4 | G1: TrajetZone5 | H1: TrajetZone6 | I1: TrajetZone7 | J1: TrajetZone8 | K1: TrajetZone9 | L1: TrajetZone10 | M1: TrajetZone11 | N1: TrajetZone12
A2: 1 | B2: a | C2: =OFFSET(Déplacements!AU$1,ROW()-1,,,) -> 8 | D2: =OFFSET(Déplacements!AW$1,ROW()-1,,,) -> 0 | E2: =OFFSET(Déplacements!AY$1,ROW()-1,,,) -> 10 | F2: =OFFSET(Déplacements!BA$1,ROW()-1,,,) -> 0 | G2: =OFFSET(Déplacements!BC$1,ROW()-1,,,) -> 0 | H2: =OFFSET(Déplacements!BE$1,ROW()-1,,,) -> 3 | I2: =OFFSET(Déplacements!BG$1,ROW()-1,,,) -> 0 | J2: =OFFSET(Déplacements!BI$1,ROW()-1,,,) -> 0 | K2: =OFFSET(Déplacements!BK$1,ROW()-1,,,) -> 0 | L2: =OFFSET(Déplacements!BM$1,ROW()-1,,,) -> 0 | M2: =OFFSET(Déplacements!BO$1,ROW()-1,,,) -> 0 | N2: =OFFSET(Déplacements!BQ$1,ROW()-1,,,) -> 0
A3: 2 | B3: c | C3: =OFFSET(Déplacements!AU$1,ROW()-1,,,) -> 0 | D3: =OFFSET(Déplacements!AW$1,ROW()-1,,,) -> 0 | E3: =OFFSET(Déplacements!AY$1,ROW()-1,,,) -> 0 | F3: =OFFSET(Déplacements!BA$1,ROW()-1,,,) -> 0 | G3: =OFFSET(Déplacements!BC$1,ROW()-1,,,) -> 0 | H3: =OFFSET(Déplacements!BE$1,ROW()-1,,,) -> 0 | I3: =OFFSET(Déplacements!BG$1,ROW()-1,,,) -> 0 | J3: =OFFSET(Déplacements!BI$1,ROW()-1,,,) -> 21 | K3: =OFFSET(Déplacements!BK$1,ROW()-1,,,) -> 0 | L3: =OFFSET(Déplacements!BM$1,ROW()-1,,,) -> 0 | M3: =OFFSET(Déplacements!BO$1,ROW()-1,,,) -> 0 | N3: =OFFSET(Déplacements!BQ$1,ROW()-1,,,) -> 0
A4: 3 | B4: b | C4: =OFFSET(Déplacements!AU$1,ROW()-1,,,) -> 0 | D4: =OFFSET(Déplacements!AW$1,ROW()-1,,,) -> 14 | E4: =OFFSET(Déplacements!AY$1,ROW()-1,,,) -> 0 | F4: =OFFSET(Déplacements!BA$1,ROW()-1,,,) -> 0 | G4: =OFFSET(Déplacements!BC$1,ROW()-1,,,) -> 0 | H4: =OFFSET(Déplacements!BE$1,ROW()-1,,,) -> 0 | I4: =OFFSET(Déplacements!BG$1,ROW()-1,,,) -> 0 | J4: =OFFSET(Déplacements!BI$1,ROW()-1,,,) -> 0 | K4: =OFFSET(Déplacements!BK$1,ROW()-1,,,) -> 0 | L4: =OFFSET(Déplacements!BM$1,ROW()-1,,,) -> 0 | M4: =OFFSET(Déplacements!BO$1,ROW()-1,,,) -> 0 | N4: =OFFSET(Déplacements!BQ$1,ROW()-1,,,) -> 0
A5: 4 | B5: d | C5: =OFFSET(Déplacements!AU$1,ROW()-1,,,) -> 11 | D5: =OFFSET(Déplacements!AW$1,ROW()-1,,,) -> 0 | E5: =OFFSET(Déplacements!AY$1,ROW()-1,,,) -> 4 | F5: =OFFSET(Déplacements!BA$1,ROW()-1,,,) -> 0 | G5: =OFFSET(Déplacements!BC$1,ROW()-1,,,) -> 0 | H5: =OFFSET(Déplacements!BE$1,ROW()-1,,,) -> 0 | I5: =OFFSET(Déplacements!BG$1,ROW()-1,,,) -> 0 | J5: =OFFSET(Déplacements!BI$1,ROW()-1,,,) -> 0 | K5: =OFFSET(Déplacements!BK$1,ROW()-1,,,) -> 0 | L5: =OFFSET(Déplacements!BM$1,ROW()-1,,,) -> 0 | M5: =OFFSET(Déplacements!BO$1,ROW()-1,,,) -> 0 | N5: =OFFSET(Déplacements!BQ$1,ROW()-1,,,) -> 0
A6: 5 | B6: e | C6: =OFFSET(Déplacements!AU$1,ROW()-1,,,) -> 13 | D6: =OFFSET(Déplacements!AW$1,ROW()-1,,,) -> 0 | E6: =OFFSET(Déplacements!AY$1,ROW()-1,,,) -> 0 | F6: =OFFSET(Déplacements!BA$1,ROW()-1,,,) -> 0 | G6: =OFFSET(Déplacements!BC$1,ROW()-1,,,) -> 0 | H6: =OFFSET(Déplacements!BE$1,ROW()-1,,,) -> 0 | I6: =OFFSET(Déplacements!BG$1,ROW()-1,,,) -> 0 | J6: =OFFSET(Déplacements!BI$1,ROW()-1,,,) -> 0 | K6: =OFFSET(Déplacements!BK$1,ROW()-1,,,) -> 0 | L6: =OFFSET(Déplacements!BM$1,ROW()-1,,,) -> 0 | M6: =OFFSET(Déplacements!BO$1,ROW()-1,,,) -> 0 | N6: =OFFSET(Déplacements!BQ$1,ROW()-1,,,) -> 8
A7: 6 | B7: f | C7: =OFFSET(Déplacements!AU$1,ROW()-1,,,) -> 0 | D7: =OFFSET(Déplacements!AW$1,ROW()-1,,,) -> 8 | E7: =OFFSET(Déplacements!AY$1,ROW()-1,,,) -> 0 | F7: =OFFSET(Déplacements!BA$1,ROW()-1,,,) -> 0 | G7: =OFFSET(Déplacements!BC$1,ROW()-1,,,) -> 0 | H7: =OFFSET(Déplacements!BE$1,ROW()-1,,,) -> 0 | I7: =OFFSET(Déplacements!BG$1,ROW()-1,,,) -> 0 | J7: =OFFSET(Déplacements!BI$1,ROW()-1,,,) -> 14 | K7: =OFFSET(Déplacements!BK$1,ROW()-1,,,) -> 0 | L7: =OFFSET(Déplacements!BM$1,ROW()-1,,,) -> 0 | M7: =OFFSET(Déplacements!BO$1,ROW()-1,,,) -> 0 | N7: =OFFSET(Déplacements!BQ$1,ROW()-1,,,) -> 0
A8: 7 | B8: g | C8: =OFFSET(Déplacements!AU$1,ROW()-1,,,) -> 6 | D8: =OFFSET(Déplacements!AW$1,ROW()-1,,,) -> 0 | E8: =OFFSET(Déplacements!AY$1,ROW()-1,,,) -> 0 | F8: =OFFSET(Déplacements!BA$1,ROW()-1,,,) -> 0 | G8: =OFFSET(Déplacements!BC$1,ROW()-1,,,) -> 16 | H8: =OFFSET(Déplacements!BE$1,ROW()-1,,,) -> 0 | I8: =OFFSET(Déplacements!BG$1,ROW()-1,,,) -> 0 | J8: =OFFSET(Déplacements!BI$1,ROW()-1,,,) -> 0 | K8: =OFFSET(Déplacements!BK$1,ROW()-1,,,) -> 0 | L8: =OFFSET(Déplacements!BM$1,ROW()-1,,,) -> 0 | M8: =OFFSET(Déplacements!BO$1,ROW()-1,,,) -> 0 | N8: =OFFSET(Déplacements!BQ$1,ROW()-1,,,) -> 0
A9: 8 | B9: h | C9: =OFFSET(Déplacements!AU$1,ROW()-1,,,) -> 0 | D9: =OFFSET(Déplacements!AW$1,ROW()-1,,,) -> 0 | E9: =OFFSET(Déplacements!AY$1,ROW()-1,,,) -> 0 | F9: =OFFSET(Déplacements!BA$1,ROW()-1,,,) -> 0 | G9: =OFFSET(Déplacements!BC$1,ROW()-1,,,) -> 0 | H9: =OFFSET(Déplacements!BE$1,ROW()-1,,,) -> 0 | I9: =OFFSET(Déplacements!BG$1,ROW()-1,,,) -> 0 | J9: =OFFSET(Déplacements!BI$1,ROW()-1,,,) -> 0 | K9: =OFFSET(Déplacements!BK$1,ROW()-1,,,) -> 0 | L9: =OFFSET(Déplacements!BM$1,ROW()-1,,,) -> 0 | M9: =OFFSET(Déplacements!BO$1,ROW()-1,,,) -> 0 | N9: =OFFSET(Déplacements!BQ$1,ROW()-1,,,) -> 0
A10: 9 | B10: i | C10: =OFFSET(Déplacements!AU$1,ROW()-1,,,) -> 0 | D10: =OFFSET(Déplacements!AW$1,ROW()-1,,,) -> 0 | E10: =OFFSET(Déplacements!AY$1,ROW()-1,,,) -> 0 | F10: =OFFSET(Déplacements!BA$1,ROW()-1,,,) -> 0 | G10: =OFFSET(Déplacements!BC$1,ROW()-1,,,) -> 0 | H10: =OFFSET(Déplacements!BE$1,ROW()-1,,,) -> 0 | I10: =OFFSET(Déplacements!BG$1,ROW()-1,,,) -> 0 | J10: =OFFSET(Déplacements!BI$1,ROW()-1,,,) -> 0 | K10: =OFFSET(Déplacements!BK$1,ROW()-1,,,) -> 0 | L10: =OFFSET(Déplacements!BM$1,ROW()-1,,,) -> 0 | M10: =OFFSET(Déplacements!BO$1,ROW()-1,,,) -> 0 | N10: =OFFSET(Déplacements!BQ$1,ROW()-1,,,) -> 0
A11: 10 | B11: j | C11: =OFFSET(Déplacements!AU$1,ROW()-1,,,) -> 0 | D11: =OFFSET(Déplacements!AW$1,ROW()-1,,,) -> 0 | E11: =OFFSET(Déplacements!AY$1,ROW()-1,,,) -> 0 | F11: =OFFSET(Déplacements!BA$1,ROW()-1,,,) -> 0 | G11: =OFFSET(Déplacements!BC$1,ROW()-1,,,) -> 0 | H11: =OFFSET(Déplacements!BE$1,ROW()-1,,,) -> 0 | I11: =OFFSET(Déplacements!BG$1,ROW()-1,,,) -> 0 | J11: =OFFSET(Déplacements!BI$1,ROW()-1,,,) -> 0 | K11: =OFFSET(Déplacements!BK$1,ROW()-1,,,) -> 0 | L11: =OFFSET(Déplacements!BM$1,ROW()-1,,,) -> 0 | M11: =OFFSET(Déplacements!BO$1,ROW()-1,,,) -> 0 | N11: =OFFSET(Déplacements!BQ$1,ROW()-1,,,) -> 0
A12: 11 | B12: k | C12: =OFFSET(Déplacements!AU$1,ROW()-1,,,) -> 0 | D12: =OFFSET(Déplacements!AW$1,ROW()-1,,,) -> 0 | E12: =OFFSET(Déplacements!AY$1,ROW()-1,,,) -> 0 | F12: =OFFSET(Déplacements!BA$1,ROW()-1,,,) -> 0 | G12: =OFFSET(Déplacements!BC$1,ROW()-1,,,) -> 0 | H12: =OFFSET(Déplacements!BE$1,ROW()-1,,,) -> 0 | I12: =OFFSET(Déplacements!BG$1,ROW()-1,,,) -> 0 | J12: =OFFSET(Déplacements!BI$1,ROW()-1,,,) -> 0 | K12: =OFFSET(Déplacements!BK$1,ROW()-1,,,) -> 0 | L12: =OFFSET(Déplacements!BM$1,ROW()-1,,,) -> 0 | M12: =OFFSET(Déplacements!BO$1,ROW()-1,,,) -> 0 | N12: =OFFSET(Déplacements!BQ$1,ROW()-1,,,) -> 0
A13: 12 | B13: l | C13: =OFFSET(Déplacements!AU$1,ROW()-1,,,) -> 0 | D13: =OFFSET(Déplacements!AW$1,ROW()-1,,,) -> 0 | E13: =OFFSET(Déplacements!AY$1,ROW()-1,,,) -> 0 | F13: =OFFSET(Déplacements!BA$1,ROW()-1,,,) -> 0 | G13: =OFFSET(Déplacements!BC$1,ROW()-1,,,) -> 0 | H13: =OFFSET(Déplacements!BE$1,ROW()-1,,,) -> 0 | I13: =OFFSET(Déplacements!BG$1,ROW()-1,,,) -> 0 | J13: =OFFSET(Déplacements!BI$1,ROW()-1,,,) -> 0 | K13: =OFFSET(Déplacements!BK$1,ROW()-1,,,) -> 0 | L13: =OFFSET(Déplacements!BM$1,ROW()-1,,,) -> 0 | M13: =OFFSET(Déplacements!BO$1,ROW()-1,,,) -> 0 | N13: =OFFSET(Déplacements!BQ$1,ROW()-1,,,) -> 0
... A46: 45 | B46: b | C46: =OFFSET(Déplacements!AU$1,ROW()-1,,,) -> 0 | D46: =OFFSET(Déplacements!AW$1,ROW()-1,,,) -> 0 | E46: =OFFSET(Déplacements!AY$1,ROW()-1,,,) -> 0 | F46: =OFFSET(Déplacements!BA$1,ROW()-1,,,) -> 0 | G46: =OFFSET(Déplacements!BC$1,ROW()-1,,,) -> 0 | H46: =OFFSET(Déplacements!BE$1,ROW()-1,,,) -> 0 | I46: =OFFSET(Déplacements!BG$1,ROW()-1,,,) -> 0 | J46: =OFFSET(Déplacements!BI$1,ROW()-1,,,) -> 0 | K46: =OFFSET(Déplacements!BK$1,ROW()-1,,,) -> 0 | L46: =OFFSET(Déplacements!BM$1,ROW()-1,,,) -> 0 | M46: =OFFSET(Déplacements!BO$1,ROW()-1,,,) -> 0 | N46: =OFFSET(Déplacements!BQ$1,ROW()-1,,,) -> 0

Sheet Zones
A1: Matricule | B1: NOM | C1: Zone 1 | H1: Zone 2 | M1: Zone 3 | R1: Zone 4 | W1: Zone 5 | AB1: Zone 6 | AG1: Zone 7 | AL1: Zone 8 | AQ1: Zone 9 | AV1: Zone 10 | BA1: Zone 11 | BF1: Zone 12
A2: =Déplacements!A2 -> 1 | B2: =Déplacements!B2 -> a | C2: {=IFERROR(INDEX(Déplacements!$C2:$L2,SMALL(IF(Déplacements!$C2:$L2=INT(INT(COLUMN()-3)/5)+1,COLUMN(Déplacements!$C2:$L2)-COLUMN(Déplacements!$C$2)),COLUMNS($C$2:C2))),"")} -> PARIS | D2: {=IFERROR(INDEX(Déplacements!$C2:$L2,SMALL(IF(Déplacements!$C2:$L2=INT(INT(COLUMN()-3)/5)+1,COLUMN(Déplacements!$C2:$L2)-COLUMN(Déplacements!$C$2)),COLUMNS($C$2:D2))),"")} -> MELUN | E2: {=IFERROR(INDEX(Déplacements!$C2:$L2,SMALL(IF(Déplacements!$C2:$L2=INT(INT(COLUMN()-3)/5)+1,COLUMN(Déplacements!$C2:$L2)-COLUMN(Déplacements!$C$2)),COLUMNS($C$2:E2))),"")} | F2: {=IFERROR(INDEX(Déplacements!$C2:$L2,SMALL(IF(Déplacements!$C2:$L2=INT(INT(COLUMN()-3)/5)+1,COLUMN(Déplacements!$C2:$L2)-COLUMN(Déplacements!$C$2)),COLUMNS($C$2:F2))),"")} | G2: {=IFERROR(INDEX(Déplacements!$C2:$L2,SMALL(IF(Déplacements!$C2:$L2=INT(INT(COLUMN()-3)/5)+1,COLUMN(Déplacements!$C2:$L2)-COLUMN(Déplacements!$C$2)),COLUMNS($C$2:G2))),"")} | H2: {=IFERROR(INDEX(Déplacements!$C2:$L2,SMALL(IF(Déplacements!$C2:$L2=INT(INT(COLUMN()-3)/5)+1,COLUMN(Déplacements!$C2:$L2)-COLUMN(Déplacements!$C$2)),COLUMNS($H$2:H2))),"")} | I2: {=IFERROR(INDEX(Déplacements!$C2:$L2,SMALL(IF(Déplacements!$C2:$L2=INT(INT(COLUMN()-3)/5)+1,COLUMN(Déplacements!$C2:$L2)-COLUMN(Déplacements!$C$2)),COLUMNS($H$2:I2))),"")} | J2: {=IFERROR(INDEX(Déplacements!$C2:$L2,SMALL(IF(Déplacements!$C2:$L2=INT(INT(COLUMN()-3)/5)+1,COLUMN(Déplacements!$C2:$L2)-COLUMN(Déplacements!$C$2)),COLUMNS($H$2:J2))),"")} | K2: {=IFERROR(INDEX(Déplacements!$C2:$L2,SMALL(IF(Déplacements!$C2:$L2=INT(INT(COLUMN()-3)/5)+1,COLUMN(Déplacements!$C2:$L2)-COLUMN(Déplacements!$C$2)),COLUMNS($H$2:K2))),"")} | L2: {=IFERROR(INDEX(Déplacements!$C2:$L2,SMALL(IF(Déplacements!$C2:$L2=INT(INT(COLUMN()-3)/5)+1,COLUMN(Déplacements!$C2:$L2)-COLUMN(Déplacements!$C$2)),COLUMNS($H$2:L2))),"")} | M2: {=IFERROR(INDEX(Déplacements!$C2:$L2,SMALL(IF(Déplacements!$C2:$L2=INT(INT(COLUMN()-3)/5)+1,COLUMN(Déplacements!$C2:$L2)-COLUMN(Déplacements!$C$2)),COLUMNS($M$2:M2))),"")} -> CAEN | N2: {=IFERROR(INDEX(Déplacements!$C2:$L2,SMALL(IF(Déplacements!$C2:$L2=INT(INT(COLUMN()-3)/5)+1,COLUMN(Déplacements!$C2:$L2)-COLUMN(Déplacements!$C$2)),COLUMNS($M$2:N2))),"")} | O2: {=IFERROR(INDEX(Déplacements!$C2:$L2,SMALL(IF(Déplacements!$C2:$L2=INT(INT(COLUMN()-3)/5)+1,COLUMN(Déplacements!$C2:$L2)-COLUMN(Déplacements!$C$2)),COLUMNS($M$2:O2))),"")} | P2: {=IFERROR(INDEX(Déplacements!$C2:$L2,SMALL(IF(Déplacements!$C2:$L2=INT(INT(COLUMN()-3)/5)+1,COLUMN(Déplacements!$C2:$L2)-COLUMN(Déplacements!$C$2)),COLUMNS($M$2:P2))),"")} | Q2: {=IFERROR(INDEX(Déplacements!$C2:$L2,SMALL(IF(Déplacements!$C2:$L2=INT(INT(COLUMN()-3)/5)+1,COLUMN(Déplacements!$C2:$L2)-COLUMN(Déplacements!$C$2)),COLUMNS($M$2:Q2))),"")} | R2: {=IFERROR(INDEX(Déplacements!$C2:$L2,SMALL(IF(Déplacements!$C2:$L2=INT(INT(COLUMN()-3)/5)+1,COLUMN(Déplacements!$C2:$L2)-COLUMN(Déplacements!$C$2)),COLUMNS($R$2:R2))),"")} | S2: {=IFERROR(INDEX(Déplacements!$C2:$L2,SMALL(IF(Déplacements!$C2:$L2=INT(INT(COLUMN()-3)/5)+1,COLUMN(Déplacements!$C2:$L2)-COLUMN(Déplacements!$C$2)),COLUMNS($R$2:S2))),"")} | T2: {=IFERROR(INDEX(Déplacements!$C2:$L2,SMALL(IF(Déplacements!$C2:$L2=INT(INT(COLUMN()-3)/5)+1,COLUMN(Déplacements!$C2:$L2)-COLUMN(Déplacements!$C$2)),COLUMNS($R$2:T2))),"")} | U2: {=IFERROR(INDEX(Déplacements!$C2:$L2,SMALL(IF(Déplacements!$C2:$L2=INT(INT(COLUMN()-3)/5)+1,COLUMN(Déplacements!$C2:$L2)-COLUMN(Déplacements!$C$2)),COLUMNS($R$2:U2))),"")} | V2: {=IFERROR(INDEX(Déplacements!$C2:$L2,SMALL(IF(Déplacements!$C2:$L2=INT(INT(COLUMN()-3)/5)+1,COLUMN(Déplacements!$C2:$L2)-COLUMN(Déplacements!$C$2)),COLUMNS($R$2:V2))),"")} | W2: {=IFERROR(INDEX(Déplacements!$C2:$L2,SMALL(IF(Déplacements!$C2:$L2=INT(INT(COLUMN()-3)/5)+1,COLUMN(Déplacements!$C2:$L2)-COLUMN(Déplacements!$C$2)),COLUMNS($W$2:W2))),"")} | X2: {=IFERROR(INDEX(Déplacements!$C2:$L2,SMALL(IF(Déplacements!$C2:$L2=INT(INT(COLUMN()-3)/5)+1,COLUMN(Déplacements!$C2:$L2)-COLUMN(Déplacements!$C$2)),COLUMNS($W$2:X2))),"")} | Y2: {=IFERROR(INDEX(Déplacements!$C2:$L2,SMALL(IF(Déplacements!$C2:$L2=INT(INT(COLUMN()-3)/5)+1,COLUMN(Déplacements!$C2:$L2)-COLUMN(Déplacements!$C$2)),COLUMNS($W$2:Y2))),"")} | Z2: {=IFERROR(INDEX(Déplacements!$C2:$L2,SMALL(IF(Déplacements!$C2:$L2=INT(INT(COLUMN()-3)/5)+1,COLUMN(Déplacements!$C2:$L2)-COLUMN(Déplacements!$C$2)),COLUMNS($W$2:Z2))),"")} | AA2: {=IFERROR(INDEX(Déplacements!$C2:$L2,SMALL(IF(Déplacements!$C2:$L2=INT(INT(COLUMN()-3)/5)+1,COLUMN(Déplacements!$C2:$L2)-COLUMN(Déplacements!$C$2)),COLUMNS($W$2:AA2))),"")} | AB2: {=IFERROR(INDEX(Déplacements!$C2:$L2,SMALL(IF(Déplacements!$C2:$L2=INT(INT(COLUMN()-3)/5)+1,COLUMN(Déplacements!$C2:$L2)-COLUMN(Déplacements!$C$2)),COLUMNS($AB$2:AB2))),"")} -> ROUEN | AC2: {=IFERROR(INDEX(Déplacements!$C2:$L2,SMALL(IF(Déplacements!$C2:$L2=INT(INT(COLUMN()-3)/5)+1,COLUMN(Déplacements!$C2:$L2)-COLUMN(Déplacements!$C$2)),COLUMNS($AB$2:AC2))),"")} | AD2: {=IFERROR(INDEX(Déplacements!$C2:$L2,SMALL(IF(Déplacements!$C2:$L2=INT(INT(COLUMN()-3)/5)+1,COLUMN(Déplacements!$C2:$L2)-COLUMN(Déplacements!$C$2)),COLUMNS($AB$2:AD2))),"")} | AE2: {=IFERROR(INDEX(Déplacements!$C2:$L2,SMALL(IF(Déplacements!$C2:$L2=INT(INT(COLUMN()-3)/5)+1,COLUMN(Déplacements!$C2:$L2)-COLUMN(Déplacements!$C$2)),COLUMNS($AB$2:AE2))),"")} | AF2: {=IFERROR(INDEX(Déplacements!$C2:$L2,SMALL(IF(Déplacements!$C2:$L2=INT(INT(COLUMN()-3)/5)+1,COLUMN(Déplacements!$C2:$L2)-COLUMN(Déplacements!$C$2)),COLUMNS($AB$2:AF2))),"")} | AG2: {=IFERROR(INDEX(Déplacements!$C2:$L2,SMALL(IF(Déplacements!$C2:$L2=INT(INT(COLUMN()-3)/5)+1,COLUMN(Déplacements!$C2:$L2)-COLUMN(Déplacements!$C$2)),COLUMNS($AG$2:AG2))),"")} | AH2: {=IFERROR(INDEX(Déplacements!$C2:$L2,SMALL(IF(Déplacements!$C2:$L2=INT(INT(COLUMN()-3)/5)+1,COLUMN(Déplacements!$C2:$L2)-COLUMN(Déplacements!$C$2)),COLUMNS($AG$2:AH2))),"")} | AI2: {=IFERROR(INDEX(Déplacements!$C2:$L2,SMALL(IF(Déplacements!$C2:$L2=INT(INT(COLUMN()-3)/5)+1,COLUMN(Déplacements!$C2:$L2)-COLUMN(Déplacements!$C$2)),COLUMNS($AG$2:AI2))),"")} | AJ2: {=IFERROR(INDEX(Déplacements!$C2:$L2,SMALL(IF(Déplacements!$C2:$L2=INT(INT(COLUMN()-3)/5)+1,COLUMN(Déplacements!$C2:$L2)-COLUMN(Déplacements!$C$2)),COLUMNS($AG$2:AJ2))),"")} | AK2: {=IFERROR(INDEX(Déplacements!$C2:$L2,SMALL(IF(Déplacements!$C2:$L2=INT(INT(COLUMN()-3)/5)+1,COLUMN(Déplacements!$C2:$L2)-COLUMN(Déplacements!$C$2)),COLUMNS($AG$2:AK2))),"")} | AL2: {=IFERROR(INDEX(Déplacements!$C2:$L2,SMALL(IF(Déplacements!$C2:$L2=INT(INT(COLUMN()-3)/5)+1,COLUMN(Déplacements!$C2:$L2)-COLUMN(Déplacements!$C$2)),COLUMNS($AL$2:AL2))),"")} | AM2: {=IFERROR(INDEX(Déplacements!$C2:$L2,SMALL(IF(Déplacements!$C2:$L2=INT(INT(COLUMN()-3)/5)+1,COLUMN(Déplacements!$C2:$L2)-COLUMN(Déplacements!$C$2)),COLUMNS($AL$2:AM2))),"")} | AN2: {=IFERROR(INDEX(Déplacements!$C2:$L2,SMALL(IF(Déplacements!$C2:$L2=INT(INT(COLUMN()-3)/5)+1,COLUMN(Déplacements!$C2:$L2)-COLUMN(Déplacements!$C$2)),COLUMNS($AL$2:AN2))),"")} | AO2: {=IFERROR(INDEX(Déplacements!$C2:$L2,SMALL(IF(Déplacements!$C2:$L2=INT(INT(COLUMN()-3)/5)+1,COLUMN(Déplacements!$C2:$L2)-COLUMN(Déplacements!$C$2)),COLUMNS($AL$2:AO2))),"")} | AP2: {=IFERROR(INDEX(Déplacements!$C2:$L2,SMALL(IF(Déplacements!$C2:$L2=INT(INT(COLUMN()-3)/5)+1,COLUMN(Déplacements!$C2:$L2)-COLUMN(Déplacements!$C$2)),COLUMNS($AL$2:AP2))),"")} | AQ2: {=IFERROR(INDEX(Déplacements!$C2:$L2,SMALL(IF(Déplacements!$C2:$L2=INT(INT(COLUMN()-3)/5)+1,COLUMN(Déplacements!$C2:$L2)-COLUMN(Déplacements!$C$2)),COLUMNS($AQ$2:AQ2))),"")} | AR2: {=IFERROR(INDEX(Déplacements!$C2:$L2,SMALL(IF(Déplacements!$C2:$L2=INT(INT(COLUMN()-3)/5)+1,COLUMN(Déplacements!$C2:$L2)-COLUMN(Déplacements!$C$2)),COLUMNS($AQ$2:AR2))),"")} | AS2: {=IFERROR(INDEX(Déplacements!$C2:$L2,SMALL(IF(Déplacements!$C2:$L2=INT(INT(COLUMN()-3)/5)+1,COLUMN(Déplacements!$C2:$L2)-COLUMN(Déplacements!$C$2)),COLUMNS($AQ$2:AS2))),"")} | AT2: {=IFERROR(INDEX(Déplacements!$C2:$L2,SMALL(IF(Déplacements!$C2:$L2=INT(INT(COLUMN()-3)/5)+1,COLUMN(Déplacements!$C2:$L2)-COLUMN(Déplacements!$C$2)),COLUMNS($AQ$2:AT2))),"")} | AU2: {=IFERROR(INDEX(Déplacements!$C2:$L2,SMALL(IF(Déplacements!$C2:$L2=INT(INT(COLUMN()-3)/5)+1,COLUMN(Déplacements!$C2:$L2)-COLUMN(Déplacements!$C$2)),COLUMNS($AQ$2:AU2))),"")} | AV2: {=IFERROR(INDEX(Déplacements!$C2:$L2,SMALL(IF(Déplacements!$C2:$L2=INT(INT(COLUMN()-3)/5)+1,COLUMN(Déplacements!$C2:$L2)-COLUMN(Déplacements!$C$2)),COLUMNS($AV$2:AV2))),"")} | AW2: {=IFERROR(INDEX(Déplacements!$C2:$L2,SMALL(IF(Déplacements!$C2:$L2=INT(INT(COLUMN()-3)/5)+1,COLUMN(Déplacements!$C2:$L2)-COLUMN(Déplacements!$C$2)),COLUMNS($AV$2:AW2))),"")} | AX2: {=IFERROR(INDEX(Déplacements!$C2:$L2,SMALL(IF(Déplacements!$C2:$L2=INT(INT(COLUMN()-3)/5)+1,COLUMN(Déplacements!$C2:$L2)-COLUMN(Déplacements!$C$2)),COLUMNS($AV$2:AX2))),"")} | AY2: {=IFERROR(INDEX(Déplacements!$C2:$L2,SMALL(IF(Déplacements!$C2:$L2=INT(INT(COLUMN()-3)/5)+1,COLUMN(Déplacements!$C2:$L2)-COLUMN(Déplacements!$C$2)),COLUMNS($AV$2:AY2))),"")} | AZ2: {=IFERROR(INDEX(Déplacements!$C2:$L2,SMALL(IF(Déplacements!$C2:$L2=INT(INT(COLUMN()-3)/5)+1,COLUMN(Déplacements!$C2:$L2)-COLUMN(Déplacements!$C$2)),COLUMNS($AV$2:AZ2))),"")} | BA2: {=IFERROR(INDEX(Déplacements!$C2:$L2,SMALL(IF(Déplacements!$C2:$L2=INT(INT(COLUMN()-3)/5)+1,COLUMN(Déplacements!$C2:$L2)-COLUMN(Déplacements!$C$2)),COLUMNS($BA$2:BA2))),"")} | BB2: {=IFERROR(INDEX(Déplacements!$C2:$L2,SMALL(IF(Déplacements!$C2:$L2=INT(INT(COLUMN()-3)/5)+1,COLUMN(Déplacements!$C2:$L2)-COLUMN(Déplacements!$C$2)),COLUMNS($BA$2:BB2))),"")} | BC2: {=IFERROR(INDEX(Déplacements!$C2:$L2,SMALL(IF(Déplacements!$C2:$L2=INT(INT(COLUMN()-3)/5)+1,COLUMN(Déplacements!$C2:$L2)-COLUMN(Déplacements!$C$2)),COLUMNS($BA$2:BC2))),"")} | BD2: {=IFERROR(INDEX(Déplacements!$C2:$L2,SMALL(IF(Déplacements!$C2:$L2=INT(INT(COLUMN()-3)/5)+1,COLUMN(Déplacements!$C2:$L2)-COLUMN(Déplacements!$C$2)),COLUMNS($BA$2:BD2))),"")} | BE2: {=IFERROR(INDEX(Déplacements!$C2:$L2,SMALL(IF(Déplacements!$C2:$L2=INT(INT(COLUMN()-3)/5)+1,COLUMN(Déplacements!$C2:$L2)-COLUMN(Déplacements!$C$2)),COLUMNS($BA$2:BE2))),"")} | BF2: {=IFERROR(INDEX(Déplacements!$C2:$L2,SMALL(IF(Déplacements!$C2:$L2=INT(INT(COLUMN()-3)/5)+1,COLUMN(Déplacements!$C2:$L2)-COLUMN(Déplacements!$C$2)),COLUMNS($BF$2:BF2))),"")} | BG2: {=IFERROR(INDEX(Déplacements!$C2:$L2,SMALL(IF(Déplacements!$C2:$L2=INT(INT(COLUMN()-3)/5)+1,COLUMN(Déplacements!$C2:$L2)-COLUMN(Déplacements!$C$2)),COLUMNS($BF$2:BG2))),"")} | BH2: {=IFERROR(INDEX(Déplacements!$C2:$L2,SMALL(IF(Déplacements!$C2:$L2=INT(INT(COLUMN()-3)/5)+1,COLUMN(Déplacements!$C2:$L2)-COLUMN(Déplacements!$C$2)),COLUMNS($BF$2:BH2))),"")} | BI2: {=IFERROR(INDEX(Déplacements!$C2:$L2,SMALL(IF(Déplacements!$C2:$L2=INT(INT(COLUMN()-3)/5)+1,COLUMN(Déplacements!$C2:$L2)-COLUMN(Déplacements!$C$2)),COLUMNS($BF$2:BI2))),"")} | BJ2: {=IFERROR(INDEX(Déplacements!$C2:$L2,SMALL(IF(Déplacements!$C2:$L2=INT(INT(COLUMN()-3)/5)+1,COLUMN(Déplacements!$C2:$L2)-COLUMN(Déplacements!$C$2)),COLUMNS($BF$2:BJ2))),"")}
A3: =Déplacements!A3 -> 2 | B3: =Déplacements!B3 -> c | C3: {=IFERROR(INDEX(Déplacements!$C3:$L3,SMALL(IF(Déplacements!$C3:$L3=INT(INT(COLUMN()-3)/5)+1,COLUMN(Déplacements!$C3:$L3)-COLUMN(Déplacements!$C$2)),COLUMNS($C$2:C3))),"")} | D3: {=IFERROR(INDEX(Déplacements!$C3:$L3,SMALL(IF(Déplacements!$C3:$L3=INT(INT(COLUMN()-3)/5)+1,COLUMN(Déplacements!$C3:$L3)-COLUMN(Déplacements!$C$2)),COLUMNS($C$2:D3))),"")} | E3: {=IFERROR(INDEX(Déplacements!$C3:$L3,SMALL(IF(Déplacements!$C3:$L3=INT(INT(COLUMN()-3)/5)+1,COLUMN(Déplacements!$C3:$L3)-COLUMN(Déplacements!$C$2)),COLUMNS($C$2:E3))),"")} | F3: {=IFERROR(INDEX(Déplacements!$C3:$L3,SMALL(IF(Déplacements!$C3:$L3=INT(INT(COLUMN()-3)/5)+1,COLUMN(Déplacements!$C3:$L3)-COLUMN(Déplacements!$C$2)),COLUMNS($C$2:F3))),"")} | G3: {=IFERROR(INDEX(Déplacements!$C3:$L3,SMALL(IF(Déplacements!$C3:$L3=INT(INT(COLUMN()-3)/5)+1,COLUMN(Déplacements!$C3:$L3)-COLUMN(Déplacements!$C$2)),COLUMNS($C$2:G3))),"")} | H3: {=IFERROR(INDEX(Déplacements!$C3:$L3,SMALL(IF(Déplacements!$C3:$L3=INT(INT(COLUMN()-3)/5)+1,COLUMN(Déplacements!$C3:$L3)-COLUMN(Déplacements!$C$2)),COLUMNS($H$2:H3))),"")} | I3: {=IFERROR(INDEX(Déplacements!$C3:$L3,SMALL(IF(Déplacements!$C3:$L3=INT(INT(COLUMN()-3)/5)+1,COLUMN(Déplacements!$C3:$L3)-COLUMN(Déplacements!$C$2)),COLUMNS($H$2:I3))),"")} | J3: {=IFERROR(INDEX(Déplacements!$C3:$L3,SMALL(IF(Déplacements!$C3:$L3=INT(INT(COLUMN()-3)/5)+1,COLUMN(Déplacements!$C3:$L3)-COLUMN(Déplacements!$C$2)),COLUMNS($H$2:J3))),"")} | K3: {=IFERROR(INDEX(Déplacements!$C3:$L3,SMALL(IF(Déplacements!$C3:$L3=INT(INT(COLUMN()-3)/5)+1,COLUMN(Déplacements!$C3:$L3)-COLUMN(Déplacements!$C$2)),COLUMNS($H$2:K3))),"")} | L3: {=IFERROR(INDEX(Déplacements!$C3:$L3,SMALL(IF(Déplacements!$C3:$L3=INT(INT(COLUMN()-3)/5)+1,COLUMN(Déplacements!$C3:$L3)-COLUMN(Déplacements!$C$2)),COLUMNS($H$2:L3))),"")} | M3: {=IFERROR(INDEX(Déplacements!$C3:$L3,SMALL(IF(Déplacements!$C3:$L3=INT(INT(COLUMN()-3)/5)+1,COLUMN(Déplacements!$C3:$L3)-COLUMN(Déplacements!$C$2)),COLUMNS($M$2:M3))),"")} | N3: {=IFERROR(INDEX(Déplacements!$C3:$L3,SMALL(IF(Déplacements!$C3:$L3=INT(INT(COLUMN()-3)/5)+1,COLUMN(Déplacements!$C3:$L3)-COLUMN(Déplacements!$C$2)),COLUMNS($M$2:N3))),"")} | O3: {=IFERROR(INDEX(Déplacements!$C3:$L3,SMALL(IF(Déplacements!$C3:$L3=INT(INT(COLUMN()-3)/5)+1,COLUMN(Déplacements!$C3:$L3)-COLUMN(Déplacements!$C$2)),COLUMNS($M$2:O3))),"")} | P3: {=IFERROR(INDEX(Déplacements!$C3:$L3,SMALL(IF(Déplacements!$C3:$L3=INT(INT(COLUMN()-3)/5)+1,COLUMN(Déplacements!$C3:$L3)-COLUMN(Déplacements!$C$2)),COLUMNS($M$2:P3))),"")} | Q3: {=IFERROR(INDEX(Déplacements!$C3:$L3,SMALL(IF(Déplacements!$C3:$L3=INT(INT(COLUMN()-3)/5)+1,COLUMN(Déplacements!$C3:$L3)-COLUMN(Déplacements!$C$2)),COLUMNS($M$2:Q3))),"")} | R3: {=IFERROR(INDEX(Déplacements!$C3:$L3,SMALL(IF(Déplacements!$C3:$L3=INT(INT(COLUMN()-3)/5)+1,COLUMN(Déplacements!$C3:$L3)-COLUMN(Déplacements!$C$2)),COLUMNS($R$2:R3))),"")} | S3: {=IFERROR(INDEX(Déplacements!$C3:$L3,SMALL(IF(Déplacements!$C3:$L3=INT(INT(COLUMN()-3)/5)+1,COLUMN(Déplacements!$C3:$L3)-COLUMN(Déplacements!$C$2)),COLUMNS($R$2:S3))),"")} | T3: {=IFERROR(INDEX(Déplacements!$C3:$L3,SMALL(IF(Déplacements!$C3:$L3=INT(INT(COLUMN()-3)/5)+1,COLUMN(Déplacements!$C3:$L3)-COLUMN(Déplacements!$C$2)),COLUMNS($R$2:T3))),"")} | U3: {=IFERROR(INDEX(Déplacements!$C3:$L3,SMALL(IF(Déplacements!$C3:$L3=INT(INT(COLUMN()-3)/5)+1,COLUMN(Déplacements!$C3:$L3)-COLUMN(Déplacements!$C$2)),COLUMNS($R$2:U3))),"")} | V3: {=IFERROR(INDEX(Déplacements!$C3:$L3,SMALL(IF(Déplacements!$C3:$L3=INT(INT(COLUMN()-3)/5)+1,COLUMN(Déplacements!$C3:$L3)-COLUMN(Déplacements!$C$2)),COLUMNS($R$2:V3))),"")} | W3: {=IFERROR(INDEX(Déplacements!$C3:$L3,SMALL(IF(Déplacements!$C3:$L3=INT(INT(COLUMN()-3)/5)+1,COLUMN(Déplacements!$C3:$L3)-COLUMN(Déplacements!$C$2)),COLUMNS($W$2:W3))),"")} | X3: {=IFERROR(INDEX(Déplacements!$C3:$L3,SMALL(IF(Déplacements!$C3:$L3=INT(INT(COLUMN()-3)/5)+1,COLUMN(Déplacements!$C3:$L3)-COLUMN(Déplacements!$C$2)),COLUMNS($W$2:X3))),"")} | Y3: {=IFERROR(INDEX(Déplacements!$C3:$L3,SMALL(IF(Déplacements!$C3:$L3=INT(INT(COLUMN()-3)/5)+1,COLUMN(Déplacements!$C3:$L3)-COLUMN(Déplacements!$C$2)),COLUMNS($W$2:Y3))),"")} | Z3: {=IFERROR(INDEX(Déplacements!$C3:$L3,SMALL(IF(Déplacements!$C3:$L3=INT(INT(COLUMN()-3)/5)+1,COLUMN(Déplacements!$C3:$L3)-COLUMN(Déplacements!$C$2)),COLUMNS($W$2:Z3))),"")} | AA3: {=IFERROR(INDEX(Déplacements!$C3:$L3,SMALL(IF(Déplacements!$C3:$L3=INT(INT(COLUMN()-3)/5)+1,COLUMN(Déplacements!$C3:$L3)-COLUMN(Déplacements!$C$2)),COLUMNS($W$2:AA3))),"")} | AB3: {=IFERROR(INDEX(Déplacements!$C3:$L3,SMALL(IF(Déplacements!$C3:$L3=INT(INT(COLUMN()-3)/5)+1,COLUMN(Déplacements!$C3:$L3)-COLUMN(Déplacements!$C$2)),COLUMNS($AB$2:AB3))),"")} | AC3: {=IFERROR(INDEX(Déplacements!$C3:$L3,SMALL(IF(Déplacements!$C3:$L3=INT(INT(COLUMN()-3)/5)+1,COLUMN(Déplacements!$C3:$L3)-COLUMN(Déplacements!$C$2)),COLUMNS($AB$2:AC3))),"")} | AD3: {=IFERROR(INDEX(Déplacements!$C3:$L3,SMALL(IF(Déplacements!$C3:$L3=INT(INT(COLUMN()-3)/5)+1,COLUMN(Déplacements!$C3:$L3)-COLUMN(Déplacements!$C$2)),COLUMNS($AB$2:AD3))),"")} | AE3: {=IFERROR(INDEX(Déplacements!$C3:$L3,SMALL(IF(Déplacements!$C3:$L3=INT(INT(COLUMN()-3)/5)+1,COLUMN(Déplacements!$C3:$L3)-COLUMN(Déplacements!$C$2)),COLUMNS($AB$2:AE3))),"")} | AF3: {=IFERROR(INDEX(Déplacements!$C3:$L3,SMALL(IF(Déplacements!$C3:$L3=INT(INT(COLUMN()-3)/5)+1,COLUMN(Déplacements!$C3:$L3)-COLUMN(Déplacements!$C$2)),COLUMNS($AB$2:AF3))),"")} | AG3: {=IFERROR(INDEX(Déplacements!$C3:$L3,SMALL(IF(Déplacements!$C3:$L3=INT(INT(COLUMN()-3)/5)+1,COLUMN(Déplacements!$C3:$L3)-COLUMN(Déplacements!$C$2)),COLUMNS($AG$2:AG3))),"")} | AH3: {=IFERROR(INDEX(Déplacements!$C3:$L3,SMALL(IF(Déplacements!$C3:$L3=INT(INT(COLUMN()-3)/5)+1,COLUMN(Déplacements!$C3:$L3)-COLUMN(Déplacements!$C$2)),COLUMNS($AG$2:AH3))),"")} | AI3: {=IFERROR(INDEX(Déplacements!$C3:$L3,SMALL(IF(Déplacements!$C3:$L3=INT(INT(COLUMN()-3)/5)+1,COLUMN(Déplacements!$C3:$L3)-COLUMN(Déplacements!$C$2)),COLUMNS($AG$2:AI3))),"")} | AJ3: {=IFERROR(INDEX(Déplacements!$C3:$L3,SMALL(IF(Déplacements!$C3:$L3=INT(INT(COLUMN()-3)/5)+1,COLUMN(Déplacements!$C3:$L3)-COLUMN(Déplacements!$C$2)),COLUMNS($AG$2:AJ3))),"")} | AK3: {=IFERROR(INDEX(Déplacements!$C3:$L3,SMALL(IF(Déplacements!$C3:$L3=INT(INT(COLUMN()-3)/5)+1,COLUMN(Déplacements!$C3:$L3)-COLUMN(Déplacements!$C$2)),COLUMNS($AG$2:AK3))),"")} | AL3: {=IFERROR(INDEX(Déplacements!$C3:$L3,SMALL(IF(Déplacements!$C3:$L3=INT(INT(COLUMN()-3)/5)+1,COLUMN(Déplacements!$C3:$L3)-COLUMN(Déplacements!$C$2)),COLUMNS($AL$2:AL3))),"")} -> RENNES | AM3: {=IFERROR(INDEX(Déplacements!$C3:$L3,SMALL(IF(Déplacements!$C3:$L3=INT(INT(COLUMN()-3)/5)+1,COLUMN(Déplacements!$C3:$L3)-COLUMN(Déplacements!$C$2)),COLUMNS($AL$2:AM3))),"")} -> VANNES | AN3: {=IFERROR(INDEX(Déplacements!$C3:$L3,SMALL(IF(Déplacements!$C3:$L3=INT(INT(COLUMN()-3)/5)+1,COLUMN(Déplacements!$C3:$L3)-COLUMN(Déplacements!$C$2)),COLUMNS($AL$2:AN3))),"")} -> ST MALO | AO3: {=IFERROR(INDEX(Déplacements!$C3:$L3,SMALL(IF(Déplacements!$C3:$L3=INT(INT(COLUMN()-3)/5)+1,COLUMN(Déplacements!$C3:$L3)-COLUMN(Déplacements!$C$2)),COLUMNS($AL$2:AO3))),"")} | AP3: {=IFERROR(INDEX(Déplacements!$C3:$L3,SMALL(IF(Déplacements!$C3:$L3=INT(INT(COLUMN()-3)/5)+1,COLUMN(Déplacements!$C3:$L3)-COLUMN(Déplacements!$C$2)),COLUMNS($AL$2:AP3))),"")} | AQ3: {=IFERROR(INDEX(Déplacements!$C3:$L3,SMALL(IF(Déplacements!$C3:$L3=INT(INT(COLUMN()-3)/5)+1,COLUMN(Déplacements!$C3:$L3)-COLUMN(Déplacements!$C$2)),COLUMNS($AQ$2:AQ3))),"")} | AR3: {=IFERROR(INDEX(Déplacements!$C3:$L3,SMALL(IF(Déplacements!$C3:$L3=INT(INT(COLUMN()-3)/5)+1,COLUMN(Déplacements!$C3:$L3)-COLUMN(Déplacements!$C$2)),COLUMNS($AQ$2:AR3))),"")} | AS3: {=IFERROR(INDEX(Déplacements!$C3:$L3,SMALL(IF(Déplacements!$C3:$L3=INT(INT(COLUMN()-3)/5)+1,COLUMN(Déplacements!$C3:$L3)-COLUMN(Déplacements!$C$2)),COLUMNS($AQ$2:AS3))),"")} | AT3: {=IFERROR(INDEX(Déplacements!$C3:$L3,SMALL(IF(Déplacements!$C3:$L3=INT(INT(COLUMN()-3)/5)+1,COLUMN(Déplacements!$C3:$L3)-COLUMN(Déplacements!$C$2)),COLUMNS($AQ$2:AT3))),"")} | AU3: {=IFERROR(INDEX(Déplacements!$C3:$L3,SMALL(IF(Déplacements!$C3:$L3=INT(INT(COLUMN()-3)/5)+1,COLUMN(Déplacements!$C3:$L3)-COLUMN(Déplacements!$C$2)),COLUMNS($AQ$2:AU3))),"")} | AV3: {=IFERROR(INDEX(Déplacements!$C3:$L3,SMALL(IF(Déplacements!$C3:$L3=INT(INT(COLUMN()-3)/5)+1,COLUMN(Déplacements!$C3:$L3)-COLUMN(Déplacements!$C$2)),COLUMNS($AV$2:AV3))),"")} | AW3: {=IFERROR(INDEX(Déplacements!$C3:$L3,SMALL(IF(Déplacements!$C3:$L3=INT(INT(COLUMN()-3)/5)+1,COLUMN(Déplacements!$C3:$L3)-COLUMN(Déplacements!$C$2)),COLUMNS($AV$2:AW3))),"")} | AX3: {=IFERROR(INDEX(Déplacements!$C3:$L3,SMALL(IF(Déplacements!$C3:$L3=INT(INT(COLUMN()-3)/5)+1,COLUMN(Déplacements!$C3:$L3)-COLUMN(Déplacements!$C$2)),COLUMNS($AV$2:AX3))),"")} | AY3: {=IFERROR(INDEX(Déplacements!$C3:$L3,SMALL(IF(Déplacements!$C3:$L3=INT(INT(COLUMN()-3)/5)+1,COLUMN(Déplacements!$C3:$L3)-COLUMN(Déplacements!$C$2)),COLUMNS($AV$2:AY3))),"")} | AZ3: {=IFERROR(INDEX(Déplacements!$C3:$L3,SMALL(IF(Déplacements!$C3:$L3=INT(INT(COLUMN()-3)/5)+1,COLUMN(Déplacements!$C3:$L3)-COLUMN(Déplacements!$C$2)),COLUMNS($AV$2:AZ3))),"")} | BA3: {=IFERROR(INDEX(Déplacements!$C3:$L3,SMALL(IF(Déplacements!$C3:$L3=INT(INT(COLUMN()-3)/5)+1,COLUMN(Déplacements!$C3:$L3)-COLUMN(Déplacements!$C$2)),COLUMNS($BA$2:BA3))),"")} | BB3: {=IFERROR(INDEX(Déplacements!$C3:$L3,SMALL(IF(Déplacements!$C3:$L3=INT(INT(COLUMN()-3)/5)+1,COLUMN(Déplacements!$C3:$L3)-COLUMN(Déplacements!$C$2)),COLUMNS($BA$2:BB3))),"")} | BC3: {=IFERROR(INDEX(Déplacements!$C3:$L3,SMALL(IF(Déplacements!$C3:$L3=INT(INT(COLUMN()-3)/5)+1,COLUMN(Déplacements!$C3:$L3)-COLUMN(Déplacements!$C$2)),COLUMNS($BA$2:BC3))),"")} | BD3: {=IFERROR(INDEX(Déplacements!$C3:$L3,SMALL(IF(Déplacements!$C3:$L3=INT(INT(COLUMN()-3)/5)+1,COLUMN(Déplacements!$C3:$L3)-COLUMN(Déplacements!$C$2)),COLUMNS($BA$2:BD3))),"")} | BE3: {=IFERROR(INDEX(Déplacements!$C3:$L3,SMALL(IF(Déplacements!$C3:$L3=INT(INT(COLUMN()-3)/5)+1,COLUMN(Déplacements!$C3:$L3)-COLUMN(Déplacements!$C$2)),COLUMNS($BA$2:BE3))),"")} | BF3: {=IFERROR(INDEX(Déplacements!$C3:$L3,SMALL(IF(Déplacements!$C3:$L3=INT(INT(COLUMN()-3)/5)+1,COLUMN(Déplacements!$C3:$L3)-COLUMN(Déplacements!$C$2)),COLUMNS($BF$2:BF3))),"")} | BG3: {=IFERROR(INDEX(Déplacements!$C3:$L3,SMALL(IF(Déplacements!$C3:$L3=INT(INT(COLUMN()-3)/5)+1,COLUMN(Déplacements!$C3:$L3)-COLUMN(Déplacements!$C$2)),COLUMNS($BF$2:BG3))),"")} | BH3: {=IFERROR(INDEX(Déplacements!$C3:$L3,SMALL(IF(Déplacements!$C3:$L3=INT(INT(COLUMN()-3)/5)+1,COLUMN(Déplacements!$C3:$L3)-COLUMN(Déplacements!$C$2)),COLUMNS($BF$2:BH3))),"")} | BI3: {=IFERROR(INDEX(Déplacements!$C3:$L3,SMALL(IF(Déplacements!$C3:$L3=INT(INT(COLUMN()-3)/5)+1,COLUMN(Déplacements!$C3:$L3)-COLUMN(Déplacements!$C$2)),COLUMNS($BF$2:BI3))),"")} | BJ3: {=IFERROR(INDEX(Déplacements!$C3:$L3,SMALL(IF(Déplacements!$C3:$L3=INT(INT(COLUMN()-3)/5)+1,COLUMN(Déplacements!$C3:$L3)-COLUMN(Déplacements!$C$2)),COLUMNS($BF$2:BJ3))),"")}
A4: =Déplacements!A4 -> 3 | B4: =Déplacements!B4 -> b | C4: {=IFERROR(INDEX(Déplacements!$C4:$L4,SMALL(IF(Déplacements!$C4:$L4=INT(INT(COLUMN()-3)/5)+1,COLUMN(Déplacements!$C4:$L4)-COLUMN(Déplacements!$C$2)),COLUMNS($C$2:C4))),"")} | D4: {=IFERROR(INDEX(Déplacements!$C4:$L4,SMALL(IF(Déplacements!$C4:$L4=INT(INT(COLUMN()-3)/5)+1,COLUMN(Déplacements!$C4:$L4)-COLUMN(Déplacements!$C$2)),COLUMNS($C$2:D4))),"")} | E4: {=IFERROR(INDEX(Déplacements!$C4:$L4,SMALL(IF(Déplacements!$C4:$L4=INT(INT(COLUMN()-3)/5)+1,COLUMN(Déplacements!$C4:$L4)-COLUMN(Déplacements!$C$2)),COLUMNS($C$2:E4))),"")} | F4: {=IFERROR(INDEX(Déplacements!$C4:$L4,SMALL(IF(Déplacements!$C4:$L4=INT(INT(COLUMN()-3)/5)+1,COLUMN(Déplacements!$C4:$L4)-COLUMN(Déplacements!$C$2)),COLUMNS($C$2:F4))),"")} | G4: {=IFERROR(INDEX(Déplacements!$C4:$L4,SMALL(IF(Déplacements!$C4:$L4=INT(INT(COLUMN()-3)/5)+1,COLUMN(Déplacements!$C4:$L4)-COLUMN(Déplacements!$C$2)),COLUMNS($C$2:G4))),"")} | H4: {=IFERROR(INDEX(Déplacements!$C4:$L4,SMALL(IF(Déplacements!$C4:$L4=INT(INT(COLUMN()-3)/5)+1,COLUMN(Déplacements!$C4:$L4)-COLUMN(Déplacements!$C$2)),COLUMNS($H$2:H4))),"")} -> ROUEN | I4: {=IFERROR(INDEX(Déplacements!$C4:$L4,SMALL(IF(Déplacements!$C4:$L4=INT(INT(COLUMN()-3)/5)+1,COLUMN(Déplacements!$C4:$L4)-COLUMN(Déplacements!$C$2)),COLUMNS($H$2:I4))),"")} | J4: {=IFERROR(INDEX(Déplacements!$C4:$L4,SMALL(IF(Déplacements!$C4:$L4=INT(INT(COLUMN()-3)/5)+1,COLUMN(Déplacements!$C4:$L4)-COLUMN(Déplacements!$C$2)),COLUMNS($H$2:J4))),"")} | K4: {=IFERROR(INDEX(Déplacements!$C4:$L4,SMALL(IF(Déplacements!$C4:$L4=INT(INT(COLUMN()-3)/5)+1,COLUMN(Déplacements!$C4:$L4)-COLUMN(Déplacements!$C$2)),COLUMNS($H$2:K4))),"")} | L4: {=IFERROR(INDEX(Déplacements!$C4:$L4,SMALL(IF(Déplacements!$C4:$L4=INT(INT(COLUMN()-3)/5)+1,COLUMN(Déplacements!$C4:$L4)-COLUMN(Déplacements!$C$2)),COLUMNS($H$2:L4))),"")} | M4: {=IFERROR(INDEX(Déplacements!$C4:$L4,SMALL(IF(Déplacements!$C4:$L4=INT(INT(COLUMN()-3)/5)+1,COLUMN(Déplacements!$C4:$L4)-COLUMN(Déplacements!$C$2)),COLUMNS($M$2:M4))),"")} | N4: {=IFERROR(INDEX(Déplacements!$C4:$L4,SMALL(IF(Déplacements!$C4:$L4=INT(INT(COLUMN()-3)/5)+1,COLUMN(Déplacements!$C4:$L4)-COLUMN(Déplacements!$C$2)),COLUMNS($M$2:N4))),"")} | O4: {=IFERROR(INDEX(Déplacements!$C4:$L4,SMALL(IF(Déplacements!$C4:$L4=INT(INT(COLUMN()-3)/5)+1,COLUMN(Déplacements!$C4:$L4)-COLUMN(Déplacements!$C$2)),COLUMNS($M$2:O4))),"")} | P4: {=IFERROR(INDEX(Déplacements!$C4:$L4,SMALL(IF(Déplacements!$C4:$L4=INT(INT(COLUMN()-3)/5)+1,COLUMN(Déplacements!$C4:$L4)-COLUMN(Déplacements!$C$2)),COLUMNS($M$2:P4))),"")} | Q4: {=IFERROR(INDEX(Déplacements!$C4:$L4,SMALL(IF(Déplacements!$C4:$L4=INT(INT(COLUMN()-3)/5)+1,COLUMN(Déplacements!$C4:$L4)-COLUMN(Déplacements!$C$2)),COLUMNS($M$2:Q4))),"")} | R4: {=IFERROR(INDEX(Déplacements!$C4:$L4,SMALL(IF(Déplacements!$C4:$L4=INT(INT(COLUMN()-3)/5)+1,COLUMN(Déplacements!$C4:$L4)-COLUMN(Déplacements!$C$2)),COLUMNS($R$2:R4))),"")} | S4: {=IFERROR(INDEX(Déplacements!$C4:$L4,SMALL(IF(Déplacements!$C4:$L4=INT(INT(COLUMN()-3)/5)+1,COLUMN(Déplacements!$C4:$L4)-COLUMN(Déplacements!$C$2)),COLUMNS($R$2:S4))),"")} | T4: {=IFERROR(INDEX(Déplacements!$C4:$L4,SMALL(IF(Déplacements!$C4:$L4=INT(INT(COLUMN()-3)/5)+1,COLUMN(Déplacements!$C4:$L4)-COLUMN(Déplacements!$C$2)),COLUMNS($R$2:T4))),"")} | U4: {=IFERROR(INDEX(Déplacements!$C4:$L4,SMALL(IF(Déplacements!$C4:$L4=INT(INT(COLUMN()-3)/5)+1,COLUMN(Déplacements!$C4:$L4)-COLUMN(Déplacements!$C$2)),COLUMNS($R$2:U4))),"")} | V4: {=IFERROR(INDEX(Déplacements!$C4:$L4,SMALL(IF(Déplacements!$C4:$L4=INT(INT(COLUMN()-3)/5)+1,COLUMN(Déplacements!$C4:$L4)-COLUMN(Déplacements!$C$2)),COLUMNS($R$2:V4))),"")} | W4: {=IFERROR(INDEX(Déplacements!$C4:$L4,SMALL(IF(Déplacements!$C4:$L4=INT(INT(COLUMN()-3)/5)+1,COLUMN(Déplacements!$C4:$L4)-COLUMN(Déplacements!$C$2)),COLUMNS($W$2:W4))),"")} | X4: {=IFERROR(INDEX(Déplacements!$C4:$L4,SMALL(IF(Déplacements!$C4:$L4=INT(INT(COLUMN()-3)/5)+1,COLUMN(Déplacements!$C4:$L4)-COLUMN(Déplacements!$C$2)),COLUMNS($W$2:X4))),"")} | Y4: {=IFERROR(INDEX(Déplacements!$C4:$L4,SMALL(IF(Déplacements!$C4:$L4=INT(INT(COLUMN()-3)/5)+1,COLUMN(Déplacements!$C4:$L4)-COLUMN(Déplacements!$C$2)),COLUMNS($W$2:Y4))),"")} | Z4: {=IFERROR(INDEX(Déplacements!$C4:$L4,SMALL(IF(Déplacements!$C4:$L4=INT(INT(COLUMN()-3)/5)+1,COLUMN(Déplacements!$C4:$L4)-COLUMN(Déplacements!$C$2)),COLUMNS($W$2:Z4))),"")} | AA4: {=IFERROR(INDEX(Déplacements!$C4:$L4,SMALL(IF(Déplacements!$C4:$L4=INT(INT(COLUMN()-3)/5)+1,COLUMN(Déplacements!$C4:$L4)-COLUMN(Déplacements!$C$2)),COLUMNS($W$2:AA4))),"")} | AB4: {=IFERROR(INDEX(Déplacements!$C4:$L4,SMALL(IF(Déplacements!$C4:$L4=INT(INT(COLUMN()-3)/5)+1,COLUMN(Déplacements!$C4:$L4)-COLUMN(Déplacements!$C$2)),COLUMNS($AB$2:AB4))),"")} | AC4: {=IFERROR(INDEX(Déplacements!$C4:$L4,SMALL(IF(Déplacements!$C4:$L4=INT(INT(COLUMN()-3)/5)+1,COLUMN(Déplacements!$C4:$L4)-COLUMN(Déplacements!$C$2)),COLUMNS($AB$2:AC4))),"")} | AD4: {=IFERROR(INDEX(Déplacements!$C4:$L4,SMALL(IF(Déplacements!$C4:$L4=INT(INT(COLUMN()-3)/5)+1,COLUMN(Déplacements!$C4:$L4)-COLUMN(Déplacements!$C$2)),COLUMNS($AB$2:AD4))),"")} | AE4: {=IFERROR(INDEX(Déplacements!$C4:$L4,SMALL(IF(Déplacements!$C4:$L4=INT(INT(COLUMN()-3)/5)+1,COLUMN(Déplacements!$C4:$L4)-COLUMN(Déplacements!$C$2)),COLUMNS($AB$2:AE4))),"")} | AF4: {=IFERROR(INDEX(Déplacements!$C4:$L4,SMALL(IF(Déplacements!$C4:$L4=INT(INT(COLUMN()-3)/5)+1,COLUMN(Déplacements!$C4:$L4)-COLUMN(Déplacements!$C$2)),COLUMNS($AB$2:AF4))),"")} | AG4: {=IFERROR(INDEX(Déplacements!$C4:$L4,SMALL(IF(Déplacements!$C4:$L4=INT(INT(COLUMN()-3)/5)+1,COLUMN(Déplacements!$C4:$L4)-COLUMN(Déplacements!$C$2)),COLUMNS($AG$2:AG4))),"")} | AH4: {=IFERROR(INDEX(Déplacements!$C4:$L4,SMALL(IF(Déplacements!$C4:$L4=INT(INT(COLUMN()-3)/5)+1,COLUMN(Déplacements!$C4:$L4)-COLUMN(Déplacements!$C$2)),COLUMNS($AG$2:AH4))),"")} | AI4: {=IFERROR(INDEX(Déplacements!$C4:$L4,SMALL(IF(Déplacements!$C4:$L4=INT(INT(COLUMN()-3)/5)+1,COLUMN(Déplacements!$C4:$L4)-COLUMN(Déplacements!$C$2)),COLUMNS($AG$2:AI4))),"")} | AJ4: {=IFERROR(INDEX(Déplacements!$C4:$L4,SMALL(IF(Déplacements!$C4:$L4=INT(INT(COLUMN()-3)/5)+1,COLUMN(Déplacements!$C4:$L4)-COLUMN(Déplacements!$C$2)),COLUMNS($AG$2:AJ4))),"")} | AK4: {=IFERROR(INDEX(Déplacements!$C4:$L4,SMALL(IF(Déplacements!$C4:$L4=INT(INT(COLUMN()-3)/5)+1,COLUMN(Déplacements!$C4:$L4)-COLUMN(Déplacements!$C$2)),COLUMNS($AG$2:AK4))),"")} | AL4: {=IFERROR(INDEX(Déplacements!$C4:$L4,SMALL(IF(Déplacements!$C4:$L4=INT(INT(COLUMN()-3)/5)+1,COLUMN(Déplacements!$C4:$L4)-COLUMN(Déplacements!$C$2)),COLUMNS($AL$2:AL4))),"")} | AM4: {=IFERROR(INDEX(Déplacements!$C4:$L4,SMALL(IF(Déplacements!$C4:$L4=INT(INT(COLUMN()-3)/5)+1,COLUMN(Déplacements!$C4:$L4)-COLUMN(Déplacements!$C$2)),COLUMNS($AL$2:AM4))),"")} | AN4: {=IFERROR(INDEX(Déplacements!$C4:$L4,SMALL(IF(Déplacements!$C4:$L4=INT(INT(COLUMN()-3)/5)+1,COLUMN(Déplacements!$C4:$L4)-COLUMN(Déplacements!$C$2)),COLUMNS($AL$2:AN4))),"")} | AO4: {=IFERROR(INDEX(Déplacements!$C4:$L4,SMALL(IF(Déplacements!$C4:$L4=INT(INT(COLUMN()-3)/5)+1,COLUMN(Déplacements!$C4:$L4)-COLUMN(Déplacements!$C$2)),COLUMNS($AL$2:AO4))),"")} | AP4: {=IFERROR(INDEX(Déplacements!$C4:$L4,SMALL(IF(Déplacements!$C4:$L4=INT(INT(COLUMN()-3)/5)+1,COLUMN(Déplacements!$C4:$L4)-COLUMN(Déplacements!$C$2)),COLUMNS($AL$2:AP4))),"")} | AQ4: {=IFERROR(INDEX(Déplacements!$C4:$L4,SMALL(IF(Déplacements!$C4:$L4=INT(INT(COLUMN()-3)/5)+1,COLUMN(Déplacements!$C4:$L4)-COLUMN(Déplacements!$C$2)),COLUMNS($AQ$2:AQ4))),"")} | AR4: {=IFERROR(INDEX(Déplacements!$C4:$L4,SMALL(IF(Déplacements!$C4:$L4=INT(INT(COLUMN()-3)/5)+1,COLUMN(Déplacements!$C4:$L4)-COLUMN(Déplacements!$C$2)),COLUMNS($AQ$2:AR4))),"")} | AS4: {=IFERROR(INDEX(Déplacements!$C4:$L4,SMALL(IF(Déplacements!$C4:$L4=INT(INT(COLUMN()-3)/5)+1,COLUMN(Déplacements!$C4:$L4)-COLUMN(Déplacements!$C$2)),COLUMNS($AQ$2:AS4))),"")} | AT4: {=IFERROR(INDEX(Déplacements!$C4:$L4,SMALL(IF(Déplacements!$C4:$L4=INT(INT(COLUMN()-3)/5)+1,COLUMN(Déplacements!$C4:$L4)-COLUMN(Déplacements!$C$2)),COLUMNS($AQ$2:AT4))),"")} | AU4: {=IFERROR(INDEX(Déplacements!$C4:$L4,SMALL(IF(Déplacements!$C4:$L4=INT(INT(COLUMN()-3)/5)+1,COLUMN(Déplacements!$C4:$L4)-COLUMN(Déplacements!$C$2)),COLUMNS($AQ$2:AU4))),"")} | AV4: {=IFERROR(INDEX(Déplacements!$C4:$L4,SMALL(IF(Déplacements!$C4:$L4=INT(INT(COLUMN()-3)/5)+1,COLUMN(Déplacements!$C4:$L4)-COLUMN(Déplacements!$C$2)),COLUMNS($AV$2:AV4))),"")} | AW4: {=IFERROR(INDEX(Déplacements!$C4:$L4,SMALL(IF(Déplacements!$C4:$L4=INT(INT(COLUMN()-3)/5)+1,COLUMN(Déplacements!$C4:$L4)-COLUMN(Déplacements!$C$2)),COLUMNS($AV$2:AW4))),"")} | AX4: {=IFERROR(INDEX(Déplacements!$C4:$L4,SMALL(IF(Déplacements!$C4:$L4=INT(INT(COLUMN()-3)/5)+1,COLUMN(Déplacements!$C4:$L4)-COLUMN(Déplacements!$C$2)),COLUMNS($AV$2:AX4))),"")} | AY4: {=IFERROR(INDEX(Déplacements!$C4:$L4,SMALL(IF(Déplacements!$C4:$L4=INT(INT(COLUMN()-3)/5)+1,COLUMN(Déplacements!$C4:$L4)-COLUMN(Déplacements!$C$2)),COLUMNS($AV$2:AY4))),"")} | AZ4: {=IFERROR(INDEX(Déplacements!$C4:$L4,SMALL(IF(Déplacements!$C4:$L4=INT(INT(COLUMN()-3)/5)+1,COLUMN(Déplacements!$C4:$L4)-COLUMN(Déplacements!$C$2)),COLUMNS($AV$2:AZ4))),"")} | BA4: {=IFERROR(INDEX(Déplacements!$C4:$L4,SMALL(IF(Déplacements!$C4:$L4=INT(INT(COLUMN()-3)/5)+1,COLUMN(Déplacements!$C4:$L4)-COLUMN(Déplacements!$C$2)),COLUMNS($BA$2:BA4))),"")} | BB4: {=IFERROR(INDEX(Déplacements!$C4:$L4,SMALL(IF(Déplacements!$C4:$L4=INT(INT(COLUMN()-3)/5)+1,COLUMN(Déplacements!$C4:$L4)-COLUMN(Déplacements!$C$2)),COLUMNS($BA$2:BB4))),"")} | BC4: {=IFERROR(INDEX(Déplacements!$C4:$L4,SMALL(IF(Déplacements!$C4:$L4=INT(INT(COLUMN()-3)/5)+1,COLUMN(Déplacements!$C4:$L4)-COLUMN(Déplacements!$C$2)),COLUMNS($BA$2:BC4))),"")} | BD4: {=IFERROR(INDEX(Déplacements!$C4:$L4,SMALL(IF(Déplacements!$C4:$L4=INT(INT(COLUMN()-3)/5)+1,COLUMN(Déplacements!$C4:$L4)-COLUMN(Déplacements!$C$2)),COLUMNS($BA$2:BD4))),"")} | BE4: {=IFERROR(INDEX(Déplacements!$C4:$L4,SMALL(IF(Déplacements!$C4:$L4=INT(INT(COLUMN()-3)/5)+1,COLUMN(Déplacements!$C4:$L4)-COLUMN(Déplacements!$C$2)),COLUMNS($BA$2:BE4))),"")} | BF4: {=IFERROR(INDEX(Déplacements!$C4:$L4,SMALL(IF(Déplacements!$C4:$L4=INT(INT(COLUMN()-3)/5)+1,COLUMN(Déplacements!$C4:$L4)-COLUMN(Déplacements!$C$2)),COLUMNS($BF$2:BF4))),"")} | BG4: {=IFERROR(INDEX(Déplacements!$C4:$L4,SMALL(IF(Déplacements!$C4:$L4=INT(INT(COLUMN()-3)/5)+1,COLUMN(Déplacements!$C4:$L4)-COLUMN(Déplacements!$C$2)),COLUMNS($BF$2:BG4))),"")} | BH4: {=IFERROR(INDEX(Déplacements!$C4:$L4,SMALL(IF(Déplacements!$C4:$L4=INT(INT(COLUMN()-3)/5)+1,COLUMN(Déplacements!$C4:$L4)-COLUMN(Déplacements!$C$2)),COLUMNS($BF$2:BH4))),"")} | BI4: {=IFERROR(INDEX(Déplacements!$C4:$L4,SMALL(IF(Déplacements!$C4:$L4=INT(INT(COLUMN()-3)/5)+1,COLUMN(Déplacements!$C4:$L4)-COLUMN(Déplacements!$C$2)),COLUMNS($BF$2:BI4))),"")} | BJ4: {=IFERROR(INDEX(Déplacements!$C4:$L4,SMALL(IF(Déplacements!$C4:$L4=INT(INT(COLUMN()-3)/5)+1,COLUMN(Déplacements!$C4:$L4)-COLUMN(Déplacements!$C$2)),COLUMNS($BF$2:BJ4))),"")}
A5: =Déplacements!A5 -> 4 | B5: =Déplacements!B5 -> d | C5: {=IFERROR(INDEX(Déplacements!$C5:$L5,SMALL(IF(Déplacements!$C5:$L5=INT(INT(COLUMN()-3)/5)+1,COLUMN(Déplacements!$C5:$L5)-COLUMN(Déplacements!$C$2)),COLUMNS($C$2:C5))),"")} -> FLERS | D5: {=IFERROR(INDEX(Déplacements!$C5:$L5,SMALL(IF(Déplacements!$C5:$L5=INT(INT(COLUMN()-3)/5)+1,COLUMN(Déplacements!$C5:$L5)-COLUMN(Déplacements!$C$2)),COLUMNS($C$2:D5))),"")} -> ST GEORGES | E5: {=IFERROR(INDEX(Déplacements!$C5:$L5,SMALL(IF(Déplacements!$C5:$L5=INT(INT(COLUMN()-3)/5)+1,COLUMN(Déplacements!$C5:$L5)-COLUMN(Déplacements!$C$2)),COLUMNS($C$2:E5))),"")} | F5: {=IFERROR(INDEX(Déplacements!$C5:$L5,SMALL(IF(Déplacements!$C5:$L5=INT(INT(COLUMN()-3)/5)+1,COLUMN(Déplacements!$C5:$L5)-COLUMN(Déplacements!$C$2)),COLUMNS($C$2:F5))),"")} | G5: {=IFERROR(INDEX(Déplacements!$C5:$L5,SMALL(IF(Déplacements!$C5:$L5=INT(INT(COLUMN()-3)/5)+1,COLUMN(Déplacements!$C5:$L5)-COLUMN(Déplacements!$C$2)),COLUMNS($C$2:G5))),"")} | H5: {=IFERROR(INDEX(Déplacements!$C5:$L5,SMALL(IF(Déplacements!$C5:$L5=INT(INT(COLUMN()-3)/5)+1,COLUMN(Déplacements!$C5:$L5)-COLUMN(Déplacements!$C$2)),COLUMNS($H$2:H5))),"")} | I5: {=IFERROR(INDEX(Déplacements!$C5:$L5,SMALL(IF(Déplacements!$C5:$L5=INT(INT(COLUMN()-3)/5)+1,COLUMN(Déplacements!$C5:$L5)-COLUMN(Déplacements!$C$2)),COLUMNS($H$2:I5))),"")} | J5: {=IFERROR(INDEX(Déplacements!$C5:$L5,SMALL(IF(Déplacements!$C5:$L5=INT(INT(COLUMN()-3)/5)+1,COLUMN(Déplacements!$C5:$L5)-COLUMN(Déplacements!$C$2)),COLUMNS($H$2:J5))),"")} | K5: {=IFERROR(INDEX(Déplacements!$C5:$L5,SMALL(IF(Déplacements!$C5:$L5=INT(INT(COLUMN()-3)/5)+1,COLUMN(Déplacements!$C5:$L5)-COLUMN(Déplacements!$C$2)),COLUMNS($H$2:K5))),"")} | L5: {=IFERROR(INDEX(Déplacements!$C5:$L5,SMALL(IF(Déplacements!$C5:$L5=INT(INT(COLUMN()-3)/5)+1,COLUMN(Déplacements!$C5:$L5)-COLUMN(Déplacements!$C$2)),COLUMNS($H$2:L5))),"")} | M5: {=IFERROR(INDEX(Déplacements!$C5:$L5,SMALL(IF(Déplacements!$C5:$L5=INT(INT(COLUMN()-3)/5)+1,COLUMN(Déplacements!$C5:$L5)-COLUMN(Déplacements!$C$2)),COLUMNS($M$2:M5))),"")} -> CONDE | N5: {=IFERROR(INDEX(Déplacements!$C5:$L5,SMALL(IF(Déplacements!$C5:$L5=INT(INT(COLUMN()-3)/5)+1,COLUMN(Déplacements!$C5:$L5)-COLUMN(Déplacements!$C$2)),COLUMNS($M$2:N5))),"")} | O5: {=IFERROR(INDEX(Déplacements!$C5:$L5,SMALL(IF(Déplacements!$C5:$L5=INT(INT(COLUMN()-3)/5)+1,COLUMN(Déplacements!$C5:$L5)-COLUMN(Déplacements!$C$2)),COLUMNS($M$2:O5))),"")} | P5: {=IFERROR(INDEX(Déplacements!$C5:$L5,SMALL(IF(Déplacements!$C5:$L5=INT(INT(COLUMN()-3)/5)+1,COLUMN(Déplacements!$C5:$L5)-COLUMN(Déplacements!$C$2)),COLUMNS($M$2:P5))),"")} | Q5: {=IFERROR(INDEX(Déplacements!$C5:$L5,SMALL(IF(Déplacements!$C5:$L5=INT(INT(COLUMN()-3)/5)+1,COLUMN(Déplacements!$C5:$L5)-COLUMN(Déplacements!$C$2)),COLUMNS($M$2:Q5))),"")} | R5: {=IFERROR(INDEX(Déplacements!$C5:$L5,SMALL(IF(Déplacements!$C5:$L5=INT(INT(COLUMN()-3)/5)+1,COLUMN(Déplacements!$C5:$L5)-COLUMN(Déplacements!$C$2)),COLUMNS($R$2:R5))),"")} | S5: {=IFERROR(INDEX(Déplacements!$C5:$L5,SMALL(IF(Déplacements!$C5:$L5=INT(INT(COLUMN()-3)/5)+1,COLUMN(Déplacements!$C5:$L5)-COLUMN(Déplacements!$C$2)),COLUMNS($R$2:S5))),"")} | T5: {=IFERROR(INDEX(Déplacements!$C5:$L5,SMALL(IF(Déplacements!$C5:$L5=INT(INT(COLUMN()-3)/5)+1,COLUMN(Déplacements!$C5:$L5)-COLUMN(Déplacements!$C$2)),COLUMNS($R$2:T5))),"")} | U5: {=IFERROR(INDEX(Déplacements!$C5:$L5,SMALL(IF(Déplacements!$C5:$L5=INT(INT(COLUMN()-3)/5)+1,COLUMN(Déplacements!$C5:$L5)-COLUMN(Déplacements!$C$2)),COLUMNS($R$2:U5))),"")} | V5: {=IFERROR(INDEX(Déplacements!$C5:$L5,SMALL(IF(Déplacements!$C5:$L5=INT(INT(COLUMN()-3)/5)+1,COLUMN(Déplacements!$C5:$L5)-COLUMN(Déplacements!$C$2)),COLUMNS($R$2:V5))),"")} | W5: {=IFERROR(INDEX(Déplacements!$C5:$L5,SMALL(IF(Déplacements!$C5:$L5=INT(INT(COLUMN()-3)/5)+1,COLUMN(Déplacements!$C5:$L5)-COLUMN(Déplacements!$C$2)),COLUMNS($W$2:W5))),"")} | X5: {=IFERROR(INDEX(Déplacements!$C5:$L5,SMALL(IF(Déplacements!$C5:$L5=INT(INT(COLUMN()-3)/5)+1,COLUMN(Déplacements!$C5:$L5)-COLUMN(Déplacements!$C$2)),COLUMNS($W$2:X5))),"")} | Y5: {=IFERROR(INDEX(Déplacements!$C5:$L5,SMALL(IF(Déplacements!$C5:$L5=INT(INT(COLUMN()-3)/5)+1,COLUMN(Déplacements!$C5:$L5)-COLUMN(Déplacements!$C$2)),COLUMNS($W$2:Y5))),"")} | Z5: {=IFERROR(INDEX(Déplacements!$C5:$L5,SMALL(IF(Déplacements!$C5:$L5=INT(INT(COLUMN()-3)/5)+1,COLUMN(Déplacements!$C5:$L5)-COLUMN(Déplacements!$C$2)),COLUMNS($W$2:Z5))),"")} | AA5: {=IFERROR(INDEX(Déplacements!$C5:$L5,SMALL(IF(Déplacements!$C5:$L5=INT(INT(COLUMN()-3)/5)+1,COLUMN(Déplacements!$C5:$L5)-COLUMN(Déplacements!$C$2)),COLUMNS($W$2:AA5))),"")} | AB5: {=IFERROR(INDEX(Déplacements!$C5:$L5,SMALL(IF(Déplacements!$C5:$L5=INT(INT(COLUMN()-3)/5)+1,COLUMN(Déplacements!$C5:$L5)-COLUMN(Déplacements!$C$2)),COLUMNS($AB$2:AB5))),"")} | AC5: {=IFERROR(INDEX(Déplacements!$C5:$L5,SMALL(IF(Déplacements!$C5:$L5=INT(INT(COLUMN()-3)/5)+1,COLUMN(Déplacements!$C5:$L5)-COLUMN(Déplacements!$C$2)),COLUMNS($AB$2:AC5))),"")} | AD5: {=IFERROR(INDEX(Déplacements!$C5:$L5,SMALL(IF(Déplacements!$C5:$L5=INT(INT(COLUMN()-3)/5)+1,COLUMN(Déplacements!$C5:$L5)-COLUMN(Déplacements!$C$2)),COLUMNS($AB$2:AD5))),"")} | AE5: {=IFERROR(INDEX(Déplacements!$C5:$L5,SMALL(IF(Déplacements!$C5:$L5=INT(INT(COLUMN()-3)/5)+1,COLUMN(Déplacements!$C5:$L5)-COLUMN(Déplacements!$C$2)),COLUMNS($AB$2:AE5))),"")} | AF5: {=IFERROR(INDEX(Déplacements!$C5:$L5,SMALL(IF(Déplacements!$C5:$L5=INT(INT(COLUMN()-3)/5)+1,COLUMN(Déplacements!$C5:$L5)-COLUMN(Déplacements!$C$2)),COLUMNS($AB$2:AF5))),"")} | AG5: {=IFERROR(INDEX(Déplacements!$C5:$L5,SMALL(IF(Déplacements!$C5:$L5=INT(INT(COLUMN()-3)/5)+1,COLUMN(Déplacements!$C5:$L5)-COLUMN(Déplacements!$C$2)),COLUMNS($AG$2:AG5))),"")} | AH5: {=IFERROR(INDEX(Déplacements!$C5:$L5,SMALL(IF(Déplacements!$C5:$L5=INT(INT(COLUMN()-3)/5)+1,COLUMN(Déplacements!$C5:$L5)-COLUMN(Déplacements!$C$2)),COLUMNS($AG$2:AH5))),"")} | AI5: {=IFERROR(INDEX(Déplacements!$C5:$L5,SMALL(IF(Déplacements!$C5:$L5=INT(INT(COLUMN()-3)/5)+1,COLUMN(Déplacements!$C5:$L5)-COLUMN(Déplacements!$C$2)),COLUMNS($AG$2:AI5))),"")} | AJ5: {=IFERROR(INDEX(Déplacements!$C5:$L5,SMALL(IF(Déplacements!$C5:$L5=INT(INT(COLUMN()-3)/5)+1,COLUMN(Déplacements!$C5:$L5)-COLUMN(Déplacements!$C$2)),COLUMNS($AG$2:AJ5))),"")} | AK5: {=IFERROR(INDEX(Déplacements!$C5:$L5,SMALL(IF(Déplacements!$C5:$L5=INT(INT(COLUMN()-3)/5)+1,COLUMN(Déplacements!$C5:$L5)-COLUMN(Déplacements!$C$2)),COLUMNS($AG$2:AK5))),"")} | AL5: {=IFERROR(INDEX(Déplacements!$C5:$L5,SMALL(IF(Déplacements!$C5:$L5=INT(INT(COLUMN()-3)/5)+1,COLUMN(Déplacements!$C5:$L5)-COLUMN(Déplacements!$C$2)),COLUMNS($AL$2:AL5))),"")} | AM5: {=IFERROR(INDEX(Déplacements!$C5:$L5,SMALL(IF(Déplacements!$C5:$L5=INT(INT(COLUMN()-3)/5)+1,COLUMN(Déplacements!$C5:$L5)-COLUMN(Déplacements!$C$2)),COLUMNS($AL$2:AM5))),"")} | AN5: {=IFERROR(INDEX(Déplacements!$C5:$L5,SMALL(IF(Déplacements!$C5:$L5=INT(INT(COLUMN()-3)/5)+1,COLUMN(Déplacements!$C5:$L5)-COLUMN(Déplacements!$C$2)),COLUMNS($AL$2:AN5))),"")} | AO5: {=IFERROR(INDEX(Déplacements!$C5:$L5,SMALL(IF(Déplacements!$C5:$L5=INT(INT(COLUMN()-3)/5)+1,COLUMN(Déplacements!$C5:$L5)-COLUMN(Déplacements!$C$2)),COLUMNS($AL$2:AO5))),"")} | AP5: {=IFERROR(INDEX(Déplacements!$C5:$L5,SMALL(IF(Déplacements!$C5:$L5=INT(INT(COLUMN()-3)/5)+1,COLUMN(Déplacements!$C5:$L5)-COLUMN(Déplacements!$C$2)),COLUMNS($AL$2:AP5))),"")} | AQ5: {=IFERROR(INDEX(Déplacements!$C5:$L5,SMALL(IF(Déplacements!$C5:$L5=INT(INT(COLUMN()-3)/5)+1,COLUMN(Déplacements!$C5:$L5)-COLUMN(Déplacements!$C$2)),COLUMNS($AQ$2:AQ5))),"")} | AR5: {=IFERROR(INDEX(Déplacements!$C5:$L5,SMALL(IF(Déplacements!$C5:$L5=INT(INT(COLUMN()-3)/5)+1,COLUMN(Déplacements!$C5:$L5)-COLUMN(Déplacements!$C$2)),COLUMNS($AQ$2:AR5))),"")} | AS5: {=IFERROR(INDEX(Déplacements!$C5:$L5,SMALL(IF(Déplacements!$C5:$L5=INT(INT(COLUMN()-3)/5)+1,COLUMN(Déplacements!$C5:$L5)-COLUMN(Déplacements!$C$2)),COLUMNS($AQ$2:AS5))),"")} | AT5: {=IFERROR(INDEX(Déplacements!$C5:$L5,SMALL(IF(Déplacements!$C5:$L5=INT(INT(COLUMN()-3)/5)+1,COLUMN(Déplacements!$C5:$L5)-COLUMN(Déplacements!$C$2)),COLUMNS($AQ$2:AT5))),"")} | AU5: {=IFERROR(INDEX(Déplacements!$C5:$L5,SMALL(IF(Déplacements!$C5:$L5=INT(INT(COLUMN()-3)/5)+1,COLUMN(Déplacements!$C5:$L5)-COLUMN(Déplacements!$C$2)),COLUMNS($AQ$2:AU5))),"")} | AV5: {=IFERROR(INDEX(Déplacements!$C5:$L5,SMALL(IF(Déplacements!$C5:$L5=INT(INT(COLUMN()-3)/5)+1,COLUMN(Déplacements!$C5:$L5)-COLUMN(Déplacements!$C$2)),COLUMNS($AV$2:AV5))),"")} | AW5: {=IFERROR(INDEX(Déplacements!$C5:$L5,SMALL(IF(Déplacements!$C5:$L5=INT(INT(COLUMN()-3)/5)+1,COLUMN(Déplacements!$C5:$L5)-COLUMN(Déplacements!$C$2)),COLUMNS($AV$2:AW5))),"")} | AX5: {=IFERROR(INDEX(Déplacements!$C5:$L5,SMALL(IF(Déplacements!$C5:$L5=INT(INT(COLUMN()-3)/5)+1,COLUMN(Déplacements!$C5:$L5)-COLUMN(Déplacements!$C$2)),COLUMNS($AV$2:AX5))),"")} | AY5: {=IFERROR(INDEX(Déplacements!$C5:$L5,SMALL(IF(Déplacements!$C5:$L5=INT(INT(COLUMN()-3)/5)+1,COLUMN(Déplacements!$C5:$L5)-COLUMN(Déplacements!$C$2)),COLUMNS($AV$2:AY5))),"")} | AZ5: {=IFERROR(INDEX(Déplacements!$C5:$L5,SMALL(IF(Déplacements!$C5:$L5=INT(INT(COLUMN()-3)/5)+1,COLUMN(Déplacements!$C5:$L5)-COLUMN(Déplacements!$C$2)),COLUMNS($AV$2:AZ5))),"")} | BA5: {=IFERROR(INDEX(Déplacements!$C5:$L5,SMALL(IF(Déplacements!$C5:$L5=INT(INT(COLUMN()-3)/5)+1,COLUMN(Déplacements!$C5:$L5)-COLUMN(Déplacements!$C$2)),COLUMNS($BA$2:BA5))),"")} | BB5: {=IFERROR(INDEX(Déplacements!$C5:$L5,SMALL(IF(Déplacements!$C5:$L5=INT(INT(COLUMN()-3)/5)+1,COLUMN(Déplacements!$C5:$L5)-COLUMN(Déplacements!$C$2)),COLUMNS($BA$2:BB5))),"")} | BC5: {=IFERROR(INDEX(Déplacements!$C5:$L5,SMALL(IF(Déplacements!$C5:$L5=INT(INT(COLUMN()-3)/5)+1,COLUMN(Déplacements!$C5:$L5)-COLUMN(Déplacements!$C$2)),COLUMNS($BA$2:BC5))),"")} | BD5: {=IFERROR(INDEX(Déplacements!$C5:$L5,SMALL(IF(Déplacements!$C5:$L5=INT(INT(COLUMN()-3)/5)+1,COLUMN(Déplacements!$C5:$L5)-COLUMN(Déplacements!$C$2)),COLUMNS($BA$2:BD5))),"")} | BE5: {=IFERROR(INDEX(Déplacements!$C5:$L5,SMALL(IF(Déplacements!$C5:$L5=INT(INT(COLUMN()-3)/5)+1,COLUMN(Déplacements!$C5:$L5)-COLUMN(Déplacements!$C$2)),COLUMNS($BA$2:BE5))),"")} | BF5: {=IFERROR(INDEX(Déplacements!$C5:$L5,SMALL(IF(Déplacements!$C5:$L5=INT(INT(COLUMN()-3)/5)+1,COLUMN(Déplacements!$C5:$L5)-COLUMN(Déplacements!$C$2)),COLUMNS($BF$2:BF5))),"")} | BG5: {=IFERROR(INDEX(Déplacements!$C5:$L5,SMALL(IF(Déplacements!$C5:$L5=INT(INT(COLUMN()-3)/5)+1,COLUMN(Déplacements!$C5:$L5)-COLUMN(Déplacements!$C$2)),COLUMNS($BF$2:BG5))),"")} | BH5: {=IFERROR(INDEX(Déplacements!$C5:$L5,SMALL(IF(Déplacements!$C5:$L5=INT(INT(COLUMN()-3)/5)+1,COLUMN(Déplacements!$C5:$L5)-COLUMN(Déplacements!$C$2)),COLUMNS($BF$2:BH5))),"")} | BI5: {=IFERROR(INDEX(Déplacements!$C5:$L5,SMALL(IF(Déplacements!$C5:$L5=INT(INT(COLUMN()-3)/5)+1,COLUMN(Déplacements!$C5:$L5)-COLUMN(Déplacements!$C$2)),COLUMNS($BF$2:BI5))),"")} | BJ5: {=IFERROR(INDEX(Déplacements!$C5:$L5,SMALL(IF(Déplacements!$C5:$L5=INT(INT(COLUMN()-3)/5)+1,COLUMN(Déplacements!$C5:$L5)-COLUMN(Déplacements!$C$2)),COLUMNS($BF$2:BJ5))),"")}
A6: =Déplacements!A6 -> 5 | B6: =Déplacements!B6 -> e | C6: {=IFERROR(INDEX(Déplacements!$C6:$L6,SMALL(IF(Déplacements!$C6:$L6=INT(INT(COLUMN()-3)/5)+1,COLUMN(Déplacements!$C6:$L6)-COLUMN(Déplacements!$C$2)),COLUMNS($C$2:C6))),"")} -> BREST | D6: {=IFERROR(INDEX(Déplacements!$C6:$L6,SMALL(IF(Déplacements!$C6:$L6=INT(INT(COLUMN()-3)/5)+1,COLUMN(Déplacements!$C6:$L6)-COLUMN(Déplacements!$C$2)),COLUMNS($C$2:D6))),"")} | E6: {=IFERROR(INDEX(Déplacements!$C6:$L6,SMALL(IF(Déplacements!$C6:$L6=INT(INT(COLUMN()-3)/5)+1,COLUMN(Déplacements!$C6:$L6)-COLUMN(Déplacements!$C$2)),COLUMNS($C$2:E6))),"")} | F6: {=IFERROR(INDEX(Déplacements!$C6:$L6,SMALL(IF(Déplacements!$C6:$L6=INT(INT(COLUMN()-3)/5)+1,COLUMN(Déplacements!$C6:$L6)-COLUMN(Déplacements!$C$2)),COLUMNS($C$2:F6))),"")} | G6: {=IFERROR(INDEX(Déplacements!$C6:$L6,SMALL(IF(Déplacements!$C6:$L6=INT(INT(COLUMN()-3)/5)+1,COLUMN(Déplacements!$C6:$L6)-COLUMN(Déplacements!$C$2)),COLUMNS($C$2:G6))),"")} | H6: {=IFERROR(INDEX(Déplacements!$C6:$L6,SMALL(IF(Déplacements!$C6:$L6=INT(INT(COLUMN()-3)/5)+1,COLUMN(Déplacements!$C6:$L6)-COLUMN(Déplacements!$C$2)),COLUMNS($H$2:H6))),"")} | I6: {=IFERROR(INDEX(Déplacements!$C6:$L6,SMALL(IF(Déplacements!$C6:$L6=INT(INT(COLUMN()-3)/5)+1,COLUMN(Déplacements!$C6:$L6)-COLUMN(Déplacements!$C$2)),COLUMNS($H$2:I6))),"")} | J6: {=IFERROR(INDEX(Déplacements!$C6:$L6,SMALL(IF(Déplacements!$C6:$L6=INT(INT(COLUMN()-3)/5)+1,COLUMN(Déplacements!$C6:$L6)-COLUMN(Déplacements!$C$2)),COLUMNS($H$2:J6))),"")} | K6: {=IFERROR(INDEX(Déplacements!$C6:$L6,SMALL(IF(Déplacements!$C6:$L6=INT(INT(COLUMN()-3)/5)+1,COLUMN(Déplacements!$C6:$L6)-COLUMN(Déplacements!$C$2)),COLUMNS($H$2:K6))),"")} | L6: {=IFERROR(INDEX(Déplacements!$C6:$L6,SMALL(IF(Déplacements!$C6:$L6=INT(INT(COLUMN()-3)/5)+1,COLUMN(Déplacements!$C6:$L6)-COLUMN(Déplacements!$C$2)),COLUMNS($H$2:L6))),"")} | M6: {=IFERROR(INDEX(Déplacements!$C6:$L6,SMALL(IF(Déplacements!$C6:$L6=INT(INT(COLUMN()-3)/5)+1,COLUMN(Déplacements!$C6:$L6)-COLUMN(Déplacements!$C$2)),COLUMNS($M$2:M6))),"")} | N6: {=IFERROR(INDEX(Déplacements!$C6:$L6,SMALL(IF(Déplacements!$C6:$L6=INT(INT(COLUMN()-3)/5)+1,COLUMN(Déplacements!$C6:$L6)-COLUMN(Déplacements!$C$2)),COLUMNS($M$2:N6))),"")} | O6: {=IFERROR(INDEX(Déplacements!$C6:$L6,SMALL(IF(Déplacements!$C6:$L6=INT(INT(COLUMN()-3)/5)+1,COLUMN(Déplacements!$C6:$L6)-COLUMN(Déplacements!$C$2)),COLUMNS($M$2:O6))),"")} | P6: {=IFERROR(INDEX(Déplacements!$C6:$L6,SMALL(IF(Déplacements!$C6:$L6=INT(INT(COLUMN()-3)/5)+1,COLUMN(Déplacements!$C6:$L6)-COLUMN(Déplacements!$C$2)),COLUMNS($M$2:P6))),"")} | Q6: {=IFERROR(INDEX(Déplacements!$C6:$L6,SMALL(IF(Déplacements!$C6:$L6=INT(INT(COLUMN()-3)/5)+1,COLUMN(Déplacements!$C6:$L6)-COLUMN(Déplacements!$C$2)),COLUMNS($M$2:Q6))),"")} | R6: {=IFERROR(INDEX(Déplacements!$C6:$L6,SMALL(IF(Déplacements!$C6:$L6=INT(INT(COLUMN()-3)/5)+1,COLUMN(Déplacements!$C6:$L6)-COLUMN(Déplacements!$C$2)),COLUMNS($R$2:R6))),"")} | S6: {=IFERROR(INDEX(Déplacements!$C6:$L6,SMALL(IF(Déplacements!$C6:$L6=INT(INT(COLUMN()-3)/5)+1,COLUMN(Déplacements!$C6:$L6)-COLUMN(Déplacements!$C$2)),COLUMNS($R$2:S6))),"")} | T6: {=IFERROR(INDEX(Déplacements!$C6:$L6,SMALL(IF(Déplacements!$C6:$L6=INT(INT(COLUMN()-3)/5)+1,COLUMN(Déplacements!$C6:$L6)-COLUMN(Déplacements!$C$2)),COLUMNS($R$2:T6))),"")} | U6: {=IFERROR(INDEX(Déplacements!$C6:$L6,SMALL(IF(Déplacements!$C6:$L6=INT(INT(COLUMN()-3)/5)+1,COLUMN(Déplacements!$C6:$L6)-COLUMN(Déplacements!$C$2)),COLUMNS($R$2:U6))),"")} | V6: {=IFERROR(INDEX(Déplacements!$C6:$L6,SMALL(IF(Déplacements!$C6:$L6=INT(INT(COLUMN()-3)/5)+1,COLUMN(Déplacements!$C6:$L6)-COLUMN(Déplacements!$C$2)),COLUMNS($R$2:V6))),"")} | W6: {=IFERROR(INDEX(Déplacements!$C6:$L6,SMALL(IF(Déplacements!$C6:$L6=INT(INT(COLUMN()-3)/5)+1,COLUMN(Déplacements!$C6:$L6)-COLUMN(Déplacements!$C$2)),COLUMNS($W$2:W6))),"")} | X6: {=IFERROR(INDEX(Déplacements!$C6:$L6,SMALL(IF(Déplacements!$C6:$L6=INT(INT(COLUMN()-3)/5)+1,COLUMN(Déplacements!$C6:$L6)-COLUMN(Déplacements!$C$2)),COLUMNS($W$2:X6))),"")} | Y6: {=IFERROR(INDEX(Déplacements!$C6:$L6,SMALL(IF(Déplacements!$C6:$L6=INT(INT(COLUMN()-3)/5)+1,COLUMN(Déplacements!$C6:$L6)-COLUMN(Déplacements!$C$2)),COLUMNS($W$2:Y6))),"")} | Z6: {=IFERROR(INDEX(Déplacements!$C6:$L6,SMALL(IF(Déplacements!$C6:$L6=INT(INT(COLUMN()-3)/5)+1,COLUMN(Déplacements!$C6:$L6)-COLUMN(Déplacements!$C$2)),COLUMNS($W$2:Z6))),"")} | AA6: {=IFERROR(INDEX(Déplacements!$C6:$L6,SMALL(IF(Déplacements!$C6:$L6=INT(INT(COLUMN()-3)/5)+1,COLUMN(Déplacements!$C6:$L6)-COLUMN(Déplacements!$C$2)),COLUMNS($W$2:AA6))),"")} | AB6: {=IFERROR(INDEX(Déplacements!$C6:$L6,SMALL(IF(Déplacements!$C6:$L6=INT(INT(COLUMN()-3)/5)+1,COLUMN(Déplacements!$C6:$L6)-COLUMN(Déplacements!$C$2)),COLUMNS($AB$2:AB6))),"")} | AC6: {=IFERROR(INDEX(Déplacements!$C6:$L6,SMALL(IF(Déplacements!$C6:$L6=INT(INT(COLUMN()-3)/5)+1,COLUMN(Déplacements!$C6:$L6)-COLUMN(Déplacements!$C$2)),COLUMNS($AB$2:AC6))),"")} | AD6: {=IFERROR(INDEX(Déplacements!$C6:$L6,SMALL(IF(Déplacements!$C6:$L6=INT(INT(COLUMN()-3)/5)+1,COLUMN(Déplacements!$C6:$L6)-COLUMN(Déplacements!$C$2)),COLUMNS($AB$2:AD6))),"")} | AE6: {=IFERROR(INDEX(Déplacements!$C6:$L6,SMALL(IF(Déplacements!$C6:$L6=INT(INT(COLUMN()-3)/5)+1,COLUMN(Déplacements!$C6:$L6)-COLUMN(Déplacements!$C$2)),COLUMNS($AB$2:AE6))),"")} | AF6: {=IFERROR(INDEX(Déplacements!$C6:$L6,SMALL(IF(Déplacements!$C6:$L6=INT(INT(COLUMN()-3)/5)+1,COLUMN(Déplacements!$C6:$L6)-COLUMN(Déplacements!$C$2)),COLUMNS($AB$2:AF6))),"")} | AG6: {=IFERROR(INDEX(Déplacements!$C6:$L6,SMALL(IF(Déplacements!$C6:$L6=INT(INT(COLUMN()-3)/5)+1,COLUMN(Déplacements!$C6:$L6)-COLUMN(Déplacements!$C$2)),COLUMNS($AG$2:AG6))),"")} | AH6: {=IFERROR(INDEX(Déplacements!$C6:$L6,SMALL(IF(Déplacements!$C6:$L6=INT(INT(COLUMN()-3)/5)+1,COLUMN(Déplacements!$C6:$L6)-COLUMN(Déplacements!$C$2)),COLUMNS($AG$2:AH6))),"")} | AI6: {=IFERROR(INDEX(Déplacements!$C6:$L6,SMALL(IF(Déplacements!$C6:$L6=INT(INT(COLUMN()-3)/5)+1,COLUMN(Déplacements!$C6:$L6)-COLUMN(Déplacements!$C$2)),COLUMNS($AG$2:AI6))),"")} | AJ6: {=IFERROR(INDEX(Déplacements!$C6:$L6,SMALL(IF(Déplacements!$C6:$L6=INT(INT(COLUMN()-3)/5)+1,COLUMN(Déplacements!$C6:$L6)-COLUMN(Déplacements!$C$2)),COLUMNS($AG$2:AJ6))),"")} | AK6: {=IFERROR(INDEX(Déplacements!$C6:$L6,SMALL(IF(Déplacements!$C6:$L6=INT(INT(COLUMN()-3)/5)+1,COLUMN(Déplacements!$C6:$L6)-COLUMN(Déplacements!$C$2)),COLUMNS($AG$2:AK6))),"")} | AL6: {=IFERROR(INDEX(Déplacements!$C6:$L6,SMALL(IF(Déplacements!$C6:$L6=INT(INT(COLUMN()-3)/5)+1,COLUMN(Déplacements!$C6:$L6)-COLUMN(Déplacements!$C$2)),COLUMNS($AL$2:AL6))),"")} | AM6: {=IFERROR(INDEX(Déplacements!$C6:$L6,SMALL(IF(Déplacements!$C6:$L6=INT(INT(COLUMN()-3)/5)+1,COLUMN(Déplacements!$C6:$L6)-COLUMN(Déplacements!$C$2)),COLUMNS($AL$2:AM6))),"")} | AN6: {=IFERROR(INDEX(Déplacements!$C6:$L6,SMALL(IF(Déplacements!$C6:$L6=INT(INT(COLUMN()-3)/5)+1,COLUMN(Déplacements!$C6:$L6)-COLUMN(Déplacements!$C$2)),COLUMNS($AL$2:AN6))),"")} | AO6: {=IFERROR(INDEX(Déplacements!$C6:$L6,SMALL(IF(Déplacements!$C6:$L6=INT(INT(COLUMN()-3)/5)+1,COLUMN(Déplacements!$C6:$L6)-COLUMN(Déplacements!$C$2)),COLUMNS($AL$2:AO6))),"")} | AP6: {=IFERROR(INDEX(Déplacements!$C6:$L6,SMALL(IF(Déplacements!$C6:$L6=INT(INT(COLUMN()-3)/5)+1,COLUMN(Déplacements!$C6:$L6)-COLUMN(Déplacements!$C$2)),COLUMNS($AL$2:AP6))),"")} | AQ6: {=IFERROR(INDEX(Déplacements!$C6:$L6,SMALL(IF(Déplacements!$C6:$L6=INT(INT(COLUMN()-3)/5)+1,COLUMN(Déplacements!$C6:$L6)-COLUMN(Déplacements!$C$2)),COLUMNS($AQ$2:AQ6))),"")} | AR6: {=IFERROR(INDEX(Déplacements!$C6:$L6,SMALL(IF(Déplacements!$C6:$L6=INT(INT(COLUMN()-3)/5)+1,COLUMN(Déplacements!$C6:$L6)-COLUMN(Déplacements!$C$2)),COLUMNS($AQ$2:AR6))),"")} | AS6: {=IFERROR(INDEX(Déplacements!$C6:$L6,SMALL(IF(Déplacements!$C6:$L6=INT(INT(COLUMN()-3)/5)+1,COLUMN(Déplacements!$C6:$L6)-COLUMN(Déplacements!$C$2)),COLUMNS($AQ$2:AS6))),"")} | AT6: {=IFERROR(INDEX(Déplacements!$C6:$L6,SMALL(IF(Déplacements!$C6:$L6=INT(INT(COLUMN()-3)/5)+1,COLUMN(Déplacements!$C6:$L6)-COLUMN(Déplacements!$C$2)),COLUMNS($AQ$2:AT6))),"")} | AU6: {=IFERROR(INDEX(Déplacements!$C6:$L6,SMALL(IF(Déplacements!$C6:$L6=INT(INT(COLUMN()-3)/5)+1,COLUMN(Déplacements!$C6:$L6)-COLUMN(Déplacements!$C$2)),COLUMNS($AQ$2:AU6))),"")} | AV6: {=IFERROR(INDEX(Déplacements!$C6:$L6,SMALL(IF(Déplacements!$C6:$L6=INT(INT(COLUMN()-3)/5)+1,COLUMN(Déplacements!$C6:$L6)-COLUMN(Déplacements!$C$2)),COLUMNS($AV$2:AV6))),"")} | AW6: {=IFERROR(INDEX(Déplacements!$C6:$L6,SMALL(IF(Déplacements!$C6:$L6=INT(INT(COLUMN()-3)/5)+1,COLUMN(Déplacements!$C6:$L6)-COLUMN(Déplacements!$C$2)),COLUMNS($AV$2:AW6))),"")} | AX6: {=IFERROR(INDEX(Déplacements!$C6:$L6,SMALL(IF(Déplacements!$C6:$L6=INT(INT(COLUMN()-3)/5)+1,COLUMN(Déplacements!$C6:$L6)-COLUMN(Déplacements!$C$2)),COLUMNS($AV$2:AX6))),"")} | AY6: {=IFERROR(INDEX(Déplacements!$C6:$L6,SMALL(IF(Déplacements!$C6:$L6=INT(INT(COLUMN()-3)/5)+1,COLUMN(Déplacements!$C6:$L6)-COLUMN(Déplacements!$C$2)),COLUMNS($AV$2:AY6))),"")} | AZ6: {=IFERROR(INDEX(Déplacements!$C6:$L6,SMALL(IF(Déplacements!$C6:$L6=INT(INT(COLUMN()-3)/5)+1,COLUMN(Déplacements!$C6:$L6)-COLUMN(Déplacements!$C$2)),COLUMNS($AV$2:AZ6))),"")} | BA6: {=IFERROR(INDEX(Déplacements!$C6:$L6,SMALL(IF(Déplacements!$C6:$L6=INT(INT(COLUMN()-3)/5)+1,COLUMN(Déplacements!$C6:$L6)-COLUMN(Déplacements!$C$2)),COLUMNS($BA$2:BA6))),"")} | BB6: {=IFERROR(INDEX(Déplacements!$C6:$L6,SMALL(IF(Déplacements!$C6:$L6=INT(INT(COLUMN()-3)/5)+1,COLUMN(Déplacements!$C6:$L6)-COLUMN(Déplacements!$C$2)),COLUMNS($BA$2:BB6))),"")} | BC6: {=IFERROR(INDEX(Déplacements!$C6:$L6,SMALL(IF(Déplacements!$C6:$L6=INT(INT(COLUMN()-3)/5)+1,COLUMN(Déplacements!$C6:$L6)-COLUMN(Déplacements!$C$2)),COLUMNS($BA$2:BC6))),"")} | BD6: {=IFERROR(INDEX(Déplacements!$C6:$L6,SMALL(IF(Déplacements!$C6:$L6=INT(INT(COLUMN()-3)/5)+1,COLUMN(Déplacements!$C6:$L6)-COLUMN(Déplacements!$C$2)),COLUMNS($BA$2:BD6))),"")} | BE6: {=IFERROR(INDEX(Déplacements!$C6:$L6,SMALL(IF(Déplacements!$C6:$L6=INT(INT(COLUMN()-3)/5)+1,COLUMN(Déplacements!$C6:$L6)-COLUMN(Déplacements!$C$2)),COLUMNS($BA$2:BE6))),"")} | BF6: {=IFERROR(INDEX(Déplacements!$C6:$L6,SMALL(IF(Déplacements!$C6:$L6=INT(INT(COLUMN()-3)/5)+1,COLUMN(Déplacements!$C6:$L6)-COLUMN(Déplacements!$C$2)),COLUMNS($BF$2:BF6))),"")} -> LIMOGES | BG6: {=IFERROR(INDEX(Déplacements!$C6:$L6,SMALL(IF(Déplacements!$C6:$L6=INT(INT(COLUMN()-3)/5)+1,COLUMN(Déplacements!$C6:$L6)-COLUMN(Déplacements!$C$2)),COLUMNS($BF$2:BG6))),"")} | BH6: {=IFERROR(INDEX(Déplacements!$C6:$L6,SMALL(IF(Déplacements!$C6:$L6=INT(INT(COLUMN()-3)/5)+1,COLUMN(Déplacements!$C6:$L6)-COLUMN(Déplacements!$C$2)),COLUMNS($BF$2:BH6))),"")} | BI6: {=IFERROR(INDEX(Déplacements!$C6:$L6,SMALL(IF(Déplacements!$C6:$L6=INT(INT(COLUMN()-3)/5)+1,COLUMN(Déplacements!$C6:$L6)-COLUMN(Déplacements!$C$2)),COLUMNS($BF$2:BI6))),"")} | BJ6: {=IFERROR(INDEX(Déplacements!$C6:$L6,SMALL(IF(Déplacements!$C6:$L6=INT(INT(COLUMN()-3)/5)+1,COLUMN(Déplacements!$C6:$L6)-COLUMN(Déplacements!$C$2)),COLUMNS($BF$2:BJ6))),"")}
A7: =Déplacements!A7 -> 6 | B7: =Déplacements!B7 -> f | C7: {=IFERROR(INDEX(Déplacements!$C7:$L7,SMALL(IF(Déplacements!$C7:$L7=INT(INT(COLUMN()-3)/5)+1,COLUMN(Déplacements!$C7:$L7)-COLUMN(Déplacements!$C$2)),COLUMNS($C$2:C7))),"")} | D7: {=IFERROR(INDEX(Déplacements!$C7:$L7,SMALL(IF(Déplacements!$C7:$L7=INT(INT(COLUMN()-3)/5)+1,COLUMN(Déplacements!$C7:$L7)-COLUMN(Déplacements!$C$2)),COLUMNS($C$2:D7))),"")} | E7: {=IFERROR(INDEX(Déplacements!$C7:$L7,SMALL(IF(Déplacements!$C7:$L7=INT(INT(COLUMN()-3)/5)+1,COLUMN(Déplacements!$C7:$L7)-COLUMN(Déplacements!$C$2)),COLUMNS($C$2:E7))),"")} | F7: {=IFERROR(INDEX(Déplacements!$C7:$L7,SMALL(IF(Déplacements!$C7:$L7=INT(INT(COLUMN()-3)/5)+1,COLUMN(Déplacements!$C7:$L7)-COLUMN(Déplacements!$C$2)),COLUMNS($C$2:F7))),"")} | G7: {=IFERROR(INDEX(Déplacements!$C7:$L7,SMALL(IF(Déplacements!$C7:$L7=INT(INT(COLUMN()-3)/5)+1,COLUMN(Déplacements!$C7:$L7)-COLUMN(Déplacements!$C$2)),COLUMNS($C$2:G7))),"")} | H7: {=IFERROR(INDEX(Déplacements!$C7:$L7,SMALL(IF(Déplacements!$C7:$L7=INT(INT(COLUMN()-3)/5)+1,COLUMN(Déplacements!$C7:$L7)-COLUMN(Déplacements!$C$2)),COLUMNS($H$2:H7))),"")} -> FECAMP | I7: {=IFERROR(INDEX(Déplacements!$C7:$L7,SMALL(IF(Déplacements!$C7:$L7=INT(INT(COLUMN()-3)/5)+1,COLUMN(Déplacements!$C7:$L7)-COLUMN(Déplacements!$C$2)),COLUMNS($H$2:I7))),"")} -> DIEPPE | J7: {=IFERROR(INDEX(Déplacements!$C7:$L7,SMALL(IF(Déplacements!$C7:$L7=INT(INT(COLUMN()-3)/5)+1,COLUMN(Déplacements!$C7:$L7)-COLUMN(Déplacements!$C$2)),COLUMNS($H$2:J7))),"")} | K7: {=IFERROR(INDEX(Déplacements!$C7:$L7,SMALL(IF(Déplacements!$C7:$L7=INT(INT(COLUMN()-3)/5)+1,COLUMN(Déplacements!$C7:$L7)-COLUMN(Déplacements!$C$2)),COLUMNS($H$2:K7))),"")} | L7: {=IFERROR(INDEX(Déplacements!$C7:$L7,SMALL(IF(Déplacements!$C7:$L7=INT(INT(COLUMN()-3)/5)+1,COLUMN(Déplacements!$C7:$L7)-COLUMN(Déplacements!$C$2)),COLUMNS($H$2:L7))),"")} | M7: {=IFERROR(INDEX(Déplacements!$C7:$L7,SMALL(IF(Déplacements!$C7:$L7=INT(INT(COLUMN()-3)/5)+1,COLUMN(Déplacements!$C7:$L7)-COLUMN(Déplacements!$C$2)),COLUMNS($M$2:M7))),"")} | N7: {=IFERROR(INDEX(Déplacements!$C7:$L7,SMALL(IF(Déplacements!$C7:$L7=INT(INT(COLUMN()-3)/5)+1,COLUMN(Déplacements!$C7:$L7)-COLUMN(Déplacements!$C$2)),COLUMNS($M$2:N7))),"")} | O7: {=IFERROR(INDEX(Déplacements!$C7:$L7,SMALL(IF(Déplacements!$C7:$L7=INT(INT(COLUMN()-3)/5)+1,COLUMN(Déplacements!$C7:$L7)-COLUMN(Déplacements!$C$2)),COLUMNS($M$2:O7))),"")} | P7: {=IFERROR(INDEX(Déplacements!$C7:$L7,SMALL(IF(Déplacements!$C7:$L7=INT(INT(COLUMN()-3)/5)+1,COLUMN(Déplacements!$C7:$L7)-COLUMN(Déplacements!$C$2)),COLUMNS($M$2:P7))),"")} | Q7: {=IFERROR(INDEX(Déplacements!$C7:$L7,SMALL(IF(Déplacements!$C7:$L7=INT(INT(COLUMN()-3)/5)+1,COLUMN(Déplacements!$C7:$L7)-COLUMN(Déplacements!$C$2)),COLUMNS($M$2:Q7))),"")} | R7: {=IFERROR(INDEX(Déplacements!$C7:$L7,SMALL(IF(Déplacements!$C7:$L7=INT(INT(COLUMN()-3)/5)+1,COLUMN(Déplacements!$C7:$L7)-COLUMN(Déplacements!$C$2)),COLUMNS($R$2:R7))),"")} | S7: {=IFERROR(INDEX(Déplacements!$C7:$L7,SMALL(IF(Déplacements!$C7:$L7=INT(INT(COLUMN()-3)/5)+1,COLUMN(Déplacements!$C7:$L7)-COLUMN(Déplacements!$C$2)),COLUMNS($R$2:S7))),"")} | T7: {=IFERROR(INDEX(Déplacements!$C7:$L7,SMALL(IF(Déplacements!$C7:$L7=INT(INT(COLUMN()-3)/5)+1,COLUMN(Déplacements!$C7:$L7)-COLUMN(Déplacements!$C$2)),COLUMNS($R$2:T7))),"")} | U7: {=IFERROR(INDEX(Déplacements!$C7:$L7,SMALL(IF(Déplacements!$C7:$L7=INT(INT(COLUMN()-3)/5)+1,COLUMN(Déplacements!$C7:$L7)-COLUMN(Déplacements!$C$2)),COLUMNS($R$2:U7))),"")} | V7: {=IFERROR(INDEX(Déplacements!$C7:$L7,SMALL(IF(Déplacements!$C7:$L7=INT(INT(COLUMN()-3)/5)+1,COLUMN(Déplacements!$C7:$L7)-COLUMN(Déplacements!$C$2)),COLUMNS($R$2:V7))),"")} | W7: {=IFERROR(INDEX(Déplacements!$C7:$L7,SMALL(IF(Déplacements!$C7:$L7=INT(INT(COLUMN()-3)/5)+1,COLUMN(Déplacements!$C7:$L7)-COLUMN(Déplacements!$C$2)),COLUMNS($W$2:W7))),"")} | X7: {=IFERROR(INDEX(Déplacements!$C7:$L7,SMALL(IF(Déplacements!$C7:$L7=INT(INT(COLUMN()-3)/5)+1,COLUMN(Déplacements!$C7:$L7)-COLUMN(Déplacements!$C$2)),COLUMNS($W$2:X7))),"")} | Y7: {=IFERROR(INDEX(Déplacements!$C7:$L7,SMALL(IF(Déplacements!$C7:$L7=INT(INT(COLUMN()-3)/5)+1,COLUMN(Déplacements!$C7:$L7)-COLUMN(Déplacements!$C$2)),COLUMNS($W$2:Y7))),"")} | Z7: {=IFERROR(INDEX(Déplacements!$C7:$L7,SMALL(IF(Déplacements!$C7:$L7=INT(INT(COLUMN()-3)/5)+1,COLUMN(Déplacements!$C7:$L7)-COLUMN(Déplacements!$C$2)),COLUMNS($W$2:Z7))),"")} | AA7: {=IFERROR(INDEX(Déplacements!$C7:$L7,SMALL(IF(Déplacements!$C7:$L7=INT(INT(COLUMN()-3)/5)+1,COLUMN(Déplacements!$C7:$L7)-COLUMN(Déplacements!$C$2)),COLUMNS($W$2:AA7))),"")} | AB7: {=IFERROR(INDEX(Déplacements!$C7:$L7,SMALL(IF(Déplacements!$C7:$L7=INT(INT(COLUMN()-3)/5)+1,COLUMN(Déplacements!$C7:$L7)-COLUMN(Déplacements!$C$2)),COLUMNS($AB$2:AB7))),"")} | AC7: {=IFERROR(INDEX(Déplacements!$C7:$L7,SMALL(IF(Déplacements!$C7:$L7=INT(INT(COLUMN()-3)/5)+1,COLUMN(Déplacements!$C7:$L7)-COLUMN(Déplacements!$C$2)),COLUMNS($AB$2:AC7))),"")} | AD7: {=IFERROR(INDEX(Déplacements!$C7:$L7,SMALL(IF(Déplacements!$C7:$L7=INT(INT(COLUMN()-3)/5)+1,COLUMN(Déplacements!$C7:$L7)-COLUMN(Déplacements!$C$2)),COLUMNS($AB$2:AD7))),"")} | AE7: {=IFERROR(INDEX(Déplacements!$C7:$L7,SMALL(IF(Déplacements!$C7:$L7=INT(INT(COLUMN()-3)/5)+1,COLUMN(Déplacements!$C7:$L7)-COLUMN(Déplacements!$C$2)),COLUMNS($AB$2:AE7))),"")} | AF7: {=IFERROR(INDEX(Déplacements!$C7:$L7,SMALL(IF(Déplacements!$C7:$L7=INT(INT(COLUMN()-3)/5)+1,COLUMN(Déplacements!$C7:$L7)-COLUMN(Déplacements!$C$2)),COLUMNS($AB$2:AF7))),"")} | AG7: {=IFERROR(INDEX(Déplacements!$C7:$L7,SMALL(IF(Déplacements!$C7:$L7=INT(INT(COLUMN()-3)/5)+1,COLUMN(Déplacements!$C7:$L7)-COLUMN(Déplacements!$C$2)),COLUMNS($AG$2:AG7))),"")} | AH7: {=IFERROR(INDEX(Déplacements!$C7:$L7,SMALL(IF(Déplacements!$C7:$L7=INT(INT(COLUMN()-3)/5)+1,COLUMN(Déplacements!$C7:$L7)-COLUMN(Déplacements!$C$2)),COLUMNS($AG$2:AH7))),"")} | AI7: {=IFERROR(INDEX(Déplacements!$C7:$L7,SMALL(IF(Déplacements!$C7:$L7=INT(INT(COLUMN()-3)/5)+1,COLUMN(Déplacements!$C7:$L7)-COLUMN(Déplacements!$C$2)),COLUMNS($AG$2:AI7))),"")} | AJ7: {=IFERROR(INDEX(Déplacements!$C7:$L7,SMALL(IF(Déplacements!$C7:$L7=INT(INT(COLUMN()-3)/5)+1,COLUMN(Déplacements!$C7:$L7)-COLUMN(Déplacements!$C$2)),COLUMNS($AG$2:AJ7))),"")} | AK7: {=IFERROR(INDEX(Déplacements!$C7:$L7,SMALL(IF(Déplacements!$C7:$L7=INT(INT(COLUMN()-3)/5)+1,COLUMN(Déplacements!$C7:$L7)-COLUMN(Déplacements!$C$2)),COLUMNS($AG$2:AK7))),"")} | AL7: {=IFERROR(INDEX(Déplacements!$C7:$L7,SMALL(IF(Déplacements!$C7:$L7=INT(INT(COLUMN()-3)/5)+1,COLUMN(Déplacements!$C7:$L7)-COLUMN(Déplacements!$C$2)),COLUMNS($AL$2:AL7))),"")} -> ROUEN | AM7: {=IFERROR(INDEX(Déplacements!$C7:$L7,SMALL(IF(Déplacements!$C7:$L7=INT(INT(COLUMN()-3)/5)+1,COLUMN(Déplacements!$C7:$L7)-COLUMN(Déplacements!$C$2)),COLUMNS($AL$2:AM7))),"")} | AN7: {=IFERROR(INDEX(Déplacements!$C7:$L7,SMALL(IF(Déplacements!$C7:$L7=INT(INT(COLUMN()-3)/5)+1,COLUMN(Déplacements!$C7:$L7)-COLUMN(Déplacements!$C$2)),COLUMNS($AL$2:AN7))),"")} | AO7: {=IFERROR(INDEX(Déplacements!$C7:$L7,SMALL(IF(Déplacements!$C7:$L7=INT(INT(COLUMN()-3)/5)+1,COLUMN(Déplacements!$C7:$L7)-COLUMN(Déplacements!$C$2)),COLUMNS($AL$2:AO7))),"")} | AP7: {=IFERROR(INDEX(Déplacements!$C7:$L7,SMALL(IF(Déplacements!$C7:$L7=INT(INT(COLUMN()-3)/5)+1,COLUMN(Déplacements!$C7:$L7)-COLUMN(Déplacements!$C$2)),COLUMNS($AL$2:AP7))),"")} | AQ7: {=IFERROR(INDEX(Déplacements!$C7:$L7,SMALL(IF(Déplacements!$C7:$L7=INT(INT(COLUMN()-3)/5)+1,COLUMN(Déplacements!$C7:$L7)-COLUMN(Déplacements!$C$2)),COLUMNS($AQ$2:AQ7))),"")} | AR7: {=IFERROR(INDEX(Déplacements!$C7:$L7,SMALL(IF(Déplacements!$C7:$L7=INT(INT(COLUMN()-3)/5)+1,COLUMN(Déplacements!$C7:$L7)-COLUMN(Déplacements!$C$2)),COLUMNS($AQ$2:AR7))),"")} | AS7: {=IFERROR(INDEX(Déplacements!$C7:$L7,SMALL(IF(Déplacements!$C7:$L7=INT(INT(COLUMN()-3)/5)+1,COLUMN(Déplacements!$C7:$L7)-COLUMN(Déplacements!$C$2)),COLUMNS($AQ$2:AS7))),"")} | AT7: {=IFERROR(INDEX(Déplacements!$C7:$L7,SMALL(IF(Déplacements!$C7:$L7=INT(INT(COLUMN()-3)/5)+1,COLUMN(Déplacements!$C7:$L7)-COLUMN(Déplacements!$C$2)),COLUMNS($AQ$2:AT7))),"")} | AU7: {=IFERROR(INDEX(Déplacements!$C7:$L7,SMALL(IF(Déplacements!$C7:$L7=INT(INT(COLUMN()-3)/5)+1,COLUMN(Déplacements!$C7:$L7)-COLUMN(Déplacements!$C$2)),COLUMNS($AQ$2:AU7))),"")} | AV7: {=IFERROR(INDEX(Déplacements!$C7:$L7,SMALL(IF(Déplacements!$C7:$L7=INT(INT(COLUMN()-3)/5)+1,COLUMN(Déplacements!$C7:$L7)-COLUMN(Déplacements!$C$2)),COLUMNS($AV$2:AV7))),"")} | AW7: {=IFERROR(INDEX(Déplacements!$C7:$L7,SMALL(IF(Déplacements!$C7:$L7=INT(INT(COLUMN()-3)/5)+1,COLUMN(Déplacements!$C7:$L7)-COLUMN(Déplacements!$C$2)),COLUMNS($AV$2:AW7))),"")} | AX7: {=IFERROR(INDEX(Déplacements!$C7:$L7,SMALL(IF(Déplacements!$C7:$L7=INT(INT(COLUMN()-3)/5)+1,COLUMN(Déplacements!$C7:$L7)-COLUMN(Déplacements!$C$2)),COLUMNS($AV$2:AX7))),"")} | AY7: {=IFERROR(INDEX(Déplacements!$C7:$L7,SMALL(IF(Déplacements!$C7:$L7=INT(INT(COLUMN()-3)/5)+1,COLUMN(Déplacements!$C7:$L7)-COLUMN(Déplacements!$C$2)),COLUMNS($AV$2:AY7))),"")} | AZ7: {=IFERROR(INDEX(Déplacements!$C7:$L7,SMALL(IF(Déplacements!$C7:$L7=INT(INT(COLUMN()-3)/5)+1,COLUMN(Déplacements!$C7:$L7)-COLUMN(Déplacements!$C$2)),COLUMNS($AV$2:AZ7))),"")} | BA7: {=IFERROR(INDEX(Déplacements!$C7:$L7,SMALL(IF(Déplacements!$C7:$L7=INT(INT(COLUMN()-3)/5)+1,COLUMN(Déplacements!$C7:$L7)-COLUMN(Déplacements!$C$2)),COLUMNS($BA$2:BA7))),"")} | BB7: {=IFERROR(INDEX(Déplacements!$C7:$L7,SMALL(IF(Déplacements!$C7:$L7=INT(INT(COLUMN()-3)/5)+1,COLUMN(Déplacements!$C7:$L7)-COLUMN(Déplacements!$C$2)),COLUMNS($BA$2:BB7))),"")} | BC7: {=IFERROR(INDEX(Déplacements!$C7:$L7,SMALL(IF(Déplacements!$C7:$L7=INT(INT(COLUMN()-3)/5)+1,COLUMN(Déplacements!$C7:$L7)-COLUMN(Déplacements!$C$2)),COLUMNS($BA$2:BC7))),"")} | BD7: {=IFERROR(INDEX(Déplacements!$C7:$L7,SMALL(IF(Déplacements!$C7:$L7=INT(INT(COLUMN()-3)/5)+1,COLUMN(Déplacements!$C7:$L7)-COLUMN(Déplacements!$C$2)),COLUMNS($BA$2:BD7))),"")} | BE7: {=IFERROR(INDEX(Déplacements!$C7:$L7,SMALL(IF(Déplacements!$C7:$L7=INT(INT(COLUMN()-3)/5)+1,COLUMN(Déplacements!$C7:$L7)-COLUMN(Déplacements!$C$2)),COLUMNS($BA$2:BE7))),"")} | BF7: {=IFERROR(INDEX(Déplacements!$C7:$L7,SMALL(IF(Déplacements!$C7:$L7=INT(INT(COLUMN()-3)/5)+1,COLUMN(Déplacements!$C7:$L7)-COLUMN(Déplacements!$C$2)),COLUMNS($BF$2:BF7))),"")} | BG7: {=IFERROR(INDEX(Déplacements!$C7:$L7,SMALL(IF(Déplacements!$C7:$L7=INT(INT(COLUMN()-3)/5)+1,COLUMN(Déplacements!$C7:$L7)-COLUMN(Déplacements!$C$2)),COLUMNS($BF$2:BG7))),"")} | BH7: {=IFERROR(INDEX(Déplacements!$C7:$L7,SMALL(IF(Déplacements!$C7:$L7=INT(INT(COLUMN()-3)/5)+1,COLUMN(Déplacements!$C7:$L7)-COLUMN(Déplacements!$C$2)),COLUMNS($BF$2:BH7))),"")} | BI7: {=IFERROR(INDEX(Déplacements!$C7:$L7,SMALL(IF(Déplacements!$C7:$L7=INT(INT(COLUMN()-3)/5)+1,COLUMN(Déplacements!$C7:$L7)-COLUMN(Déplacements!$C$2)),COLUMNS($BF$2:BI7))),"")} | BJ7: {=IFERROR(INDEX(Déplacements!$C7:$L7,SMALL(IF(Déplacements!$C7:$L7=INT(INT(COLUMN()-3)/5)+1,COLUMN(Déplacements!$C7:$L7)-COLUMN(Déplacements!$C$2)),COLUMNS($BF$2:BJ7))),"")}
A8: =Déplacements!A8 -> 7 | B8: =Déplacements!B8 -> g | C8: {=IFERROR(INDEX(Déplacements!$C8:$L8,SMALL(IF(Déplacements!$C8:$L8=INT(INT(COLUMN()-3)/5)+1,COLUMN(Déplacements!$C8:$L8)-COLUMN(Déplacements!$C$2)),COLUMNS($C$2:C8))),"")} -> ROUEN | D8: {=IFERROR(INDEX(Déplacements!$C8:$L8,SMALL(IF(Déplacements!$C8:$L8=INT(INT(COLUMN()-3)/5)+1,COLUMN(Déplacements!$C8:$L8)-COLUMN(Déplacements!$C$2)),COLUMNS($C$2:D8))),"")} | E8: {=IFERROR(INDEX(Déplacements!$C8:$L8,SMALL(IF(Déplacements!$C8:$L8=INT(INT(COLUMN()-3)/5)+1,COLUMN(Déplacements!$C8:$L8)-COLUMN(Déplacements!$C$2)),COLUMNS($C$2:E8))),"")} | F8: {=IFERROR(INDEX(Déplacements!$C8:$L8,SMALL(IF(Déplacements!$C8:$L8=INT(INT(COLUMN()-3)/5)+1,COLUMN(Déplacements!$C8:$L8)-COLUMN(Déplacements!$C$2)),COLUMNS($C$2:F8))),"")} | G8: {=IFERROR(INDEX(Déplacements!$C8:$L8,SMALL(IF(Déplacements!$C8:$L8=INT(INT(COLUMN()-3)/5)+1,COLUMN(Déplacements!$C8:$L8)-COLUMN(Déplacements!$C$2)),COLUMNS($C$2:G8))),"")} | H8: {=IFERROR(INDEX(Déplacements!$C8:$L8,SMALL(IF(Déplacements!$C8:$L8=INT(INT(COLUMN()-3)/5)+1,COLUMN(Déplacements!$C8:$L8)-COLUMN(Déplacements!$C$2)),COLUMNS($H$2:H8))),"")} | I8: {=IFERROR(INDEX(Déplacements!$C8:$L8,SMALL(IF(Déplacements!$C8:$L8=INT(INT(COLUMN()-3)/5)+1,COLUMN(Déplacements!$C8:$L8)-COLUMN(Déplacements!$C$2)),COLUMNS($H$2:I8))),"")} | J8: {=IFERROR(INDEX(Déplacements!$C8:$L8,SMALL(IF(Déplacements!$C8:$L8=INT(INT(COLUMN()-3)/5)+1,COLUMN(Déplacements!$C8:$L8)-COLUMN(Déplacements!$C$2)),COLUMNS($H$2:J8))),"")} | K8: {=IFERROR(INDEX(Déplacements!$C8:$L8,SMALL(IF(Déplacements!$C8:$L8=INT(INT(COLUMN()-3)/5)+1,COLUMN(Déplacements!$C8:$L8)-COLUMN(Déplacements!$C$2)),COLUMNS($H$2:K8))),"")} | L8: {=IFERROR(INDEX(Déplacements!$C8:$L8,SMALL(IF(Déplacements!$C8:$L8=INT(INT(COLUMN()-3)/5)+1,COLUMN(Déplacements!$C8:$L8)-COLUMN(Déplacements!$C$2)),COLUMNS($H$2:L8))),"")} | M8: {=IFERROR(INDEX(Déplacements!$C8:$L8,SMALL(IF(Déplacements!$C8:$L8=INT(INT(COLUMN()-3)/5)+1,COLUMN(Déplacements!$C8:$L8)-COLUMN(Déplacements!$C$2)),COLUMNS($M$2:M8))),"")} | N8: {=IFERROR(INDEX(Déplacements!$C8:$L8,SMALL(IF(Déplacements!$C8:$L8=INT(INT(COLUMN()-3)/5)+1,COLUMN(Déplacements!$C8:$L8)-COLUMN(Déplacements!$C$2)),COLUMNS($M$2:N8))),"")} | O8: {=IFERROR(INDEX(Déplacements!$C8:$L8,SMALL(IF(Déplacements!$C8:$L8=INT(INT(COLUMN()-3)/5)+1,COLUMN(Déplacements!$C8:$L8)-COLUMN(Déplacements!$C$2)),COLUMNS($M$2:O8))),"")} | P8: {=IFERROR(INDEX(Déplacements!$C8:$L8,SMALL(IF(Déplacements!$C8:$L8=INT(INT(COLUMN()-3)/5)+1,COLUMN(Déplacements!$C8:$L8)-COLUMN(Déplacements!$C$2)),COLUMNS($M$2:P8))),"")} | Q8: {=IFERROR(INDEX(Déplacements!$C8:$L8,SMALL(IF(Déplacements!$C8:$L8=INT(INT(COLUMN()-3)/5)+1,COLUMN(Déplacements!$C8:$L8)-COLUMN(Déplacements!$C$2)),COLUMNS($M$2:Q8))),"")} | R8: {=IFERROR(INDEX(Déplacements!$C8:$L8,SMALL(IF(Déplacements!$C8:$L8=INT(INT(COLUMN()-3)/5)+1,COLUMN(Déplacements!$C8:$L8)-COLUMN(Déplacements!$C$2)),COLUMNS($R$2:R8))),"")} | S8: {=IFERROR(INDEX(Déplacements!$C8:$L8,SMALL(IF(Déplacements!$C8:$L8=INT(INT(COLUMN()-3)/5)+1,COLUMN(Déplacements!$C8:$L8)-COLUMN(Déplacements!$C$2)),COLUMNS($R$2:S8))),"")} | T8: {=IFERROR(INDEX(Déplacements!$C8:$L8,SMALL(IF(Déplacements!$C8:$L8=INT(INT(COLUMN()-3)/5)+1,COLUMN(Déplacements!$C8:$L8)-COLUMN(Déplacements!$C$2)),COLUMNS($R$2:T8))),"")} | U8: {=IFERROR(INDEX(Déplacements!$C8:$L8,SMALL(IF(Déplacements!$C8:$L8=INT(INT(COLUMN()-3)/5)+1,COLUMN(Déplacements!$C8:$L8)-COLUMN(Déplacements!$C$2)),COLUMNS($R$2:U8))),"")} | V8: {=IFERROR(INDEX(Déplacements!$C8:$L8,SMALL(IF(Déplacements!$C8:$L8=INT(INT(COLUMN()-3)/5)+1,COLUMN(Déplacements!$C8:$L8)-COLUMN(Déplacements!$C$2)),COLUMNS($R$2:V8))),"")} | W8: {=IFERROR(INDEX(Déplacements!$C8:$L8,SMALL(IF(Déplacements!$C8:$L8=INT(INT(COLUMN()-3)/5)+1,COLUMN(Déplacements!$C8:$L8)-COLUMN(Déplacements!$C$2)),COLUMNS($W$2:W8))),"")} -> PARIS | X8: {=IFERROR(INDEX(Déplacements!$C8:$L8,SMALL(IF(Déplacements!$C8:$L8=INT(INT(COLUMN()-3)/5)+1,COLUMN(Déplacements!$C8:$L8)-COLUMN(Déplacements!$C$2)),COLUMNS($W$2:X8))),"")} -> VERSAILLES | Y8: {=IFERROR(INDEX(Déplacements!$C8:$L8,SMALL(IF(Déplacements!$C8:$L8=INT(INT(COLUMN()-3)/5)+1,COLUMN(Déplacements!$C8:$L8)-COLUMN(Déplacements!$C$2)),COLUMNS($W$2:Y8))),"")} | Z8: {=IFERROR(INDEX(Déplacements!$C8:$L8,SMALL(IF(Déplacements!$C8:$L8=INT(INT(COLUMN()-3)/5)+1,COLUMN(Déplacements!$C8:$L8)-COLUMN(Déplacements!$C$2)),COLUMNS($W$2:Z8))),"")} | AA8: {=IFERROR(INDEX(Déplacements!$C8:$L8,SMALL(IF(Déplacements!$C8:$L8=INT(INT(COLUMN()-3)/5)+1,COLUMN(Déplacements!$C8:$L8)-COLUMN(Déplacements!$C$2)),COLUMNS($W$2:AA8))),"")} | AB8: {=IFERROR(INDEX(Déplacements!$C8:$L8,SMALL(IF(Déplacements!$C8:$L8=INT(INT(COLUMN()-3)/5)+1,COLUMN(Déplacements!$C8:$L8)-COLUMN(Déplacements!$C$2)),COLUMNS($AB$2:AB8))),"")} | AC8: {=IFERROR(INDEX(Déplacements!$C8:$L8,SMALL(IF(Déplacements!$C8:$L8=INT(INT(COLUMN()-3)/5)+1,COLUMN(Déplacements!$C8:$L8)-COLUMN(Déplacements!$C$2)),COLUMNS($AB$2:AC8))),"")} | AD8: {=IFERROR(INDEX(Déplacements!$C8:$L8,SMALL(IF(Déplacements!$C8:$L8=INT(INT(COLUMN()-3)/5)+1,COLUMN(Déplacements!$C8:$L8)-COLUMN(Déplacements!$C$2)),COLUMNS($AB$2:AD8))),"")} | AE8: {=IFERROR(INDEX(Déplacements!$C8:$L8,SMALL(IF(Déplacements!$C8:$L8=INT(INT(COLUMN()-3)/5)+1,COLUMN(Déplacements!$C8:$L8)-COLUMN(Déplacements!$C$2)),COLUMNS($AB$2:AE8))),"")} | AF8: {=IFERROR(INDEX(Déplacements!$C8:$L8,SMALL(IF(Déplacements!$C8:$L8=INT(INT(COLUMN()-3)/5)+1,COLUMN(Déplacements!$C8:$L8)-COLUMN(Déplacements!$C$2)),COLUMNS($AB$2:AF8))),"")} | AG8: {=IFERROR(INDEX(Déplacements!$C8:$L8,SMALL(IF(Déplacements!$C8:$L8=INT(INT(COLUMN()-3)/5)+1,COLUMN(Déplacements!$C8:$L8)-COLUMN(Déplacements!$C$2)),COLUMNS($AG$2:AG8))),"")} | AH8: {=IFERROR(INDEX(Déplacements!$C8:$L8,SMALL(IF(Déplacements!$C8:$L8=INT(INT(COLUMN()-3)/5)+1,COLUMN(Déplacements!$C8:$L8)-COLUMN(Déplacements!$C$2)),COLUMNS($AG$2:AH8))),"")} | AI8: {=IFERROR(INDEX(Déplacements!$C8:$L8,SMALL(IF(Déplacements!$C8:$L8=INT(INT(COLUMN()-3)/5)+1,COLUMN(Déplacements!$C8:$L8)-COLUMN(Déplacements!$C$2)),COLUMNS($AG$2:AI8))),"")} | AJ8: {=IFERROR(INDEX(Déplacements!$C8:$L8,SMALL(IF(Déplacements!$C8:$L8=INT(INT(COLUMN()-3)/5)+1,COLUMN(Déplacements!$C8:$L8)-COLUMN(Déplacements!$C$2)),COLUMNS($AG$2:AJ8))),"")} | AK8: {=IFERROR(INDEX(Déplacements!$C8:$L8,SMALL(IF(Déplacements!$C8:$L8=INT(INT(COLUMN()-3)/5)+1,COLUMN(Déplacements!$C8:$L8)-COLUMN(Déplacements!$C$2)),COLUMNS($AG$2:AK8))),"")} | AL8: {=IFERROR(INDEX(Déplacements!$C8:$L8,SMALL(IF(Déplacements!$C8:$L8=INT(INT(COLUMN()-3)/5)+1,COLUMN(Déplacements!$C8:$L8)-COLUMN(Déplacements!$C$2)),COLUMNS($AL$2:AL8))),"")} | AM8: {=IFERROR(INDEX(Déplacements!$C8:$L8,SMALL(IF(Déplacements!$C8:$L8=INT(INT(COLUMN()-3)/5)+1,COLUMN(Déplacements!$C8:$L8)-COLUMN(Déplacements!$C$2)),COLUMNS($AL$2:AM8))),"")} | AN8: {=IFERROR(INDEX(Déplacements!$C8:$L8,SMALL(IF(Déplacements!$C8:$L8=INT(INT(COLUMN()-3)/5)+1,COLUMN(Déplacements!$C8:$L8)-COLUMN(Déplacements!$C$2)),COLUMNS($AL$2:AN8))),"")} | AO8: {=IFERROR(INDEX(Déplacements!$C8:$L8,SMALL(IF(Déplacements!$C8:$L8=INT(INT(COLUMN()-3)/5)+1,COLUMN(Déplacements!$C8:$L8)-COLUMN(Déplacements!$C$2)),COLUMNS($AL$2:AO8))),"")} | AP8: {=IFERROR(INDEX(Déplacements!$C8:$L8,SMALL(IF(Déplacements!$C8:$L8=INT(INT(COLUMN()-3)/5)+1,COLUMN(Déplacements!$C8:$L8)-COLUMN(Déplacements!$C$2)),COLUMNS($AL$2:AP8))),"")} | AQ8: {=IFERROR(INDEX(Déplacements!$C8:$L8,SMALL(IF(Déplacements!$C8:$L8=INT(INT(COLUMN()-3)/5)+1,COLUMN(Déplacements!$C8:$L8)-COLUMN(Déplacements!$C$2)),COLUMNS($AQ$2:AQ8))),"")} | AR8: {=IFERROR(INDEX(Déplacements!$C8:$L8,SMALL(IF(Déplacements!$C8:$L8=INT(INT(COLUMN()-3)/5)+1,COLUMN(Déplacements!$C8:$L8)-COLUMN(Déplacements!$C$2)),COLUMNS($AQ$2:AR8))),"")} | AS8: {=IFERROR(INDEX(Déplacements!$C8:$L8,SMALL(IF(Déplacements!$C8:$L8=INT(INT(COLUMN()-3)/5)+1,COLUMN(Déplacements!$C8:$L8)-COLUMN(Déplacements!$C$2)),COLUMNS($AQ$2:AS8))),"")} | AT8: {=IFERROR(INDEX(Déplacements!$C8:$L8,SMALL(IF(Déplacements!$C8:$L8=INT(INT(COLUMN()-3)/5)+1,COLUMN(Déplacements!$C8:$L8)-COLUMN(Déplacements!$C$2)),COLUMNS($AQ$2:AT8))),"")} | AU8: {=IFERROR(INDEX(Déplacements!$C8:$L8,SMALL(IF(Déplacements!$C8:$L8=INT(INT(COLUMN()-3)/5)+1,COLUMN(Déplacements!$C8:$L8)-COLUMN(Déplacements!$C$2)),COLUMNS($AQ$2:AU8))),"")} | AV8: {=IFERROR(INDEX(Déplacements!$C8:$L8,SMALL(IF(Déplacements!$C8:$L8=INT(INT(COLUMN()-3)/5)+1,COLUMN(Déplacements!$C8:$L8)-COLUMN(Déplacements!$C$2)),COLUMNS($AV$2:AV8))),"")} | AW8: {=IFERROR(INDEX(Déplacements!$C8:$L8,SMALL(IF(Déplacements!$C8:$L8=INT(INT(COLUMN()-3)/5)+1,COLUMN(Déplacements!$C8:$L8)-COLUMN(Déplacements!$C$2)),COLUMNS($AV$2:AW8))),"")} | AX8: {=IFERROR(INDEX(Déplacements!$C8:$L8,SMALL(IF(Déplacements!$C8:$L8=INT(INT(COLUMN()-3)/5)+1,COLUMN(Déplacements!$C8:$L8)-COLUMN(Déplacements!$C$2)),COLUMNS($AV$2:AX8))),"")} | AY8: {=IFERROR(INDEX(Déplacements!$C8:$L8,SMALL(IF(Déplacements!$C8:$L8=INT(INT(COLUMN()-3)/5)+1,COLUMN(Déplacements!$C8:$L8)-COLUMN(Déplacements!$C$2)),COLUMNS($AV$2:AY8))),"")} | AZ8: {=IFERROR(INDEX(Déplacements!$C8:$L8,SMALL(IF(Déplacements!$C8:$L8=INT(INT(COLUMN()-3)/5)+1,COLUMN(Déplacements!$C8:$L8)-COLUMN(Déplacements!$C$2)),COLUMNS($AV$2:AZ8))),"")} | BA8: {=IFERROR(INDEX(Déplacements!$C8:$L8,SMALL(IF(Déplacements!$C8:$L8=INT(INT(COLUMN()-3)/5)+1,COLUMN(Déplacements!$C8:$L8)-COLUMN(Déplacements!$C$2)),COLUMNS($BA$2:BA8))),"")} | BB8: {=IFERROR(INDEX(Déplacements!$C8:$L8,SMALL(IF(Déplacements!$C8:$L8=INT(INT(COLUMN()-3)/5)+1,COLUMN(Déplacements!$C8:$L8)-COLUMN(Déplacements!$C$2)),COLUMNS($BA$2:BB8))),"")} | BC8: {=IFERROR(INDEX(Déplacements!$C8:$L8,SMALL(IF(Déplacements!$C8:$L8=INT(INT(COLUMN()-3)/5)+1,COLUMN(Déplacements!$C8:$L8)-COLUMN(Déplacements!$C$2)),COLUMNS($BA$2:BC8))),"")} | BD8: {=IFERROR(INDEX(Déplacements!$C8:$L8,SMALL(IF(Déplacements!$C8:$L8=INT(INT(COLUMN()-3)/5)+1,COLUMN(Déplacements!$C8:$L8)-COLUMN(Déplacements!$C$2)),COLUMNS($BA$2:BD8))),"")} | BE8: {=IFERROR(INDEX(Déplacements!$C8:$L8,SMALL(IF(Déplacements!$C8:$L8=INT(INT(COLUMN()-3)/5)+1,COLUMN(Déplacements!$C8:$L8)-COLUMN(Déplacements!$C$2)),COLUMNS($BA$2:BE8))),"")} | BF8: {=IFERROR(INDEX(Déplacements!$C8:$L8,SMALL(IF(Déplacements!$C8:$L8=INT(INT(COLUMN()-3)/5)+1,COLUMN(Déplacements!$C8:$L8)-COLUMN(Déplacements!$C$2)),COLUMNS($BF$2:BF8))),"")} | BG8: {=IFERROR(INDEX(Déplacements!$C8:$L8,SMALL(IF(Déplacements!$C8:$L8=INT(INT(COLUMN()-3)/5)+1,COLUMN(Déplacements!$C8:$L8)-COLUMN(Déplacements!$C$2)),COLUMNS($BF$2:BG8))),"")} | BH8: {=IFERROR(INDEX(Déplacements!$C8:$L8,SMALL(IF(Déplacements!$C8:$L8=INT(INT(COLUMN()-3)/5)+1,COLUMN(Déplacements!$C8:$L8)-COLUMN(Déplacements!$C$2)),COLUMNS($BF$2:BH8))),"")} | BI8: {=IFERROR(INDEX(Déplacements!$C8:$L8,SMALL(IF(Déplacements!$C8:$L8=INT(INT(COLUMN()-3)/5)+1,COLUMN(Déplacements!$C8:$L8)-COLUMN(Déplacements!$C$2)),COLUMNS($BF$2:BI8))),"")} | BJ8: {=IFERROR(INDEX(Déplacements!$C8:$L8,SMALL(IF(Déplacements!$C8:$L8=INT(INT(COLUMN()-3)/5)+1,COLUMN(Déplacements!$C8:$L8)-COLUMN(Déplacements!$C$2)),COLUMNS($BF$2:BJ8))),"")}
