Workbook
Name ARDISMT: '[1]Liste de choix'!$F$3:$F$8
Name ARDSMT: '[1]Liste de choix'!$A$3:$B$10
Name Autres: '[1]Liste de choix'!$A$43:$A$71
Name COLLECTEURS: '[1]Liste de choix'!$A$75:$A$106
Name LISTESEHI1: '[1]Liste de choix'!$A$42:$A$71
Name MATERIAUX: '[1]Liste de choix'!$A$110:$A$115
Name NATIONALITE: '[1]Liste de choix'!$A$143:$A$152
Name QTIER1: '[1]Liste de choix'!$A$16:$B$39
Name REPERES1: '[1]Liste de choix'!$A$43:$B$71
Name SEXE: '[1]Liste de choix'!$A$132:$A$133
Name TYPE1: '[1]Liste de choix'!$A$119:$A$121

Sheet BASE DE DONNEES
C3: 1 | D3: 2 | F3: 3 | H3: 4 | J3: 5 | K3: 6 | L3: 7 | M3: 8 | N3: 9 | O3: 10 | P3: 11
A4: N° D’ORDRE | B4: MATRICULE | C4: ANNEE | D4: ARDISMT | F4: QUARTIER | H4: REPERE | J4: LOCALISATION | K4: TYPE PM/PP | L4: NOM | M4: PRENOMS | N4: SEXE | O4: TELEPH | P4: PREST-ACTIV 1
A5: =TEXT(ROW(),"0000") -> 0005 | B5: =CONCATENATE(E5,G5,"/",A5,I5) -> 1A23/0005A | C5: 2019 | D5: ARDISMT_1e | E5: =VLOOKUP(D5,ARDSMT,2) -> 1A | F5: ADOUKOFFIKRO | G5: =VLOOKUP(F5,QTIER1,2) -> 23 | H5: Autres | I5: =VLOOKUP(H5,REPERES1,2) -> A | J5: ECOLE PASTORALE | K5: PP | L5: BONGA | M5: NAMON ADELAIDE | N5: F | P5: COIFFURE
A6: =TEXT(ROW(),"0000") -> 0006 | B6: =CONCATENATE(E6,G6,"/",A6,I6) -> 1A05/0006A | C6: 2018 | D6: ARDISMT_1e | E6: =VLOOKUP(D6,ARDSMT,2) -> 1A | F6: AGNIKRO_RESIDENTIEL | G6: =VLOOKUP(F6,QTIER1,2) -> 05 | H6: Autres | I6: =VLOOKUP(H6,REPERES1,2) -> A | J6: GARE DE NIABLE | K6: PP | L6: DAH | M6: KALANKARE | N6: M
A7: =TEXT(ROW(),"0000") -> 0007 | C7: =INDEX(NOUVEAUX!$A$4:$L$8,MATCH(VALUE($A7),NOUVEAUX!$A$4:$A$8,0),MATCH(C$4,NOUVEAUX!$A$4:$L$4,0)) -> 2014 | D7: =INDEX(NOUVEAUX!$A$4:$L$8,MATCH(VALUE($A7),NOUVEAUX!$A$4:$A$8,0),MATCH(D$4,NOUVEAUX!$A$4:$L$4,0)) -> ARDISMT_1e | F7: =INDEX(NOUVEAUX!$A$4:$L$8,MATCH(VALUE($A7),NOUVEAUX!$A$4:$A$8,0),MATCH(F$4,NOUVEAUX!$A$4:$L$4,0)) -> COMMERCE | H7: =INDEX(NOUVEAUX!$A$4:$L$8,MATCH(VALUE($A7),NOUVEAUX!$A$4:$A$8,0),MATCH(H$4,NOUVEAUX!$A$4:$L$4,0)) -> Autres | J7: =INDEX(NOUVEAUX!$A$4:$L$8,MATCH(VALUE($A7),NOUVEAUX!$A$4:$A$8,0),MATCH(J$4,NOUVEAUX!$A$4:$L$4,0)) -> PLATE FORME | K7: =INDEX(NOUVEAUX!$A$4:$L$8,MATCH(VALUE($A7),NOUVEAUX!$A$4:$A$8,0),MATCH(K$4,NOUVEAUX!$A$4:$L$4,0)) -> PP | L7: =INDEX(NOUVEAUX!$A$4:$L$8,MATCH(VALUE($A7),NOUVEAUX!$A$4:$A$8,0),MATCH(L$4,NOUVEAUX!$A$4:$L$4,0)) -> ZERBO 1 | M7: =INDEX(NOUVEAUX!$A$4:$L$8,MATCH(VALUE($A7),NOUVEAUX!$A$4:$A$8,0),MATCH(M$4,NOUVEAUX!$A$4:$L$4,0)) -> SEYDOU | N7: =INDEX(NOUVEAUX!$A$4:$L$8,MATCH(VALUE($A7),NOUVEAUX!$A$4:$A$8,0),MATCH(N$4,NOUVEAUX!$A$4:$L$4,0)) -> M | O7: =INDEX(NOUVEAUX!$A$4:$L$8,MATCH(VALUE($A7),NOUVEAUX!$A$4:$A$8,0),MATCH(O$4,NOUVEAUX!$A$4:$L$4,0)) -> 05 52 04 90 | P7: =INDEX(NOUVEAUX!$A$4:$L$8,MATCH(VALUE($A7),NOUVEAUX!$A$4:$A$8,0),MATCH(P$4,NOUVEAUX!$A$4:$L$4,0)) -> VENTE DE CORDE
A8: =TEXT(ROW(),"0000") -> 0008 | B8: =CONCATENATE(E8,G8,"/",A8,I8) -> 1A23/0008A | C8: 2018 | D8: ARDISMT_1e | E8: =VLOOKUP(D8,ARDSMT,2) -> 1A | F8: ADOUKOFFIKRO | G8: =VLOOKUP(F8,QTIER1,2) -> 23 | H8: Autres | I8: =VLOOKUP(H8,REPERES1,2) -> A | J8: ADOUKOFFIKRO | K8: PP | L8: ADOHOU | M8: SAHOULA | N8: M | P8: VENTE DE CHAUSSURES
A9: =TEXT(ROW(),"0000") -> 0009 | B9: =CONCATENATE(E9,G9,"/",A9,I9) -> 1A01/0009A | C9: 2014 | D9: ARDISMT_1e | E9: =VLOOKUP(D9,ARDSMT,2) -> 1A | F9: COMMERCE | G9: =VLOOKUP(F9,QTIER1,2) -> 01 | H9: Autres | I9: =VLOOKUP(H9,REPERES1,2) -> A | J9: Face Station Total | K9: PP | L9: ATTA | M9: ABOKON | N9: M | O9: 08 14 48 68 | P9: DIVERS
A10: =TEXT(ROW(),"0000") -> 0010 | C10: =INDEX(NOUVEAUX!$A$4:$L$8,MATCH(VALUE($A10),NOUVEAUX!$A$4:$A$8,0),MATCH(C$4,NOUVEAUX!$A$4:$L$4,0)) -> 2014 | D10: =INDEX(NOUVEAUX!$A$4:$L$8,MATCH(VALUE($A10),NOUVEAUX!$A$4:$A$8,0),MATCH(D$4,NOUVEAUX!$A$4:$L$4,0)) -> ARDISMT_1e | F10: =INDEX(NOUVEAUX!$A$4:$L$8,MATCH(VALUE($A10),NOUVEAUX!$A$4:$A$8,0),MATCH(F$4,NOUVEAUX!$A$4:$L$4,0)) -> AGNIKRO | H10: =INDEX(NOUVEAUX!$A$4:$L$8,MATCH(VALUE($A10),NOUVEAUX!$A$4:$A$8,0),MATCH(H$4,NOUVEAUX!$A$4:$L$4,0)) -> Autres | J10: =INDEX(NOUVEAUX!$A$4:$L$8,MATCH(VALUE($A10),NOUVEAUX!$A$4:$A$8,0),MATCH(J$4,NOUVEAUX!$A$4:$L$4,0)) -> Nouvelle Voie | K10: =INDEX(NOUVEAUX!$A$4:$L$8,MATCH(VALUE($A10),NOUVEAUX!$A$4:$A$8,0),MATCH(K$4,NOUVEAUX!$A$4:$L$4,0)) -> PP | L10: =INDEX(NOUVEAUX!$A$4:$L$8,MATCH(VALUE($A10),NOUVEAUX!$A$4:$A$8,0),MATCH(L$4,NOUVEAUX!$A$4:$L$4,0)) -> KOUASSI | M10: =INDEX(NOUVEAUX!$A$4:$L$8,MATCH(VALUE($A10),NOUVEAUX!$A$4:$A$8,0),MATCH(M$4,NOUVEAUX!$A$4:$L$4,0)) -> PLAH MARIE | N10: =INDEX(NOUVEAUX!$A$4:$L$8,MATCH(VALUE($A10),NOUVEAUX!$A$4:$A$8,0),MATCH(N$4,NOUVEAUX!$A$4:$L$4,0)) -> F | O10: =INDEX(NOUVEAUX!$A$4:$L$8,MATCH(VALUE($A10),NOUVEAUX!$A$4:$A$8,0),MATCH(O$4,NOUVEAUX!$A$4:$L$4,0)) -> 55 17 60 80 | P10: =INDEX(NOUVEAUX!$A$4:$L$8,MATCH(VALUE($A10),NOUVEAUX!$A$4:$A$8,0),MATCH(P$4,NOUVEAUX!$A$4:$L$4,0)) -> COUTURE
A11: =TEXT(ROW(),"0000") -> 0011 | B11: =CONCATENATE(E11,G11,"/",A11,I11) -> 1A01/0011A | C11: 2014 | D11: ARDISMT_1e | E11: =VLOOKUP(D11,ARDSMT,2) -> 1A | F11: COMMERCE | G11: =VLOOKUP(F11,QTIER1,2) -> 01 | H11: Autres | I11: =VLOOKUP(H11,REPERES1,2) -> A | J11: Face Station Total | K11: PP | L11: OUATTARA | M11: FATOUMAN | N11: F | O11: 05 80 12 34 | P11: DIVERS
A12: =TEXT(ROW(),"0000") -> 0012 | B12: =CONCATENATE(E12,G12,"/",A12,I12) -> 1A01/0012A | C12: 2014 | D12: ARDISMT_1e | E12: =VLOOKUP(D12,ARDSMT,2) -> 1A | F12: COMMERCE | G12: =VLOOKUP(F12,QTIER1,2) -> 01 | H12: Autres | I12: =VLOOKUP(H12,REPERES1,2) -> A | J12: Face Station Total | K12: PP | L12: HAMISSOU | M12: GADO | N12: M | O12: 02 68 56 44 | P12: QUINCAILLERIE
A13: =TEXT(ROW(),"0000") -> 0013 | B13: =CONCATENATE(E13,G13,"/",A13,I13) -> 1A06/0013A | C13: 2018 | D13: ARDISMT_1e | E13: =VLOOKUP(D13,ARDSMT,2) -> 1A | F13: AGNIKRO_EXTENSION | G13: =VLOOKUP(F13,QTIER1,2) -> 06 | H13: Autres | I13: =VLOOKUP(H13,REPERES1,2) -> A | J13: NOUVEAU QUARTIER | K13: PP | L13: KOULOU | M13: JEANNETTE | N13: F | P13: TRESSE
A14: =TEXT(ROW(),"0000") -> 0014 | C14: =INDEX(NOUVEAUX!$A$4:$L$8,MATCH(VALUE($A14),NOUVEAUX!$A$4:$A$8,0),MATCH(C$4,NOUVEAUX!$A$4:$L$4,0)) -> 2019 | D14: =INDEX(NOUVEAUX!$A$4:$L$8,MATCH(VALUE($A14),NOUVEAUX!$A$4:$A$8,0),MATCH(D$4,NOUVEAUX!$A$4:$L$4,0)) -> ARDISMT_3è | F14: =INDEX(NOUVEAUX!$A$4:$L$8,MATCH(VALUE($A14),NOUVEAUX!$A$4:$A$8,0),MATCH(F$4,NOUVEAUX!$A$4:$L$4,0)) -> CAFETOU | H14: =INDEX(NOUVEAUX!$A$4:$L$8,MATCH(VALUE($A14),NOUVEAUX!$A$4:$A$8,0),MATCH(H$4,NOUVEAUX!$A$4:$L$4,0)) -> Autres | J14: =INDEX(NOUVEAUX!$A$4:$L$8,MATCH(VALUE($A14),NOUVEAUX!$A$4:$A$8,0),MATCH(J$4,NOUVEAUX!$A$4:$L$4,0)) -> CARREFOUR | K14: =INDEX(NOUVEAUX!$A$4:$L$8,MATCH(VALUE($A14),NOUVEAUX!$A$4:$A$8,0),MATCH(K$4,NOUVEAUX!$A$4:$L$4,0)) -> PP | L14: =INDEX(NOUVEAUX!$A$4:$L$8,MATCH(VALUE($A14),NOUVEAUX!$A$4:$A$8,0),MATCH(L$4,NOUVEAUX!$A$4:$L$4,0)) -> OUEDRAOGO | M14: =INDEX(NOUVEAUX!$A$4:$L$8,MATCH(VALUE($A14),NOUVEAUX!$A$4:$A$8,0),MATCH(M$4,NOUVEAUX!$A$4:$L$4,0)) -> SALIMATA | N14: =INDEX(NOUVEAUX!$A$4:$L$8,MATCH(VALUE($A14),NOUVEAUX!$A$4:$A$8,0),MATCH(N$4,NOUVEAUX!$A$4:$L$4,0)) -> F | O14: =INDEX(NOUVEAUX!$A$4:$L$8,MATCH(VALUE($A14),NOUVEAUX!$A$4:$A$8,0),MATCH(O$4,NOUVEAUX!$A$4:$L$4,0)) -> 42 32 90 14 | P14: =INDEX(NOUVEAUX!$A$4:$L$8,MATCH(VALUE($A14),NOUVEAUX!$A$4:$A$8,0),MATCH(P$4,NOUVEAUX!$A$4:$L$4,0)) -> DIVERS
A15: =TEXT(ROW(),"0000") -> 0015 | C15: =INDEX(NOUVEAUX!$A$4:$L$8,MATCH(VALUE($A15),NOUVEAUX!$A$4:$A$8,0),MATCH(C$4,NOUVEAUX!$A$4:$L$4,0)) -> 0 | D15: =INDEX(NOUVEAUX!$A$4:$L$8,MATCH(VALUE($A15),NOUVEAUX!$A$4:$A$8,0),MATCH(D$4,NOUVEAUX!$A$4:$L$4,0)) -> 0 | F15: =INDEX(NOUVEAUX!$A$4:$L$8,MATCH(VALUE($A15),NOUVEAUX!$A$4:$A$8,0),MATCH(F$4,NOUVEAUX!$A$4:$L$4,0)) -> 0 | H15: =INDEX(NOUVEAUX!$A$4:$L$8,MATCH(VALUE($A15),NOUVEAUX!$A$4:$A$8,0),MATCH(H$4,NOUVEAUX!$A$4:$L$4,0)) -> 0 | J15: =INDEX(NOUVEAUX!$A$4:$L$8,MATCH(VALUE($A15),NOUVEAUX!$A$4:$A$8,0),MATCH(J$4,NOUVEAUX!$A$4:$L$4,0)) -> 0 | K15: =INDEX(NOUVEAUX!$A$4:$L$8,MATCH(VALUE($A15),NOUVEAUX!$A$4:$A$8,0),MATCH(K$4,NOUVEAUX!$A$4:$L$4,0)) -> 0 | L15: =INDEX(NOUVEAUX!$A$4:$L$8,MATCH(VALUE($A15),NOUVEAUX!$A$4:$A$8,0),MATCH(L$4,NOUVEAUX!$A$4:$L$4,0)) -> 0 | M15: =INDEX(NOUVEAUX!$A$4:$L$8,MATCH(VALUE($A15),NOUVEAUX!$A$4:$A$8,0),MATCH(M$4,NOUVEAUX!$A$4:$L$4,0)) -> 0 | N15: =INDEX(NOUVEAUX!$A$4:$L$8,MATCH(VALUE($A15),NOUVEAUX!$A$4:$A$8,0),MATCH(N$4,NOUVEAUX!$A$4:$L$4,0)) -> 0 | O15: =INDEX(NOUVEAUX!$A$4:$L$8,MATCH(VALUE($A15),NOUVEAUX!$A$4:$A$8,0),MATCH(O$4,NOUVEAUX!$A$4:$L$4,0)) -> 0 | P15: =INDEX(NOUVEAUX!$A$4:$L$8,MATCH(VALUE($A15),NOUVEAUX!$A$4:$A$8,0),MATCH(P$4,NOUVEAUX!$A$4:$L$4,0)) -> 0
A16: =TEXT(ROW(),"0000") -> 0016 | B16: =CONCATENATE(E16,G16,"/",A16,I16) -> 2A07/0016A | C16: 2018 | D16: ARDISMT_2è | E16: =VLOOKUP(D16,ARDSMT,2) -> 2A | F16: DIOULAKRO_2 | G16: =VLOOKUP(F16,QTIER1,2) -> 07 | H16: Autres | I16: =VLOOKUP(H16,REPERES1,2) -> A | J16: GRANDE VOIE | K16: PP | L16: TANOH | M16: KOBENAN | N16: M

Sheet NOUVEAUX
B3: 1 | C3: 2 | D3: 3 | E3: 4 | F3: 5 | G3: 6 | H3: 7 | I3: 8 | J3: 9 | K3: 10 | L3: 11
A4: N° D’ORDRE | B4: ANNEE | C4: ARDISMT | D4: QUARTIER | E4: REPERE | F4: LOCALISATION | G4: TYPE PM/PP | H4: NOM | I4: PRENOMS | J4: SEXE | K4: TELEPH | L4: PREST-ACTIV 1
A5: 7 | B5: 2014 | C5: ARDISMT_1e | D5: COMMERCE | E5: Autres | F5: PLATE FORME | G5: PP | H5: ZERBO 1 | I5: SEYDOU | J5: M | K5: 05 52 04 90 | L5: VENTE DE CORDE
A6: 10 | B6: 2014 | C6: ARDISMT_1e | D6: AGNIKRO | E6: Autres | F6: Nouvelle Voie | G6: PP | H6: KOUASSI | I6: PLAH MARIE | J6: F | K6: 55 17 60 80 | L6: COUTURE
A7: 14 | B7: 2019 | C7: ARDISMT_3è | D7: CAFETOU | E7: Autres | F7: CARREFOUR | G7: PP | H7: OUEDRAOGO | I7: SALIMATA | J7: F | K7: 42 32 90 14 | L7: DIVERS
A8: 15
