Workbook

Sheet Synthèse Tracts
B4: PLANNING DES TRACTS/OP CONFIRMES 2018
B7: JANVIER | C7: FEVRIER | D7: MARS | E7: AVRIL | F7: MAI | G7: JUIN | H7: JUILLET | I7: AOUT | J7: SEPTEMBRE | K7: OCTOBRE | L7: NOVEMBRE | M7: DECEMBRE
A8: APEX | B8: {=IFERROR(INDEX('Calendrier Tracts'!$A$12:$E$17,MATCH($A8&B$7,'Calendrier Tracts'!$A$12:$A$17&'Calendrier Tracts'!$C$12:$C$17,0),5),"")} | C8: {=IFERROR(INDEX('Calendrier Tracts'!$A$12:$E$17,MATCH($A8&C$7,'Calendrier Tracts'!$A$12:$A$17&'Calendrier Tracts'!$C$12:$C$17,0),5),"")} | D8: {=IFERROR(INDEX('Calendrier Tracts'!$A$12:$E$17,MATCH($A8&D$7,'Calendrier Tracts'!$A$12:$A$17&'Calendrier Tracts'!$C$12:$C$17,0),5),"")} -> du 12/03/2018 au 17/03/2018 produits : j0311-j0312 | E8: {=IFERROR(INDEX('Calendrier Tracts'!$A$12:$E$17,MATCH($A8&E$7,'Calendrier Tracts'!$A$12:$A$17&'Calendrier Tracts'!$C$12:$C$17,0),5),"")} | F8: {=IFERROR(INDEX('Calendrier Tracts'!$A$12:$E$17,MATCH($A8&F$7,'Calendrier Tracts'!$A$12:$A$17&'Calendrier Tracts'!$C$12:$C$17,0),5),"")} | G8: {=IFERROR(INDEX('Calendrier Tracts'!$A$12:$E$17,MATCH($A8&G$7,'Calendrier Tracts'!$A$12:$A$17&'Calendrier Tracts'!$C$12:$C$17,0),5),"")} | H8: {=IFERROR(INDEX('Calendrier Tracts'!$A$12:$E$17,MATCH($A8&H$7,'Calendrier Tracts'!$A$12:$A$17&'Calendrier Tracts'!$C$12:$C$17,0),5),"")} -> du 02/03/2018 au 08/03/2018 : j0312 | I8: {=IFERROR(INDEX('Calendrier Tracts'!$A$12:$E$17,MATCH($A8&I$7,'Calendrier Tracts'!$A$12:$A$17&'Calendrier Tracts'!$C$12:$C$17,0),5),"")} | ... M8: {=IFERROR(INDEX('Calendrier Tracts'!$A$12:$E$17,MATCH($A8&M$7,'Calendrier Tracts'!$A$12:$A$17&'Calendrier Tracts'!$C$12:$C$17,0),5),"")}
A9: BRICORAMA | B9: {=IFERROR(INDEX('Calendrier Tracts'!$A$12:$E$17,MATCH($A9&B$7,'Calendrier Tracts'!$A$12:$A$17&'Calendrier Tracts'!$C$12:$C$17,0),5),"")} | C9: {=IFERROR(INDEX('Calendrier Tracts'!$A$12:$E$17,MATCH($A9&C$7,'Calendrier Tracts'!$A$12:$A$17&'Calendrier Tracts'!$C$12:$C$17,0),5),"")} | D9: {=IFERROR(INDEX('Calendrier Tracts'!$A$12:$E$17,MATCH($A9&D$7,'Calendrier Tracts'!$A$12:$A$17&'Calendrier Tracts'!$C$12:$C$17,0),5),"")} | E9: {=IFERROR(INDEX('Calendrier Tracts'!$A$12:$E$17,MATCH($A9&E$7,'Calendrier Tracts'!$A$12:$A$17&'Calendrier Tracts'!$C$12:$C$17,0),5),"")} -> du 22/04/2018 au 26/04/2018 : j0313 | F9: {=IFERROR(INDEX('Calendrier Tracts'!$A$12:$E$17,MATCH($A9&F$7,'Calendrier Tracts'!$A$12:$A$17&'Calendrier Tracts'!$C$12:$C$17,0),5),"")} | G9: {=IFERROR(INDEX('Calendrier Tracts'!$A$12:$E$17,MATCH($A9&G$7,'Calendrier Tracts'!$A$12:$A$17&'Calendrier Tracts'!$C$12:$C$17,0),5),"")} | H9: {=IFERROR(INDEX('Calendrier Tracts'!$A$12:$E$17,MATCH($A9&H$7,'Calendrier Tracts'!$A$12:$A$17&'Calendrier Tracts'!$C$12:$C$17,0),5),"")} | I9: {=IFERROR(INDEX('Calendrier Tracts'!$A$12:$E$17,MATCH($A9&I$7,'Calendrier Tracts'!$A$12:$A$17&'Calendrier Tracts'!$C$12:$C$17,0),5),"")} | ... M9: {=IFERROR(INDEX('Calendrier Tracts'!$A$12:$E$17,MATCH($A9&M$7,'Calendrier Tracts'!$A$12:$A$17&'Calendrier Tracts'!$C$12:$C$17,0),5),"")}
A10: TRUFFAUT
A11: GALEC / LECLERC
A12: MR BRICOLAGE
A13: Amis Vert
A14: FRANCE RURALE | B14: {=IFERROR(INDEX('Calendrier Tracts'!$A$12:$E$17,MATCH($A14&B$7,'Calendrier Tracts'!$A$12:$A$17&'Calendrier Tracts'!$C$12:$C$17,0),5),"")} | C14: {=IFERROR(INDEX('Calendrier Tracts'!$A$12:$E$17,MATCH($A14&C$7,'Calendrier Tracts'!$A$12:$A$17&'Calendrier Tracts'!$C$12:$C$17,0),5),"")} | D14: {=IFERROR(INDEX('Calendrier Tracts'!$A$12:$E$17,MATCH($A14&D$7,'Calendrier Tracts'!$A$12:$A$17&'Calendrier Tracts'!$C$12:$C$17,0),5),"")} | E14: {=IFERROR(INDEX('Calendrier Tracts'!$A$12:$E$17,MATCH($A14&E$7,'Calendrier Tracts'!$A$12:$A$17&'Calendrier Tracts'!$C$12:$C$17,0),5),"")} | F14: {=IFERROR(INDEX('Calendrier Tracts'!$A$12:$E$17,MATCH($A14&F$7,'Calendrier Tracts'!$A$12:$A$17&'Calendrier Tracts'!$C$12:$C$17,0),5),"")} | G14: {=IFERROR(INDEX('Calendrier Tracts'!$A$12:$E$17,MATCH($A14&G$7,'Calendrier Tracts'!$A$12:$A$17&'Calendrier Tracts'!$C$12:$C$17,0),5),"")} | H14: {=IFERROR(INDEX('Calendrier Tracts'!$A$12:$E$17,MATCH($A14&H$7,'Calendrier Tracts'!$A$12:$A$17&'Calendrier Tracts'!$C$12:$C$17,0),5),"")} | I14: {=IFERROR(INDEX('Calendrier Tracts'!$A$12:$E$17,MATCH($A14&I$7,'Calendrier Tracts'!$A$12:$A$17&'Calendrier Tracts'!$C$12:$C$17,0),5),"")} | ... M14: {=IFERROR(INDEX('Calendrier Tracts'!$A$12:$E$17,MATCH($A14&M$7,'Calendrier Tracts'!$A$12:$A$17&'Calendrier Tracts'!$C$12:$C$17,0),5),"")} -> du 07/12/2018 au 11/12/2018 : J0314
A15: KIRIEL
A16: GAMM VERT
A17: JDEA
A18: JARDILAND
A19: MAXI ZOO

Sheet Calendrier Tracts
A11: centrale | B11: date | C11: mois | D11: produit | E11: concatener
A12: APEX | B12: du 12/03/2018 au 17/03/2018 | C12: MARS | D12: j0311-j0312 | E12: =CONCATENATE(B12," produits : ",D12) -> du 12/03/2018 au 17/03/2018 produits : j0311-j0312
A13: APEX | B13: du 02/03/2018 au 08/03/2018 | C13: JUILLET | D13: j0312 | E13: =CONCATENATE(B13," : ",D13) -> du 02/03/2018 au 08/03/2018 : j0312
A14: BRICORAMA | B14: du 22/04/2018 au 26/04/2018 | C14: AVRIL | D14: j0313 | E14: =CONCATENATE(B14," : ",D14) -> du 22/04/2018 au 26/04/2018 : j0313
A15: FRANCE RURALE | B15: du 07/12/2018 au 11/12/2018 | C15: DECEMBRE | D15: J0314 | E15: =CONCATENATE(B15," : ",D15) -> du 07/12/2018 au 11/12/2018 : J0314
