Workbook
Name Services: Horaires!$A$3:$A$10

Sheet Suivi
A1: Calcul du temps travaillé en Minutes excluant les jours fériés, les dimanches et en fonction de la plage horaire de travail de chaque équipe
E3: Début | F3: Fin | G3: Différence
A4: EQUIPE | B4: RECOUVREMENT | E4: 42155.001 | F4: 42155.315 | G4: =IF(OR(E4="",F4=""),"",SUMPRODUCT(INT((WEEKDAY(E4-Horaires!S$2:S$8)+INT(F4)-INT(E4))/7),Horaires!V$2:V$8)-SUMPRODUCT((Fériés!C$1:C$10>E4)*(Fériés!C$1:C$10< F4),LOOKUP(WEEKDAY(Fériés!C$1:C$10),Horaires!S$2:V$8))+LOOKUP(WEEKDAY(E4),Horaires!S$2:T$8)-LOOKUP(WEEKDAY(F4),Horaires!S$2:U$8))+(MOD(F4,1)-MOD(E4,1))*LOOKUP(WEEKDAY(E4),Horaires!S$2:W$8) -> 0
A5: Total Temps Travaillé | B5: =SUM(G4:G11) -> 0 | G5: =IF(OR(E5="",F5=""),"",SUMPRODUCT(INT((WEEKDAY(E5-Horaires!S$2:S$8)+INT(F5)-INT(E5))/7),Horaires!V$2:V$8)-SUMPRODUCT((Fériés!C$1:C$10>E5)*(Fériés!C$1:C$10< F5),LOOKUP(WEEKDAY(Fériés!C$1:C$10),Horaires!S$2:V$8))+MOD(F5,1)-MOD(E5,1)+LOOKUP(WEEKDAY(E5),Horaires!S$2:T$8)-LOOKUP(WEEKDAY(F5),Horaires!S$2:U$8))
G6: =IF(OR(E6="",F6=""),"",SUMPRODUCT(INT((WEEKDAY(E6-Horaires!S$2:S$8)+INT(F6)-INT(E6))/7),Horaires!V$2:V$8)-SUMPRODUCT((Fériés!C$1:C$10>E6)*(Fériés!C$1:C$10< F6),LOOKUP(WEEKDAY(Fériés!C$1:C$10),Horaires!S$2:V$8))+MOD(F6,1)-MOD(E6,1)+LOOKUP(WEEKDAY(E6),Horaires!S$2:T$8)-LOOKUP(WEEKDAY(F6),Horaires!S$2:U$8))
G7: =IF(OR(E7="",F7=""),"",SUMPRODUCT(INT((WEEKDAY(E7-Horaires!S$2:S$8)+INT(F7)-INT(E7))/7),Horaires!V$2:V$8)-SUMPRODUCT((Fériés!C$1:C$10>E7)*(Fériés!C$1:C$10< F7),LOOKUP(WEEKDAY(Fériés!C$1:C$10),Horaires!S$2:V$8))+MOD(F7,1)-MOD(E7,1)+LOOKUP(WEEKDAY(E7),Horaires!S$2:T$8)-LOOKUP(WEEKDAY(F7),Horaires!S$2:U$8))
G8: =IF(OR(E8="",F8=""),"",SUMPRODUCT(INT((WEEKDAY(E8-Horaires!S$2:S$8)+INT(F8)-INT(E8))/7),Horaires!V$2:V$8)-SUMPRODUCT((Fériés!C$1:C$10>E8)*(Fériés!C$1:C$10< F8),LOOKUP(WEEKDAY(Fériés!C$1:C$10),Horaires!S$2:V$8))+MOD(F8,1)-MOD(E8,1)+LOOKUP(WEEKDAY(E8),Horaires!S$2:T$8)-LOOKUP(WEEKDAY(F8),Horaires!S$2:U$8))
G9: =IF(OR(E9="",F9=""),"",SUMPRODUCT(INT((WEEKDAY(E9-Horaires!S$2:S$8)+INT(F9)-INT(E9))/7),Horaires!V$2:V$8)-SUMPRODUCT((Fériés!C$1:C$10>E9)*(Fériés!C$1:C$10< F9),LOOKUP(WEEKDAY(Fériés!C$1:C$10),Horaires!S$2:V$8))+MOD(F9,1)-MOD(E9,1)+LOOKUP(WEEKDAY(E9),Horaires!S$2:T$8)-LOOKUP(WEEKDAY(F9),Horaires!S$2:U$8))
G10: =IF(OR(E10="",F10=""),"",SUMPRODUCT(INT((WEEKDAY(E10-Horaires!S$2:S$8)+INT(F10)-INT(E10))/7),Horaires!V$2:V$8)-SUMPRODUCT((Fériés!C$1:C$10>E10)*(Fériés!C$1:C$10< F10),LOOKUP(WEEKDAY(Fériés!C$1:C$10),Horaires!S$2:V$8))+MOD(F10,1)-MOD(E10,1)+LOOKUP(WEEKDAY(E10),Horaires!S$2:T$8)-LOOKUP(WEEKDAY(F10),Horaires!S$2:U$8))
G11: =IF(OR(E11="",F11=""),"",SUMPRODUCT(INT((WEEKDAY(E11-Horaires!S$2:S$8)+INT(F11)-INT(E11))/7),Horaires!V$2:V$8)-SUMPRODUCT((Fériés!C$1:C$10>E11)*(Fériés!C$1:C$10< F11),LOOKUP(WEEKDAY(Fériés!C$1:C$10),Horaires!S$2:V$8))+MOD(F11,1)-MOD(E11,1)+LOOKUP(WEEKDAY(E11),Horaires!S$2:T$8)-LOOKUP(WEEKDAY(F11),Horaires!S$2:U$8))

Sheet Horaires
A1: Semaine | B1: Dimanche | D1: Lundi | F1: Mardi | H1: Mercredi | J1: Jeudi | L1: Vendredi | N1: Samedi | R1: =Suivi!B4 -> RECOUVREMENT | S1: WeekDay | T1: Début | U1: Fin | V1: Delta | W1: Mod
A2: Services | B2: Début | C2: Fin | D2: Début | E2: Fin | F2: Début | G2: Fin | H2: Début | I2: Fin | J2: Début | K2: Fin | L2: Début | M2: Fin | N2: Début | O2: Fin | R2: Dimanche | S2: 1 | T2: =INDEX($A$1:$O$10,MATCH($R$1,$A$1:$A$10,0),MATCH($R2,$A$1:$O$1,0)+IF(COLUMN()=21,1,0)) -> 0 | U2: =INDEX($A$1:$O$10,MATCH($R$1,$A$1:$A$10,0),MATCH($R2,$A$1:$O$1,0)+IF(COLUMN()=21,1,0)) -> 0 | V2: =U2-T2 -> 0 | W2: =IF(V2=0,0,1) -> 0
A3: IT | D3: 0.33333333 | E3: 0.83333333 | F3: =D3 -> 0.33333333 | G3: =E3 -> 0.83333333 | H3: =D3 -> 0.33333333 | I3: =E3 -> 0.83333333 | J3: =D3 -> 0.33333333 | K3: =E3 -> 0.83333333 | L3: =D3 -> 0.33333333 | M3: =E3 -> 0.83333333 | N3: 0.33333333 | O3: 0.66666667 | R3: Lundi | S3: 2 | T3: =INDEX($A$1:$O$10,MATCH($R$1,$A$1:$A$10,0),MATCH($R3,$A$1:$O$1,0)+IF(COLUMN()=21,1,0)) -> 0.33333333 | U3: =INDEX($A$1:$O$10,MATCH($R$1,$A$1:$A$10,0),MATCH($R3,$A$1:$O$1,0)+IF(COLUMN()=21,1,0)) -> 0.75 | V3: =U3-T3 -> 0.41666667 | W3: =IF(V3=0,0,1) -> 1
A4: FINANCE | D4: 0.35416667 | E4: 0.6875 | F4: =D4 -> 0.35416667 | G4: =E4 -> 0.6875 | H4: =D4 -> 0.35416667 | I4: =E4 -> 0.6875 | J4: =D4 -> 0.35416667 | K4: =E4 -> 0.6875 | L4: =D4 -> 0.35416667 | M4: =E4 -> 0.6875 | R4: Mardi | S4: 3 | T4: =INDEX($A$1:$O$10,MATCH($R$1,$A$1:$A$10,0),MATCH($R4,$A$1:$O$1,0)+IF(COLUMN()=21,1,0)) -> 0.33333333 | U4: =INDEX($A$1:$O$10,MATCH($R$1,$A$1:$A$10,0),MATCH($R4,$A$1:$O$1,0)+IF(COLUMN()=21,1,0)) -> 0.75 | V4: =U4-T4 -> 0.41666667 | W4: =IF(V4=0,0,1) -> 1
A5: TELECOM | D5: 0.29166667 | E5: 0.83333333 | F5: =D5 -> 0.29166667 | G5: =E5 -> 0.83333333 | H5: =D5 -> 0.29166667 | I5: =E5 -> 0.83333333 | J5: =D5 -> 0.29166667 | K5: =E5 -> 0.83333333 | L5: =D5 -> 0.29166667 | M5: =E5 -> 0.83333333 | N5: 0.33333333 | O5: 0.70833333 | R5: Mercredi | S5: 4 | T5: =INDEX($A$1:$O$10,MATCH($R$1,$A$1:$A$10,0),MATCH($R5,$A$1:$O$1,0)+IF(COLUMN()=21,1,0)) -> 0.33333333 | U5: =INDEX($A$1:$O$10,MATCH($R$1,$A$1:$A$10,0),MATCH($R5,$A$1:$O$1,0)+IF(COLUMN()=21,1,0)) -> 0.75 | V5: =U5-T5 -> 0.41666667 | W5: =IF(V5=0,0,1) -> 1
A6: COMPTA | D6: 0.33333333 | E6: 0.83333333 | F6: =D6 -> 0.33333333 | G6: =E6 -> 0.83333333 | H6: =D6 -> 0.33333333 | I6: =E6 -> 0.83333333 | J6: =D6 -> 0.33333333 | K6: =E6 -> 0.83333333 | L6: =D6 -> 0.33333333 | M6: =E6 -> 0.83333333 | N6: 0.33333333 | O6: 0.66666667 | R6: Jeudi | S6: 5 | T6: =INDEX($A$1:$O$10,MATCH($R$1,$A$1:$A$10,0),MATCH($R6,$A$1:$O$1,0)+IF(COLUMN()=21,1,0)) -> 0.33333333 | U6: =INDEX($A$1:$O$10,MATCH($R$1,$A$1:$A$10,0),MATCH($R6,$A$1:$O$1,0)+IF(COLUMN()=21,1,0)) -> 0.83333333 | V6: =U6-T6 -> 0.5 | W6: =IF(V6=0,0,1) -> 1
A7: RH | D7: 0.35416667 | E7: 0.6875 | F7: =D7 -> 0.35416667 | G7: =E7 -> 0.6875 | H7: =D7 -> 0.35416667 | I7: =E7 -> 0.6875 | J7: =D7 -> 0.35416667 | K7: =E7 -> 0.6875 | L7: =D7 -> 0.35416667 | M7: =E7 -> 0.6875 | R7: Vendredi | S7: 6 | T7: =INDEX($A$1:$O$10,MATCH($R$1,$A$1:$A$10,0),MATCH($R7,$A$1:$O$1,0)+IF(COLUMN()=21,1,0)) -> 0.33333333 | U7: =INDEX($A$1:$O$10,MATCH($R$1,$A$1:$A$10,0),MATCH($R7,$A$1:$O$1,0)+IF(COLUMN()=21,1,0)) -> 0.83333333 | V7: =U7-T7 -> 0.5 | W7: =IF(V7=0,0,1) -> 1
A8: COM | D8: 0.33333333 | E8: 0.75 | F8: =D8 -> 0.33333333 | G8: =E8 -> 0.75 | H8: =D8 -> 0.33333333 | I8: =E8 -> 0.75 | J8: =D8 -> 0.33333333 | K8: =E8 -> 0.75 | L8: =D8 -> 0.33333333 | M8: =E8 -> 0.75 | R8: Samedi | S8: 7 | T8: =INDEX($A$1:$O$10,MATCH($R$1,$A$1:$A$10,0),MATCH($R8,$A$1:$O$1,0)+IF(COLUMN()=21,1,0)) -> 0 | U8: =INDEX($A$1:$O$10,MATCH($R$1,$A$1:$A$10,0),MATCH($R8,$A$1:$O$1,0)+IF(COLUMN()=21,1,0)) -> 0 | V8: =U8-T8 -> 0 | W8: =IF(V8=0,0,1) -> 0
A9: SECURITE | D9: 0.33333333 | E9: 0.70833333 | F9: =D9 -> 0.33333333 | G9: =E9 -> 0.70833333 | H9: =D9 -> 0.33333333 | I9: =E9 -> 0.70833333 | J9: =D9 -> 0.33333333 | K9: =E9 -> 0.70833333 | L9: =D9 -> 0.33333333 | M9: =E9 -> 0.70833333
A10: RECOUVREMENT | D10: 0.33333333 | E10: 0.75 | F10: =D10 -> 0.33333333 | G10: =E10 -> 0.75 | H10: =D10 -> 0.33333333 | I10: =E10 -> 0.75 | J10: =D10 -> 0.33333333 | K10: 0.83333333 | L10: =J10 -> 0.33333333 | M10: =K10 -> 0.83333333
A15: Remarques : | B15: Les cellules qui apparaissent en bleu sont les cellules où l'on saisit les horaires …
B17: Les cellules qui apparaissent en noir sont les cellules qui reprennent les horaires saisis auparavant …
B19: Les cellules qui apparaissent vides ou avec 00:00 indiquent pas d'horaires … donc pas prises en compte …
B21: Le tableau situé dans la plage R1:V18 permet d'ajuster individuellement les jours pour chaque équipe …
B23: Dans la feuille Suivi, la cellule B4 permet de choisir parmi toutes les équipes
B25: Dans la feuille Fériés, la colonne C permet de spécifier les jours fériés …
B27: actuellement, dans la formule, la plage qui exclut les jours fériés est | I27: Fériés!C$1:C$10 | K27: à modifier suivant les besoins …

Sheet Fériés
A1: FÊTE DU TRAVAIL | B1: Lundi, 1er septembre 2014 | C1: =DATE(2014,9,1) -> 41883
A2: JOUR DE L’ACTION DE GRÂCES | B2: Lundi, 13 octobre 2014 | C2: =DATE(2014,10,13) -> 41925
A3: JOUR DE NOËL | B3: Jeudi, 25 décembre 2014 | C3: =DATE(2014,12,25) -> 41998
A4: LENDEMAIN DE NOËL | B4: Vendredi, 26 décembre 2014 | C4: =DATE(2014,12,26) -> 41999
