Workbook
Name liste: 'JANVIER VENTES'!$B$2:$B$15

Sheet JANVIER VENTES
A1: jour | B1: articles | C1: Qté | D1: PV U | E1: PV TTC | F1: PV HT
A2: 1 | B2: xxxx | C2: 3 | D2: 10 | E2: =D2*C2 -> 30 | F2: =E2/1.2 -> 25
A3: 2 | B3: xxxx | C3: 4 | D3: 10 | E3: =D3*C3 -> 40 | F3: =E3/1.2 -> 33.333333
A4: 2 | B4: yyyy | C4: 1 | D4: 12 | E4: =D4*C4 -> 12 | F4: =E4/1.2 -> 10
A5: 3 | B5: zzzz | C5: 1 | D5: 13 | E5: =D5*C5 -> 13 | F5: =E5/1.2 -> 10.833333
A6: 4 | B6: aaaa | C6: 1 | D6: 15 | E6: =D6*C6 -> 15 | F6: =E6/1.2 -> 12.5
A7: 5 | B7: xxxx | C7: 2 | D7: 10 | E7: =D7*C7 -> 20 | F7: =E7/1.2 -> 16.666667
A8: 6 | B8: aaaa | C8: 3 | D8: 15 | E8: =D8*C8 -> 45 | F8: =E8/1.2 -> 37.5
A9: 7 | B9: bbbb | C9: 1 | D9: 8 | E9: =D9*C9 -> 8 | F9: =E9/1.2 -> 6.6666667
A10: 7 | B10: cccc | C10: 1 | D10: 7 | E10: =D10*C10 -> 7 | F10: =E10/1.2 -> 5.8333333
A11: 8 | B11: yyyy | C11: 2 | D11: 12 | E11: =D11*C11 -> 24 | F11: =E11/1.2 -> 20
A12: 8 | B12: aaaa | C12: 1 | D12: 15 | E12: =D12*C12 -> 15 | F12: =E12/1.2 -> 12.5
A13: 9 | B13: xxxx | C13: 1 | D13: 10 | E13: =D13*C13 -> 10 | F13: =E13/1.2 -> 8.3333333
... A15: 9 | B15: dddd | C15: 1 | D15: 10 | E15: =D15*C15 -> 10 | F15: =E15/1.2 -> 8.3333333
A16: 9 | E16: =D16*C16 -> 0 | F16: =E16/1.2 -> 0
A17: 10 | E17: =D17*C17 -> 0 | F17: =E17/1.2 -> 0
A18: 10 | E18: =D18*C18 -> 0 | F18: =E18/1.2 -> 0
A19: 11 | E19: =D19*C19 -> 0 | F19: =E19/1.2 -> 0
A20: 11 | E20: =D20*C20 -> 0 | F20: =E20/1.2 -> 0
A21: 11 | E21: =D21*C21 -> 0 | F21: =E21/1.2 -> 0
A22: 11 | E22: =D22*C22 -> 0 | F22: =E22/1.2 -> 0
A23: 12 | E23: =D23*C23 -> 0 | F23: =E23/1.2 -> 0

Sheet JANVIER RECAP
B3: ARTICLES | C3: QTE | D3: MONTANT TTC | E3: %
B4: {=IFERROR(INDEX(liste,MATCH(0,COUNTIF($B$3:B3,liste),0)),"")} -> xxxx | C4: =SUMPRODUCT((liste='JANVIER RECAP'!$B4)*('JANVIER VENTES'!$C$2:$C$15)) -> 10 | D4: =SUMPRODUCT((liste='JANVIER RECAP'!$B4)*('JANVIER VENTES'!$E$2:$E$15)) -> 100 | E4: =D23/D4 -> 2.52
B5: {=IFERROR(INDEX(liste,MATCH(0,COUNTIF($B$3:B4,liste),0)),"")} -> yyyy | C5: =SUMPRODUCT((liste='JANVIER RECAP'!B5)*('JANVIER VENTES'!C3:C16)) -> 2 | D5: =SUMPRODUCT((liste='JANVIER RECAP'!$B5)*('JANVIER VENTES'!$E$2:$E$15)) -> 36
B6: {=IFERROR(INDEX(liste,MATCH(0,COUNTIF($B$3:B5,liste),0)),"")} -> zzzz | C6: =SUMPRODUCT((liste='JANVIER RECAP'!B6)*('JANVIER VENTES'!C4:C17)) -> 2 | D6: =SUMPRODUCT((liste='JANVIER RECAP'!$B6)*('JANVIER VENTES'!$E$2:$E$15)) -> 13
B7: {=IFERROR(INDEX(liste,MATCH(0,COUNTIF($B$3:B6,liste),0)),"")} -> aaaa | C7: =SUMPRODUCT((liste='JANVIER RECAP'!B7)*('JANVIER VENTES'!C5:C18)) -> 4 | D7: =SUMPRODUCT((liste='JANVIER RECAP'!$B7)*('JANVIER VENTES'!$E$2:$E$15)) -> 75
B8: {=IFERROR(INDEX(liste,MATCH(0,COUNTIF($B$3:B7,liste),0)),"")} -> bbbb | C8: =SUMPRODUCT((liste='JANVIER RECAP'!B8)*('JANVIER VENTES'!C6:C19)) -> 1 | D8: =SUMPRODUCT((liste='JANVIER RECAP'!$B8)*('JANVIER VENTES'!$E$2:$E$15)) -> 11
B9: {=IFERROR(INDEX(liste,MATCH(0,COUNTIF($B$3:B8,liste),0)),"")} -> cccc | C9: =SUMPRODUCT((liste='JANVIER RECAP'!B9)*('JANVIER VENTES'!C7:C20)) -> 1 | D9: =SUMPRODUCT((liste='JANVIER RECAP'!$B9)*('JANVIER VENTES'!$E$2:$E$15)) -> 7
B10: {=IFERROR(INDEX(liste,MATCH(0,COUNTIF($B$3:B9,liste),0)),"")} -> dddd | C10: =SUMPRODUCT((liste='JANVIER RECAP'!B10)*('JANVIER VENTES'!C8:C21)) -> 0 | D10: =SUMPRODUCT((liste='JANVIER RECAP'!$B10)*('JANVIER VENTES'!$E$2:$E$15)) -> 10
B11: {=IFERROR(INDEX(liste,MATCH(0,COUNTIF($B$3:B10,liste),0)),"")}
B12: {=IFERROR(INDEX(liste,MATCH(0,COUNTIF($B$3:B11,liste),0)),"")}
B13: {=IFERROR(INDEX(liste,MATCH(0,COUNTIF($B$3:B12,liste),0)),"")}
B14: {=IFERROR(INDEX(liste,MATCH(0,COUNTIF($B$3:B13,liste),0)),"")}
B15: {=IFERROR(INDEX(liste,MATCH(0,COUNTIF($B$3:B14,liste),0)),"")}
B16: {=IFERROR(INDEX(liste,MATCH(0,COUNTIF($B$3:B15,liste),0)),"")}
B17: {=IFERROR(INDEX(liste,MATCH(0,COUNTIF($B$3:B16,liste),0)),"")}
B18: {=IFERROR(INDEX(liste,MATCH(0,COUNTIF($B$3:B17,liste),0)),"")}
B19: {=IFERROR(INDEX(liste,MATCH(0,COUNTIF($B$3:B18,liste),0)),"")}
B20: {=IFERROR(INDEX(liste,MATCH(0,COUNTIF($B$3:B19,liste),0)),"")}
B21: {=IFERROR(INDEX(liste,MATCH(0,COUNTIF($B$3:B20,liste),0)),"")}
B22: {=IFERROR(INDEX(liste,MATCH(0,COUNTIF($B$3:B21,liste),0)),"")}
B23: TOTAL | D23: =SUM(D4:D22) -> 252
