Workbook

Sheet Feuil1
A1: NOM | B1: PRENOM | C1: TELEPHONE
A2: Dupont | B2: jean | C2: 122
A3: Durand | B3: michel | C3: 123
A4: Martin | B4: patrick | C4: 124

Sheet Feuil2
A1: =Feuil1!A1 -> NOM | B1: =Feuil1!B1 -> PRENOM | C1: =Feuil1!C1 -> TELEPHONE
A2: =Feuil1!A2 -> Dupont | B2: =Feuil1!B2 -> jean | C2: =Feuil1!C2 -> 122
A3: =Feuil1!A3 -> Durand | B3: =Feuil1!B3 -> michel | C3: =Feuil1!C3 -> 123
A4: =Feuil1!A4 -> Martin | B4: =Feuil1!B4 -> patrick | C4: =Feuil1!C4 -> 124
A5: =Feuil1!A5 -> 0 | B5: =Feuil1!B5 -> 0 | C5: =Feuil1!C5 -> 0
A6: =Feuil1!A6 -> 0 | B6: =Feuil1!B6 -> 0 | C6: =Feuil1!C6 -> 0
A7: =Feuil1!A7 -> 0 | B7: =Feuil1!B7 -> 0 | C7: =Feuil1!C7 -> 0
A8: =Feuil1!A8 -> 0 | B8: =Feuil1!B8 -> 0 | C8: =Feuil1!C8 -> 0
A9: =Feuil1!A9 -> 0 | B9: =Feuil1!B9 -> 0 | C9: =Feuil1!C9 -> 0
A10: =Feuil1!A10 -> 0 | B10: =Feuil1!B10 -> 0 | C10: =Feuil1!C10 -> 0
A11: =Feuil1!A11 -> 0 | B11: =Feuil1!B11 -> 0 | C11: =Feuil1!C11 -> 0
A12: =Feuil1!A12 -> 0 | B12: =Feuil1!B12 -> 0 | C12: =Feuil1!C12 -> 0
... A18: =Feuil1!A18 -> 0 | B18: =Feuil1!B18 -> 0 | C18: =Feuil1!C18 -> 0
