Workbook

Sheet Feuil1
C1: #
A2: 110 | B2: {=INDEX(Feuil2!$B$1:$B$13,SMALL(IF(Feuil2!$A$1:$A$13=A2,ROW(Feuil2!$A$1:$A$13),""),C2),1)} -> 1000000 | C2: =COUNTIF(Feuil2!$A$1:$A$13,Feuil1!A2) -> 1
A3: 115 | B3: {=INDEX(Feuil2!$B$1:$B$13,SMALL(IF(Feuil2!$A$1:$A$13=A3,ROW(Feuil2!$A$1:$A$13),""),C3),1)} -> 250000 | C3: =COUNTIF(Feuil2!$A$1:$A$13,Feuil1!A3) -> 1
A4: 125 | B4: {=INDEX(Feuil2!$B$1:$B$13,SMALL(IF(Feuil2!$A$1:$A$13=A4,ROW(Feuil2!$A$1:$A$13),""),C4),1)} -> 300000 | C4: =COUNTIF(Feuil2!$A$1:$A$13,Feuil1!A4) -> 1
A5: 132 | B5: {=INDEX(Feuil2!$B$1:$B$13,SMALL(IF(Feuil2!$A$1:$A$13=A5,ROW(Feuil2!$A$1:$A$13),""),C5),1)} -> 125000 | C5: =COUNTIF(Feuil2!$A$1:$A$13,Feuil1!A5) -> 1
A6: 145 | B6: {=INDEX(Feuil2!$B$1:$B$13,SMALL(IF(Feuil2!$A$1:$A$13=A6,ROW(Feuil2!$A$1:$A$13),""),C6),1)} -> 850000 | C6: =COUNTIF(Feuil2!$A$1:$A$13,Feuil1!A6) -> 1
A7: 146 | B7: {=INDEX(Feuil2!$B$1:$B$13,SMALL(IF(Feuil2!$A$1:$A$13=A7,ROW(Feuil2!$A$1:$A$13),""),C7),1)} -> 12000 | C7: =COUNTIF(Feuil2!$A$1:$A$13,Feuil1!A7) -> 1
A8: 147 | B8: {=INDEX(Feuil2!$B$1:$B$13,SMALL(IF(Feuil2!$A$1:$A$13=A8,ROW(Feuil2!$A$1:$A$13),""),C8),1)} -> 17000 | C8: =COUNTIF(Feuil2!$A$1:$A$13,Feuil1!A8) -> 1
A9: 148 | B9: {=INDEX(Feuil2!$B$1:$B$13,SMALL(IF(Feuil2!$A$1:$A$13=A9,ROW(Feuil2!$A$1:$A$13),""),C9),1)} -> 258000 | C9: 1
A10: 148 | B10: {=INDEX(Feuil2!$B$1:$B$13,SMALL(IF(Feuil2!$A$1:$A$13=A10,ROW(Feuil2!$A$1:$A$13),""),C10),1)} -> 362000 | C10: 2
A11: 148 | B11: {=INDEX(Feuil2!$B$1:$B$13,SMALL(IF(Feuil2!$A$1:$A$13=A11,ROW(Feuil2!$A$1:$A$13),""),C11),1)} -> 725000 | C11: 3
A12: 148 | B12: {=INDEX(Feuil2!$B$1:$B$13,SMALL(IF(Feuil2!$A$1:$A$13=A12,ROW(Feuil2!$A$1:$A$13),""),C12),1)} -> 18900 | C12: 4
A13: 152 | B13: {=INDEX(Feuil2!$B$1:$B$13,SMALL(IF(Feuil2!$A$1:$A$13=A13,ROW(Feuil2!$A$1:$A$13),""),C13),1)} -> 75000 | C13: =COUNTIF(Feuil2!$A$1:$A$13,Feuil1!A13) -> 1
A14: 160 | B14: {=INDEX(Feuil2!$B$1:$B$13,SMALL(IF(Feuil2!$A$1:$A$13=A14,ROW(Feuil2!$A$1:$A$13),""),C14),1)} -> 99000 | C14: =COUNTIF(Feuil2!$A$1:$A$13,Feuil1!A14) -> 1

Sheet Feuil2
A1: 110 | B1: 1000000
A2: 115 | B2: 250000
A3: 125 | B3: 300000
A4: 132 | B4: 125000
A5: 145 | B5: 850000
A6: 146 | B6: 12000
A7: 147 | B7: 17000
A8: 148 | B8: 258000
A9: 148 | B9: 362000
A10: 148 | B10: 725000
A11: 148 | B11: 18900
A12: 152 | B12: 75000
A13: 160 | B13: 99000
