Workbook

Sheet Feuil1
H1: Jean | K1: Pierre | N1: Marc
D2: Scores | G2: Pari | I2: pts | J2: Pari | L2: pts | M2: Pari | O2: pts
A3: Match 1 | B3: Nantes | C3: Marseille | D3: 1 | E3: 0 | G3: 1 | H3: 2 | I3: =INDEX(Règles!$C$1:$C$4,MATCH(IF(IF($D3>$E3,"Gd",IF($D3=$E3,"N","Pd"))=IF(G3>H3,"Gd",IF(G3=H3,"N","Pd")),"R","I"),Règles!$A$1:$A$4,0))+INDEX(Règles!$C$1:$C$4,MATCH(IF(AND(G3=$D3,H3=$E3),"S",IF(OR(G3=$D3,H3=$E3),"M","I")),Règles!$A$1:$A$4,0)) -> 1 | J3: 0 | K3: 1 | L3: =INDEX(Règles!$C$1:$C$4,MATCH(IF(IF($D3>$E3,"Gd",IF($D3=$E3,"N","Pd"))=IF(J3>K3,"Gd",IF(J3=K3,"N","Pd")),"R","I"),Règles!$A$1:$A$4,0))+INDEX(Règles!$C$1:$C$4,MATCH(IF(AND(J3=$D3,K3=$E3),"S",IF(OR(J3=$D3,K3=$E3),"M","I")),Règles!$A$1:$A$4,0)) -> 0 | M3: 1 | N3: 0 | O3: =INDEX(Règles!$C$1:$C$4,MATCH(IF(IF($D3>$E3,"Gd",IF($D3=$E3,"N","Pd"))=IF(M3>N3,"Gd",IF(M3=N3,"N","Pd")),"R","I"),Règles!$A$1:$A$4,0))+INDEX(Règles!$C$1:$C$4,MATCH(IF(AND(M3=$D3,N3=$E3),"S",IF(OR(M3=$D3,N3=$E3),"M","I")),Règles!$A$1:$A$4,0)) -> 10
A4: Match 2 | B4: Nice | C4: Paris | D4: 1 | E4: 3 | G4: 1 | H4: 1 | I4: =INDEX(Règles!$C$1:$C$4,MATCH(IF(IF($D4>$E4,"Gd",IF($D4=$E4,"N","Pd"))=IF(G4>H4,"Gd",IF(G4=H4,"N","Pd")),"R","I"),Règles!$A$1:$A$4,0))+INDEX(Règles!$C$1:$C$4,MATCH(IF(AND(G4=$D4,H4=$E4),"S",IF(OR(G4=$D4,H4=$E4),"M","I")),Règles!$A$1:$A$4,0)) -> 1 | J4: 0 | K4: 2 | L4: =INDEX(Règles!$C$1:$C$4,MATCH(IF(IF($D4>$E4,"Gd",IF($D4=$E4,"N","Pd"))=IF(J4>K4,"Gd",IF(J4=K4,"N","Pd")),"R","I"),Règles!$A$1:$A$4,0))+INDEX(Règles!$C$1:$C$4,MATCH(IF(AND(J4=$D4,K4=$E4),"S",IF(OR(J4=$D4,K4=$E4),"M","I")),Règles!$A$1:$A$4,0)) -> 5 | M4: 1 | N4: 2 | O4: =INDEX(Règles!$C$1:$C$4,MATCH(IF(IF($D4>$E4,"Gd",IF($D4=$E4,"N","Pd"))=IF(M4>N4,"Gd",IF(M4=N4,"N","Pd")),"R","I"),Règles!$A$1:$A$4,0))+INDEX(Règles!$C$1:$C$4,MATCH(IF(AND(M4=$D4,N4=$E4),"S",IF(OR(M4=$D4,N4=$E4),"M","I")),Règles!$A$1:$A$4,0)) -> 6
A5: Match 3 | B5: Bastia | C5: Reims | D5: 1 | E5: 2 | G5: 3 | H5: 0 | I5: =INDEX(Règles!$C$1:$C$4,MATCH(IF(IF($D5>$E5,"Gd",IF($D5=$E5,"N","Pd"))=IF(G5>H5,"Gd",IF(G5=H5,"N","Pd")),"R","I"),Règles!$A$1:$A$4,0))+INDEX(Règles!$C$1:$C$4,MATCH(IF(AND(G5=$D5,H5=$E5),"S",IF(OR(G5=$D5,H5=$E5),"M","I")),Règles!$A$1:$A$4,0)) -> 0 | J5: 1 | K5: 1 | L5: =INDEX(Règles!$C$1:$C$4,MATCH(IF(IF($D5>$E5,"Gd",IF($D5=$E5,"N","Pd"))=IF(J5>K5,"Gd",IF(J5=K5,"N","Pd")),"R","I"),Règles!$A$1:$A$4,0))+INDEX(Règles!$C$1:$C$4,MATCH(IF(AND(J5=$D5,K5=$E5),"S",IF(OR(J5=$D5,K5=$E5),"M","I")),Règles!$A$1:$A$4,0)) -> 1 | M5: 2 | N5: 0 | O5: =INDEX(Règles!$C$1:$C$4,MATCH(IF(IF($D5>$E5,"Gd",IF($D5=$E5,"N","Pd"))=IF(M5>N5,"Gd",IF(M5=N5,"N","Pd")),"R","I"),Règles!$A$1:$A$4,0))+INDEX(Règles!$C$1:$C$4,MATCH(IF(AND(M5=$D5,N5=$E5),"S",IF(OR(M5=$D5,N5=$E5),"M","I")),Règles!$A$1:$A$4,0)) -> 0
A6: Match 4 | B6: Guigamp | C6: Evian | D6: 1 | E6: 1 | G6: 2 | H6: 0 | I6: =INDEX(Règles!$C$1:$C$4,MATCH(IF(IF($D6>$E6,"Gd",IF($D6=$E6,"N","Pd"))=IF(G6>H6,"Gd",IF(G6=H6,"N","Pd")),"R","I"),Règles!$A$1:$A$4,0))+INDEX(Règles!$C$1:$C$4,MATCH(IF(AND(G6=$D6,H6=$E6),"S",IF(OR(G6=$D6,H6=$E6),"M","I")),Règles!$A$1:$A$4,0)) -> 0 | J6: 1 | K6: 1 | L6: =INDEX(Règles!$C$1:$C$4,MATCH(IF(IF($D6>$E6,"Gd",IF($D6=$E6,"N","Pd"))=IF(J6>K6,"Gd",IF(J6=K6,"N","Pd")),"R","I"),Règles!$A$1:$A$4,0))+INDEX(Règles!$C$1:$C$4,MATCH(IF(AND(J6=$D6,K6=$E6),"S",IF(OR(J6=$D6,K6=$E6),"M","I")),Règles!$A$1:$A$4,0)) -> 10 | M6: 3 | N6: 1 | O6: =INDEX(Règles!$C$1:$C$4,MATCH(IF(IF($D6>$E6,"Gd",IF($D6=$E6,"N","Pd"))=IF(M6>N6,"Gd",IF(M6=N6,"N","Pd")),"R","I"),Règles!$A$1:$A$4,0))+INDEX(Règles!$C$1:$C$4,MATCH(IF(AND(M6=$D6,N6=$E6),"S",IF(OR(M6=$D6,N6=$E6),"M","I")),Règles!$A$1:$A$4,0)) -> 1
A7: Match 5 | B7: Lorient | C7: Toulouse | D7: 0 | E7: 1 | G7: 2 | H7: 0 | I7: =INDEX(Règles!$C$1:$C$4,MATCH(IF(IF($D7>$E7,"Gd",IF($D7=$E7,"N","Pd"))=IF(G7>H7,"Gd",IF(G7=H7,"N","Pd")),"R","I"),Règles!$A$1:$A$4,0))+INDEX(Règles!$C$1:$C$4,MATCH(IF(AND(G7=$D7,H7=$E7),"S",IF(OR(G7=$D7,H7=$E7),"M","I")),Règles!$A$1:$A$4,0)) -> 0 | J7: 2 | K7: 0 | L7: =INDEX(Règles!$C$1:$C$4,MATCH(IF(IF($D7>$E7,"Gd",IF($D7=$E7,"N","Pd"))=IF(J7>K7,"Gd",IF(J7=K7,"N","Pd")),"R","I"),Règles!$A$1:$A$4,0))+INDEX(Règles!$C$1:$C$4,MATCH(IF(AND(J7=$D7,K7=$E7),"S",IF(OR(J7=$D7,K7=$E7),"M","I")),Règles!$A$1:$A$4,0)) -> 0 | M7: 0 | N7: 0 | O7: =INDEX(Règles!$C$1:$C$4,MATCH(IF(IF($D7>$E7,"Gd",IF($D7=$E7,"N","Pd"))=IF(M7>N7,"Gd",IF(M7=N7,"N","Pd")),"R","I"),Règles!$A$1:$A$4,0))+INDEX(Règles!$C$1:$C$4,MATCH(IF(AND(M7=$D7,N7=$E7),"S",IF(OR(M7=$D7,N7=$E7),"M","I")),Règles!$A$1:$A$4,0)) -> 1
A8: Match 6 | B8: Metz | C8: Lens | D8: 3 | E8: 1 | G8: 2 | H8: 1 | I8: =INDEX(Règles!$C$1:$C$4,MATCH(IF(IF($D8>$E8,"Gd",IF($D8=$E8,"N","Pd"))=IF(G8>H8,"Gd",IF(G8=H8,"N","Pd")),"R","I"),Règles!$A$1:$A$4,0))+INDEX(Règles!$C$1:$C$4,MATCH(IF(AND(G8=$D8,H8=$E8),"S",IF(OR(G8=$D8,H8=$E8),"M","I")),Règles!$A$1:$A$4,0)) -> 6 | J8: 1 | K8: 0 | L8: =INDEX(Règles!$C$1:$C$4,MATCH(IF(IF($D8>$E8,"Gd",IF($D8=$E8,"N","Pd"))=IF(J8>K8,"Gd",IF(J8=K8,"N","Pd")),"R","I"),Règles!$A$1:$A$4,0))+INDEX(Règles!$C$1:$C$4,MATCH(IF(AND(J8=$D8,K8=$E8),"S",IF(OR(J8=$D8,K8=$E8),"M","I")),Règles!$A$1:$A$4,0)) -> 5 | M8: 2 | N8: 1 | O8: =INDEX(Règles!$C$1:$C$4,MATCH(IF(IF($D8>$E8,"Gd",IF($D8=$E8,"N","Pd"))=IF(M8>N8,"Gd",IF(M8=N8,"N","Pd")),"R","I"),Règles!$A$1:$A$4,0))+INDEX(Règles!$C$1:$C$4,MATCH(IF(AND(M8=$D8,N8=$E8),"S",IF(OR(M8=$D8,N8=$E8),"M","I")),Règles!$A$1:$A$4,0)) -> 6
A9: Match 7 | B9: Monaco | C9: Rennes | D9: 1 | E9: 1 | G9: 1 | H9: 1 | I9: =INDEX(Règles!$C$1:$C$4,MATCH(IF(IF($D9>$E9,"Gd",IF($D9=$E9,"N","Pd"))=IF(G9>H9,"Gd",IF(G9=H9,"N","Pd")),"R","I"),Règles!$A$1:$A$4,0))+INDEX(Règles!$C$1:$C$4,MATCH(IF(AND(G9=$D9,H9=$E9),"S",IF(OR(G9=$D9,H9=$E9),"M","I")),Règles!$A$1:$A$4,0)) -> 10 | J9: 1 | K9: 0 | L9: =INDEX(Règles!$C$1:$C$4,MATCH(IF(IF($D9>$E9,"Gd",IF($D9=$E9,"N","Pd"))=IF(J9>K9,"Gd",IF(J9=K9,"N","Pd")),"R","I"),Règles!$A$1:$A$4,0))+INDEX(Règles!$C$1:$C$4,MATCH(IF(AND(J9=$D9,K9=$E9),"S",IF(OR(J9=$D9,K9=$E9),"M","I")),Règles!$A$1:$A$4,0)) -> 1 | M9: 4 | N9: 0 | O9: =INDEX(Règles!$C$1:$C$4,MATCH(IF(IF($D9>$E9,"Gd",IF($D9=$E9,"N","Pd"))=IF(M9>N9,"Gd",IF(M9=N9,"N","Pd")),"R","I"),Règles!$A$1:$A$4,0))+INDEX(Règles!$C$1:$C$4,MATCH(IF(AND(M9=$D9,N9=$E9),"S",IF(OR(M9=$D9,N9=$E9),"M","I")),Règles!$A$1:$A$4,0)) -> 0
A10: Match 8 | B10: Lille | C10: Bordeaux | D10: 2 | E10: 0 | G10: 1 | H10: 0 | I10: =INDEX(Règles!$C$1:$C$4,MATCH(IF(IF($D10>$E10,"Gd",IF($D10=$E10,"N","Pd"))=IF(G10>H10,"Gd",IF(G10=H10,"N","Pd")),"R","I"),Règles!$A$1:$A$4,0))+INDEX(Règles!$C$1:$C$4,MATCH(IF(AND(G10=$D10,H10=$E10),"S",IF(OR(G10=$D10,H10=$E10),"M","I")),Règles!$A$1:$A$4,0)) -> 6 | J10: 1 | K10: 1 | L10: =INDEX(Règles!$C$1:$C$4,MATCH(IF(IF($D10>$E10,"Gd",IF($D10=$E10,"N","Pd"))=IF(J10>K10,"Gd",IF(J10=K10,"N","Pd")),"R","I"),Règles!$A$1:$A$4,0))+INDEX(Règles!$C$1:$C$4,MATCH(IF(AND(J10=$D10,K10=$E10),"S",IF(OR(J10=$D10,K10=$E10),"M","I")),Règles!$A$1:$A$4,0)) -> 0 | M10: 1 | N10: 0 | O10: =INDEX(Règles!$C$1:$C$4,MATCH(IF(IF($D10>$E10,"Gd",IF($D10=$E10,"N","Pd"))=IF(M10>N10,"Gd",IF(M10=N10,"N","Pd")),"R","I"),Règles!$A$1:$A$4,0))+INDEX(Règles!$C$1:$C$4,MATCH(IF(AND(M10=$D10,N10=$E10),"S",IF(OR(M10=$D10,N10=$E10),"M","I")),Règles!$A$1:$A$4,0)) -> 6
A11: Match 9 | B11: Montpellier | C11: Caen | D11: 1 | E11: 0 | G11: 0 | H11: 0 | I11: =INDEX(Règles!$C$1:$C$4,MATCH(IF(IF($D11>$E11,"Gd",IF($D11=$E11,"N","Pd"))=IF(G11>H11,"Gd",IF(G11=H11,"N","Pd")),"R","I"),Règles!$A$1:$A$4,0))+INDEX(Règles!$C$1:$C$4,MATCH(IF(AND(G11=$D11,H11=$E11),"S",IF(OR(G11=$D11,H11=$E11),"M","I")),Règles!$A$1:$A$4,0)) -> 1 | J11: 3 | K11: 1 | L11: =INDEX(Règles!$C$1:$C$4,MATCH(IF(IF($D11>$E11,"Gd",IF($D11=$E11,"N","Pd"))=IF(J11>K11,"Gd",IF(J11=K11,"N","Pd")),"R","I"),Règles!$A$1:$A$4,0))+INDEX(Règles!$C$1:$C$4,MATCH(IF(AND(J11=$D11,K11=$E11),"S",IF(OR(J11=$D11,K11=$E11),"M","I")),Règles!$A$1:$A$4,0)) -> 5 | M11: 3 | N11: 1 | O11: =INDEX(Règles!$C$1:$C$4,MATCH(IF(IF($D11>$E11,"Gd",IF($D11=$E11,"N","Pd"))=IF(M11>N11,"Gd",IF(M11=N11,"N","Pd")),"R","I"),Règles!$A$1:$A$4,0))+INDEX(Règles!$C$1:$C$4,MATCH(IF(AND(M11=$D11,N11=$E11),"S",IF(OR(M11=$D11,N11=$E11),"M","I")),Règles!$A$1:$A$4,0)) -> 5
A12: Match 10 | B12: Lyon | C12: St-Étienne | D12: 2 | E12: 2 | G12: 2 | H12: 2 | I12: =INDEX(Règles!$C$1:$C$4,MATCH(IF(IF($D12>$E12,"Gd",IF($D12=$E12,"N","Pd"))=IF(G12>H12,"Gd",IF(G12=H12,"N","Pd")),"R","I"),Règles!$A$1:$A$4,0))+INDEX(Règles!$C$1:$C$4,MATCH(IF(AND(G12=$D12,H12=$E12),"S",IF(OR(G12=$D12,H12=$E12),"M","I")),Règles!$A$1:$A$4,0)) -> 10 | J12: 2 | K12: 0 | L12: =INDEX(Règles!$C$1:$C$4,MATCH(IF(IF($D12>$E12,"Gd",IF($D12=$E12,"N","Pd"))=IF(J12>K12,"Gd",IF(J12=K12,"N","Pd")),"R","I"),Règles!$A$1:$A$4,0))+INDEX(Règles!$C$1:$C$4,MATCH(IF(AND(J12=$D12,K12=$E12),"S",IF(OR(J12=$D12,K12=$E12),"M","I")),Règles!$A$1:$A$4,0)) -> 1 | M12: 2 | N12: 2 | O12: =INDEX(Règles!$C$1:$C$4,MATCH(IF(IF($D12>$E12,"Gd",IF($D12=$E12,"N","Pd"))=IF(M12>N12,"Gd",IF(M12=N12,"N","Pd")),"R","I"),Règles!$A$1:$A$4,0))+INDEX(Règles!$C$1:$C$4,MATCH(IF(AND(M12=$D12,N12=$E12),"S",IF(OR(M12=$D12,N12=$E12),"M","I")),Règles!$A$1:$A$4,0)) -> 10
I13: =SUM(I3:I12) -> 35 | L13: =SUM(L3:L12) -> 28 | O13: =SUM(O3:O12) -> 45

Sheet Règles
A1: M | B1: Moitié Score Exact | C1: 1 | E1: 4 Possibilités de points …
A2: R | B2: Résultat Exact | C2: 5
A3: S | B3: Score Exact | C3: 5
A4: I | B4: Incorrect | C4: 0
E5: Les règles conditionnelles imposent une case rouge pour 1 "10" et une case verte pour 1 "5" ou 1"6". Je souhaite avoir le nombre de cellules rouges, de vertes et les autres par joueur.
