Workbook
Name tabs: OFFSET(Recap!$M$1,0,0,Recap!$B$2,1)

Sheet Recap
A1: NB Cumulé | B1: (de 1 à 12) | L1: Plage Nommée: | M1: S1
A2: de Semaines | B2: 7 | D2: Il suffit de changer le nombre .. | M2: S2
M3: S3
A4: ="De S1 à " & INDEX($M$1:$M$12,$B$2) -> De S1 à S7 | B4: Produit1 | C4: Produit2 | D4: Produit3 | E4: Produit4 | M4: S4
A5: Jean-Eric | B5: =SUMPRODUCT(SUMIF(INDIRECT("'"&tabs&"'!A3:A8"),$A5,INDIRECT("'"&tabs&"'!B3:B8"))) -> 47 | C5: =SUMPRODUCT(SUMIF(INDIRECT("'"&tabs&"'!A3:A8"),$A5,INDIRECT("'"&tabs&"'!C3:C8"))) -> 58 | D5: =SUMPRODUCT(SUMIF(INDIRECT("'"&tabs&"'!A3:A8"),$A5,INDIRECT("'"&tabs&"'!D3:D8"))) -> 44 | E5: =SUMPRODUCT(SUMIF(INDIRECT("'"&tabs&"'!A3:A8"),$A5,INDIRECT("'"&tabs&"'!E3:E8"))) -> 53 | M5: S5
A6: Tulipe | B6: =SUMPRODUCT(SUMIF(INDIRECT("'"&tabs&"'!A3:A8"),$A6,INDIRECT("'"&tabs&"'!B3:B8"))) -> 49 | C6: =SUMPRODUCT(SUMIF(INDIRECT("'"&tabs&"'!A3:A8"),$A6,INDIRECT("'"&tabs&"'!C3:C8"))) -> 59 | D6: =SUMPRODUCT(SUMIF(INDIRECT("'"&tabs&"'!A3:A8"),$A6,INDIRECT("'"&tabs&"'!D3:D8"))) -> 60 | E6: =SUMPRODUCT(SUMIF(INDIRECT("'"&tabs&"'!A3:A8"),$A6,INDIRECT("'"&tabs&"'!E3:E8"))) -> 56 | M6: S6
A7: Lilly | B7: =SUMPRODUCT(SUMIF(INDIRECT("'"&tabs&"'!A3:A8"),$A7,INDIRECT("'"&tabs&"'!B3:B8"))) -> 44 | C7: =SUMPRODUCT(SUMIF(INDIRECT("'"&tabs&"'!A3:A8"),$A7,INDIRECT("'"&tabs&"'!C3:C8"))) -> 56 | D7: =SUMPRODUCT(SUMIF(INDIRECT("'"&tabs&"'!A3:A8"),$A7,INDIRECT("'"&tabs&"'!D3:D8"))) -> 56 | E7: =SUMPRODUCT(SUMIF(INDIRECT("'"&tabs&"'!A3:A8"),$A7,INDIRECT("'"&tabs&"'!E3:E8"))) -> 43 | M7: S7
A8: Marion | B8: =SUMPRODUCT(SUMIF(INDIRECT("'"&tabs&"'!A3:A8"),$A8,INDIRECT("'"&tabs&"'!B3:B8"))) -> 43 | C8: =SUMPRODUCT(SUMIF(INDIRECT("'"&tabs&"'!A3:A8"),$A8,INDIRECT("'"&tabs&"'!C3:C8"))) -> 57 | D8: =SUMPRODUCT(SUMIF(INDIRECT("'"&tabs&"'!A3:A8"),$A8,INDIRECT("'"&tabs&"'!D3:D8"))) -> 52 | E8: =SUMPRODUCT(SUMIF(INDIRECT("'"&tabs&"'!A3:A8"),$A8,INDIRECT("'"&tabs&"'!E3:E8"))) -> 44 | M8: S8
A9: Total | B9: =SUM(B5:B8) -> 183 | C9: =SUM(C5:C8) -> 230 | D9: =SUM(D5:D8) -> 212 | E9: =SUM(E5:E8) -> 196 | M9: S9
M10: S10
M11: S11
M12: S12

Sheet S1
B2: =Recap!B4 -> Produit1 | C2: =Recap!C4 -> Produit2 | D2: =Recap!D4 -> Produit3 | E2: =Recap!E4 -> Produit4
A3: Jean-Eric | B3: 4 | C3: 3 | D3: 4 | E3: 3
A4: Tulipe | B4: 9 | C4: 12 | D4: 9 | E4: 6
A5: Jean | B5: 8 | C5: 7 | D5: 5 | E5: 12
A6: Pierrot | B6: 4 | C6: 5 | D6: 11 | E6: 11
A7: Lilly | B7: 7 | C7: 3 | D7: 10 | E7: 3
A8: Marion | B8: 7 | C8: 10 | D8: 3 | E8: 3
A9: Total | B9: =SUM(B3:B8) -> 39 | C9: =SUM(C3:C8) -> 40 | D9: =SUM(D3:D8) -> 42 | E9: =SUM(E3:E8) -> 38

Sheet S2
B2: =Recap!B4 -> Produit1 | C2: =Recap!C4 -> Produit2 | D2: =Recap!D4 -> Produit3 | E2: =Recap!E4 -> Produit4
A3: Jean-Eric | B3: 4 | C3: 8 | D3: 8 | E3: 6
A4: Tulipe | B4: 12 | C4: 10 | D4: 10 | E4: 9
A5: Jean | B5: 5 | C5: 5 | D5: 9 | E5: 11
A6: Pierrot | B6: 4 | C6: 7 | D6: 10 | E6: 3
A7: Lilly | B7: 4 | C7: 5 | D7: 3 | E7: 7
A8: Marion | B8: 6 | C8: 9 | D8: 12 | E8: 11
A9: Total | B9: =SUM(B3:B8) -> 35 | C9: =SUM(C3:C8) -> 44 | D9: =SUM(D3:D8) -> 52 | E9: =SUM(E3:E8) -> 47

Sheet S3
B2: =Recap!B4 -> Produit1 | C2: =Recap!C4 -> Produit2 | D2: =Recap!D4 -> Produit3 | E2: =Recap!E4 -> Produit4
A3: Jean-Eric | B3: 10 | C3: 12 | D3: 9 | E3: 8
A4: Tulipe | B4: 5 | C4: 5 | D4: 11 | E4: 10
A5: Jean | B5: 4 | C5: 9 | D5: 7 | E5: 3
A6: Pierrot | B6: 3 | C6: 6 | D6: 4 | E6: 3
A7: Lilly | B7: 8 | C7: 5 | D7: 12 | E7: 5
A8: Marion | B8: 10 | C8: 7 | D8: 6 | E8: 5
A9: Total | B9: =SUM(B3:B8) -> 40 | C9: =SUM(C3:C8) -> 44 | D9: =SUM(D3:D8) -> 49 | E9: =SUM(E3:E8) -> 34

Sheet S4
B2: =Recap!B4 -> Produit1 | C2: =Recap!C4 -> Produit2 | D2: =Recap!D4 -> Produit3 | E2: =Recap!E4 -> Produit4
A3: Jean-Eric | B3: 3 | C3: 9 | D3: 4 | E3: 12
A4: Tulipe | B4: 6 | C4: 4 | D4: 11 | E4: 6
A5: Jean | B5: 9 | C5: 10 | D5: 12 | E5: 4
A6: Pierrot | B6: 6 | C6: 6 | D6: 12 | E6: 3
A7: Lilly | B7: 3 | C7: 12 | D7: 9 | E7: 4
A8: Marion | B8: 4 | C8: 8 | D8: 10 | E8: 8
A9: Total | B9: =SUM(B3:B8) -> 31 | C9: =SUM(C3:C8) -> 49 | D9: =SUM(D3:D8) -> 58 | E9: =SUM(E3:E8) -> 37

Sheet S5
B2: =Recap!B4 -> Produit1 | C2: =Recap!C4 -> Produit2 | D2: =Recap!D4 -> Produit3 | E2: =Recap!E4 -> Produit4
A3: Jean-Eric | B3: 9 | C3: 12 | D3: 4 | E3: 10
A4: Tulipe | B4: 5 | C4: 12 | D4: 7 | E4: 10
A5: Jean | B5: 4 | C5: 11 | D5: 7 | E5: 5
A6: Pierrot | B6: 8 | C6: 10 | D6: 4 | E6: 6
A7: Lilly | B7: 10 | C7: 11 | D7: 8 | E7: 9
A8: Marion | B8: 3 | C8: 10 | D8: 9 | E8: 5
A9: Total | B9: =SUM(B3:B8) -> 39 | C9: =SUM(C3:C8) -> 66 | D9: =SUM(D3:D8) -> 39 | E9: =SUM(E3:E8) -> 45

Sheet S6
B2: =Recap!B4 -> Produit1 | C2: =Recap!C4 -> Produit2 | D2: =Recap!D4 -> Produit3 | E2: =Recap!E4 -> Produit4
A3: Jean-Eric | B3: 8 | C3: 10 | D3: 12 | E3: 10
A4: Tulipe | B4: 8 | C4: 9 | D4: 5 | E4: 8
A5: Jean | B5: 9 | C5: 5 | D5: 3 | E5: 6
A6: Pierrot | B6: 7 | C6: 10 | D6: 6 | E6: 8
A7: Lilly | B7: 7 | C7: 8 | D7: 7 | E7: 5
A8: Marion | B8: 3 | C8: 3 | D8: 3 | E8: 4
A9: Total | B9: =SUM(B3:B8) -> 42 | C9: =SUM(C3:C8) -> 45 | D9: =SUM(D3:D8) -> 36 | E9: =SUM(E3:E8) -> 41

Sheet S7
B2: =Recap!B4 -> Produit1 | C2: =Recap!C4 -> Produit2 | D2: =Recap!D4 -> Produit3 | E2: =Recap!E4 -> Produit4
A3: Jean-Eric | B3: 9 | C3: 4 | D3: 3 | E3: 4
A4: Tulipe | B4: 4 | C4: 7 | D4: 7 | E4: 7
A5: Jean | B5: 7 | C5: 10 | D5: 6 | E5: 12
A6: Pierrot | B6: 9 | C6: 12 | D6: 11 | E6: 3
A7: Lilly | B7: 5 | C7: 12 | D7: 7 | E7: 10
A8: Marion | B8: 10 | C8: 10 | D8: 9 | E8: 8
A9: Total | B9: =SUM(B3:B8) -> 44 | C9: =SUM(C3:C8) -> 55 | D9: =SUM(D3:D8) -> 43 | E9: =SUM(E3:E8) -> 44

Sheet S8
B2: =Recap!B4 -> Produit1 | C2: =Recap!C4 -> Produit2 | D2: =Recap!D4 -> Produit3 | E2: =Recap!E4 -> Produit4
A3: Jean-Eric | B3: 9 | C3: 10 | D3: 10 | E3: 12
A4: Tulipe | B4: 6 | C4: 8 | D4: 9 | E4: 11
A5: Jean | B5: 6 | C5: 6 | D5: 10 | E5: 5
A6: Pierrot | B6: 8 | C6: 10 | D6: 11 | E6: 7
A7: Lilly | B7: 9 | C7: 4 | D7: 11 | E7: 4
A8: Marion | B8: 12 | C8: 9 | D8: 4 | E8: 3
A9: Total | B9: =SUM(B3:B8) -> 50 | C9: =SUM(C3:C8) -> 47 | D9: =SUM(D3:D8) -> 55 | E9: =SUM(E3:E8) -> 42

Sheet S9
B2: =Recap!B4 -> Produit1 | C2: =Recap!C4 -> Produit2 | D2: =Recap!D4 -> Produit3 | E2: =Recap!E4 -> Produit4
A3: Jean-Eric | B3: 4 | C3: 8 | D3: 5 | E3: 7
A4: Tulipe | B4: 5 | C4: 7 | D4: 3 | E4: 6
A5: Jean | B5: 10 | C5: 6 | D5: 8 | E5: 4
A6: Pierrot | B6: 9 | C6: 7 | D6: 4 | E6: 11
A7: Lilly | B7: 7 | C7: 3 | D7: 12 | E7: 4
A8: Marion | B8: 9 | C8: 10 | D8: 5 | E8: 11
A9: Total | B9: =SUM(B3:B8) -> 44 | C9: =SUM(C3:C8) -> 41 | D9: =SUM(D3:D8) -> 37 | E9: =SUM(E3:E8) -> 43

Sheet S10
B2: =Recap!B4 -> Produit1 | C2: =Recap!C4 -> Produit2 | D2: =Recap!D4 -> Produit3 | E2: =Recap!E4 -> Produit4
A3: Jean-Eric | B3: 3 | C3: 4 | D3: 7 | E3: 12
A4: Tulipe | B4: 5 | C4: 3 | D4: 10 | E4: 10
A5: Jean | B5: 10 | C5: 7 | D5: 10 | E5: 3
A6: Pierrot | B6: 10 | C6: 5 | D6: 5 | E6: 3
A7: Lilly | B7: 9 | C7: 12 | D7: 10 | E7: 5
A8: Marion | B8: 7 | C8: 11 | D8: 7 | E8: 6
A9: Total | B9: =SUM(B3:B8) -> 44 | C9: =SUM(C3:C8) -> 42 | D9: =SUM(D3:D8) -> 49 | E9: =SUM(E3:E8) -> 39

Sheet S11
B2: =Recap!B4 -> Produit1 | C2: =Recap!C4 -> Produit2 | D2: =Recap!D4 -> Produit3 | E2: =Recap!E4 -> Produit4
A3: Jean-Eric | B3: 3 | C3: 10 | D3: 5 | E3: 10
A4: Tulipe | B4: 9 | C4: 3 | D4: 12 | E4: 7
A5: Jean | B5: 6 | C5: 9 | D5: 5 | E5: 10
A6: Pierrot | B6: 7 | C6: 10 | D6: 5 | E6: 9
A7: Lilly | B7: 10 | C7: 9 | D7: 4 | E7: 11
A8: Marion | B8: 12 | C8: 11 | D8: 10 | E8: 9
A9: Total | B9: =SUM(B3:B8) -> 47 | C9: =SUM(C3:C8) -> 52 | D9: =SUM(D3:D8) -> 41 | E9: =SUM(E3:E8) -> 56

Sheet S12
B2: =Recap!B4 -> Produit1 | C2: =Recap!C4 -> Produit2 | D2: =Recap!D4 -> Produit3 | E2: =Recap!E4 -> Produit4
A3: Jean-Eric | B3: 8 | C3: 7 | D3: 9 | E3: 3
A4: Tulipe | B4: 5 | C4: 8 | D4: 8 | E4: 9
A5: Jean | B5: 6 | C5: 4 | D5: 9 | E5: 8
A6: Pierrot | B6: 5 | C6: 11 | D6: 3 | E6: 10
A7: Lilly | B7: 3 | C7: 8 | D7: 8 | E7: 4
A8: Marion | B8: 9 | C8: 9 | D8: 9 | E8: 6
A9: Total | B9: =SUM(B3:B8) -> 36 | C9: =SUM(C3:C8) -> 47 | D9: =SUM(D3:D8) -> 46 | E9: =SUM(E3:E8) -> 40
