Workbook

Sheet Fra
A1: Date | B1: Libellé | C1: Solde
A2: 41640 | B2: A | C2: 1500
A3: 41654 | B3: B | C3: 450
A4: 41669 | B4: C | C4: 680
A5: 41685 | B5: D | C5: 1500
A6: 41698 | B6: E | C6: 64
A7: 41729 | B7: G | C7: 158
A8: 41744 | B8: H | C8: 6543
A9: 41759 | B9: I | C9: 680
A10: 41774 | B10: J | C10: 15900
A11: 41790 | B11: K | C11: 4500
A12: 41805 | B12: L | C12: 7536
A13: 41820 | B13: M | C13: 951
A14: 41835 | B14: N | C14: 4500

Sheet Liban
A1: Date | B1: Libellé | C1: Solde
A2: 41640 | B2: A | C2: 1500
A3: 41654 | B3: B | C3: 450
A4: 41685 | B4: D | C4: 1500
A5: 41698 | B5: E | C5: 64
A6: 41713 | B6: F | C6: 925
A7: 41729 | B7: G | C7: 158
A8: 41744 | B8: H | C8: 6543
A9: 41759 | B9: I | C9: 680
A10: 41774 | B10: J | C10: 15900
A11: 41790 | B11: K | C11: 4500
A12: 41820 | B12: M | C12: 951
A13: 41835 | B13: N | C13: 4500
A14: 41850 | B14: O | C14: 1500

Sheet Delta
A1: Libellé | B1: Fra | C1: Lib | D1: Delta
A2: A | B2: =IFERROR(INDEX(Fra!C:C,MATCH($A2,Fra!B:B,0)),0) -> 1500 | C2: =IFERROR(INDEX(Liban!C:C,MATCH($A2,Liban!B:B,0)),0) -> 1500 | D2: =C2-B2 -> 0
A3: B | B3: =IFERROR(INDEX(Fra!C:C,MATCH($A3,Fra!B:B,0)),0) -> 450 | C3: =IFERROR(INDEX(Liban!C:C,MATCH($A3,Liban!B:B,0)),0) -> 450 | D3: =C3-B3 -> 0
A4: C | B4: =IFERROR(INDEX(Fra!C:C,MATCH($A4,Fra!B:B,0)),0) -> 680 | C4: =IFERROR(INDEX(Liban!C:C,MATCH($A4,Liban!B:B,0)),0) -> 0 | D4: =C4-B4 -> -680
A5: D | B5: =IFERROR(INDEX(Fra!C:C,MATCH($A5,Fra!B:B,0)),0) -> 1500 | C5: =IFERROR(INDEX(Liban!C:C,MATCH($A5,Liban!B:B,0)),0) -> 1500 | D5: =C5-B5 -> 0
A6: E | B6: =IFERROR(INDEX(Fra!C:C,MATCH($A6,Fra!B:B,0)),0) -> 64 | C6: =IFERROR(INDEX(Liban!C:C,MATCH($A6,Liban!B:B,0)),0) -> 64 | D6: =C6-B6 -> 0
A7: F | B7: =IFERROR(INDEX(Fra!C:C,MATCH($A7,Fra!B:B,0)),0) -> 0 | C7: =IFERROR(INDEX(Liban!C:C,MATCH($A7,Liban!B:B,0)),0) -> 925 | D7: =C7-B7 -> 925
A8: G | B8: =IFERROR(INDEX(Fra!C:C,MATCH($A8,Fra!B:B,0)),0) -> 158 | C8: =IFERROR(INDEX(Liban!C:C,MATCH($A8,Liban!B:B,0)),0) -> 158 | D8: =C8-B8 -> 0
A9: H | B9: =IFERROR(INDEX(Fra!C:C,MATCH($A9,Fra!B:B,0)),0) -> 6543 | C9: =IFERROR(INDEX(Liban!C:C,MATCH($A9,Liban!B:B,0)),0) -> 6543 | D9: =C9-B9 -> 0
A10: I | B10: =IFERROR(INDEX(Fra!C:C,MATCH($A10,Fra!B:B,0)),0) -> 680 | C10: =IFERROR(INDEX(Liban!C:C,MATCH($A10,Liban!B:B,0)),0) -> 680 | D10: =C10-B10 -> 0
A11: J | B11: =IFERROR(INDEX(Fra!C:C,MATCH($A11,Fra!B:B,0)),0) -> 15900 | C11: =IFERROR(INDEX(Liban!C:C,MATCH($A11,Liban!B:B,0)),0) -> 15900 | D11: =C11-B11 -> 0
A12: K | B12: =IFERROR(INDEX(Fra!C:C,MATCH($A12,Fra!B:B,0)),0) -> 4500 | C12: =IFERROR(INDEX(Liban!C:C,MATCH($A12,Liban!B:B,0)),0) -> 4500 | D12: =C12-B12 -> 0
A13: L | B13: =IFERROR(INDEX(Fra!C:C,MATCH($A13,Fra!B:B,0)),0) -> 7536 | C13: =IFERROR(INDEX(Liban!C:C,MATCH($A13,Liban!B:B,0)),0) -> 0 | D13: =C13-B13 -> -7536
... A16: O | B16: =IFERROR(INDEX(Fra!C:C,MATCH($A16,Fra!B:B,0)),0) -> 0 | C16: =IFERROR(INDEX(Liban!C:C,MATCH($A16,Liban!B:B,0)),0) -> 1500 | D16: =C16-B16 -> 1500
