Workbook

Sheet Répertoire des DLC
A1: Aujourd'hui : | B1: =TODAY() -> 41935
A2: CUG | B2: ADRESSE | C2: DLC
A3: 1111 | B3: 1.1.1.1 | C3: 41944 | D3: 10j
A4: 2222 | B4: 2.2.2.2 | C4: 41988 | D4: 51j
A5: 3333 | B5: 3.3.3.3 | C5: 41938 | D5: 4j
A6: 4444 | B6: 4.4.4.4 | C6: 42332 | D6: 33j
A7: 5555 | B7: 5.5.5.5 | C7: 41978 | D7: 45j
A8: 6666 | B8: 6.6.6.6 | C8: 41979 | D8: 46j

Sheet DLC<45jours
A1: DATE : | B1: DLC inférieures ou égales à 45 jours par rapport au :
C2: =TODAY() -> 41935
A4: CUG | B4: ADRESSE | C4: DLC
A5: =IF('Répertoire des DLC'!C3="","",IF('Répertoire des DLC'!C3<'Répertoire des DLC'!$B$1+45,'Répertoire des DLC'!A3,"")) -> 1111 | B5: =IF('Répertoire des DLC'!C3="","",IF('Répertoire des DLC'!C3<'Répertoire des DLC'!$B$1+45,'Répertoire des DLC'!B3,"")) -> 1.1.1.1 | C5: =IF('Répertoire des DLC'!C3="","",IF('Répertoire des DLC'!C3<'Répertoire des DLC'!$B$1+45,'Répertoire des DLC'!C3,"")) -> 41944
A6: =IF('Répertoire des DLC'!C4="","",IF('Répertoire des DLC'!C4<'Répertoire des DLC'!$B$1+45,'Répertoire des DLC'!A4,"")) | B6: =IF('Répertoire des DLC'!C4="","",IF('Répertoire des DLC'!C4<'Répertoire des DLC'!$B$1+45,'Répertoire des DLC'!B4,"")) | C6: =IF('Répertoire des DLC'!C4="","",IF('Répertoire des DLC'!C4<'Répertoire des DLC'!$B$1+45,'Répertoire des DLC'!C4,""))
A7: =IF('Répertoire des DLC'!C5="","",IF('Répertoire des DLC'!C5<'Répertoire des DLC'!$B$1+45,'Répertoire des DLC'!A5,"")) -> 3333 | B7: =IF('Répertoire des DLC'!C5="","",IF('Répertoire des DLC'!C5<'Répertoire des DLC'!$B$1+45,'Répertoire des DLC'!B5,"")) -> 3.3.3.3 | C7: =IF('Répertoire des DLC'!C5="","",IF('Répertoire des DLC'!C5<'Répertoire des DLC'!$B$1+45,'Répertoire des DLC'!C5,"")) -> 41938
A8: =IF('Répertoire des DLC'!C6="","",IF('Répertoire des DLC'!C6<'Répertoire des DLC'!$B$1+45,'Répertoire des DLC'!A6,"")) | B8: =IF('Répertoire des DLC'!C6="","",IF('Répertoire des DLC'!C6<'Répertoire des DLC'!$B$1+45,'Répertoire des DLC'!B6,"")) | C8: =IF('Répertoire des DLC'!C6="","",IF('Répertoire des DLC'!C6<'Répertoire des DLC'!$B$1+45,'Répertoire des DLC'!C6,""))
A9: =IF('Répertoire des DLC'!C7="","",IF('Répertoire des DLC'!C7<'Répertoire des DLC'!$B$1+45,'Répertoire des DLC'!A7,"")) -> 5555 | B9: =IF('Répertoire des DLC'!C7="","",IF('Répertoire des DLC'!C7<'Répertoire des DLC'!$B$1+45,'Répertoire des DLC'!B7,"")) -> 5.5.5.5 | C9: =IF('Répertoire des DLC'!C7="","",IF('Répertoire des DLC'!C7<'Répertoire des DLC'!$B$1+45,'Répertoire des DLC'!C7,"")) -> 41978
A10: =IF('Répertoire des DLC'!C8="","",IF('Répertoire des DLC'!C8<'Répertoire des DLC'!$B$1+45,'Répertoire des DLC'!A8,"")) -> 6666 | B10: =IF('Répertoire des DLC'!C8="","",IF('Répertoire des DLC'!C8<'Répertoire des DLC'!$B$1+45,'Répertoire des DLC'!B8,"")) -> 6.6.6.6 | C10: =IF('Répertoire des DLC'!C8="","",IF('Répertoire des DLC'!C8<'Répertoire des DLC'!$B$1+45,'Répertoire des DLC'!C8,"")) -> 41979
A11: =IF('Répertoire des DLC'!C9="","",IF('Répertoire des DLC'!C9<'Répertoire des DLC'!$B$1+45,'Répertoire des DLC'!A9,"")) | B11: =IF('Répertoire des DLC'!C9="","",IF('Répertoire des DLC'!C9<'Répertoire des DLC'!$B$1+45,'Répertoire des DLC'!B9,"")) | C11: =IF('Répertoire des DLC'!C9="","",IF('Répertoire des DLC'!C9<'Répertoire des DLC'!$B$1+45,'Répertoire des DLC'!C9,""))
A12: =IF('Répertoire des DLC'!C10="","",IF('Répertoire des DLC'!C10<'Répertoire des DLC'!$B$1+45,'Répertoire des DLC'!A10,"")) | B12: =IF('Répertoire des DLC'!C10="","",IF('Répertoire des DLC'!C10<'Répertoire des DLC'!$B$1+45,'Répertoire des DLC'!B10,"")) | C12: =IF('Répertoire des DLC'!C10="","",IF('Répertoire des DLC'!C10<'Répertoire des DLC'!$B$1+45,'Répertoire des DLC'!C10,""))
A13: =IF('Répertoire des DLC'!C11="","",IF('Répertoire des DLC'!C11<'Répertoire des DLC'!$B$1+45,'Répertoire des DLC'!A11,"")) | B13: =IF('Répertoire des DLC'!C11="","",IF('Répertoire des DLC'!C11<'Répertoire des DLC'!$B$1+45,'Répertoire des DLC'!B11,"")) | C13: =IF('Répertoire des DLC'!C11="","",IF('Répertoire des DLC'!C11<'Répertoire des DLC'!$B$1+45,'Répertoire des DLC'!C11,""))
A14: =IF('Répertoire des DLC'!C12="","",IF('Répertoire des DLC'!C12<'Répertoire des DLC'!$B$1+45,'Répertoire des DLC'!A12,"")) | B14: =IF('Répertoire des DLC'!C12="","",IF('Répertoire des DLC'!C12<'Répertoire des DLC'!$B$1+45,'Répertoire des DLC'!B12,"")) | C14: =IF('Répertoire des DLC'!C12="","",IF('Répertoire des DLC'!C12<'Répertoire des DLC'!$B$1+45,'Répertoire des DLC'!C12,""))
A15: =IF('Répertoire des DLC'!C13="","",IF('Répertoire des DLC'!C13<'Répertoire des DLC'!$B$1+45,'Répertoire des DLC'!A13,"")) | B15: =IF('Répertoire des DLC'!C13="","",IF('Répertoire des DLC'!C13<'Répertoire des DLC'!$B$1+45,'Répertoire des DLC'!B13,"")) | C15: =IF('Répertoire des DLC'!C13="","",IF('Répertoire des DLC'!C13<'Répertoire des DLC'!$B$1+45,'Répertoire des DLC'!C13,""))
A16: =IF('Répertoire des DLC'!C14="","",IF('Répertoire des DLC'!C14<'Répertoire des DLC'!$B$1+45,'Répertoire des DLC'!A14,"")) | B16: =IF('Répertoire des DLC'!C14="","",IF('Répertoire des DLC'!C14<'Répertoire des DLC'!$B$1+45,'Répertoire des DLC'!B14,"")) | C16: =IF('Répertoire des DLC'!C14="","",IF('Répertoire des DLC'!C14<'Répertoire des DLC'!$B$1+45,'Répertoire des DLC'!C14,""))
... A50: =IF('Répertoire des DLC'!C48="","",IF('Répertoire des DLC'!C48<'Répertoire des DLC'!$B$1+45,'Répertoire des DLC'!A48,"")) | B50: =IF('Répertoire des DLC'!C48="","",IF('Répertoire des DLC'!C48<'Répertoire des DLC'!$B$1+45,'Répertoire des DLC'!B48,"")) | C50: =IF('Répertoire des DLC'!C48="","",IF('Répertoire des DLC'!C48<'Répertoire des DLC'!$B$1+45,'Répertoire des DLC'!C48,""))
