Workbook

Sheet Ink Vides 
B3: Réception
B8: J | C8: Date | D8: Effectif | E8: Heures (H) | F8: palettes traitées | G8: Nb palette par H
B9: 1 | C9: 43024 | D9: 3 | E9: ='Ink Vides '!$D9*7.5 -> 22.5 | F9: =77+62+9+42+64+26 -> 280 | G9: =IFERROR('Ink Vides '!$F9/'Ink Vides '!$E9,0) -> 12.444444
B10: 2 | C10: =C9+1 -> 43025 | E10: ='Ink Vides '!$D10*7.5 -> 0 | G10: =IFERROR('Ink Vides '!$F10/'Ink Vides '!$E10,0) -> 0
B11: 3 | C11: =C10+1 -> 43026 | D11: 4 | E11: ='Ink Vides '!$D11*7.5 -> 30 | F11: 5 | G11: =IFERROR('Ink Vides '!$F11/'Ink Vides '!$E11,0) -> 0.16666667
B12: 4 | C12: =C11+1 -> 43027 | E12: ='Ink Vides '!$D12*7.5 -> 0 | G12: =IFERROR('Ink Vides '!$F12/'Ink Vides '!$E12,0) -> 0
B13: 5 | C13: =C12+1 -> 43028 | E13: ='Ink Vides '!$D13*7.5 -> 0 | G13: =IFERROR('Ink Vides '!$F13/'Ink Vides '!$E13,0) -> 0
B14: 6 | C14: =C13+1 -> 43029 | E14: ='Ink Vides '!$D14*7.5 -> 0 | G14: =IFERROR('Ink Vides '!$F14/'Ink Vides '!$E14,0) -> 0
B15: 7 | C15: =C14+1 -> 43030 | E15: ='Ink Vides '!$D15*7.5 -> 0 | G15: =IFERROR('Ink Vides '!$F15/'Ink Vides '!$E15,0) -> 0
B16: 8 | C16: =C15+1 -> 43031 | D16: 18 | E16: ='Ink Vides '!$D16*7.5 -> 135 | G16: =IFERROR('Ink Vides '!$F16/'Ink Vides '!$E16,0) -> 0
B17: 9 | C17: =C16+1 -> 43032 | E17: ='Ink Vides '!$D17*7.5 -> 0 | G17: =IFERROR('Ink Vides '!$F17/'Ink Vides '!$E17,0) -> 0
B18: 10 | C18: =C17+1 -> 43033 | E18: ='Ink Vides '!$D18*7.5 -> 0 | G18: =IFERROR('Ink Vides '!$F18/'Ink Vides '!$E18,0) -> 0
B19: 11 | C19: =C18+1 -> 43034 | E19: ='Ink Vides '!$D19*7.5 -> 0 | G19: =IFERROR('Ink Vides '!$F19/'Ink Vides '!$E19,0) -> 0
B20: 12 | C20: =C19+1 -> 43035 | E20: ='Ink Vides '!$D20*7.5 -> 0 | G20: =IFERROR('Ink Vides '!$F20/'Ink Vides '!$E20,0) -> 0
B21: 13 | C21: =C20+1 -> 43036 | E21: ='Ink Vides '!$D21*7.5 -> 0 | G21: =IFERROR('Ink Vides '!$F21/'Ink Vides '!$E21,0) -> 0
B22: 14 | C22: =C21+1 -> 43037 | E22: ='Ink Vides '!$D22*7.5 -> 0 | G22: =IFERROR('Ink Vides '!$F22/'Ink Vides '!$E22,0) -> 0
B24: Total | D24: =AVERAGE('Ink Vides '!$D$9:$D$22) -> 8.3333333 | E24: =AVERAGE('Ink Vides '!$E$9:$E$22) -> 13.392857 | F24: =AVERAGE('Ink Vides '!$F$9:$F$22) -> 142.5 | G24: =AVERAGE('Ink Vides '!$G$9:$G$22) -> 0.90079365
