Workbook

Sheet Réponses au formulaire 1
A1: Horodateur | B1: 1-Vous évaluez les animations pédagogiques que vous menez. | C1: 1-1 Si oui ou parfois, comment évaluez-vous vos formations ? | D1: 1-2 Si oui ou parfois, que faites-vous des résultats ? | E1: 2- Si non ou parfois, pourquoi ? | F1: 1-Vous évaluez les stages que vous menez. | G1: 1-1 Si oui ou parfois, comment évaluez-vous vos stages ? | H1: 1-2 Si oui ou parfois, que faites-vous des résultats ? | I1: 2- Si non ou parfois, pourquoi ? | J1: 3-Commentaires et suggestions en lien avec l’évaluation des formations | K1: 1- Chiffrer Animations
A2: 43574.553 | B2: Parfois | C2: Questionnaire en ligne | D2: Vous analysez les résultats et en tenez compte dans vos formations futures, sans les transmettre à la DRH | E2: Je manque de formation d'outils et de temps | F2: Oui, systémaiquement | G2: Questionnaire standardisé en présentiel | H2: Vous les transmettez à la DRH, sans les analyser. | I2: Je n'y trouve aucun intérêt. | K2: =INDEX(Conversion!$B$1:$B$10,MATCH(B2,Conversion!$A$1:$A$10,0)) -> 3
A3: 43574.554 | B3: Parfois | C3: Questionnaire en ligne | D3: Vous analysez les résultats et en tenez compte dans vos formations futures, sans les transmettre à la DRH | E3: Je manque de formation d'outils et de temps | F3: Oui, systémaiquement | G3: Questionnaire standardisé en présentiel | H3: Vous les transmettez à la DRH, sans les analyser. | I3: Je n'y trouve aucun intérêt. | K3: =INDEX(Conversion!$B$1:$B$10,MATCH(B3,Conversion!$A$1:$A$10,0)) -> 3
A4: 43574.558 | B4: Parfois | C4: Questionnaire en ligne | D4: Vous analysez les résultats et en tenez compte dans vos formations futures, sans les transmettre à la DRH | E4: Je manque de formation pour proposer une évaluation | F4: Oui, systémaiquement | G4: Questionnaire standardisé en présentiel | H4: Vous analysez les résultats et en tenez compte dans vos formations futures, sans les transmettre à la DRH | K4: =INDEX(Conversion!$B$1:$B$10,MATCH(B4,Conversion!$A$1:$A$10,0)) -> 3
A5: 43574.561 | B5: Parfois | C5: Questionnaire en ligne | D5: Vous analysez les résultats et en tenez compte dans vos formations futures, sans les transmettre à la DRH | E5: Je manque de formation d'outils et de temps | F5: Oui, systémaiquement | G5: Questionnaire standardisé en présentiel | I5: Je manque d'outils pour traiter les résultats. | K5: =INDEX(Conversion!$B$1:$B$10,MATCH(B5,Conversion!$A$1:$A$10,0)) -> 3
A6: 43574.637 | B6: Parfois | C6: Questionnaire en ligne | D6: Vous analysez les résultats et en tenez compte dans vos formations futures, sans les transmettre à la DRH | E6: Je manque d'outils pour traiter les résultats | F6: Oui, systémaiquement | G6: Questionnaire standardisé en présentiel | H6: Vous les survolez pour avoir une impression d'ensemble avant de les transmettre à la DRH. | K6: =INDEX(Conversion!$B$1:$B$10,MATCH(B6,Conversion!$A$1:$A$10,0)) -> 3
A7: 43574.649 | B7: Oui, systématiquement | C7: Questionnaire en ligne | D7: Vous analysez les résultats et en tenez compte dans vos formations futures, sans les transmettre à la DRH | F7: Oui, systémaiquement | G7: Questionnaire standardisé en présentiel | H7: Vous analysez les résultats et en tenez compte dans vos formations futures, sans les transmettre à la DRH | K7: =INDEX(Conversion!$B$1:$B$10,MATCH(B7,Conversion!$A$1:$A$10,0)) -> 1
A8: 43574.651 | B8: Oui, systématiquement | C8: Questionnaire en ligne | D8: Vous analysez les résultats et en tenez compte dans vos formations futures, et vous les transmettez à la DRH | F8: Oui, systémaiquement | G8: Questionnaire standardisé en présentiel | H8: Vous analysez les résultats et en tenez compte dans vos formations futures, puis vous transmettez les résultats à la DRH | K8: =INDEX(Conversion!$B$1:$B$10,MATCH(B8,Conversion!$A$1:$A$10,0)) -> 1
A9: 43574.72 | B9: Parfois | D9: Vous analysez les résultats et en tenez compte dans vos formations futures, et vous les transmettez à la DRH | F9: Oui, systémaiquement | H9: Vous analysez les résultats et en tenez compte dans vos formations futures, puis vous transmettez les résultats à la DRH | J9: QUESTIONNAIRE ADAPTE A LA FORMATION, L' évaluation des formations est indispensable pour permettre une travail approfondie de formations | K9: =INDEX(Conversion!$B$1:$B$10,MATCH(B9,Conversion!$A$1:$A$10,0)) -> 3
A10: 43574.722 | B10: Parfois | D10: Vous analysez les résultats et en tenez compte dans vos formations futures, sans les transmettre à la DRH | F10: Oui, systémaiquement | G10: Questionnaire standardisé en présentiel | H10: Vous les survolez pour avoir une impression d'ensemble avant de les transmettre à la DRH. | J10: Intégrer l'évaluation de la formation n'est pas encore devenu un réflexe, mais je me soigne ... :-) | K10: =INDEX(Conversion!$B$1:$B$10,MATCH(B10,Conversion!$A$1:$A$10,0)) -> 3
A11: 43574.725 | B11: Oui, systématiquement | C11: Questionnaire en ligne | D11: Vous analysez les résultats et en tenez compte dans vos formations futures, sans les transmettre à la DRH | F11: Oui, systémaiquement | G11: Questionnaire standardisé en présentiel | H11: Vous les survolez pour avoir une impression d'ensemble avant de les transmettre à la DRH. | I11: Je manque de formation d'outils et de temps | J11: l'évaluation des formations se fait parfois en présentiel, parfois à distance selon les modalités de formation. Je les analyse, pour essayer d en tenir compte, je transmets une synthèse à la demande de l'ien, je les fait apparaître dans mon rapport d activité Le question de l'évaluation des formations est un vrai parent pauvre dans le 65. Le pilotage ne le prévoie pas. Elle ne se fait qu à l'echelon des formateurs. Aucun bilan n'est réellement fait. | K11: =INDEX(Conversion!$B$1:$B$10,MATCH(B11,Conversion!$A$1:$A$10,0)) -> 1
A12: 43574.726 | B12: Oui, systématiquement | C12: Questionnaire en ligne | D12: Vous analysez les résultats et en tenez compte dans vos formations futures, sans les transmettre à la DRH | E12: Je manque de formation d'outils et de temps | F12: Oui, systémaiquement | G12: Questionnaire standardisé en présentiel | H12: Vous les survolez pour avoir une impression d'ensemble avant de les transmettre à la DRH. | I12: Je manque de formation d'outils et de temps | K12: =INDEX(Conversion!$B$1:$B$10,MATCH(B12,Conversion!$A$1:$A$10,0)) -> 1
A13: 43574.727 | B13: Non, jamais | E13: Je manque d'outils pour traiter les résultats | F13: Parfois | G13: Questionnaire standardisé en présentiel | H13: Vous les transmettez à la DRH, sans les analyser. | I13: Je manque de formation d'outils et de temps | K13: =INDEX(Conversion!$B$1:$B$10,MATCH(B13,Conversion!$A$1:$A$10,0)) -> 2
A14: 43574.73 | B14: Non, jamais | E14: Je manque de formation d'outils et de temps | F14: Oui, systémaiquement | H14: Vous les survolez pour avoir une impression d'ensemble avant de les transmettre à la DRH. | J14: Retour sur pratique en décalé par un questionnaire que j'analyse pour moi | K14: =INDEX(Conversion!$B$1:$B$10,MATCH(B14,Conversion!$A$1:$A$10,0)) -> 2
A15: 43574.763 | B15: Parfois | C15: Tour de table en présentiel | D15: J'analyse les réponses et en tiens compte dans mes formations futures, sans les transmettre à la DRH car ni mes supérieurs ni la DRH ne me demandent d'évaluer les animations pédagogiques. | F15: Oui, systémaiquement | G15: J'utilise le questionnaire standarisé en présentiel car à ma connaissance, c'est une demande de mon IEN. Cepedendant, je demande aux formés de renseigner seulement la partie du questionnaire qui correspond aux objectifs du stage. | H15: Vous analysez les résultats et en tenez compte dans vos formations futures, puis vous transmettez les résultats à la DRH | J15: Une suggestion : élaborer, au niveau départemental, un protocole d'évaluation flexible selon les formations | K15: =INDEX(Conversion!$B$1:$B$10,MATCH(B15,Conversion!$A$1:$A$10,0)) -> 3
A16: 43574.766 | B16: Oui, systématiquement | C16: Questionnaire en ligne | D16: Vous analysez les résultats et en tenez compte dans vos formations futures, et vous les transmettez à la DRH | F16: Oui, systémaiquement | G16: Questionnaire standardisé en présentiel | H16: Vous analysez les résultats et en tenez compte dans vos formations futures, puis vous transmettez les résultats à la DRH | K16: =INDEX(Conversion!$B$1:$B$10,MATCH(B16,Conversion!$A$1:$A$10,0)) -> 1
A17: 43574.784 | B17: Oui, systématiquement | C17: Questionnaire standardisé en présentiel | D17: Vous analysez les résultats et en tenez compte dans vos formations futures, et vous les transmettez à la DRH | F17: Oui, systémaiquement | G17: Questionnaire standardisé en présentiel | H17: Vous analysez les résultats et en tenez compte dans vos formations futures, puis vous transmettez les résultats à la DRH | K17: =INDEX(Conversion!$B$1:$B$10,MATCH(B17,Conversion!$A$1:$A$10,0)) -> 1
A18: 43574.905 | B18: Parfois | C18: Météo des émotions (soleil/nuage/pluie) | D18: Vous analysez les résultats et en tenez compte dans vos formations futures, sans les transmettre à la DRH | E18: On ne me l'a demande pas. DIfficile dans ce cas d'identifier à qui l'envoyer et pourquoi faire. | F18: Parfois | G18: Questionnaire standardisé, lorsque celui-ci m'est fourni, ce qui n'est pas systématique. | H18: Je les transmets au responsable du stage, sans les analyser. Le retour ne m'a été communiqué qu'une fois. | I18: Le dispositif d'évaluation n'étant pas systématisé, à ma connaissance,, les données sont-elles traitées? | J18: L'évaluation en interne, faite par le formateur lui-même est intéressante, mais la remontée au niveau DRH peut aussi avoir un intérêt plus durable et collectif. | K18: =INDEX(Conversion!$B$1:$B$10,MATCH(B18,Conversion!$A$1:$A$10,0)) -> 3
A19: 43575.415 | B19: Non, jamais | E19: Je manque de formation d'outils et de temps | F19: Parfois | G19: Questionnaire standardisé en présentiel | H19: Vous analysez les résultats et en tenez compte dans vos formations futures, sans les transmettre à la DRH | K19: =INDEX(Conversion!$B$1:$B$10,MATCH(B19,Conversion!$A$1:$A$10,0)) -> 2
A20: 43575.424 | B20: Non, jamais | E20: Je manque de formation pour proposer une évaluation | F20: Non, jamais | I20: Je manque de formation d'outils et de temps | J20: je ne me sens pas compétent pour concevoir une évaluation (pemf) | K20: =INDEX(Conversion!$B$1:$B$10,MATCH(B20,Conversion!$A$1:$A$10,0)) -> 2
A21: 43575.427 | B21: Parfois | C21: Tour de table en présentiel | D21: Vous analysez les résultats et en tenez compte dans vos formations futures, sans les transmettre à la DRH | E21: Je manque de formation d'outils et de temps | F21: Oui, systémaiquement | G21: Questionnaire standardisé en présentiel | H21: Vous les survolez pour avoir une impression d'ensemble avant de les transmettre à la DRH. | I21: Je manque de formation d'outils et de temps | J21: J'analyse les réponses et en tiens compte dans mes formations futures, sans les transmettre à la DRH car ni mes supérieurs ni la DRH ne me demandent d'évaluer les animations pédagogiques. J'utilise le questionnaire standarisé en présentiel car à ma connaissance, c'est une demande de mon IEN. Cepedendant, je demande aux formés de renseigner seulement la partie du questionnaire qui correspond aux objectifs du stage. | K21: =INDEX(Conversion!$B$1:$B$10,MATCH(B21,Conversion!$A$1:$A$10,0)) -> 3
A22: 43575.431 | B22: Parfois | D22: Vous analysez les résultats et en tenez compte dans vos formations futures, sans les transmettre à la DRH | F22: Parfois | J22: Météo des émotions (soleil-nuage-pluie) pour évaluer les animations péda en présentiel On ne me demande pas d'évaluer. DIfficile dans ce cas d'identifier à qui l'envoyer et pourquoi faire. Questionnaire standardisé est distribué, lorsque celui-ci m'est fourni, ce qui n'est pas systématique. Je les transmets au responsable du stage, sans les analyser. Le retour ne m'a été communiqué qu'une fois. Le dispositif d'évaluation n'étant pas systématisé, à ma connaissance,, les données sont-elles traitées? L'évaluation en interne, faite par le formateur lui-même est intéressante, mais la remontée au niveau DRH peut aussi avoir un intérêt plus durable et collectif. | K22: =INDEX(Conversion!$B$1:$B$10,MATCH(B22,Conversion!$A$1:$A$10,0)) -> 3
A23: 43575.432 | B23: Parfois | C23: Questionnaire en ligne | D23: Vous analysez les résultats et en tenez compte dans vos formations futures, sans les transmettre à la DRH | E23: Je manque d'outils pour traiter les résultats | F23: Parfois | G23: Questionnaire standardisé en présentiel | H23: Vous les survolez pour avoir une impression d'ensemble avant de les transmettre à la DRH. | I23: Je manque d'outils pour traiter les résultats. | J23: On ne m'a jamais demandé d'évaluer les animations pédagogiques, je n'ai jamais de retours des fiche distribuées lorsqu'elles sont présentes. | K23: =INDEX(Conversion!$B$1:$B$10,MATCH(B23,Conversion!$A$1:$A$10,0)) -> 3
B26: Étiquettes de lignes | C26: Vous évaluez les animations pédagogiques que vous menez.
B27: Non, jamais | C27: 0.18181818
B28: Oui, systématiquement | C28: 0.27272727
B29: Parfois | C29: 0.54545455
B30: Total général | C30: 1
B31: Étiquettes de lignes | C31: Nombre de 1-Vous évaluez les animations pédagogiques que vous menez.
B32: Non, jamais | C32: 4
B33: Oui, systématiquement | C33: 6
B34: Parfois | C34: 12
B35: Total général | C35: 22

Sheet Conversion
A1: Oui, systématiquement | B1: 1
A2: Non, jamais | B2: 2
A3: Parfois | B3: 3
A4: Autre | B4: 4
