Workbook
Name ListeMois: Listes!$A$1:$A$12

Sheet Compta
A1: Compta
A5: Ticket | B5: Type de Dépense | C5: Débit | D5: Solde
D6: 10000
A7: 1 | D7: =D6-C7 -> 10000
A8: 2 | D8: =D7-C8 -> 10000
A9: 3 | D9: =D8-C9 -> 10000
A10: 4 | D10: =D9-C10 -> 10000
A11: 5 | D11: =D10-C11 -> 10000
A12: 6 | D12: =D11-C12 -> 10000
A13: 7 | D13: =D12-C13 -> 10000
A14: 8 | D14: =D13-C14 -> 10000
A15: 9 | D15: =D14-C15 -> 10000
A16: 10 | D16: =D15-C16 -> 10000
A17: 11 | D17: =D16-C17 -> 10000
A18: 12 | D18: =D17-C18 -> 10000
... A30: 24 | D30: =D29-C30 -> 10000

Sheet Données
A2: Préparation des repas du groupe
A4: Janvier | B4: 2015 | C4: =IF(MONTH(DATE($B$4,MATCH($A$4,ListeMois,0),COLUMN()-2))<>MATCH($A$4,ListeMois,0),"",DATE($B$4,MATCH($A$4,ListeMois,0),COLUMN()-2)) -> 42005 | D4: =IF(MONTH(DATE($B$4,MATCH($A$4,ListeMois,0),COLUMN()-2))<>MATCH($A$4,ListeMois,0),"",DATE($B$4,MATCH($A$4,ListeMois,0),COLUMN()-2)) -> 42006 | E4: =IF(MONTH(DATE($B$4,MATCH($A$4,ListeMois,0),COLUMN()-2))<>MATCH($A$4,ListeMois,0),"",DATE($B$4,MATCH($A$4,ListeMois,0),COLUMN()-2)) -> 42007 | F4: =IF(MONTH(DATE($B$4,MATCH($A$4,ListeMois,0),COLUMN()-2))<>MATCH($A$4,ListeMois,0),"",DATE($B$4,MATCH($A$4,ListeMois,0),COLUMN()-2)) -> 42008 | G4: =IF(MONTH(DATE($B$4,MATCH($A$4,ListeMois,0),COLUMN()-2))<>MATCH($A$4,ListeMois,0),"",DATE($B$4,MATCH($A$4,ListeMois,0),COLUMN()-2)) -> 42009 | H4: =IF(MONTH(DATE($B$4,MATCH($A$4,ListeMois,0),COLUMN()-2))<>MATCH($A$4,ListeMois,0),"",DATE($B$4,MATCH($A$4,ListeMois,0),COLUMN()-2)) -> 42010 | I4: =IF(MONTH(DATE($B$4,MATCH($A$4,ListeMois,0),COLUMN()-2))<>MATCH($A$4,ListeMois,0),"",DATE($B$4,MATCH($A$4,ListeMois,0),COLUMN()-2)) -> 42011 | J4: =IF(MONTH(DATE($B$4,MATCH($A$4,ListeMois,0),COLUMN()-2))<>MATCH($A$4,ListeMois,0),"",DATE($B$4,MATCH($A$4,ListeMois,0),COLUMN()-2)) -> 42012 | ... AG4: =IF(MONTH(DATE($B$4,MATCH($A$4,ListeMois,0),COLUMN()-2))<>MATCH($A$4,ListeMois,0),"",DATE($B$4,MATCH($A$4,ListeMois,0),COLUMN()-2)) -> 42035 | AH4: Totaux
C5: =IF(C4="","",LEFT(INDEX(Listes!$B$1:$B$7,WEEKDAY(C4,2)),2)) -> Je | D5: =IF(D4="","",LEFT(INDEX(Listes!$B$1:$B$7,WEEKDAY(D4,2)),2)) -> Ve | E5: =IF(E4="","",LEFT(INDEX(Listes!$B$1:$B$7,WEEKDAY(E4,2)),2)) -> Sa | F5: =IF(F4="","",LEFT(INDEX(Listes!$B$1:$B$7,WEEKDAY(F4,2)),2)) -> Di | G5: =IF(G4="","",LEFT(INDEX(Listes!$B$1:$B$7,WEEKDAY(G4,2)),2)) -> Lu | H5: =IF(H4="","",LEFT(INDEX(Listes!$B$1:$B$7,WEEKDAY(H4,2)),2)) -> Ma | I5: =IF(I4="","",LEFT(INDEX(Listes!$B$1:$B$7,WEEKDAY(I4,2)),2)) -> Me | J5: =IF(J4="","",LEFT(INDEX(Listes!$B$1:$B$7,WEEKDAY(J4,2)),2)) -> Je | ... AG5: =IF(AG4="","",LEFT(INDEX(Listes!$B$1:$B$7,WEEKDAY(AG4,2)),2)) -> Sa
A6: A | B6: Déjeuner | AH6: 2 x | AI6: =SUM(C6:AG6) -> 0 | AJ6: =PRODUCT(AI6,VALUE(LEFT(AH6,1))) -> 0
B7: Midi | AH7: 9 x | AI7: =SUM(C7:AG7) -> 0 | AJ7: =PRODUCT(AI7,VALUE(LEFT(AH7,1))) -> 0
B8: Soir | AH8: 7 x | AI8: =SUM(C8:AG8) -> 0 | AJ8: =PRODUCT(AI8,VALUE(LEFT(AH8,1))) -> 0
A9: B | B9: Déjeuner | AH9: =$AH$6 -> 2 x | AI9: =SUM(C9:AG9) -> 0 | AJ9: =PRODUCT(AI9,VALUE(LEFT(AH9,1))) -> 0
B10: Midi | AH10: =$AH$7 -> 9 x | AI10: =SUM(C10:AG10) -> 0 | AJ10: =PRODUCT(AI10,VALUE(LEFT(AH10,1))) -> 0
B11: Soir | AH11: =$AH$8 -> 7 x | AI11: =SUM(C11:AG11) -> 0 | AJ11: =PRODUCT(AI11,VALUE(LEFT(AH11,1))) -> 0
A12: C | B12: Déjeuner | AH12: =$AH$6 -> 2 x | AI12: =SUM(C12:AG12) -> 0 | AJ12: =PRODUCT(AI12,VALUE(LEFT(AH12,1))) -> 0
B13: Midi | AH13: =$AH$7 -> 9 x | AI13: =SUM(C13:AG13) -> 0 | AJ13: =PRODUCT(AI13,VALUE(LEFT(AH13,1))) -> 0
B14: Soir | AH14: =$AH$8 -> 7 x | AI14: =SUM(C14:AG14) -> 0 | AJ14: =PRODUCT(AI14,VALUE(LEFT(AH14,1))) -> 0
A15: D | B15: Déjeuner | AH15: =$AH$6 -> 2 x | AI15: =SUM(C15:AG15) -> 0 | AJ15: =PRODUCT(AI15,VALUE(LEFT(AH15,1))) -> 0
B16: Midi | AH16: =$AH$7 -> 9 x | AI16: =SUM(C16:AG16) -> 0 | AJ16: =PRODUCT(AI16,VALUE(LEFT(AH16,1))) -> 0
B17: Soir | AH17: =$AH$8 -> 7 x | AI17: =SUM(C17:AG17) -> 0 | AJ17: =PRODUCT(AI17,VALUE(LEFT(AH17,1))) -> 0
A18: E | B18: Déjeuner | AH18: =$AH$6 -> 2 x | AI18: =SUM(C18:AG18) -> 0 | AJ18: =PRODUCT(AI18,VALUE(LEFT(AH18,1))) -> 0
B19: Midi | AH19: =$AH$7 -> 9 x | AI19: =SUM(C19:AG19) -> 0 | AJ19: =PRODUCT(AI19,VALUE(LEFT(AH19,1))) -> 0
B20: Soir | AH20: =$AH$8 -> 7 x | AI20: =SUM(C20:AG20) -> 0 | AJ20: =PRODUCT(AI20,VALUE(LEFT(AH20,1))) -> 0
A21: F | B21: Déjeuner | AH21: =$AH$6 -> 2 x | AI21: =SUM(C21:AG21) -> 0 | AJ21: =PRODUCT(AI21,VALUE(LEFT(AH21,1))) -> 0
B22: Midi | AH22: =$AH$7 -> 9 x | AI22: =SUM(C22:AG22) -> 0 | AJ22: =PRODUCT(AI22,VALUE(LEFT(AH22,1))) -> 0
B23: Soir | AH23: =$AH$8 -> 7 x | AI23: =SUM(C23:AG23) -> 0 | AJ23: =PRODUCT(AI23,VALUE(LEFT(AH23,1))) -> 0
A24: G | B24: Déjeuner | AH24: =$AH$6 -> 2 x | AI24: =SUM(C24:AG24) -> 0 | AJ24: =PRODUCT(AI24,VALUE(LEFT(AH24,1))) -> 0
B25: Midi | AH25: =$AH$7 -> 9 x | AI25: =SUM(C25:AG25) -> 0 | AJ25: =PRODUCT(AI25,VALUE(LEFT(AH25,1))) -> 0
B26: Soir | AH26: =$AH$8 -> 7 x | AI26: =SUM(C26:AG26) -> 0 | AJ26: =PRODUCT(AI26,VALUE(LEFT(AH26,1))) -> 0
A27: H | B27: Déjeuner | AH27: =$AH$6 -> 2 x | AI27: =SUM(C27:AG27) -> 0 | AJ27: =PRODUCT(AI27,VALUE(LEFT(AH27,1))) -> 0
B28: Midi | AH28: =$AH$7 -> 9 x | AI28: =SUM(C28:AG28) -> 0 | AJ28: =PRODUCT(AI28,VALUE(LEFT(AH28,1))) -> 0
B29: Soir | AH29: =$AH$8 -> 7 x | AI29: =SUM(C29:AG29) -> 0 | AJ29: =PRODUCT(AI29,VALUE(LEFT(AH29,1))) -> 0
A30: I | B30: Déjeuner | AH30: 25 x | AI30: =SUM(C30:AG30) -> 0 | AJ30: =PRODUCT(AI30,VALUE(LEFT(AH30,2))) -> 0
B31: Midi | AH31: 25 x | AI31: =SUM(C31:AG31) -> 0 | AJ31: =PRODUCT(AI31,VALUE(LEFT(AH31,2))) -> 0
B32: Soir | AH32: 25 x | AI32: =SUM(C32:AG32) -> 0 | AJ32: =PRODUCT(AI32,VALUE(LEFT(AH32,2))) -> 0
B33: AA | G33: BB | P33: Total dépenses du groupe = | AB33: =AJ33+AJ73 -> 0 | AJ33: =SUM(AJ6:AJ32) -> 0
B34: CC | G34: DD | M34: EE | V34: Total éducateurs du groupe = | AB34: =S34+J33+J34+D33+D34 -> 0 | AE34: Marge du groupe | AJ34: =AB33-AB34 -> 0
C35: =C4 -> 42005 | D35: =D4 -> 42006 | E35: =E4 -> 42007 | F35: =F4 -> 42008 | G35: =G4 -> 42009 | H35: =H4 -> 42010 | I35: =I4 -> 42011 | J35: =J4 -> 42012 | ... AG35: =AG4 -> 42035 | AH35: Totaux
C36: =IF(ISERR(C3),"",IF(C3=1,"lu","")&IF(C3=2,"ma","")&IF(C3=3,"Me","")&IF(C3=4,"Je","")&IF(C3=5,"Ve","")&IF(C3=6,"Sa","")&IF(C3=7,"Di","")) | D36: =IF(ISERR(D3),"",IF(D3=1,"lu","")&IF(D3=2,"ma","")&IF(D3=3,"Me","")&IF(D3=4,"Je","")&IF(D3=5,"Ve","")&IF(D3=6,"Sa","")&IF(D3=7,"Di","")) | E36: =IF(ISERR(E3),"",IF(E3=1,"lu","")&IF(E3=2,"ma","")&IF(E3=3,"Me","")&IF(E3=4,"Je","")&IF(E3=5,"Ve","")&IF(E3=6,"Sa","")&IF(E3=7,"Di","")) | F36: =IF(ISERR(F3),"",IF(F3=1,"lu","")&IF(F3=2,"ma","")&IF(F3=3,"Me","")&IF(F3=4,"Je","")&IF(F3=5,"Ve","")&IF(F3=6,"Sa","")&IF(F3=7,"Di","")) | G36: =IF(ISERR(G3),"",IF(G3=1,"lu","")&IF(G3=2,"ma","")&IF(G3=3,"Me","")&IF(G3=4,"Je","")&IF(G3=5,"Ve","")&IF(G3=6,"Sa","")&IF(G3=7,"Di","")) | H36: =IF(ISERR(H3),"",IF(H3=1,"lu","")&IF(H3=2,"ma","")&IF(H3=3,"Me","")&IF(H3=4,"Je","")&IF(H3=5,"Ve","")&IF(H3=6,"Sa","")&IF(H3=7,"Di","")) | I36: =IF(ISERR(I3),"",IF(I3=1,"lu","")&IF(I3=2,"ma","")&IF(I3=3,"Me","")&IF(I3=4,"Je","")&IF(I3=5,"Ve","")&IF(I3=6,"Sa","")&IF(I3=7,"Di","")) | J36: =IF(ISERR(J3),"",IF(J3=1,"lu","")&IF(J3=2,"ma","")&IF(J3=3,"Me","")&IF(J3=4,"Je","")&IF(J3=5,"Ve","")&IF(J3=6,"Sa","")&IF(J3=7,"Di","")) | ... AG36: =IF(ISERR(AG3),"",IF(AG3=1,"lu","")&IF(AG3=2,"ma","")&IF(AG3=3,"Me","")&IF(AG3=4,"Je","")&IF(AG3=5,"Ve","")&IF(AG3=6,"Sa","")&IF(AG3=7,"Di",""))
A37: J | B37: Déjeuner | AH37: =$AH$6 -> 2 x | AI37: =SUM(C37:AG37) -> 0 | AJ37: =PRODUCT(AI37,VALUE(LEFT(AH37,1))) -> 0
B38: Midi | AH38: =$AH$7 -> 9 x | AI38: =SUM(C38:AG38) -> 0 | AJ38: =PRODUCT(AI38,VALUE(LEFT(AH38,1))) -> 0
B39: Soir | AH39: =$AH$8 -> 7 x | AI39: =SUM(C39:AG39) -> 0 | AJ39: =PRODUCT(AI39,VALUE(LEFT(AH39,1))) -> 0
A40: K | B40: Déjeuner | AH40: =$AH$6 -> 2 x | AI40: =SUM(C40:AG40) -> 0 | AJ40: =PRODUCT(AI40,VALUE(LEFT(AH40,1))) -> 0
B41: Midi | AH41: =$AH$7 -> 9 x | AI41: =SUM(C41:AG41) -> 0 | AJ41: =PRODUCT(AI41,VALUE(LEFT(AH41,1))) -> 0
B42: Soir | AH42: =$AH$8 -> 7 x | AI42: =SUM(C42:AG42) -> 0 | AJ42: =PRODUCT(AI42,VALUE(LEFT(AH42,1))) -> 0
A43: L | B43: Déjeuner | AH43: =$AH$6 -> 2 x | AI43: =SUM(C43:AG43) -> 0 | AJ43: =PRODUCT(AI43,VALUE(LEFT(AH43,1))) -> 0
B44: Midi | AH44: =$AH$7 -> 9 x | AI44: =SUM(C44:AG44) -> 0 | AJ44: =PRODUCT(AI44,VALUE(LEFT(AH44,1))) -> 0
B45: Soir | AH45: =$AH$8 -> 7 x | AI45: =SUM(C45:AG45) -> 0 | AJ45: =PRODUCT(AI45,VALUE(LEFT(AH45,1))) -> 0
A46: M | B46: Déjeuner | AH46: =$AH$6 -> 2 x | AI46: =SUM(C46:AG46) -> 0 | AJ46: =PRODUCT(AI46,VALUE(LEFT(AH46,1))) -> 0
B47: Midi | AH47: =$AH$7 -> 9 x | AI47: =SUM(C47:AG47) -> 0 | AJ47: =PRODUCT(AI47,VALUE(LEFT(AH47,1))) -> 0
B48: Soir | AH48: =$AH$8 -> 7 x | AI48: =SUM(C48:AG48) -> 0 | AJ48: =PRODUCT(AI48,VALUE(LEFT(AH48,1))) -> 0
A49: N | B49: Déjeuner | AH49: =$AH$6 -> 2 x | AI49: =SUM(C49:AG49) -> 0 | AJ49: =PRODUCT(AI49,VALUE(LEFT(AH49,1))) -> 0
B50: Midi | AH50: =$AH$7 -> 9 x | AI50: =SUM(C50:AG50) -> 0 | AJ50: =PRODUCT(AI50,VALUE(LEFT(AH50,1))) -> 0
B51: Soir | AH51: =$AH$8 -> 7 x | AI51: =SUM(C51:AG51) -> 0 | AJ51: =PRODUCT(AI51,VALUE(LEFT(AH51,1))) -> 0
A52: O | B52: Déjeuner | AH52: =$AH$6 -> 2 x | AI52: =SUM(C52:AG52) -> 0 | AJ52: =PRODUCT(AI52,VALUE(LEFT(AH52,1))) -> 0
B53: Midi | AH53: =$AH$7 -> 9 x | AI53: =SUM(C53:AG53) -> 0 | AJ53: =PRODUCT(AI53,VALUE(LEFT(AH53,1))) -> 0
B54: Soir | AH54: =$AH$8 -> 7 x | AI54: =SUM(C54:AG54) -> 0 | AJ54: =PRODUCT(AI54,VALUE(LEFT(AH54,1))) -> 0
A55: P | B55: Déjeuner | AH55: =$AH$6 -> 2 x | AI55: =SUM(C55:AG55) -> 0 | AJ55: =PRODUCT(AI55,VALUE(LEFT(AH55,1))) -> 0
B56: Midi | AH56: =$AH$7 -> 9 x | AI56: =SUM(C56:AG56) -> 0 | AJ56: =PRODUCT(AI56,VALUE(LEFT(AH56,1))) -> 0
B57: Soir | AH57: =$AH$8 -> 7 x | AI57: =SUM(C57:AG57) -> 0 | AJ57: =PRODUCT(AI57,VALUE(LEFT(AH57,1))) -> 0
A58: Q | B58: Déjeuner | AH58: =$AH$6 -> 2 x | AI58: =SUM(C58:AG58) -> 0 | AJ58: =PRODUCT(AI58,VALUE(LEFT(AH58,1))) -> 0
B59: Midi | AH59: =$AH$7 -> 9 x | AI59: =SUM(C59:AG59) -> 0 | AJ59: =PRODUCT(AI59,VALUE(LEFT(AH59,1))) -> 0
B60: Soir | AH60: =$AH$8 -> 7 x | AI60: =SUM(C60:AG60) -> 0 | AJ60: =PRODUCT(AI60,VALUE(LEFT(AH60,1))) -> 0
A61: R | B61: Déjeuner | AH61: =$AH$6 -> 2 x | AI61: =SUM(C61:AG61) -> 0 | AJ61: =PRODUCT(AI61,VALUE(LEFT(AH61,1))) -> 0
B62: Midi | AH62: =$AH$7 -> 9 x | AI62: =SUM(C62:AG62) -> 0 | AJ62: =PRODUCT(AI62,VALUE(LEFT(AH62,1))) -> 0
B63: Soir | AH63: =$AH$8 -> 7 x | AI63: =SUM(C63:AG63) -> 0 | AJ63: =PRODUCT(AI63,VALUE(LEFT(AH63,1))) -> 0
A64: S | B64: Déjeuner | AH64: =$AH$6 -> 2 x | AI64: =SUM(C64:AG64) -> 0 | AJ64: =PRODUCT(AI64,VALUE(LEFT(AH64,1))) -> 0
B65: Midi | AH65: =$AH$7 -> 9 x | AI65: =SUM(C65:AG65) -> 0 | AJ65: =PRODUCT(AI65,VALUE(LEFT(AH65,1))) -> 0
B66: Soir | AH66: =$AH$8 -> 7 x | AI66: =SUM(C66:AG66) -> 0 | AJ66: =PRODUCT(AI66,VALUE(LEFT(AH66,1))) -> 0
A67: T | B67: Déjeuner | AH67: =$AH$6 -> 2 x | AI67: =SUM(C67:AG67) -> 0 | AJ67: =PRODUCT(AI67,VALUE(LEFT(AH67,1))) -> 0
B68: Midi | AH68: =$AH$7 -> 9 x | AI68: =SUM(C68:AG68) -> 0 | AJ68: =PRODUCT(AI68,VALUE(LEFT(AH68,1))) -> 0
B69: Soir | AH69: =$AH$8 -> 7 x | AI69: =SUM(C69:AG69) -> 0 | AJ69: =PRODUCT(AI69,VALUE(LEFT(AH69,1))) -> 0
A70: U | B70: Déjeuner | AH70: =$AH$6 -> 2 x | AI70: =SUM(C70:AG70) -> 0 | AJ70: =PRODUCT(AI70,VALUE(LEFT(AH70,1))) -> 0
B71: Midi | AH71: =$AH$7 -> 9 x | AI71: =SUM(C71:AG71) -> 0 | AJ71: =PRODUCT(AI71,VALUE(LEFT(AH71,1))) -> 0
B72: Soir | AH72: =$AH$8 -> 7 x | AI72: =SUM(C72:AG72) -> 0 | AJ72: =PRODUCT(AI72,VALUE(LEFT(AH72,1))) -> 0
AJ73: =SUM(AJ37:AJ72) -> 0

Sheet Listes
A1: Janvier | B1: Lundi
A2: Février | B2: Mardi
A3: Mars | B3: Mercredi
A4: Avril | B4: Jeudi
A5: Mai | B5: Vendredi
A6: Juin | B6: Samedi
A7: Juillet | B7: Dimanche
A8: Août
A9: Septembre
A10: Octobre
A11: Novembre
A12: Décembre
