Workbook

Sheet Feuil1
A8: Code Produit en Remplacement de | B8: Code Produit | C8: Libellé du Produit | D8: Conditionnement d'Achat du Produit | E8: Conditionnement de Distribution | F8: Code Unité Distribution du Produit | G8: Prix Unitaire du Marché | H8: Libellé de la Catégorie de Navigation | I8: Référence Externe du Produit | J8: Numéro de lot | K8: Libellé Dernier Fournisse | L8: Gluten | M8: Crustacés | N8: Œufs | O8: Poissons | P8: Arachides | Q8: Soja | R8: Lait | S8: Céleri | T8: Moutarde | U8: Fruits à coque | V8: Sésame | W8: Sulfites | X8: Mollusques | Y8: Lupin
B9: 4137153 | C9: POMMES DE TERRE LAMELLE BLANCHIE IVGAMME
B10: 4130252 | C10: OIGNON CUBE 10X10 2,5KGX4/10KG
B11: 4137408 | C11: LARDONS FUMES - 1 KG | L11: traces | N11: traces | Q11: traces | R11: traces | S11: traces | T11: traces | U11: traces
B12: 4130426 | C12: CREME LIQUIDE 30% MG 1L | R12: OUI
B13: 4130907 | C13: FROMAGE TARTIFLETTE 27% 450G | R13: OUI
B14: 4120686 | C14: VIN VCE BLANC 11° CUBI 5L VAL FLOREY | W14: OUI
B15: 4130546 | C15: PERSIL HACHE 250G | Q15: traces | S15: traces

Sheet Feuil2
C3: TARTIFLETTE
B7: Code produit | C7: Désignation | H7: Gluten | I7: Crustacés | J7: Œufs | K7: Poissons | L7: Arachides | M7: Soja | N7: Lait | O7: Fruits à coque | P7: Céleri | Q7: Moutarde | R7: Sésame | S7: Sulfites | T7: Lupin | U7: Mollusques
B8: 4137153 | C8: =IFERROR(INDEX(Feuil1!$C$1:$C$50,MATCH(B8,Feuil1!$B$1:$B$50,0)),"") -> POMMES DE TERRE LAMELLE BLANCHIE IVGAMME | H8: =IFERROR(VLOOKUP(INDIRECT("Feuil1!"&SUBSTITUTE(ADDRESS(1,MATCH(H$7,Feuil1!$A$8:$Y$8,0),4),1,"")&MATCH($B8,Feuil1!$B$1:$B$50,0)),{"Oui",3;"Traces",2;"Non",1},2,0),"") | I8: =IFERROR(VLOOKUP(INDIRECT("Feuil1!"&SUBSTITUTE(ADDRESS(1,MATCH(I$7,Feuil1!$A$8:$Y$8,0),4),1,"")&MATCH($B8,Feuil1!$B$1:$B$50,0)),{"Oui",3;"Traces",2;"Non",1},2,0),"") | J8: =IFERROR(VLOOKUP(INDIRECT("Feuil1!"&SUBSTITUTE(ADDRESS(1,MATCH(J$7,Feuil1!$A$8:$Y$8,0),4),1,"")&MATCH($B8,Feuil1!$B$1:$B$50,0)),{"Oui",3;"Traces",2;"Non",1},2,0),"") | K8: =IFERROR(VLOOKUP(INDIRECT("Feuil1!"&SUBSTITUTE(ADDRESS(1,MATCH(K$7,Feuil1!$A$8:$Y$8,0),4),1,"")&MATCH($B8,Feuil1!$B$1:$B$50,0)),{"Oui",3;"Traces",2;"Non",1},2,0),"") | L8: =IFERROR(VLOOKUP(INDIRECT("Feuil1!"&SUBSTITUTE(ADDRESS(1,MATCH(L$7,Feuil1!$A$8:$Y$8,0),4),1,"")&MATCH($B8,Feuil1!$B$1:$B$50,0)),{"Oui",3;"Traces",2;"Non",1},2,0),"") | M8: =IFERROR(VLOOKUP(INDIRECT("Feuil1!"&SUBSTITUTE(ADDRESS(1,MATCH(M$7,Feuil1!$A$8:$Y$8,0),4),1,"")&MATCH($B8,Feuil1!$B$1:$B$50,0)),{"Oui",3;"Traces",2;"Non",1},2,0),"") | N8: =IFERROR(VLOOKUP(INDIRECT("Feuil1!"&SUBSTITUTE(ADDRESS(1,MATCH(N$7,Feuil1!$A$8:$Y$8,0),4),1,"")&MATCH($B8,Feuil1!$B$1:$B$50,0)),{"Oui",3;"Traces",2;"Non",1},2,0),"") | O8: =IFERROR(VLOOKUP(INDIRECT("Feuil1!"&SUBSTITUTE(ADDRESS(1,MATCH(O$7,Feuil1!$A$8:$Y$8,0),4),1,"")&MATCH($B8,Feuil1!$B$1:$B$50,0)),{"Oui",3;"Traces",2;"Non",1},2,0),"") | ... U8: =IFERROR(VLOOKUP(INDIRECT("Feuil1!"&SUBSTITUTE(ADDRESS(1,MATCH(U$7,Feuil1!$A$8:$Y$8,0),4),1,"")&MATCH($B8,Feuil1!$B$1:$B$50,0)),{"Oui",3;"Traces",2;"Non",1},2,0),"")
B9: 4130252 | C9: =IFERROR(INDEX(Feuil1!$C$1:$C$50,MATCH(B9,Feuil1!$B$1:$B$50,0)),"") -> OIGNON CUBE 10X10 2,5KGX4/10KG | H9: =IFERROR(VLOOKUP(INDIRECT("Feuil1!"&SUBSTITUTE(ADDRESS(1,MATCH(H$7,Feuil1!$A$8:$Y$8,0),4),1,"")&MATCH($B9,Feuil1!$B$1:$B$50,0)),{"Oui",3;"Traces",2;"Non",1},2,0),"") | I9: =IFERROR(VLOOKUP(INDIRECT("Feuil1!"&SUBSTITUTE(ADDRESS(1,MATCH(I$7,Feuil1!$A$8:$Y$8,0),4),1,"")&MATCH($B9,Feuil1!$B$1:$B$50,0)),{"Oui",3;"Traces",2;"Non",1},2,0),"") | J9: =IFERROR(VLOOKUP(INDIRECT("Feuil1!"&SUBSTITUTE(ADDRESS(1,MATCH(J$7,Feuil1!$A$8:$Y$8,0),4),1,"")&MATCH($B9,Feuil1!$B$1:$B$50,0)),{"Oui",3;"Traces",2;"Non",1},2,0),"") | K9: =IFERROR(VLOOKUP(INDIRECT("Feuil1!"&SUBSTITUTE(ADDRESS(1,MATCH(K$7,Feuil1!$A$8:$Y$8,0),4),1,"")&MATCH($B9,Feuil1!$B$1:$B$50,0)),{"Oui",3;"Traces",2;"Non",1},2,0),"") | L9: =IFERROR(VLOOKUP(INDIRECT("Feuil1!"&SUBSTITUTE(ADDRESS(1,MATCH(L$7,Feuil1!$A$8:$Y$8,0),4),1,"")&MATCH($B9,Feuil1!$B$1:$B$50,0)),{"Oui",3;"Traces",2;"Non",1},2,0),"") | M9: =IFERROR(VLOOKUP(INDIRECT("Feuil1!"&SUBSTITUTE(ADDRESS(1,MATCH(M$7,Feuil1!$A$8:$Y$8,0),4),1,"")&MATCH($B9,Feuil1!$B$1:$B$50,0)),{"Oui",3;"Traces",2;"Non",1},2,0),"") | N9: =IFERROR(VLOOKUP(INDIRECT("Feuil1!"&SUBSTITUTE(ADDRESS(1,MATCH(N$7,Feuil1!$A$8:$Y$8,0),4),1,"")&MATCH($B9,Feuil1!$B$1:$B$50,0)),{"Oui",3;"Traces",2;"Non",1},2,0),"") | O9: =IFERROR(VLOOKUP(INDIRECT("Feuil1!"&SUBSTITUTE(ADDRESS(1,MATCH(O$7,Feuil1!$A$8:$Y$8,0),4),1,"")&MATCH($B9,Feuil1!$B$1:$B$50,0)),{"Oui",3;"Traces",2;"Non",1},2,0),"") | ... U9: =IFERROR(VLOOKUP(INDIRECT("Feuil1!"&SUBSTITUTE(ADDRESS(1,MATCH(U$7,Feuil1!$A$8:$Y$8,0),4),1,"")&MATCH($B9,Feuil1!$B$1:$B$50,0)),{"Oui",3;"Traces",2;"Non",1},2,0),"")
B10: 4137408 | C10: =IFERROR(INDEX(Feuil1!$C$1:$C$50,MATCH(B10,Feuil1!$B$1:$B$50,0)),"") -> LARDONS FUMES - 1 KG | H10: =IFERROR(VLOOKUP(INDIRECT("Feuil1!"&SUBSTITUTE(ADDRESS(1,MATCH(H$7,Feuil1!$A$8:$Y$8,0),4),1,"")&MATCH($B10,Feuil1!$B$1:$B$50,0)),{"Oui",3;"Traces",2;"Non",1},2,0),"") -> 2 | I10: =IFERROR(VLOOKUP(INDIRECT("Feuil1!"&SUBSTITUTE(ADDRESS(1,MATCH(I$7,Feuil1!$A$8:$Y$8,0),4),1,"")&MATCH($B10,Feuil1!$B$1:$B$50,0)),{"Oui",3;"Traces",2;"Non",1},2,0),"") | J10: =IFERROR(VLOOKUP(INDIRECT("Feuil1!"&SUBSTITUTE(ADDRESS(1,MATCH(J$7,Feuil1!$A$8:$Y$8,0),4),1,"")&MATCH($B10,Feuil1!$B$1:$B$50,0)),{"Oui",3;"Traces",2;"Non",1},2,0),"") -> 2 | K10: =IFERROR(VLOOKUP(INDIRECT("Feuil1!"&SUBSTITUTE(ADDRESS(1,MATCH(K$7,Feuil1!$A$8:$Y$8,0),4),1,"")&MATCH($B10,Feuil1!$B$1:$B$50,0)),{"Oui",3;"Traces",2;"Non",1},2,0),"") | L10: =IFERROR(VLOOKUP(INDIRECT("Feuil1!"&SUBSTITUTE(ADDRESS(1,MATCH(L$7,Feuil1!$A$8:$Y$8,0),4),1,"")&MATCH($B10,Feuil1!$B$1:$B$50,0)),{"Oui",3;"Traces",2;"Non",1},2,0),"") | M10: =IFERROR(VLOOKUP(INDIRECT("Feuil1!"&SUBSTITUTE(ADDRESS(1,MATCH(M$7,Feuil1!$A$8:$Y$8,0),4),1,"")&MATCH($B10,Feuil1!$B$1:$B$50,0)),{"Oui",3;"Traces",2;"Non",1},2,0),"") -> 2 | N10: =IFERROR(VLOOKUP(INDIRECT("Feuil1!"&SUBSTITUTE(ADDRESS(1,MATCH(N$7,Feuil1!$A$8:$Y$8,0),4),1,"")&MATCH($B10,Feuil1!$B$1:$B$50,0)),{"Oui",3;"Traces",2;"Non",1},2,0),"") -> 2 | O10: =IFERROR(VLOOKUP(INDIRECT("Feuil1!"&SUBSTITUTE(ADDRESS(1,MATCH(O$7,Feuil1!$A$8:$Y$8,0),4),1,"")&MATCH($B10,Feuil1!$B$1:$B$50,0)),{"Oui",3;"Traces",2;"Non",1},2,0),"") -> 2 | ... U10: =IFERROR(VLOOKUP(INDIRECT("Feuil1!"&SUBSTITUTE(ADDRESS(1,MATCH(U$7,Feuil1!$A$8:$Y$8,0),4),1,"")&MATCH($B10,Feuil1!$B$1:$B$50,0)),{"Oui",3;"Traces",2;"Non",1},2,0),"")
B11: 4130426 | C11: =IFERROR(INDEX(Feuil1!$C$1:$C$50,MATCH(B11,Feuil1!$B$1:$B$50,0)),"") -> CREME LIQUIDE 30% MG 1L | H11: =IFERROR(VLOOKUP(INDIRECT("Feuil1!"&SUBSTITUTE(ADDRESS(1,MATCH(H$7,Feuil1!$A$8:$Y$8,0),4),1,"")&MATCH($B11,Feuil1!$B$1:$B$50,0)),{"Oui",3;"Traces",2;"Non",1},2,0),"") | I11: =IFERROR(VLOOKUP(INDIRECT("Feuil1!"&SUBSTITUTE(ADDRESS(1,MATCH(I$7,Feuil1!$A$8:$Y$8,0),4),1,"")&MATCH($B11,Feuil1!$B$1:$B$50,0)),{"Oui",3;"Traces",2;"Non",1},2,0),"") | J11: =IFERROR(VLOOKUP(INDIRECT("Feuil1!"&SUBSTITUTE(ADDRESS(1,MATCH(J$7,Feuil1!$A$8:$Y$8,0),4),1,"")&MATCH($B11,Feuil1!$B$1:$B$50,0)),{"Oui",3;"Traces",2;"Non",1},2,0),"") | K11: =IFERROR(VLOOKUP(INDIRECT("Feuil1!"&SUBSTITUTE(ADDRESS(1,MATCH(K$7,Feuil1!$A$8:$Y$8,0),4),1,"")&MATCH($B11,Feuil1!$B$1:$B$50,0)),{"Oui",3;"Traces",2;"Non",1},2,0),"") | L11: =IFERROR(VLOOKUP(INDIRECT("Feuil1!"&SUBSTITUTE(ADDRESS(1,MATCH(L$7,Feuil1!$A$8:$Y$8,0),4),1,"")&MATCH($B11,Feuil1!$B$1:$B$50,0)),{"Oui",3;"Traces",2;"Non",1},2,0),"") | M11: =IFERROR(VLOOKUP(INDIRECT("Feuil1!"&SUBSTITUTE(ADDRESS(1,MATCH(M$7,Feuil1!$A$8:$Y$8,0),4),1,"")&MATCH($B11,Feuil1!$B$1:$B$50,0)),{"Oui",3;"Traces",2;"Non",1},2,0),"") | N11: =IFERROR(VLOOKUP(INDIRECT("Feuil1!"&SUBSTITUTE(ADDRESS(1,MATCH(N$7,Feuil1!$A$8:$Y$8,0),4),1,"")&MATCH($B11,Feuil1!$B$1:$B$50,0)),{"Oui",3;"Traces",2;"Non",1},2,0),"") -> 3 | O11: =IFERROR(VLOOKUP(INDIRECT("Feuil1!"&SUBSTITUTE(ADDRESS(1,MATCH(O$7,Feuil1!$A$8:$Y$8,0),4),1,"")&MATCH($B11,Feuil1!$B$1:$B$50,0)),{"Oui",3;"Traces",2;"Non",1},2,0),"") | ... U11: =IFERROR(VLOOKUP(INDIRECT("Feuil1!"&SUBSTITUTE(ADDRESS(1,MATCH(U$7,Feuil1!$A$8:$Y$8,0),4),1,"")&MATCH($B11,Feuil1!$B$1:$B$50,0)),{"Oui",3;"Traces",2;"Non",1},2,0),"")
B12: 4130907 | C12: =IFERROR(INDEX(Feuil1!$C$1:$C$50,MATCH(B12,Feuil1!$B$1:$B$50,0)),"") -> FROMAGE TARTIFLETTE 27% 450G | H12: =IFERROR(VLOOKUP(INDIRECT("Feuil1!"&SUBSTITUTE(ADDRESS(1,MATCH(H$7,Feuil1!$A$8:$Y$8,0),4),1,"")&MATCH($B12,Feuil1!$B$1:$B$50,0)),{"Oui",3;"Traces",2;"Non",1},2,0),"") | I12: =IFERROR(VLOOKUP(INDIRECT("Feuil1!"&SUBSTITUTE(ADDRESS(1,MATCH(I$7,Feuil1!$A$8:$Y$8,0),4),1,"")&MATCH($B12,Feuil1!$B$1:$B$50,0)),{"Oui",3;"Traces",2;"Non",1},2,0),"") | J12: =IFERROR(VLOOKUP(INDIRECT("Feuil1!"&SUBSTITUTE(ADDRESS(1,MATCH(J$7,Feuil1!$A$8:$Y$8,0),4),1,"")&MATCH($B12,Feuil1!$B$1:$B$50,0)),{"Oui",3;"Traces",2;"Non",1},2,0),"") | K12: =IFERROR(VLOOKUP(INDIRECT("Feuil1!"&SUBSTITUTE(ADDRESS(1,MATCH(K$7,Feuil1!$A$8:$Y$8,0),4),1,"")&MATCH($B12,Feuil1!$B$1:$B$50,0)),{"Oui",3;"Traces",2;"Non",1},2,0),"") | L12: =IFERROR(VLOOKUP(INDIRECT("Feuil1!"&SUBSTITUTE(ADDRESS(1,MATCH(L$7,Feuil1!$A$8:$Y$8,0),4),1,"")&MATCH($B12,Feuil1!$B$1:$B$50,0)),{"Oui",3;"Traces",2;"Non",1},2,0),"") | M12: =IFERROR(VLOOKUP(INDIRECT("Feuil1!"&SUBSTITUTE(ADDRESS(1,MATCH(M$7,Feuil1!$A$8:$Y$8,0),4),1,"")&MATCH($B12,Feuil1!$B$1:$B$50,0)),{"Oui",3;"Traces",2;"Non",1},2,0),"") | N12: =IFERROR(VLOOKUP(INDIRECT("Feuil1!"&SUBSTITUTE(ADDRESS(1,MATCH(N$7,Feuil1!$A$8:$Y$8,0),4),1,"")&MATCH($B12,Feuil1!$B$1:$B$50,0)),{"Oui",3;"Traces",2;"Non",1},2,0),"") -> 3 | O12: =IFERROR(VLOOKUP(INDIRECT("Feuil1!"&SUBSTITUTE(ADDRESS(1,MATCH(O$7,Feuil1!$A$8:$Y$8,0),4),1,"")&MATCH($B12,Feuil1!$B$1:$B$50,0)),{"Oui",3;"Traces",2;"Non",1},2,0),"") | ... U12: =IFERROR(VLOOKUP(INDIRECT("Feuil1!"&SUBSTITUTE(ADDRESS(1,MATCH(U$7,Feuil1!$A$8:$Y$8,0),4),1,"")&MATCH($B12,Feuil1!$B$1:$B$50,0)),{"Oui",3;"Traces",2;"Non",1},2,0),"")
B13: 4120686 | C13: =IFERROR(INDEX(Feuil1!$C$1:$C$50,MATCH(B13,Feuil1!$B$1:$B$50,0)),"") -> VIN VCE BLANC 11° CUBI 5L VAL FLOREY | H13: =IFERROR(VLOOKUP(INDIRECT("Feuil1!"&SUBSTITUTE(ADDRESS(1,MATCH(H$7,Feuil1!$A$8:$Y$8,0),4),1,"")&MATCH($B13,Feuil1!$B$1:$B$50,0)),{"Oui",3;"Traces",2;"Non",1},2,0),"") | I13: =IFERROR(VLOOKUP(INDIRECT("Feuil1!"&SUBSTITUTE(ADDRESS(1,MATCH(I$7,Feuil1!$A$8:$Y$8,0),4),1,"")&MATCH($B13,Feuil1!$B$1:$B$50,0)),{"Oui",3;"Traces",2;"Non",1},2,0),"") | J13: =IFERROR(VLOOKUP(INDIRECT("Feuil1!"&SUBSTITUTE(ADDRESS(1,MATCH(J$7,Feuil1!$A$8:$Y$8,0),4),1,"")&MATCH($B13,Feuil1!$B$1:$B$50,0)),{"Oui",3;"Traces",2;"Non",1},2,0),"") | K13: =IFERROR(VLOOKUP(INDIRECT("Feuil1!"&SUBSTITUTE(ADDRESS(1,MATCH(K$7,Feuil1!$A$8:$Y$8,0),4),1,"")&MATCH($B13,Feuil1!$B$1:$B$50,0)),{"Oui",3;"Traces",2;"Non",1},2,0),"") | L13: =IFERROR(VLOOKUP(INDIRECT("Feuil1!"&SUBSTITUTE(ADDRESS(1,MATCH(L$7,Feuil1!$A$8:$Y$8,0),4),1,"")&MATCH($B13,Feuil1!$B$1:$B$50,0)),{"Oui",3;"Traces",2;"Non",1},2,0),"") | M13: =IFERROR(VLOOKUP(INDIRECT("Feuil1!"&SUBSTITUTE(ADDRESS(1,MATCH(M$7,Feuil1!$A$8:$Y$8,0),4),1,"")&MATCH($B13,Feuil1!$B$1:$B$50,0)),{"Oui",3;"Traces",2;"Non",1},2,0),"") | N13: =IFERROR(VLOOKUP(INDIRECT("Feuil1!"&SUBSTITUTE(ADDRESS(1,MATCH(N$7,Feuil1!$A$8:$Y$8,0),4),1,"")&MATCH($B13,Feuil1!$B$1:$B$50,0)),{"Oui",3;"Traces",2;"Non",1},2,0),"") | O13: =IFERROR(VLOOKUP(INDIRECT("Feuil1!"&SUBSTITUTE(ADDRESS(1,MATCH(O$7,Feuil1!$A$8:$Y$8,0),4),1,"")&MATCH($B13,Feuil1!$B$1:$B$50,0)),{"Oui",3;"Traces",2;"Non",1},2,0),"") | ... U13: =IFERROR(VLOOKUP(INDIRECT("Feuil1!"&SUBSTITUTE(ADDRESS(1,MATCH(U$7,Feuil1!$A$8:$Y$8,0),4),1,"")&MATCH($B13,Feuil1!$B$1:$B$50,0)),{"Oui",3;"Traces",2;"Non",1},2,0),"")
B14: 4130546 | C14: =IFERROR(INDEX(Feuil1!$C$1:$C$50,MATCH(B14,Feuil1!$B$1:$B$50,0)),"") -> PERSIL HACHE 250G | H14: =IFERROR(VLOOKUP(INDIRECT("Feuil1!"&SUBSTITUTE(ADDRESS(1,MATCH(H$7,Feuil1!$A$8:$Y$8,0),4),1,"")&MATCH($B14,Feuil1!$B$1:$B$50,0)),{"Oui",3;"Traces",2;"Non",1},2,0),"") | I14: =IFERROR(VLOOKUP(INDIRECT("Feuil1!"&SUBSTITUTE(ADDRESS(1,MATCH(I$7,Feuil1!$A$8:$Y$8,0),4),1,"")&MATCH($B14,Feuil1!$B$1:$B$50,0)),{"Oui",3;"Traces",2;"Non",1},2,0),"") | J14: =IFERROR(VLOOKUP(INDIRECT("Feuil1!"&SUBSTITUTE(ADDRESS(1,MATCH(J$7,Feuil1!$A$8:$Y$8,0),4),1,"")&MATCH($B14,Feuil1!$B$1:$B$50,0)),{"Oui",3;"Traces",2;"Non",1},2,0),"") | K14: =IFERROR(VLOOKUP(INDIRECT("Feuil1!"&SUBSTITUTE(ADDRESS(1,MATCH(K$7,Feuil1!$A$8:$Y$8,0),4),1,"")&MATCH($B14,Feuil1!$B$1:$B$50,0)),{"Oui",3;"Traces",2;"Non",1},2,0),"") | L14: =IFERROR(VLOOKUP(INDIRECT("Feuil1!"&SUBSTITUTE(ADDRESS(1,MATCH(L$7,Feuil1!$A$8:$Y$8,0),4),1,"")&MATCH($B14,Feuil1!$B$1:$B$50,0)),{"Oui",3;"Traces",2;"Non",1},2,0),"") | M14: =IFERROR(VLOOKUP(INDIRECT("Feuil1!"&SUBSTITUTE(ADDRESS(1,MATCH(M$7,Feuil1!$A$8:$Y$8,0),4),1,"")&MATCH($B14,Feuil1!$B$1:$B$50,0)),{"Oui",3;"Traces",2;"Non",1},2,0),"") -> 2 | N14: =IFERROR(VLOOKUP(INDIRECT("Feuil1!"&SUBSTITUTE(ADDRESS(1,MATCH(N$7,Feuil1!$A$8:$Y$8,0),4),1,"")&MATCH($B14,Feuil1!$B$1:$B$50,0)),{"Oui",3;"Traces",2;"Non",1},2,0),"") | O14: =IFERROR(VLOOKUP(INDIRECT("Feuil1!"&SUBSTITUTE(ADDRESS(1,MATCH(O$7,Feuil1!$A$8:$Y$8,0),4),1,"")&MATCH($B14,Feuil1!$B$1:$B$50,0)),{"Oui",3;"Traces",2;"Non",1},2,0),"") | ... U14: =IFERROR(VLOOKUP(INDIRECT("Feuil1!"&SUBSTITUTE(ADDRESS(1,MATCH(U$7,Feuil1!$A$8:$Y$8,0),4),1,"")&MATCH($B14,Feuil1!$B$1:$B$50,0)),{"Oui",3;"Traces",2;"Non",1},2,0),"")
C15: =IFERROR(INDEX(Feuil1!$C$1:$C$50,MATCH(B15,Feuil1!$B$1:$B$50,0)),"")
B19: Allergène | C19: Gluten | D19: Crustacés | E19: Œufs | F19: Poissons | G19: Arachides | H19: Soja | I19: Lait | J19: Fruits à coque | K19: Céleri | L19: Moutarde | M19: Sésame | N19: Sulfites | O19: Lupin | P19: Mollusques
B20: Présence | C20: =IFERROR(VLOOKUP(MAX(H8:H14),{3,"Oui";2,"Traces";1,"Non"},2,0),"") -> Traces | D20: =IFERROR(VLOOKUP(MAX(I8:I14),{3,"Oui";2,"Traces";1,"Non"},2,0),"") | E20: =IFERROR(VLOOKUP(MAX(J8:J14),{3,"Oui";2,"Traces";1,"Non"},2,0),"") -> Traces | F20: =IFERROR(VLOOKUP(MAX(K8:K14),{3,"Oui";2,"Traces";1,"Non"},2,0),"") | G20: =IFERROR(VLOOKUP(MAX(L8:L14),{3,"Oui";2,"Traces";1,"Non"},2,0),"") | H20: =IFERROR(VLOOKUP(MAX(M8:M14),{3,"Oui";2,"Traces";1,"Non"},2,0),"") -> Traces | I20: =IFERROR(VLOOKUP(MAX(N8:N14),{3,"Oui";2,"Traces";1,"Non"},2,0),"") -> Oui | J20: =IFERROR(VLOOKUP(MAX(O8:O14),{3,"Oui";2,"Traces";1,"Non"},2,0),"") -> Traces | ... P20: =IFERROR(VLOOKUP(MAX(U8:U14),{3,"Oui";2,"Traces";1,"Non"},2,0),"")
O22: =IFERROR(VLOOKUP(MAX(T8:T14),{3,"Oui";2,"Traces";1,"Non"},2,0),"") | P22: =IFERROR(VLOOKUP(MAX(U8:U14),{3,"Oui";2,"Traces";1,"Non"},2,0),"")
