Workbook

Sheet BD
A1: identité | C1: Titre | D1: NOM/Prénom | E1: prénom | F1: Adresse | G1: CP / Localité | K1: date réunion
A2: =C2&" "&D2&" "&E2 -> Mme 11 111 | C2: Mme | D2: 11 | E2: 111 | F2: aze | G2: 25000 | J2: 43605 | K2: 43682
A3: =C3&" "&D3&" "&E3 -> Mme 22 222 | C3: Mme | D3: 22 | E3: 222 | F3: rty | G3: 25000 | J3: 43644 | K3: 43733
A4: =C4&" "&D4&" "&E4 -> Mme 33 333 | C4: Mme | D4: 33 | E4: 333 | F4: uio | G4: 25000 | J4: 43643 | K4: 43639
A5: =C5&" "&D5&" "&E5 -> Mme 44 444 | C5: Mme | D5: 44 | E5: 444 | F5: poi | G5: 25000 | H5: x | J5: 43661 | K5: 43682
A6: =C6&" "&D6&" "&E6
A7: =C7&" "&D7&" "&E7
A8: =C8&" "&D8&" "&E8
A9: =C9&" "&D9&" "&E9
A10: =C10&" "&D10&" "&E10
A11: =C11&" "&D11&" "&E11
A12: =C12&" "&D12&" "&E12
A13: =C13&" "&D13&" "&E13
A14: =C14&" "&D14&" "&E14
A15: =C15&" "&D15&" "&E15
A16: =C16&" "&D16&" "&E16
A17: =C17&" "&D17&" "&E17
... A50: =C50&" "&D50&" "&E50

Sheet tableau_BP
E6: 43682
B13: Identification | C13: Adresse | D13: Localité
B14: {=IFERROR(INDEX(BD!$A$2:$A$5,SMALL(IF(BD!$K$2:$K$5=$E$6,ROW(BD!$A$2:$A$5)-ROW(BD!$A$2)+1),ROWS(B$14:B14))),"")} -> Mme 11 111 | C14: {=IFERROR(INDEX(BD!$F$2:$F$5,SMALL(IF(BD!$K$2:$K$5=$E$6,ROW(BD!$A$2:$A$5)-ROW(BD!$A$2)+1),ROWS(B$14:B14))),"")} -> aze | D14: {=IFERROR(INDEX(BD!$G$2:$G$5,SMALL(IF(BD!$K$2:$K$5=$E$6,ROW(BD!$A$2:$A$5)-ROW(BD!$A$2)+1),ROWS(B$14:B14))),"")} -> 25000
B15: {=IFERROR(INDEX(BD!$A$2:$A$5,SMALL(IF(BD!$K$2:$K$5=$E$6,ROW(BD!$A$2:$A$5)-ROW(BD!$A$2)+1),ROWS(B$14:B15))),"")} -> Mme 44 444 | C15: {=IFERROR(INDEX(BD!$F$2:$F$5,SMALL(IF(BD!$K$2:$K$5=$E$6,ROW(BD!$A$2:$A$5)-ROW(BD!$A$2)+1),ROWS(B$14:B15))),"")} -> poi | D15: {=IFERROR(INDEX(BD!$G$2:$G$5,SMALL(IF(BD!$K$2:$K$5=$E$6,ROW(BD!$A$2:$A$5)-ROW(BD!$A$2)+1),ROWS(B$14:B15))),"")} -> 25000
B16: {=IFERROR(INDEX(BD!$A$2:$A$5,SMALL(IF(BD!$K$2:$K$5=$E$6,ROW(BD!$A$2:$A$5)-ROW(BD!$A$2)+1),ROWS(B$14:B16))),"")} | C16: {=IFERROR(INDEX(BD!$F$2:$F$5,SMALL(IF(BD!$K$2:$K$5=$E$6,ROW(BD!$A$2:$A$5)-ROW(BD!$A$2)+1),ROWS(B$14:B16))),"")} | D16: {=IFERROR(INDEX(BD!$G$2:$G$5,SMALL(IF(BD!$K$2:$K$5=$E$6,ROW(BD!$A$2:$A$5)-ROW(BD!$A$2)+1),ROWS(B$14:B16))),"")}
B17: {=IFERROR(INDEX(BD!$A$2:$A$5,SMALL(IF(BD!$K$2:$K$5=$E$6,ROW(BD!$A$2:$A$5)-ROW(BD!$A$2)+1),ROWS(B$14:B17))),"")} | C17: {=IFERROR(INDEX(BD!$F$2:$F$5,SMALL(IF(BD!$K$2:$K$5=$E$6,ROW(BD!$A$2:$A$5)-ROW(BD!$A$2)+1),ROWS(B$14:B17))),"")} | D17: {=IFERROR(INDEX(BD!$G$2:$G$5,SMALL(IF(BD!$K$2:$K$5=$E$6,ROW(BD!$A$2:$A$5)-ROW(BD!$A$2)+1),ROWS(B$14:B17))),"")}
B18: {=IFERROR(INDEX(BD!$A$2:$A$5,SMALL(IF(BD!$K$2:$K$5=$E$6,ROW(BD!$A$2:$A$5)-ROW(BD!$A$2)+1),ROWS(B$14:B18))),"")} | C18: {=IFERROR(INDEX(BD!$F$2:$F$5,SMALL(IF(BD!$K$2:$K$5=$E$6,ROW(BD!$A$2:$A$5)-ROW(BD!$A$2)+1),ROWS(B$14:B18))),"")} | D18: {=IFERROR(INDEX(BD!$G$2:$G$5,SMALL(IF(BD!$K$2:$K$5=$E$6,ROW(BD!$A$2:$A$5)-ROW(BD!$A$2)+1),ROWS(B$14:B18))),"")}
B19: {=IFERROR(INDEX(BD!$A$2:$A$5,SMALL(IF(BD!$K$2:$K$5=$E$6,ROW(BD!$A$2:$A$5)-ROW(BD!$A$2)+1),ROWS(B$14:B19))),"")} | C19: {=IFERROR(INDEX(BD!$F$2:$F$5,SMALL(IF(BD!$K$2:$K$5=$E$6,ROW(BD!$A$2:$A$5)-ROW(BD!$A$2)+1),ROWS(B$14:B19))),"")} | D19: {=IFERROR(INDEX(BD!$G$2:$G$5,SMALL(IF(BD!$K$2:$K$5=$E$6,ROW(BD!$A$2:$A$5)-ROW(BD!$A$2)+1),ROWS(B$14:B19))),"")}
