Workbook
Name Noms: 'base donnée'!$C$2:$C$51

Sheet S47
C2: Chantier Tertiaire VALMY Registre du Personnel Entreprise: CENTRE EST VENTILATION / Lot n°: …. | L2: Semaine du:
L4: 41960
B7: Société | C7: NOM | D7: Prénom | E7: Date d’embauche dans la société | F7: Nationalité | G7: Date de Naissance | H7: Titre valant autorisation de travail | K7: Chantier VALMY
H8: Type | I8: Numéro d'ordre | J8: Date de validité | K8: Date d'entrée | L8: Date de sortie
A9: 1 | B9: =INDEX('base donnée'!$B:$B,MATCH($C9,'base donnée'!$C:$C,0)) -> CEV | C9: PAQUIS | D9: =INDEX('base donnée'!$D:$D,MATCH($C9,'base donnée'!$C:$C,0)) -> Fabien | F9: =INDEX('base donnée'!$F:$F,MATCH($C9,'base donnée'!$C:$C,0)) -> Française | G9: =IF(INDEX('base donnée'!$G:$G,MATCH($C9,'base donnée'!$C:$C,0))=0,"",INDEX('base donnée'!$G:$G,MATCH($C9,'base donnée'!$C:$C,0)))
A10: 2 | B10: =INDEX('base donnée'!$B:$B,MATCH(C10,'base donnée'!$C:$C,0)) -> CEV | C10: VAILLANT | D10: =INDEX('base donnée'!$D:$D,MATCH($C10,'base donnée'!$C:$C,0)) -> Paul | F10: =INDEX('base donnée'!$F:$F,MATCH($C10,'base donnée'!$C:$C,0)) -> Française | G10: =IF(INDEX('base donnée'!$G:$G,MATCH($C10,'base donnée'!$C:$C,0))=0,"",INDEX('base donnée'!$G:$G,MATCH($C10,'base donnée'!$C:$C,0)))
A11: 3 | B11: =INDEX('base donnée'!$B:$B,MATCH(C11,'base donnée'!$C:$C,0)) -> CEV | C11: POLAKOWSI | D11: =INDEX('base donnée'!$D:$D,MATCH($C11,'base donnée'!$C:$C,0)) -> Albin | F11: =INDEX('base donnée'!$F:$F,MATCH($C11,'base donnée'!$C:$C,0)) -> Française | G11: =IF(INDEX('base donnée'!$G:$G,MATCH($C11,'base donnée'!$C:$C,0))=0,"",INDEX('base donnée'!$G:$G,MATCH($C11,'base donnée'!$C:$C,0))) -> 26135 | K11: 41963 | L11: 41964
A12: 4 | B12: =INDEX('base donnée'!$B:$B,MATCH(C12,'base donnée'!$C:$C,0)) -> CEV | C12: ALOURI | D12: =INDEX('base donnée'!$D:$D,MATCH($C12,'base donnée'!$C:$C,0)) -> Francois | F12: =INDEX('base donnée'!$F:$F,MATCH($C12,'base donnée'!$C:$C,0)) -> Française | G12: =IF(INDEX('base donnée'!$G:$G,MATCH($C12,'base donnée'!$C:$C,0))=0,"",INDEX('base donnée'!$G:$G,MATCH($C12,'base donnée'!$C:$C,0)))
A13: 5 | B13: =INDEX('base donnée'!$B:$B,MATCH(C13,'base donnée'!$C:$C,0)) -> CEV | C13: MARTIN | D13: =INDEX('base donnée'!$D:$D,MATCH($C13,'base donnée'!$C:$C,0)) -> Eric | F13: =INDEX('base donnée'!$F:$F,MATCH($C13,'base donnée'!$C:$C,0)) -> Française | G13: =IF(INDEX('base donnée'!$G:$G,MATCH($C13,'base donnée'!$C:$C,0))=0,"",INDEX('base donnée'!$G:$G,MATCH($C13,'base donnée'!$C:$C,0)))
A14: 6 | B14: =INDEX('base donnée'!$B:$B,MATCH(C14,'base donnée'!$C:$C,0)) -> CEV | C14: POULE | D14: =INDEX('base donnée'!$D:$D,MATCH($C14,'base donnée'!$C:$C,0)) -> George | F14: =INDEX('base donnée'!$F:$F,MATCH($C14,'base donnée'!$C:$C,0)) -> Française | G14: =IF(INDEX('base donnée'!$G:$G,MATCH($C14,'base donnée'!$C:$C,0))=0,"",INDEX('base donnée'!$G:$G,MATCH($C14,'base donnée'!$C:$C,0)))
A15: 7 | B15: =INDEX('base donnée'!$B:$B,MATCH(C15,'base donnée'!$C:$C,0)) -> #N/A | D15: =INDEX('base donnée'!$D:$D,MATCH($C15,'base donnée'!$C:$C,0)) -> #N/A | F15: =INDEX('base donnée'!$F:$F,MATCH($C15,'base donnée'!$C:$C,0)) -> #N/A | G15: =IF(INDEX('base donnée'!$G:$G,MATCH($C15,'base donnée'!$C:$C,0))=0,"",INDEX('base donnée'!$G:$G,MATCH($C15,'base donnée'!$C:$C,0))) -> #N/A
A16: 8 | B16: =INDEX('base donnée'!$B:$B,MATCH(C16,'base donnée'!$C:$C,0)) -> #N/A | D16: =INDEX('base donnée'!$D:$D,MATCH($C16,'base donnée'!$C:$C,0)) -> #N/A | F16: =INDEX('base donnée'!$F:$F,MATCH($C16,'base donnée'!$C:$C,0)) -> #N/A | G16: =IF(INDEX('base donnée'!$G:$G,MATCH($C16,'base donnée'!$C:$C,0))=0,"",INDEX('base donnée'!$G:$G,MATCH($C16,'base donnée'!$C:$C,0))) -> #N/A
A17: 9 | B17: =INDEX('base donnée'!$B:$B,MATCH(C17,'base donnée'!$C:$C,0)) -> #N/A | D17: =INDEX('base donnée'!$D:$D,MATCH($C17,'base donnée'!$C:$C,0)) -> #N/A | F17: =INDEX('base donnée'!$F:$F,MATCH($C17,'base donnée'!$C:$C,0)) -> #N/A | G17: =IF(INDEX('base donnée'!$G:$G,MATCH($C17,'base donnée'!$C:$C,0))=0,"",INDEX('base donnée'!$G:$G,MATCH($C17,'base donnée'!$C:$C,0))) -> #N/A
A18: 10 | B18: =INDEX('base donnée'!$B:$B,MATCH(C18,'base donnée'!$C:$C,0)) -> #N/A | D18: =INDEX('base donnée'!$D:$D,MATCH($C18,'base donnée'!$C:$C,0)) -> #N/A | F18: =INDEX('base donnée'!$F:$F,MATCH($C18,'base donnée'!$C:$C,0)) -> #N/A | G18: =IF(INDEX('base donnée'!$G:$G,MATCH($C18,'base donnée'!$C:$C,0))=0,"",INDEX('base donnée'!$G:$G,MATCH($C18,'base donnée'!$C:$C,0))) -> #N/A
A19: 11 | B19: =INDEX('base donnée'!$B:$B,MATCH(C19,'base donnée'!$C:$C,0)) -> #N/A | D19: =INDEX('base donnée'!$D:$D,MATCH($C19,'base donnée'!$C:$C,0)) -> #N/A | F19: =INDEX('base donnée'!$F:$F,MATCH($C19,'base donnée'!$C:$C,0)) -> #N/A | G19: =IF(INDEX('base donnée'!$G:$G,MATCH($C19,'base donnée'!$C:$C,0))=0,"",INDEX('base donnée'!$G:$G,MATCH($C19,'base donnée'!$C:$C,0))) -> #N/A
A20: 12 | B20: =INDEX('base donnée'!$B:$B,MATCH(C20,'base donnée'!$C:$C,0)) -> #N/A | D20: =INDEX('base donnée'!$D:$D,MATCH($C20,'base donnée'!$C:$C,0)) -> #N/A | F20: =INDEX('base donnée'!$F:$F,MATCH($C20,'base donnée'!$C:$C,0)) -> #N/A | G20: =IF(INDEX('base donnée'!$G:$G,MATCH($C20,'base donnée'!$C:$C,0))=0,"",INDEX('base donnée'!$G:$G,MATCH($C20,'base donnée'!$C:$C,0))) -> #N/A
A21: 13 | B21: =INDEX('base donnée'!$B:$B,MATCH(C21,'base donnée'!$C:$C,0)) -> #N/A | D21: =INDEX('base donnée'!$D:$D,MATCH($C21,'base donnée'!$C:$C,0)) -> #N/A | F21: =INDEX('base donnée'!$F:$F,MATCH($C21,'base donnée'!$C:$C,0)) -> #N/A | G21: =IF(INDEX('base donnée'!$G:$G,MATCH($C21,'base donnée'!$C:$C,0))=0,"",INDEX('base donnée'!$G:$G,MATCH($C21,'base donnée'!$C:$C,0))) -> #N/A
A22: 14 | B22: =INDEX('base donnée'!$B:$B,MATCH(C22,'base donnée'!$C:$C,0)) -> #N/A | D22: =INDEX('base donnée'!$D:$D,MATCH($C22,'base donnée'!$C:$C,0)) -> #N/A | F22: =INDEX('base donnée'!$F:$F,MATCH($C22,'base donnée'!$C:$C,0)) -> #N/A | G22: =IF(INDEX('base donnée'!$G:$G,MATCH($C22,'base donnée'!$C:$C,0))=0,"",INDEX('base donnée'!$G:$G,MATCH($C22,'base donnée'!$C:$C,0))) -> #N/A
A23: 15 | B23: =INDEX('base donnée'!$B:$B,MATCH(C23,'base donnée'!$C:$C,0)) -> #N/A | D23: =INDEX('base donnée'!$D:$D,MATCH($C23,'base donnée'!$C:$C,0)) -> #N/A | F23: =INDEX('base donnée'!$F:$F,MATCH($C23,'base donnée'!$C:$C,0)) -> #N/A | G23: =IF(INDEX('base donnée'!$G:$G,MATCH($C23,'base donnée'!$C:$C,0))=0,"",INDEX('base donnée'!$G:$G,MATCH($C23,'base donnée'!$C:$C,0))) -> #N/A
A24: 16 | B24: =INDEX('base donnée'!$B:$B,MATCH(C24,'base donnée'!$C:$C,0)) -> #N/A | D24: =INDEX('base donnée'!$D:$D,MATCH($C24,'base donnée'!$C:$C,0)) -> #N/A | F24: =INDEX('base donnée'!$F:$F,MATCH($C24,'base donnée'!$C:$C,0)) -> #N/A | G24: =IF(INDEX('base donnée'!$G:$G,MATCH($C24,'base donnée'!$C:$C,0))=0,"",INDEX('base donnée'!$G:$G,MATCH($C24,'base donnée'!$C:$C,0))) -> #N/A
A25: 17 | B25: =INDEX('base donnée'!$B:$B,MATCH(C25,'base donnée'!$C:$C,0)) -> #N/A | D25: =INDEX('base donnée'!$D:$D,MATCH($C25,'base donnée'!$C:$C,0)) -> #N/A | F25: =INDEX('base donnée'!$F:$F,MATCH($C25,'base donnée'!$C:$C,0)) -> #N/A | G25: =IF(INDEX('base donnée'!$G:$G,MATCH($C25,'base donnée'!$C:$C,0))=0,"",INDEX('base donnée'!$G:$G,MATCH($C25,'base donnée'!$C:$C,0))) -> #N/A
A26: 18 | B26: =INDEX('base donnée'!$B:$B,MATCH(C26,'base donnée'!$C:$C,0)) -> #N/A | D26: =INDEX('base donnée'!$D:$D,MATCH($C26,'base donnée'!$C:$C,0)) -> #N/A | F26: =INDEX('base donnée'!$F:$F,MATCH($C26,'base donnée'!$C:$C,0)) -> #N/A | G26: =IF(INDEX('base donnée'!$G:$G,MATCH($C26,'base donnée'!$C:$C,0))=0,"",INDEX('base donnée'!$G:$G,MATCH($C26,'base donnée'!$C:$C,0))) -> #N/A
... A57: 49 | B57: =INDEX('base donnée'!$B:$B,MATCH(C57,'base donnée'!$C:$C,0)) -> #N/A | D57: =INDEX('base donnée'!$D:$D,MATCH($C57,'base donnée'!$C:$C,0)) -> #N/A | F57: =INDEX('base donnée'!$F:$F,MATCH($C57,'base donnée'!$C:$C,0)) -> #N/A | G57: =IF(INDEX('base donnée'!$G:$G,MATCH($C57,'base donnée'!$C:$C,0))=0,"",INDEX('base donnée'!$G:$G,MATCH($C57,'base donnée'!$C:$C,0))) -> #N/A
A58: 50

Sheet S48
C2: Chantier Tertiaire VALMY Registre du Personnel Entreprise: …………………………………….. / Lot n°: …. | L2: Semaine du:
L4: ….../….…./……….
B7: Société | C7: NOM | D7: Prénom | E7: Date d’embauche dans la société | F7: Nationalité | G7: Date de Naissance | H7: Titre valant autorisation de travail | K7: Chantier VALMY
H8: Type | I8: Numéro d'ordre | J8: Date de validité | K8: Date d'entrée | L8: Date de sortie
A9: 1
A10: 2
A11: 3
A12: 4
A13: 5
A14: 6
A15: 7
A16: 8
A17: 9
A18: 10
A19: 11
A20: 12
... A58: 50

Sheet S49
C2: Chantier Tertiaire VALMY Registre du Personnel Entreprise: …………………………………….. / Lot n°: …. | L2: Semaine du:
L4: ….../….…./……….
B7: Société | C7: NOM | D7: Prénom | E7: Date d’embauche dans la société | F7: Nationalité | G7: Date de Naissance | H7: Titre valant autorisation de travail | K7: Chantier VALMY
H8: Type | I8: Numéro d'ordre | J8: Date de validité | K8: Date d'entrée | L8: Date de sortie
A9: 1
A10: 2
A11: 3
A12: 4
A13: 5
A14: 6
A15: 7
A16: 8
A17: 9
A18: 10
A19: 11
A20: 12
... A58: 50

Sheet S50
C2: Chantier Tertiaire VALMY Registre du Personnel Entreprise: …………………………………….. / Lot n°: …. | L2: Semaine du:
L4: ….../….…./……….
B7: Société | C7: NOM | D7: Prénom | E7: Date d’embauche dans la société | F7: Nationalité | G7: Date de Naissance | H7: Titre valant autorisation de travail | K7: Chantier VALMY
H8: Type | I8: Numéro d'ordre | J8: Date de validité | K8: Date d'entrée | L8: Date de sortie
A9: 1
A10: 2
A11: 3
A12: 4
A13: 5
A14: 6
A15: 7
A16: 8
A17: 9
A18: 10
A19: 11
A20: 12
... A58: 50

Sheet S51
C2: Chantier Tertiaire VALMY Registre du Personnel Entreprise: …………………………………….. / Lot n°: …. | L2: Semaine du:
L4: ….../….…./……….
B7: Société | C7: NOM | D7: Prénom | E7: Date d’embauche dans la société | F7: Nationalité | G7: Date de Naissance | H7: Titre valant autorisation de travail | K7: Chantier VALMY
H8: Type | I8: Numéro d'ordre | J8: Date de validité | K8: Date d'entrée | L8: Date de sortie
A9: 1
A10: 2
A11: 3
A12: 4
A13: 5
A14: 6
A15: 7
A16: 8
A17: 9
A18: 10
A19: 11
A20: 12
... A58: 50

Sheet S52
C2: Chantier Tertiaire VALMY Registre du Personnel Entreprise: …………………………………….. / Lot n°: …. | L2: Semaine du:
L4: ….../….…./……….
B7: Société | C7: NOM | D7: Prénom | E7: Date d’embauche dans la société | F7: Nationalité | G7: Date de Naissance | H7: Titre valant autorisation de travail | K7: Chantier VALMY
H8: Type | I8: Numéro d'ordre | J8: Date de validité | K8: Date d'entrée | L8: Date de sortie
A9: 1
A10: 2
A11: 3
A12: 4
A13: 5
A14: 6
A15: 7
A16: 8
A17: 9
A18: 10
A19: 11
A20: 12
... A58: 50

Sheet S01
C2: Chantier Tertiaire VALMY Registre du Personnel Entreprise: …………………………………….. / Lot n°: …. | L2: Semaine du:
L4: ….../….…./……….
B7: Société | C7: NOM | D7: Prénom | E7: Date d’embauche dans la société | F7: Nationalité | G7: Date de Naissance | H7: Titre valant autorisation de travail | K7: Chantier VALMY
H8: Type | I8: Numéro d'ordre | J8: Date de validité | K8: Date d'entrée | L8: Date de sortie
A9: 1
A10: 2
A11: 3
A12: 4
A13: 5
A14: 6
A15: 7
A16: 8
A17: 9
A18: 10
A19: 11
A20: 12
... A58: 50

Sheet S02
C2: Chantier Tertiaire VALMY Registre du Personnel Entreprise: …………………………………….. / Lot n°: …. | L2: Semaine du:
L4: ….../….…./……….
B7: Société | C7: NOM | D7: Prénom | E7: Date d’embauche dans la société | F7: Nationalité | G7: Date de Naissance | H7: Titre valant autorisation de travail | K7: Chantier VALMY
H8: Type | I8: Numéro d'ordre | J8: Date de validité | K8: Date d'entrée | L8: Date de sortie
A9: 1
A10: 2
A11: 3
A12: 4
A13: 5
A14: 6
A15: 7
A16: 8
A17: 9
A18: 10
A19: 11
A20: 12
... A58: 50

Sheet S03
C2: Chantier Tertiaire VALMY Registre du Personnel Entreprise: …………………………………….. / Lot n°: …. | L2: Semaine du:
L4: ….../….…./……….
B7: Société | C7: NOM | D7: Prénom | E7: Date d’embauche dans la société | F7: Nationalité | G7: Date de Naissance | H7: Titre valant autorisation de travail | K7: Chantier VALMY
H8: Type | I8: Numéro d'ordre | J8: Date de validité | K8: Date d'entrée | L8: Date de sortie
A9: 1
A10: 2
A11: 3
A12: 4
A13: 5
A14: 6
A15: 7
A16: 8
A17: 9
A18: 10
A19: 11
A20: 12
... A58: 50

Sheet S04
C2: Chantier Tertiaire VALMY Registre du Personnel Entreprise: …………………………………….. / Lot n°: …. | L2: Semaine du:
L4: ….../….…./……….
B7: Société | C7: NOM | D7: Prénom | E7: Date d’embauche dans la société | F7: Nationalité | G7: Date de Naissance | H7: Titre valant autorisation de travail | K7: Chantier VALMY
H8: Type | I8: Numéro d'ordre | J8: Date de validité | K8: Date d'entrée | L8: Date de sortie
A9: 1
A10: 2
A11: 3
A12: 4
A13: 5
A14: 6
A15: 7
A16: 8
A17: 9
A18: 10
A19: 11
A20: 12
... A58: 50

Sheet S05
C2: Chantier Tertiaire VALMY Registre du Personnel Entreprise: …………………………………….. / Lot n°: …. | L2: Semaine du:
L4: ….../….…./……….
B7: Société | C7: NOM | D7: Prénom | E7: Date d’embauche dans la société | F7: Nationalité | G7: Date de Naissance | H7: Titre valant autorisation de travail | K7: Chantier VALMY
H8: Type | I8: Numéro d'ordre | J8: Date de validité | K8: Date d'entrée | L8: Date de sortie
A9: 1
A10: 2
A11: 3
A12: 4
A13: 5
A14: 6
A15: 7
A16: 8
A17: 9
A18: 10
A19: 11
A20: 12
... A58: 50

Sheet base donnée
A1: # | B1: Société | C1: NOM | D1: Prénom | E1: Date d’embauche dans la société | F1: Nationalité | G1: Date de Naissance
A2: 1 | B2: CEV | C2: PAQUIS | D2: Fabien | F2: Française
A3: 2 | B3: CEV | C3: VAILLANT | D3: Paul | F3: Française
A4: 3 | B4: CEV | C4: POLAKOWSI | D4: Albin | F4: Française | G4: 26135
A5: 4 | B5: CEV | C5: ALOURI | D5: Francois | F5: Française
A6: 5 | B6: CEV | C6: MARTIN | D6: Eric | F6: Française
A7: 6 | B7: CEV | C7: POULE | D7: George | F7: Française
A8: 7
A9: 8
A10: 9
A11: 10
A12: 11
A13: 12
A14: 13
A15: 14
A16: 15
A17: 16
A18: 17
A19: 18
... A51: 50
