Workbook

Sheet Planning
A1: Année | B1: 2017
A3: Equipe | B3: A | D3: Les Cellules en Bleu sont à saisir manuellement … tout le reste s'ajuste automatiquement
A5: Semaine | B5: 1
A7: Date | B7: =INDEX('Présence entreprise'!$3:$3,1,MATCH($A$5&$B$5,'Présence entreprise'!$1:$1,0)) -> 42736 | C7: =B7+1 -> 42737 | D7: =C7+1 -> 42738 | E7: =D7+1 -> 42739 | F7: =E7+1 -> 42740 | G7: =F7+1 -> 42741 | H7: =G7+1 -> 42742
A8: {=IF(ROWS(A$8:A8)<=COUNTIF('Présence entreprise'!$B$4:$B$24,$B$3),INDEX('Présence entreprise'!$A$4:$A$24,SMALL(IF('Présence entreprise'!$B$4:$B$24=$B$3,ROW('Présence entreprise'!$B$4:$B$24)-ROW('Présence entreprise'!$B$4)+1),ROWS(A$8:A8))),"")} -> M. X | B8: =IFERROR(INDEX('Présence entreprise'!$A$1:$AS$24,MATCH($A8,'Présence entreprise'!$A:$A,0),MATCH(B$7,'Présence entreprise'!$3:$3,0)),"") -> Repos | C8: =IFERROR(INDEX('Présence entreprise'!$A$1:$AS$24,MATCH($A8,'Présence entreprise'!$A:$A,0),MATCH(C$7,'Présence entreprise'!$3:$3,0)),"") -> Présent | D8: =IFERROR(INDEX('Présence entreprise'!$A$1:$AS$24,MATCH($A8,'Présence entreprise'!$A:$A,0),MATCH(D$7,'Présence entreprise'!$3:$3,0)),"") -> Congés | E8: =IFERROR(INDEX('Présence entreprise'!$A$1:$AS$24,MATCH($A8,'Présence entreprise'!$A:$A,0),MATCH(E$7,'Présence entreprise'!$3:$3,0)),"") -> Congés | F8: =IFERROR(INDEX('Présence entreprise'!$A$1:$AS$24,MATCH($A8,'Présence entreprise'!$A:$A,0),MATCH(F$7,'Présence entreprise'!$3:$3,0)),"") -> Congés | G8: =IFERROR(INDEX('Présence entreprise'!$A$1:$AS$24,MATCH($A8,'Présence entreprise'!$A:$A,0),MATCH(G$7,'Présence entreprise'!$3:$3,0)),"") -> Congés | H8: =IFERROR(INDEX('Présence entreprise'!$A$1:$AS$24,MATCH($A8,'Présence entreprise'!$A:$A,0),MATCH(H$7,'Présence entreprise'!$3:$3,0)),"") -> Repos
A9: {=IF(ROWS(A$8:A9)<=COUNTIF('Présence entreprise'!$B$4:$B$24,$B$3),INDEX('Présence entreprise'!$A$4:$A$24,SMALL(IF('Présence entreprise'!$B$4:$B$24=$B$3,ROW('Présence entreprise'!$B$4:$B$24)-ROW('Présence entreprise'!$B$4)+1),ROWS(A$8:A9))),"")} -> M. Z | B9: =IFERROR(INDEX('Présence entreprise'!$A$1:$AS$24,MATCH($A9,'Présence entreprise'!$A:$A,0),MATCH(B$7,'Présence entreprise'!$3:$3,0)),"") -> Repos | C9: =IFERROR(INDEX('Présence entreprise'!$A$1:$AS$24,MATCH($A9,'Présence entreprise'!$A:$A,0),MATCH(C$7,'Présence entreprise'!$3:$3,0)),"") -> Présent | D9: =IFERROR(INDEX('Présence entreprise'!$A$1:$AS$24,MATCH($A9,'Présence entreprise'!$A:$A,0),MATCH(D$7,'Présence entreprise'!$3:$3,0)),"") -> Présent | E9: =IFERROR(INDEX('Présence entreprise'!$A$1:$AS$24,MATCH($A9,'Présence entreprise'!$A:$A,0),MATCH(E$7,'Présence entreprise'!$3:$3,0)),"") -> Présent | F9: =IFERROR(INDEX('Présence entreprise'!$A$1:$AS$24,MATCH($A9,'Présence entreprise'!$A:$A,0),MATCH(F$7,'Présence entreprise'!$3:$3,0)),"") -> Présent | G9: =IFERROR(INDEX('Présence entreprise'!$A$1:$AS$24,MATCH($A9,'Présence entreprise'!$A:$A,0),MATCH(G$7,'Présence entreprise'!$3:$3,0)),"") -> Présent | H9: =IFERROR(INDEX('Présence entreprise'!$A$1:$AS$24,MATCH($A9,'Présence entreprise'!$A:$A,0),MATCH(H$7,'Présence entreprise'!$3:$3,0)),"") -> Repos
A10: {=IF(ROWS(A$8:A10)<=COUNTIF('Présence entreprise'!$B$4:$B$24,$B$3),INDEX('Présence entreprise'!$A$4:$A$24,SMALL(IF('Présence entreprise'!$B$4:$B$24=$B$3,ROW('Présence entreprise'!$B$4:$B$24)-ROW('Présence entreprise'!$B$4)+1),ROWS(A$8:A10))),"")} | B10: =IFERROR(INDEX('Présence entreprise'!$A$1:$AS$24,MATCH($A10,'Présence entreprise'!$A:$A,0),MATCH(B$7,'Présence entreprise'!$3:$3,0)),"") | C10: =IFERROR(INDEX('Présence entreprise'!$A$1:$AS$24,MATCH($A10,'Présence entreprise'!$A:$A,0),MATCH(C$7,'Présence entreprise'!$3:$3,0)),"") | D10: =IFERROR(INDEX('Présence entreprise'!$A$1:$AS$24,MATCH($A10,'Présence entreprise'!$A:$A,0),MATCH(D$7,'Présence entreprise'!$3:$3,0)),"") | E10: =IFERROR(INDEX('Présence entreprise'!$A$1:$AS$24,MATCH($A10,'Présence entreprise'!$A:$A,0),MATCH(E$7,'Présence entreprise'!$3:$3,0)),"") | F10: =IFERROR(INDEX('Présence entreprise'!$A$1:$AS$24,MATCH($A10,'Présence entreprise'!$A:$A,0),MATCH(F$7,'Présence entreprise'!$3:$3,0)),"") | G10: =IFERROR(INDEX('Présence entreprise'!$A$1:$AS$24,MATCH($A10,'Présence entreprise'!$A:$A,0),MATCH(G$7,'Présence entreprise'!$3:$3,0)),"") | H10: =IFERROR(INDEX('Présence entreprise'!$A$1:$AS$24,MATCH($A10,'Présence entreprise'!$A:$A,0),MATCH(H$7,'Présence entreprise'!$3:$3,0)),"")
A11: {=IF(ROWS(A$8:A11)<=COUNTIF('Présence entreprise'!$B$4:$B$24,$B$3),INDEX('Présence entreprise'!$A$4:$A$24,SMALL(IF('Présence entreprise'!$B$4:$B$24=$B$3,ROW('Présence entreprise'!$B$4:$B$24)-ROW('Présence entreprise'!$B$4)+1),ROWS(A$8:A11))),"")} | B11: =IFERROR(INDEX('Présence entreprise'!$A$1:$AS$24,MATCH($A11,'Présence entreprise'!$A:$A,0),MATCH(B$7,'Présence entreprise'!$3:$3,0)),"") | C11: =IFERROR(INDEX('Présence entreprise'!$A$1:$AS$24,MATCH($A11,'Présence entreprise'!$A:$A,0),MATCH(C$7,'Présence entreprise'!$3:$3,0)),"") | D11: =IFERROR(INDEX('Présence entreprise'!$A$1:$AS$24,MATCH($A11,'Présence entreprise'!$A:$A,0),MATCH(D$7,'Présence entreprise'!$3:$3,0)),"") | E11: =IFERROR(INDEX('Présence entreprise'!$A$1:$AS$24,MATCH($A11,'Présence entreprise'!$A:$A,0),MATCH(E$7,'Présence entreprise'!$3:$3,0)),"") | F11: =IFERROR(INDEX('Présence entreprise'!$A$1:$AS$24,MATCH($A11,'Présence entreprise'!$A:$A,0),MATCH(F$7,'Présence entreprise'!$3:$3,0)),"") | G11: =IFERROR(INDEX('Présence entreprise'!$A$1:$AS$24,MATCH($A11,'Présence entreprise'!$A:$A,0),MATCH(G$7,'Présence entreprise'!$3:$3,0)),"") | H11: =IFERROR(INDEX('Présence entreprise'!$A$1:$AS$24,MATCH($A11,'Présence entreprise'!$A:$A,0),MATCH(H$7,'Présence entreprise'!$3:$3,0)),"")
A12: {=IF(ROWS(A$8:A12)<=COUNTIF('Présence entreprise'!$B$4:$B$24,$B$3),INDEX('Présence entreprise'!$A$4:$A$24,SMALL(IF('Présence entreprise'!$B$4:$B$24=$B$3,ROW('Présence entreprise'!$B$4:$B$24)-ROW('Présence entreprise'!$B$4)+1),ROWS(A$8:A12))),"")} | B12: =IFERROR(INDEX('Présence entreprise'!$A$1:$AS$24,MATCH($A12,'Présence entreprise'!$A:$A,0),MATCH(B$7,'Présence entreprise'!$3:$3,0)),"") | C12: =IFERROR(INDEX('Présence entreprise'!$A$1:$AS$24,MATCH($A12,'Présence entreprise'!$A:$A,0),MATCH(C$7,'Présence entreprise'!$3:$3,0)),"") | D12: =IFERROR(INDEX('Présence entreprise'!$A$1:$AS$24,MATCH($A12,'Présence entreprise'!$A:$A,0),MATCH(D$7,'Présence entreprise'!$3:$3,0)),"") | E12: =IFERROR(INDEX('Présence entreprise'!$A$1:$AS$24,MATCH($A12,'Présence entreprise'!$A:$A,0),MATCH(E$7,'Présence entreprise'!$3:$3,0)),"") | F12: =IFERROR(INDEX('Présence entreprise'!$A$1:$AS$24,MATCH($A12,'Présence entreprise'!$A:$A,0),MATCH(F$7,'Présence entreprise'!$3:$3,0)),"") | G12: =IFERROR(INDEX('Présence entreprise'!$A$1:$AS$24,MATCH($A12,'Présence entreprise'!$A:$A,0),MATCH(G$7,'Présence entreprise'!$3:$3,0)),"") | H12: =IFERROR(INDEX('Présence entreprise'!$A$1:$AS$24,MATCH($A12,'Présence entreprise'!$A:$A,0),MATCH(H$7,'Présence entreprise'!$3:$3,0)),"") | J12: {=IF(ROWS(A$8:A12)<=COUNTIF('Présence entreprise'!$B$4:$B$24,$B$3),INDEX('Présence entreprise'!$A$4:$A$24,SMALL(IF('Présence entreprise'!$B$4:$B$24=$B$3,ROW('Présence entreprise'!$B$4:$B$24)-ROW('Présence entreprise'!$B$4)+1),ROWS(A$8:A12))),"")}
A13: {=IF(ROWS(A$8:A13)<=COUNTIF('Présence entreprise'!$B$4:$B$24,$B$3),INDEX('Présence entreprise'!$A$4:$A$24,SMALL(IF('Présence entreprise'!$B$4:$B$24=$B$3,ROW('Présence entreprise'!$B$4:$B$24)-ROW('Présence entreprise'!$B$4)+1),ROWS(A$8:A13))),"")} | J13: Dans ta Feuille | K13: 'Présence entreprise'
A14: {=IF(ROWS(A$8:A14)<=COUNTIF('Présence entreprise'!$B$4:$B$24,$B$3),INDEX('Présence entreprise'!$A$4:$A$24,SMALL(IF('Présence entreprise'!$B$4:$B$24=$B$3,ROW('Présence entreprise'!$B$4:$B$24)-ROW('Présence entreprise'!$B$4)+1),ROWS(A$8:A14))),"")}
A15: {=IF(ROWS(A$8:A15)<=COUNTIF('Présence entreprise'!$B$4:$B$24,$B$3),INDEX('Présence entreprise'!$A$4:$A$24,SMALL(IF('Présence entreprise'!$B$4:$B$24=$B$3,ROW('Présence entreprise'!$B$4:$B$24)-ROW('Présence entreprise'!$B$4)+1),ROWS(A$8:A15))),"")} | J15: Pour un calendrier "Dynamique" ...tu peux copier le bloc de cellules D1:J8 … soit la Semaine 1 …
A16: {=IF(ROWS(A$8:A16)<=COUNTIF('Présence entreprise'!$B$4:$B$24,$B$3),INDEX('Présence entreprise'!$A$4:$A$24,SMALL(IF('Présence entreprise'!$B$4:$B$24=$B$3,ROW('Présence entreprise'!$B$4:$B$24)-ROW('Présence entreprise'!$B$4)+1),ROWS(A$8:A16))),"")} | J16: {=IF(ROWS(A$8:A10)<=COUNTIF('Présence entreprise'!$B$4:$B$24,$B$3),INDEX('Présence entreprise'!$A$4:$A$24,SMALL(IF('Présence entreprise'!$B$4:$B$24=$B$3,ROW('Présence entreprise'!$B$4:$B$24)-ROW('Présence entreprise'!$B$4)+1),ROWS(A$8:A10))),"")}
J17: vers la droite autant de fois que nécessaire … pour les 52 semaines de l'Année … ou même plus ….

Sheet Présence entreprise
A1: Date de Début | B1: =DATE(Planning!$B$1,1,1) -> 42736 | D1: ="Semaine "&INT((INT(COLUMN()-4)/7))+1 -> Semaine 1 | K1: ="Semaine "&INT((INT(COLUMN()-4)/7))+1 -> Semaine 2 | R1: ="Semaine "&INT((INT(COLUMN()-4)/7))+1 -> Semaine 3 | Y1: ="Semaine "&INT((INT(COLUMN()-4)/7))+1 -> Semaine 4 | AF1: ="Semaine "&INT((INT(COLUMN()-4)/7))+1 -> Semaine 5 | AM1: ="Semaine "&INT((INT(COLUMN()-4)/7))+1 -> Semaine 6 | AT1: ="Semaine "&INT((INT(COLUMN()-4)/7))+1 -> Semaine 7 | BA1: ="Semaine "&INT((INT(COLUMN()-4)/7))+1 -> Semaine 8 | BH1: ="Semaine "&INT((INT(COLUMN()-4)/7))+1 -> Semaine 9 | BO1: ="Semaine "&INT((INT(COLUMN()-4)/7))+1 -> Semaine 10 | BV1: ="Semaine "&INT((INT(COLUMN()-4)/7))+1 -> Semaine 11 | CC1: ="Semaine "&INT((INT(COLUMN()-4)/7))+1 -> Semaine 12
D2: =B1 -> 42736 | E2: =E3 -> 42737 | F2: =F3 -> 42738 | G2: =G3 -> 42739 | H2: =H3 -> 42740 | I2: =I3 -> 42741 | J2: =J3 -> 42742 | K2: =K3 -> 42743 | L2: =L3 -> 42744 | ... CI2: =CI3 -> 42819
B3: Equipe | C3: Poste | D3: =B1 -> 42736 | E3: =B1+1 -> 42737 | F3: =E3+1 -> 42738 | G3: =F3+1 -> 42739 | H3: =G3+1 -> 42740 | I3: =H3+1 -> 42741 | J3: =I3+1 -> 42742 | K3: =J3+1 -> 42743 | L3: =K3+1 -> 42744 | M3: =L3+1 -> 42745 | ... CI3: =CH3+1 -> 42819
A4: M. X | B4: A | C4: Encadrant | D4: Repos | E4: Présent | F4: Congés | G4: Congés | H4: Congés | I4: Congés | J4: Repos | AT4: Repos | AU4: Présent | AV4: Congés | AW4: Congés | AX4: Congés | AY4: Congés | AZ4: Repos
A5: Mme Y | B5: B | C5: Encadrant | D5: Repos | E5: Présent | F5: Présent | G5: Présent | H5: Présent | I5: Présent | J5: Repos | AT5: Repos | AU5: Présent | AV5: Présent | AW5: Présent | AX5: Présent | AY5: Présent | AZ5: Repos
A6: M. Z | B6: A | C6: Titulaire | D6: Repos | E6: Présent | F6: Présent | G6: Présent | H6: Présent | I6: Présent | J6: Repos | AT6: Repos | AU6: Présent | AV6: Présent | AW6: Présent | AX6: Présent | AY6: Présent | AZ6: Repos
A7: M. A | B7: Nuit | C7: Encadrant | D7: Présent | E7: Repos | F7: Présent | G7: Présent | H7: Présent | I7: Présent | AT7: Présent | AU7: Repos | AV7: Présent | AW7: Présent | AX7: Présent | AY7: Présent
A8: Mme XYZ | B8: B | C8: Titulaire | D8: Repos | E8: Présent | F8: Présent | G8: Présent | H8: Présent | I8: Présent | J8: Repos | AT8: Repos | AU8: Présent | AV8: Présent | AW8: Présent | AX8: Présent | AY8: Présent | AZ8: Repos
