Workbook

Sheet Feuille1
A1: Handle | B1: Title | C1: Body (HTML) | D1: Vendor | E1: Type | F1: Tags | G1: Published | H1: Option1 Name | I1: Option1 Value | J1: Option2 Name | K1: Option2 Value | L1: Option3 Name | M1: Option3 Value | N1: Variant SKU | O1: Variant Grams | P1: Variant Inventory Tracker | Q1: Variant Inventory Qty | R1: Variant Inventory Policy | S1: Variant Fulfillment Service | T1: Variant Price | U1: Variant Compare At Price | V1: Variant Requires Shipping | W1: Variant Taxable | X1: Variant Barcode | Y1: Image Src | Z1: Image Position | AA1: Image Alt Text | AB1: Gift Card | AC1: SEO Title | AD1: SEO Description | AE1: Google Shopping / Google Product Category | AF1: Google Shopping / Gender | AG1: Google Shopping / Age Group | AH1: Google Shopping / MPN | AI1: Google Shopping / AdWords Grouping | AJ1: Google Shopping / AdWords Labels | AK1: Google Shopping / Condition | AL1: Google Shopping / Custom Product | AM1: Google Shopping / Custom Label 0 | AN1: Google Shopping / Custom Label 1 | AO1: Google Shopping / Custom Label 2 | AP1: Google Shopping / Custom Label 3 | AQ1: Google Shopping / Custom Label 4 | AR1: Variant Image | AS1: Variant Weight Unit | AT1: Variant Tax Code | AU1: Cost per item
B2: =IFERROR(INDEX(Feuille2!B:B,MATCH(N2,Feuille2!A:A,0)),"") | N2: MLP-MLD-POPAMINIPAND
B3: =IFERROR(INDEX(Feuille2!B:B,MATCH(N3,Feuille2!A:A,0)),"") | N3: MLP-MLD-POPAMINIFELI
B4: =IFERROR(INDEX(Feuille2!B:B,MATCH(N4,Feuille2!A:A,0)),"") | N4: MLP-MLD-POPALICO
B5: =IFERROR(INDEX(Feuille2!B:B,MATCH(N5,Feuille2!A:A,0)),"") | N5: MLP-MLD-POPADINO
B6: =IFERROR(INDEX(Feuille2!B:B,MATCH(N6,Feuille2!A:A,0)),"") | N6: MLP-MLD-SEPIRATE
B7: =IFERROR(INDEX(Feuille2!B:B,MATCH(N7,Feuille2!A:A,0)),"") | N7: MLP-MLD-GOPIRATE
B8: =IFERROR(INDEX(Feuille2!B:B,MATCH(N8,Feuille2!A:A,0)),"") | N8: MLP-MLD-ASPIRATE
B9: =IFERROR(INDEX(Feuille2!B:B,MATCH(N9,Feuille2!A:A,0)),"") | N9: MLP-MLD-SEMERM
B10: =IFERROR(INDEX(Feuille2!B:B,MATCH(N10,Feuille2!A:A,0)),"") | N10: MLP-MLD-GOMERM
B11: =IFERROR(INDEX(Feuille2!B:B,MATCH(N11,Feuille2!A:A,0)),"") | N11: MLP-MLD-ASMERM
B12: =IFERROR(INDEX(Feuille2!B:B,MATCH(N12,Feuille2!A:A,0)),"") | N12: MLP-MLD-KIT-SIRENE-24
B13: =IFERROR(INDEX(Feuille2!B:B,MATCH(N13,Feuille2!A:A,0)),"") | N13: MLP-MLD-KIT-SIRENE-16
... B18: =IFERROR(INDEX(Feuille2!B:B,MATCH(N18,Feuille2!A:A,0)),"") | N18: MLP-TOB-12971
B19: =IFERROR(INDEX(Feuille2!B:B,MATCH(N19,Feuille2!A:A,0)),"")
B20: =IFERROR(INDEX(Feuille2!B:B,MATCH(N20,Feuille2!A:A,0)),"") | N20: MLP-TIP-502511S
B21: =IFERROR(INDEX(Feuille2!B:B,MATCH(N21,Feuille2!A:A,0)),"") | N21: MLP-TIP-502511
B22: =IFERROR(INDEX(Feuille2!B:B,MATCH(N22,Feuille2!A:A,0)),"") | N22: MLP-TIP-50249
B23: =IFERROR(INDEX(Feuille2!B:B,MATCH(N23,Feuille2!A:A,0)),"") | N23: MLP-TIP-50249S
B24: =IFERROR(INDEX(Feuille2!B:B,MATCH(N24,Feuille2!A:A,0)),"") | N24: MLP-TIP-502512
B25: =IFERROR(INDEX(Feuille2!B:B,MATCH(N25,Feuille2!A:A,0)),"") | N25: MLP-TIP-502512S
B26: =IFERROR(INDEX(Feuille2!B:B,MATCH(N26,Feuille2!A:A,0)),"") | N26: MLP-TIP-81230
B27: =IFERROR(INDEX(Feuille2!B:B,MATCH(N27,Feuille2!A:A,0)),"") | N27: MLP-TIP-502481
B28: =IFERROR(INDEX(Feuille2!B:B,MATCH(N28,Feuille2!A:A,0)),"") | N28: MLP-TIP-81231
B29: =IFERROR(INDEX(Feuille2!B:B,MATCH(N29,Feuille2!A:A,0)),"") | N29: MLP-TIP-502482
B30: =IFERROR(INDEX(Feuille2!B:B,MATCH(N30,Feuille2!A:A,0)),"") | N30: MLP-TIP-502483
B31: =IFERROR(INDEX(Feuille2!B:B,MATCH(N31,Feuille2!A:A,0)),"") | N31: MLP-TIP-502370
B32: =IFERROR(INDEX(Feuille2!B:B,MATCH(N32,Feuille2!A:A,0)),"") | N32: MLP-TIP-40179051
B33: =IFERROR(INDEX(Feuille2!B:B,MATCH(N33,Feuille2!A:A,0)),"")
B34: =IFERROR(INDEX(Feuille2!B:B,MATCH(N34,Feuille2!A:A,0)),"")
B35: =IFERROR(INDEX(Feuille2!B:B,MATCH(N35,Feuille2!A:A,0)),"") | N35: MLP-KNB-NW3-IBIC
B36: =IFERROR(INDEX(Feuille2!B:B,MATCH(N36,Feuille2!A:A,0)),"") | N36: MLP-KNB-NW3-WC
B37: =IFERROR(INDEX(Feuille2!B:B,MATCH(N37,Feuille2!A:A,0)),"") | N37: MLP-KNB-NW3-PL
B38: =IFERROR(INDEX(Feuille2!B:B,MATCH(N38,Feuille2!A:A,0)),"") | N38: MLP-KNB-NW3-D
B39: =IFERROR(INDEX(Feuille2!B:B,MATCH(N39,Feuille2!A:A,0)),"") | N39: MLP-KNB-GB12-FY
B40: =IFERROR(INDEX(Feuille2!B:B,MATCH(N40,Feuille2!A:A,0)),"")
B41: =IFERROR(INDEX(Feuille2!B:B,MATCH(N41,Feuille2!A:A,0)),"") | N41: MLP-KNB-HS36-G
B42: =IFERROR(INDEX(Feuille2!B:B,MATCH(N42,Feuille2!A:A,0)),"") | N42: MLP-KNB-HS36-K
B43: =IFERROR(INDEX(Feuille2!B:B,MATCH(N43,Feuille2!A:A,0)),"") | N43: MLP-KNB-HS36-R
B44: =IFERROR(INDEX(Feuille2!B:B,MATCH(N44,Feuille2!A:A,0)),"") | N44: MLP-KNB-HS36-P
...

Sheet Feuille2
A1: Variant SKU | B1: Image Alt Text
A2: MLP-BOUT | B2: Une petite bouteille en verre pour servir les plus beaux milkshakes et à agrémenter de vos pailles préférées. La bouteille se ferme à l'aide du petit bouchon pour que chaque enfant rapporte un souvenir du goûter d'anniversaire !
A3: MLP-CHPOPOROPI | B3: 8 chapeaux pointus à pois fuchsia
A4: MLP-CHPOTRMU | B4: 8 chapeaux pointus à triangles mulitcolores
A5: MLP-CHPOCHROU | B5: 8 chapeaux pointus à chevrons rouges
A6: MLP-CHPORAVEAC | B6: 8 chapeaux pointus à rayures bleu acqua
A7: MLP-HS36-NP | B7: Des stickers en forme de coeur rose fluo imaginés par Knot & Bow pour customiser vos lettres ou invitations ! Ils sont parfaits pour personnaliser une carte de voeux, un carte d'anniversaire ou un cahier. Chaque pochette contient 36 autocollants.
A8: MLP-HS36-NY | B8: Des stickers en forme de coeur imaginés par Knot & Bow pour customiser vos lettres ou invitations ! Ils sont parfaits pour personnaliser une carte de voeux, un carte d'anniversaire ou un cahier. Chaque pochette contient 36 autocollants.
A9: MLP-HS36-NR | B9: Des stickers en forme de coeur imaginés par Knot & Bow pour customiser vos lettres ou invitations ! Ils sont parfaits pour personnaliser une carte de voeux, un carte d'anniversaire ou un cahier. Chaque pochette contient 36 autocollants.
A10: MLP-KIT-COEUR16 | B10: Un super kit d'anniversaire coeurs avec de la vaisselle jetable, des assiettes, des gobelets, des sets et des couverts... Le kit contient des coeurs aqua et des pois roses pour un rendez-vous amoureux ou pour un anniversaire girly et romantique !
A11: MLP-KIT-COEUR24 | B11: Un super kit d'anniversaire coeurs avec de la vaisselle jetable, des assiettes, des gobelets, des sets et des couverts... Le kit contient des coeurs aqua et des pois roses pour un rendez-vous amoureux ou pour un anniversaire girly et romantique !
A12: MLP-KIT-COEUR8 | B12: Un super kit d'anniversaire coeurs avec de la vaisselle jetable, des assiettes, des gobelets, des sets et des couverts... Le kit contient des coeurs aqua et des pois roses pour un rendez-vous amoureux ou pour un anniversaire girly et romantique !
... A103: MLP-Nvzbr099 | B103: Ce kit contient une poche pâtissière pour décorer vos cupcakes et gâteaux d'anniversaire ou encore garnir vos choux!
A104: MLP-BACOVIO
A105: MLP-POPALODO | B105: 10 pochettes losanges dorés
A106: MLP-Ta0101 | B106: Une guirlande composée de 30 étoiles lumineuses à accrocher dans un arbre, sur une terrasse ou dans la maison lors d'un anniversaire, de noël ou du nouvel an !
A107: MLP-1PB-X-MAU | B107: masking tape mauve
A108: MLP-1PD-CL | B108: masking tape rayures orange
A109: MLP-Ta0111 | B109: Une guirlande composée de 30 boules lumineuses à accrocher dans un arbre, sur une terrasse ou dans la maison lors d'un anniversaire, de noël ou du nouvel an !
A110: MLP-ETO-357009 | B110: bleu et rose
A111: MLP-ETO-357009 | B111: blanc et orange
A112: MLP-PAMP-325002 | B112: 1 prisme pampille de Noël
A113: MLP-GTE-325004
A114: MLP-Ta0100 | B114: Une guirlande composée de 15 étoiles lumineuses à accrocher dans un arbre, sur une terrasse ou dans la maison lors d'un anniversaire, de noël ou du nouvel an !
A115: MLP-Sp0310 | B115: Une étoile blanche en métal pliée comme un origami. Très jolie, cette étoile donnera un côté traditionnel et chaleureux à votre arbre de Noël. Elle s'accordera très bien avec une décoration blanche et bleu ciel et émerveillera les petits comme les grands
A116: MLP-Sp0302 | B116: Une étoile grise en métal pliée comme un origami. Très jolie, cette étoile donnera un côté traditionnel et chaleureux à votre arbre de Noël. Elle s'accordera très bien avec une décoration blanche et bleu ciel et émerveillera les petits comme les grands en
A117: MLP-KD0028 | B117: Une couronne faite de fleurs en papier. C'est l'accessoire idéal pour compléter le déguisement de la parfaite petite tahitienne ! Les petites filles adorent se déguiser avec pour un anniversaire, le carnaval, une soirée déguisée, une pyjama party ou le no
A118: MLP-Eg0025 | B118: Une guirlande composée de 24 boules lumineuses à accrocher dans un arbre, sur une terrasse ou dans la maison lors d'un anniversaire, de noël ou du nouvel an !
A119: MLP-Ta0110 | B119: Une guirlande composée de 15 boules lumineuses à accrocher dans un arbre, sur une terrasse ou dans la maison lors d'un anniversaire, de noël ou du nouvel an !
A120: MLP-Nm0115 | B120: 6 bougeoirs en forme d'étoile blanche dans lesquels vous pouvez glisser une bougie de n'importe quelle couleur pour un réveillon de noël raffiné et chaleureux.
A121: MLP-Ft1000 | B121: Une petite voiture blanche vintage avec sur son toit un sapin de noël. Cette voiture miniature est parfaite pour une décoration de table de noël.
A122: MLP-Pg0215 | B122: Deux plumes dorées et blanches à suspendre à un sapin de noël ou à utiliser lors d'un anniversaire sur le thème indiens et cow-boys.
A123: MLP-CROGLIMIXVI | B123: Couronne à liseré Numéro 74
A124: MLP-CROGLIMIXRO | B124: Couronne à liseré Numéro 74
A125: MLP-CROGLIMIXAR | B125: Couronne à liseré Numéro 74
... A174: MLP-10242 | B174: Une bougie étincelle en forme d'étoile. Elle est idéale pour fêter l'anniversaire d'une petite princesse, d'une super star ou d'un enfant fan d'astronomie. Vous pouvez aussi l'utiliser pour un photobooth la tête dans les étoiles !
A175: MLP-BC036
A176: MLP-BC032
A177: MLP-BC033
A178: MLP-BC034
...

Sheet Notes
A3: - Sur ma première feuille j’ai une liste de références produits « variant SKU » (colonne N), et il me manque une info en colonne AA (Image Alt text)
A5: - Sur ma Feuille2, j’ai un autre ensemble de références produits (colonne A) et le texte que je cherche à avoir dans ma première feuille en colonne B.
A7: - Evidemment ce serait trop facile sinon, les références produits ne correspondent pas toutes entre les 2 Feuilles, car certaines ont été modifiés/ajoutés/supprimés entre ces deux exports.
