Workbook

Sheet Suivi Hors Site
A1: ID Demande | B1: N° devis | C1: en charge | D1: Mois | E1: Date | F1: Numéro de facture | G1: Prestataire | H1: Client | I1: Mail Client | J1: Effectif | K1: Prix HT | L1: Prix payé HT | M1: Com HT | O1: CA TTC | P1: Reçu | Q1: Contrôle | R1: Payé | S1: A payer | T1: Contrôle
A2: 1 | B2: D-882017 | D2: Novembre | E2: 43063 | F2: Fac00063&Fac00064 | J2: 26 | K2: 25 | L2: 20 | M2: =K2-L2 -> 5 | N2: =M2/K2 -> 0.2 | O2: =K2*1.2 -> 30 | P2: =SUMIF(Entrée!$B:$B,A2,Entrée!$D:$D) -> 5 | Q2: =P2-O2 -> -25 | R2: =SUMIF(Sortie!$B:$B,A2,Sortie!$D:$D) -> 2 | S2: 24 | T2: =S2-R2 -> 22
A3: 2 | D3: Novembre | E3: 43046 | F3: Fac00041 | K3: 25 | L3: 20 | M3: =K3-L3 -> 5 | N3: =M3/K3 -> 0.2 | O3: =K3*1.2 -> 30 | P3: =SUMIF(Entrée!$B:$B,A3,Entrée!$D:$D) -> 10 | Q3: =P3-O3 -> -20 | R3: =SUMIF(Sortie!$B:$B,A3,Sortie!$D:$D) -> 4 | S3: 24 | T3: =S3-R3 -> 20 | U3: En attente de savoir ce qu'il s'est pass&é
A4: 3 | B4: D-1022017 | D4: Décembre | E4: 43090 | F4: Fac00078&Fac00104 | I4: mathilde.valard@suez.com | J4: 15 | K4: 25 | L4: 20 | M4: =K4-L4 -> 5 | N4: =M4/K4 -> 0.2 | O4: =K4*1.2 -> 30 | P4: =SUMIF(Entrée!$B:$B,A4,Entrée!$D:$D) -> 20 | Q4: =P4-O4 -> -10 | R4: =SUMIF(Sortie!$B:$B,A4,Sortie!$D:$D) -> 6 | S4: 24 | T4: =S4-R4 -> 18
A5: 4 | B5: D-022018 | D5: Janvier | E5: 43126 | J5: 16 | K5: 25 | L5: 20 | M5: =K5-L5 -> 5 | N5: =M5/K5 -> 0.2 | O5: =K5*1.2 -> 30 | P5: =SUMIF(Entrée!$B:$B,A5,Entrée!$D:$D) -> 50 | Q5: =P5-O5 -> 20 | R5: =SUMIF(Sortie!$B:$B,A5,Sortie!$D:$D) -> 8 | S5: 24 | T5: =S5-R5 -> 16 | U5: Virement totale effectué de la part du client, manque une part du client(rajout d'une personne) tout reglé auprès du presta, 90€
A6: 5 | D6: Décembre | E6: 43084 | F6: Fac00081&Fac00082 | I6: etienne.fescourt@orange.Fr | J6: 16 | K6: 25 | L6: 20 | M6: =K6-L6 -> 5 | N6: =M6/K6 -> 0.2 | O6: =K6*1.2 -> 30 | P6: =SUMIF(Entrée!$B:$B,A6,Entrée!$D:$D) -> 12 | Q6: =P6-O6 -> -18 | R6: =SUMIF(Sortie!$B:$B,A6,Sortie!$D:$D) -> 14 | S6: 24 | T6: =S6-R6 -> 10
A7: 6 | D7: Octobre | E7: 43021 | F7: Fac00049&Fac00050 | I7: rachida.lukau@rte-france.com | K7: 25 | L7: 20 | M7: =K7-L7 -> 5 | N7: =M7/K7 -> 0.2 | O7: =K7*1.2 -> 30 | P7: =SUMIF(Entrée!$B:$B,A7,Entrée!$D:$D) -> 13 | Q7: =P7-O7 -> -17 | R7: =SUMIF(Sortie!$B:$B,A7,Sortie!$D:$D) -> 20 | S7: 24 | T7: =S7-R7 -> 4
A8: 7 | D8: Octobre | E8: 43014 | F8: Fac00043&Fac0004 | K8: 25 | L8: 20 | M8: =K8-L8 -> 5 | N8: =M8/K8 -> 0.2 | O8: =K8*1.2 -> 30 | P8: =SUMIF(Entrée!$B:$B,A8,Entrée!$D:$D) -> 15 | Q8: =P8-O8 -> -15 | R8: =SUMIF(Sortie!$B:$B,A8,Sortie!$D:$D) -> 14 | S8: 24 | T8: =S8-R8 -> 10
A9: 8 | B9: Devis N°D-792017 | D9: Novembre | E9: 43055 | F9: Fac00042 | I9: antoine.pipart@vinci-energies.com | J9: 20 | K9: 25 | L9: 20 | M9: =K9-L9 -> 5 | N9: =M9/K9 -> 0.2 | O9: =K9*1.2 -> 30 | P9: =SUMIF(Entrée!$B:$B,A9,Entrée!$D:$D) -> 20 | Q9: =P9-O9 -> -10 | R9: =SUMIF(Sortie!$B:$B,A9,Sortie!$D:$D) -> 19 | S9: 24 | U9: Manque facture du presta
A10: 9 | B10: D-1232017 | D10: Janvier | E10: 43112 | F10: Fac00101&Fac00102 | J10: 23 | K10: 25 | L10: 20 | M10: =K10-L10 -> 5 | O10: =K10*1.2 -> 30 | P10: =SUMIF(Entrée!$B:$B,A10,Entrée!$D:$D) -> 14 | Q10: =P10-O10 -> -16 | R10: =SUMIF(Sortie!$B:$B,A10,Sortie!$D:$D) -> 24 | S10: 24 | T10: =S10-R10 -> 0
A11: 10 | D11: Novembre | E11: 43069 | F11: Fac00096 | J11: 25-35 | K11: 25 | L11: 20 | M11: =K11-L11 -> 5 | N11: =M11/K11 -> 0.2 | O11: =K11*1.2 -> 30 | P11: =SUMIF(Entrée!$B:$B,A11,Entrée!$D:$D) -> 30 | Q11: =P11-O11 -> 0 | R11: =SUMIF(Sortie!$B:$B,A11,Sortie!$D:$D) -> 26 | S11: 24 | T11: =S11-R11 -> -2
A12: 11 | D12: Juin | E12: 42895 | F12: Fac00021&Fac00022 | I12: c.latour@ycopportunity.be | K12: 25 | L12: 20 | M12: =K12-L12 -> 5 | N12: =M12/K12 -> 0.2 | O12: =K12*1.2 -> 30 | P12: =SUMIF(Entrée!$B:$B,A12,Entrée!$D:$D) -> 30 | Q12: =P12-O12 -> 0 | R12: =SUMIF(Sortie!$B:$B,A12,Sortie!$D:$D) -> 30 | S12: 24 | T12: =S12-R12 -> -6 | U12: En attente de Barrière
A13: 12 | D13: Janvier | E13: 43118 | F13: Fac00092&Fac00117 | J13: 22 | K13: 25 | L13: 20 | M13: =K13-L13 -> 5 | N13: =M13/K13 -> 0.2 | O13: =K13*1.2 -> 30 | P13: =SUMIF(Entrée!$B:$B,A13,Entrée!$D:$D) -> 30 | Q13: =P13-O13 -> 0 | R13: =SUMIF(Sortie!$B:$B,A13,Sortie!$D:$D) -> 17 | S13: 24 | T13: =S13-R13 -> 7

Sheet Entrée
A1: Libellés | B1: ID Demande | C1: date virement | D1: Montant viré | E1: Numéro Facture | F1: Commentaire
A2: COGEDIM - Chèque en attente Encaissement | B2: 1 | D2: 5
A3: VIR TRES MUNICIPALE LA COURNTRES MUNICIPALE LA COURNEUVEFACT NOFACT-20161226-MC21 DU 26LA COURNEUVEVILLE - VILLE160931040061002017-06-083050 | B3: 2 | D3: 10
A4: REM CHQ REF06011R10 - LA courneuve | B4: 3 | D4: 20
A5: VIR PBI DANSENSOR FRANCEACOMPTE DEVIS D-122017 | B5: 4 | D5: 50
A6: VIR PBI DANSENSOR FRANCESOLDE DEVIS D-122017 | B6: 5 | D6: 12
A7: REM CHQ REF06011R10 - CE SEFAS INNOVATION | B7: 6 | D7: 13
A8: CE Sefas | B8: 7 | D8: 15
A9: VIR TRES MUNICIPALE LA COURNTRES MUNICIPALE LA COURNEUVEFACT NOFACT-20170702-MC24 DU 07DUGNY VILLE -VILLE160931040065002017-03-09249 | B9: 8 | D9: 20
A10: VIR TRES MUNICIPALE LA COURNTRES MUNICIPALE LA COURNEUVEFACT NOFACT-20171802-MC27 DU 16LA COURNEUVEVILLE - VILLE160931040061002017-05-171859 | B10: 9 | D10: 14
A11: VIR TRESORERIE MEAUX MUNICIPTRESORERIE MEAUX MUNICIPALEFAC. FACT-20171502-MC28 DU 16/ 02/2017SEGWAYCROSS (30MIN) + PAINTBALL (200 BIMEAUX160772140061002017-03-223002 | B11: 10 | D11: 30
A12: VIR TRES MUNICIPALE LA COURNTRES MUNICIPALE LA COURNEUVEFACT NOFACT-20171802-MC26 DU 16LA COURNEUVEVILLE - VILLE160931040061002017-05-171858 | B12: 11 | D12: 30
A13: REM CHQ REF06011R10 - Jorganiz | B13: 12 | D13: 30

Sheet Sortie
A1: Libellés | B1: ID Demande | C1: date virement | D1: Montant payé | E1: Numéro dossier (Facture) | F1: Commentaire
B2: 1 | D2: 2
B3: 2 | D3: 4
B4: 3 | D4: 6
B5: 4 | D5: 8
B6: 5 | D6: 14
B7: 6 | D7: 20
B8: 7 | D8: 14
B9: 8 | D9: 19
B10: 9 | D10: 24
B11: 10 | D11: 26
B12: 11 | D12: 30
B13: 12 | D13: 17
