Workbook
Name Equipes: Règles!$S$1:$S$20

Sheet Jour1
H1: =OFFSET(Règles!$P$1,(COLUMN()-8)/3,0) -> Guigui | K1: =OFFSET(Règles!$P$1,(COLUMN()-8)/3,0) -> Stef | N1: =OFFSET(Règles!$P$1,(COLUMN()-8)/3,0) -> Papa | Q1: =OFFSET(Règles!$P$1,(COLUMN()-8)/3,0) -> Maman | T1: =OFFSET(Règles!$P$1,(COLUMN()-8)/3,0) -> Flo | W1: =OFFSET(Règles!$P$1,(COLUMN()-8)/3,0) -> Florian | Z1: =OFFSET(Règles!$P$1,(COLUMN()-8)/3,0) -> Jonas | AC1: =OFFSET(Règles!$P$1,(COLUMN()-8)/3,0) -> Céline | AF1: =OFFSET(Règles!$P$1,(COLUMN()-8)/3,0) -> Mich | AI1: =OFFSET(Règles!$P$1,(COLUMN()-8)/3,0) -> Olivier | AL1: =OFFSET(Règles!$P$1,(COLUMN()-8)/3,0) -> Remi | AO1: =OFFSET(Règles!$P$1,(COLUMN()-8)/3,0) -> Alexis | AR1: =OFFSET(Règles!$P$1,(COLUMN()-8)/3,0) -> Julien | AU1: =OFFSET(Règles!$P$1,(COLUMN()-8)/3,0) -> Maxime | AX1: =OFFSET(Règles!$P$1,(COLUMN()-8)/3,0) -> Goncalves | BA1: =OFFSET(Règles!$P$1,(COLUMN()-8)/3,0) -> Yann | BD1: =OFFSET(Règles!$P$1,(COLUMN()-8)/3,0) -> Maurice | BG1: =OFFSET(Règles!$P$1,(COLUMN()-8)/3,0) -> Cédric | BJ1: =OFFSET(Règles!$P$1,(COLUMN()-8)/3,0) -> Benjamin | BM1: =OFFSET(Règles!$P$1,(COLUMN()-8)/3,0) -> Bean | BP1: =OFFSET(Règles!$P$1,(COLUMN()-8)/3,0) -> Isabelle | BS1: =OFFSET(Règles!$P$1,(COLUMN()-8)/3,0) -> Emmanuel | BV1: =OFFSET(Règles!$P$1,(COLUMN()-8)/3,0) -> Fernando | BY1: =OFFSET(Règles!$P$1,(COLUMN()-8)/3,0) -> Manu
D2: Scores | G2: Pari | I2: pts | J2: Pari | L2: pts | M2: Pari | O2: pts | P2: Pari | R2: pts | S2: Pari | U2: pts | V2: Pari | X2: pts | Y2: Pari | AA2: pts | AB2: Pari | AD2: pts | AE2: Pari | AG2: pts | AH2: Pari | AJ2: pts | AK2: Pari | AM2: pts | AN2: Pari | AP2: pts | AQ2: Pari | AS2: pts | AT2: Pari | AV2: pts | AW2: Pari | AY2: pts | AZ2: Pari | BB2: pts | BC2: Pari | BE2: pts | BF2: Pari | BH2: pts | BI2: Pari | BK2: pts | BL2: Pari | BN2: pts | BO2: Pari | BQ2: pts | BR2: Pari | BT2: pts | BU2: Pari | BW2: pts | BX2: Pari | BZ2: pts
A3: Match 1 | B3: Nantes | C3: Marseille | D3: 1 | E3: 0 | G3: =RANDBETWEEN(0,4) -> 0 | H3: =RANDBETWEEN(0,4) -> 4 | I3: =IF(AND(OFFSET(I3,0,-2)<>"",OFFSET(I3,0,-1)<>""),INDEX(Règles!$C$1:$C$4,MATCH(IF(IF($D3>$E3,"Gd",IF($D3=$E3,"N","Pd"))=IF(OFFSET(I3,0,-2)>OFFSET(I3,0,-1),"Gd",IF(OFFSET(I3,0,-2)=OFFSET(I3,0,-1),"N","Pd")),"R","I"),Règles!$A$1:$A$4,0))+INDEX(Règles!$C$1:$C$4,MATCH(IF(AND(OFFSET(I3,0,-2)=$D3,OFFSET(I3,0,-1)=$E3),"S",IF(OR(OFFSET(I3,0,-2)=$D3,OFFSET(I3,0,-1)=$E3),"M","I")),Règles!$A$1:$A$4,0)),0) -> 0 | J3: =RANDBETWEEN(0,4) -> 1 | K3: =RANDBETWEEN(0,4) -> 4 | L3: =IF(AND(OFFSET(L3,0,-2)<>"",OFFSET(L3,0,-1)<>""),INDEX(Règles!$C$1:$C$4,MATCH(IF(IF($D3>$E3,"Gd",IF($D3=$E3,"N","Pd"))=IF(OFFSET(L3,0,-2)>OFFSET(L3,0,-1),"Gd",IF(OFFSET(L3,0,-2)=OFFSET(L3,0,-1),"N","Pd")),"R","I"),Règles!$A$1:$A$4,0))+INDEX(Règles!$C$1:$C$4,MATCH(IF(AND(OFFSET(L3,0,-2)=$D3,OFFSET(L3,0,-1)=$E3),"S",IF(OR(OFFSET(L3,0,-2)=$D3,OFFSET(L3,0,-1)=$E3),"M","I")),Règles!$A$1:$A$4,0)),0) -> 1 | M3: =RANDBETWEEN(0,4) -> 4 | N3: =RANDBETWEEN(0,4) -> 0 | O3: =IF(AND(OFFSET(O3,0,-2)<>"",OFFSET(O3,0,-1)<>""),INDEX(Règles!$C$1:$C$4,MATCH(IF(IF($D3>$E3,"Gd",IF($D3=$E3,"N","Pd"))=IF(OFFSET(O3,0,-2)>OFFSET(O3,0,-1),"Gd",IF(OFFSET(O3,0,-2)=OFFSET(O3,0,-1),"N","Pd")),"R","I"),Règles!$A$1:$A$4,0))+INDEX(Règles!$C$1:$C$4,MATCH(IF(AND(OFFSET(O3,0,-2)=$D3,OFFSET(O3,0,-1)=$E3),"S",IF(OR(OFFSET(O3,0,-2)=$D3,OFFSET(O3,0,-1)=$E3),"M","I")),Règles!$A$1:$A$4,0)),0) -> 6 | P3: =RANDBETWEEN(0,4) -> 0 | Q3: =RANDBETWEEN(0,4) -> 0 | R3: =IF(AND(OFFSET(R3,0,-2)<>"",OFFSET(R3,0,-1)<>""),INDEX(Règles!$C$1:$C$4,MATCH(IF(IF($D3>$E3,"Gd",IF($D3=$E3,"N","Pd"))=IF(OFFSET(R3,0,-2)>OFFSET(R3,0,-1),"Gd",IF(OFFSET(R3,0,-2)=OFFSET(R3,0,-1),"N","Pd")),"R","I"),Règles!$A$1:$A$4,0))+INDEX(Règles!$C$1:$C$4,MATCH(IF(AND(OFFSET(R3,0,-2)=$D3,OFFSET(R3,0,-1)=$E3),"S",IF(OR(OFFSET(R3,0,-2)=$D3,OFFSET(R3,0,-1)=$E3),"M","I")),Règles!$A$1:$A$4,0)),0) -> 1 | S3: =RANDBETWEEN(0,4) -> 4 | T3: =RANDBETWEEN(0,4) -> 0 | U3: =IF(AND(OFFSET(U3,0,-2)<>"",OFFSET(U3,0,-1)<>""),INDEX(Règles!$C$1:$C$4,MATCH(IF(IF($D3>$E3,"Gd",IF($D3=$E3,"N","Pd"))=IF(OFFSET(U3,0,-2)>OFFSET(U3,0,-1),"Gd",IF(OFFSET(U3,0,-2)=OFFSET(U3,0,-1),"N","Pd")),"R","I"),Règles!$A$1:$A$4,0))+INDEX(Règles!$C$1:$C$4,MATCH(IF(AND(OFFSET(U3,0,-2)=$D3,OFFSET(U3,0,-1)=$E3),"S",IF(OR(OFFSET(U3,0,-2)=$D3,OFFSET(U3,0,-1)=$E3),"M","I")),Règles!$A$1:$A$4,0)),0) -> 6 | V3: =RANDBETWEEN(0,4) -> 2 | W3: =RANDBETWEEN(0,4) -> 4 | X3: =IF(AND(OFFSET(X3,0,-2)<>"",OFFSET(X3,0,-1)<>""),INDEX(Règles!$C$1:$C$4,MATCH(IF(IF($D3>$E3,"Gd",IF($D3=$E3,"N","Pd"))=IF(OFFSET(X3,0,-2)>OFFSET(X3,0,-1),"Gd",IF(OFFSET(X3,0,-2)=OFFSET(X3,0,-1),"N","Pd")),"R","I"),Règles!$A$1:$A$4,0))+INDEX(Règles!$C$1:$C$4,MATCH(IF(AND(OFFSET(X3,0,-2)=$D3,OFFSET(X3,0,-1)=$E3),"S",IF(OR(OFFSET(X3,0,-2)=$D3,OFFSET(X3,0,-1)=$E3),"M","I")),Règles!$A$1:$A$4,0)),0) -> 0 | Y3: =RANDBETWEEN(0,4) -> 0 | Z3: =RANDBETWEEN(0,4) -> 4 | AA3: =IF(AND(OFFSET(AA3,0,-2)<>"",OFFSET(AA3,0,-1)<>""),INDEX(Règles!$C$1:$C$4,MATCH(IF(IF($D3>$E3,"Gd",IF($D3=$E3,"N","Pd"))=IF(OFFSET(AA3,0,-2)>OFFSET(AA3,0,-1),"Gd",IF(OFFSET(AA3,0,-2)=OFFSET(AA3,0,-1),"N","Pd")),"R","I"),Règles!$A$1:$A$4,0))+INDEX(Règles!$C$1:$C$4,MATCH(IF(AND(OFFSET(AA3,0,-2)=$D3,OFFSET(AA3,0,-1)=$E3),"S",IF(OR(OFFSET(AA3,0,-2)=$D3,OFFSET(AA3,0,-1)=$E3),"M","I")),Règles!$A$1:$A$4,0)),0) -> 0 | AB3: =RANDBETWEEN(0,4) -> 4 | AC3: =RANDBETWEEN(0,4) -> 4 | AD3: =IF(AND(OFFSET(AD3,0,-2)<>"",OFFSET(AD3,0,-1)<>""),INDEX(Règles!$C$1:$C$4,MATCH(IF(IF($D3>$E3,"Gd",IF($D3=$E3,"N","Pd"))=IF(OFFSET(AD3,0,-2)>OFFSET(AD3,0,-1),"Gd",IF(OFFSET(AD3,0,-2)=OFFSET(AD3,0,-1),"N","Pd")),"R","I"),Règles!$A$1:$A$4,0))+INDEX(Règles!$C$1:$C$4,MATCH(IF(AND(OFFSET(AD3,0,-2)=$D3,OFFSET(AD3,0,-1)=$E3),"S",IF(OR(OFFSET(AD3,0,-2)=$D3,OFFSET(AD3,0,-1)=$E3),"M","I")),Règles!$A$1:$A$4,0)),0) -> 0 | AE3: =RANDBETWEEN(0,4) -> 2 | AF3: =RANDBETWEEN(0,4) -> 4 | AG3: =IF(AND(OFFSET(AG3,0,-2)<>"",OFFSET(AG3,0,-1)<>""),INDEX(Règles!$C$1:$C$4,MATCH(IF(IF($D3>$E3,"Gd",IF($D3=$E3,"N","Pd"))=IF(OFFSET(AG3,0,-2)>OFFSET(AG3,0,-1),"Gd",IF(OFFSET(AG3,0,-2)=OFFSET(AG3,0,-1),"N","Pd")),"R","I"),Règles!$A$1:$A$4,0))+INDEX(Règles!$C$1:$C$4,MATCH(IF(AND(OFFSET(AG3,0,-2)=$D3,OFFSET(AG3,0,-1)=$E3),"S",IF(OR(OFFSET(AG3,0,-2)=$D3,OFFSET(AG3,0,-1)=$E3),"M","I")),Règles!$A$1:$A$4,0)),0) -> 0 | AH3: =RANDBETWEEN(0,4) -> 0 | AI3: =RANDBETWEEN(0,4) -> 0 | AJ3: =IF(AND(OFFSET(AJ3,0,-2)<>"",OFFSET(AJ3,0,-1)<>""),INDEX(Règles!$C$1:$C$4,MATCH(IF(IF($D3>$E3,"Gd",IF($D3=$E3,"N","Pd"))=IF(OFFSET(AJ3,0,-2)>OFFSET(AJ3,0,-1),"Gd",IF(OFFSET(AJ3,0,-2)=OFFSET(AJ3,0,-1),"N","Pd")),"R","I"),Règles!$A$1:$A$4,0))+INDEX(Règles!$C$1:$C$4,MATCH(IF(AND(OFFSET(AJ3,0,-2)=$D3,OFFSET(AJ3,0,-1)=$E3),"S",IF(OR(OFFSET(AJ3,0,-2)=$D3,OFFSET(AJ3,0,-1)=$E3),"M","I")),Règles!$A$1:$A$4,0)),0) -> 1 | AK3: =RANDBETWEEN(0,4) -> 3 | AL3: =RANDBETWEEN(0,4) -> 1 | AM3: =IF(AND(OFFSET(AM3,0,-2)<>"",OFFSET(AM3,0,-1)<>""),INDEX(Règles!$C$1:$C$4,MATCH(IF(IF($D3>$E3,"Gd",IF($D3=$E3,"N","Pd"))=IF(OFFSET(AM3,0,-2)>OFFSET(AM3,0,-1),"Gd",IF(OFFSET(AM3,0,-2)=OFFSET(AM3,0,-1),"N","Pd")),"R","I"),Règles!$A$1:$A$4,0))+INDEX(Règles!$C$1:$C$4,MATCH(IF(AND(OFFSET(AM3,0,-2)=$D3,OFFSET(AM3,0,-1)=$E3),"S",IF(OR(OFFSET(AM3,0,-2)=$D3,OFFSET(AM3,0,-1)=$E3),"M","I")),Règles!$A$1:$A$4,0)),0) -> 5 | AN3: =RANDBETWEEN(0,4) -> 1 | AO3: =RANDBETWEEN(0,4) -> 4 | AP3: =IF(AND(OFFSET(AP3,0,-2)<>"",OFFSET(AP3,0,-1)<>""),INDEX(Règles!$C$1:$C$4,MATCH(IF(IF($D3>$E3,"Gd",IF($D3=$E3,"N","Pd"))=IF(OFFSET(AP3,0,-2)>OFFSET(AP3,0,-1),"Gd",IF(OFFSET(AP3,0,-2)=OFFSET(AP3,0,-1),"N","Pd")),"R","I"),Règles!$A$1:$A$4,0))+INDEX(Règles!$C$1:$C$4,MATCH(IF(AND(OFFSET(AP3,0,-2)=$D3,OFFSET(AP3,0,-1)=$E3),"S",IF(OR(OFFSET(AP3,0,-2)=$D3,OFFSET(AP3,0,-1)=$E3),"M","I")),Règles!$A$1:$A$4,0)),0) -> 1 | AQ3: =RANDBETWEEN(0,4) -> 3 | AR3: =RANDBETWEEN(0,4) -> 3 | AS3: =IF(AND(OFFSET(AS3,0,-2)<>"",OFFSET(AS3,0,-1)<>""),INDEX(Règles!$C$1:$C$4,MATCH(IF(IF($D3>$E3,"Gd",IF($D3=$E3,"N","Pd"))=IF(OFFSET(AS3,0,-2)>OFFSET(AS3,0,-1),"Gd",IF(OFFSET(AS3,0,-2)=OFFSET(AS3,0,-1),"N","Pd")),"R","I"),Règles!$A$1:$A$4,0))+INDEX(Règles!$C$1:$C$4,MATCH(IF(AND(OFFSET(AS3,0,-2)=$D3,OFFSET(AS3,0,-1)=$E3),"S",IF(OR(OFFSET(AS3,0,-2)=$D3,OFFSET(AS3,0,-1)=$E3),"M","I")),Règles!$A$1:$A$4,0)),0) -> 0 | AT3: =RANDBETWEEN(0,4) -> 2 | AU3: =RANDBETWEEN(0,4) -> 2 | AV3: =IF(AND(OFFSET(AV3,0,-2)<>"",OFFSET(AV3,0,-1)<>""),INDEX(Règles!$C$1:$C$4,MATCH(IF(IF($D3>$E3,"Gd",IF($D3=$E3,"N","Pd"))=IF(OFFSET(AV3,0,-2)>OFFSET(AV3,0,-1),"Gd",IF(OFFSET(AV3,0,-2)=OFFSET(AV3,0,-1),"N","Pd")),"R","I"),Règles!$A$1:$A$4,0))+INDEX(Règles!$C$1:$C$4,MATCH(IF(AND(OFFSET(AV3,0,-2)=$D3,OFFSET(AV3,0,-1)=$E3),"S",IF(OR(OFFSET(AV3,0,-2)=$D3,OFFSET(AV3,0,-1)=$E3),"M","I")),Règles!$A$1:$A$4,0)),0) -> 0 | AW3: =RANDBETWEEN(0,4) -> 4 | AX3: =RANDBETWEEN(0,4) -> 3 | AY3: =IF(AND(OFFSET(AY3,0,-2)<>"",OFFSET(AY3,0,-1)<>""),INDEX(Règles!$C$1:$C$4,MATCH(IF(IF($D3>$E3,"Gd",IF($D3=$E3,"N","Pd"))=IF(OFFSET(AY3,0,-2)>OFFSET(AY3,0,-1),"Gd",IF(OFFSET(AY3,0,-2)=OFFSET(AY3,0,-1),"N","Pd")),"R","I"),Règles!$A$1:$A$4,0))+INDEX(Règles!$C$1:$C$4,MATCH(IF(AND(OFFSET(AY3,0,-2)=$D3,OFFSET(AY3,0,-1)=$E3),"S",IF(OR(OFFSET(AY3,0,-2)=$D3,OFFSET(AY3,0,-1)=$E3),"M","I")),Règles!$A$1:$A$4,0)),0) -> 5 | AZ3: =RANDBETWEEN(0,4) -> 2 | BA3: =RANDBETWEEN(0,4) -> 2 | BB3: =IF(AND(OFFSET(BB3,0,-2)<>"",OFFSET(BB3,0,-1)<>""),INDEX(Règles!$C$1:$C$4,MATCH(IF(IF($D3>$E3,"Gd",IF($D3=$E3,"N","Pd"))=IF(OFFSET(BB3,0,-2)>OFFSET(BB3,0,-1),"Gd",IF(OFFSET(BB3,0,-2)=OFFSET(BB3,0,-1),"N","Pd")),"R","I"),Règles!$A$1:$A$4,0))+INDEX(Règles!$C$1:$C$4,MATCH(IF(AND(OFFSET(BB3,0,-2)=$D3,OFFSET(BB3,0,-1)=$E3),"S",IF(OR(OFFSET(BB3,0,-2)=$D3,OFFSET(BB3,0,-1)=$E3),"M","I")),Règles!$A$1:$A$4,0)),0) -> 0 | BC3: =RANDBETWEEN(0,4) -> 0 | BD3: =RANDBETWEEN(0,4) -> 1 | BE3: =IF(AND(OFFSET(BE3,0,-2)<>"",OFFSET(BE3,0,-1)<>""),INDEX(Règles!$C$1:$C$4,MATCH(IF(IF($D3>$E3,"Gd",IF($D3=$E3,"N","Pd"))=IF(OFFSET(BE3,0,-2)>OFFSET(BE3,0,-1),"Gd",IF(OFFSET(BE3,0,-2)=OFFSET(BE3,0,-1),"N","Pd")),"R","I"),Règles!$A$1:$A$4,0))+INDEX(Règles!$C$1:$C$4,MATCH(IF(AND(OFFSET(BE3,0,-2)=$D3,OFFSET(BE3,0,-1)=$E3),"S",IF(OR(OFFSET(BE3,0,-2)=$D3,OFFSET(BE3,0,-1)=$E3),"M","I")),Règles!$A$1:$A$4,0)),0) -> 0 | BF3: =RANDBETWEEN(0,4) -> 4 | BG3: =RANDBETWEEN(0,4) -> 3 | BH3: =IF(AND(OFFSET(BH3,0,-2)<>"",OFFSET(BH3,0,-1)<>""),INDEX(Règles!$C$1:$C$4,MATCH(IF(IF($D3>$E3,"Gd",IF($D3=$E3,"N","Pd"))=IF(OFFSET(BH3,0,-2)>OFFSET(BH3,0,-1),"Gd",IF(OFFSET(BH3,0,-2)=OFFSET(BH3,0,-1),"N","Pd")),"R","I"),Règles!$A$1:$A$4,0))+INDEX(Règles!$C$1:$C$4,MATCH(IF(AND(OFFSET(BH3,0,-2)=$D3,OFFSET(BH3,0,-1)=$E3),"S",IF(OR(OFFSET(BH3,0,-2)=$D3,OFFSET(BH3,0,-1)=$E3),"M","I")),Règles!$A$1:$A$4,0)),0) -> 5 | BI3: =RANDBETWEEN(0,4) -> 4 | BJ3: =RANDBETWEEN(0,4) -> 0 | BK3: =IF(AND(OFFSET(BK3,0,-2)<>"",OFFSET(BK3,0,-1)<>""),INDEX(Règles!$C$1:$C$4,MATCH(IF(IF($D3>$E3,"Gd",IF($D3=$E3,"N","Pd"))=IF(OFFSET(BK3,0,-2)>OFFSET(BK3,0,-1),"Gd",IF(OFFSET(BK3,0,-2)=OFFSET(BK3,0,-1),"N","Pd")),"R","I"),Règles!$A$1:$A$4,0))+INDEX(Règles!$C$1:$C$4,MATCH(IF(AND(OFFSET(BK3,0,-2)=$D3,OFFSET(BK3,0,-1)=$E3),"S",IF(OR(OFFSET(BK3,0,-2)=$D3,OFFSET(BK3,0,-1)=$E3),"M","I")),Règles!$A$1:$A$4,0)),0) -> 6 | BL3: =RANDBETWEEN(0,4) -> 1 | BM3: =RANDBETWEEN(0,4) -> 3 | BN3: =IF(AND(OFFSET(BN3,0,-2)<>"",OFFSET(BN3,0,-1)<>""),INDEX(Règles!$C$1:$C$4,MATCH(IF(IF($D3>$E3,"Gd",IF($D3=$E3,"N","Pd"))=IF(OFFSET(BN3,0,-2)>OFFSET(BN3,0,-1),"Gd",IF(OFFSET(BN3,0,-2)=OFFSET(BN3,0,-1),"N","Pd")),"R","I"),Règles!$A$1:$A$4,0))+INDEX(Règles!$C$1:$C$4,MATCH(IF(AND(OFFSET(BN3,0,-2)=$D3,OFFSET(BN3,0,-1)=$E3),"S",IF(OR(OFFSET(BN3,0,-2)=$D3,OFFSET(BN3,0,-1)=$E3),"M","I")),Règles!$A$1:$A$4,0)),0) -> 1 | BO3: =RANDBETWEEN(0,4) -> 1 | BP3: =RANDBETWEEN(0,4) -> 0 | BQ3: =IF(AND(OFFSET(BQ3,0,-2)<>"",OFFSET(BQ3,0,-1)<>""),INDEX(Règles!$C$1:$C$4,MATCH(IF(IF($D3>$E3,"Gd",IF($D3=$E3,"N","Pd"))=IF(OFFSET(BQ3,0,-2)>OFFSET(BQ3,0,-1),"Gd",IF(OFFSET(BQ3,0,-2)=OFFSET(BQ3,0,-1),"N","Pd")),"R","I"),Règles!$A$1:$A$4,0))+INDEX(Règles!$C$1:$C$4,MATCH(IF(AND(OFFSET(BQ3,0,-2)=$D3,OFFSET(BQ3,0,-1)=$E3),"S",IF(OR(OFFSET(BQ3,0,-2)=$D3,OFFSET(BQ3,0,-1)=$E3),"M","I")),Règles!$A$1:$A$4,0)),0) -> 10 | BR3: =RANDBETWEEN(0,4) -> 2 | BS3: =RANDBETWEEN(0,4) -> 2 | BT3: =IF(AND(OFFSET(BT3,0,-2)<>"",OFFSET(BT3,0,-1)<>""),INDEX(Règles!$C$1:$C$4,MATCH(IF(IF($D3>$E3,"Gd",IF($D3=$E3,"N","Pd"))=IF(OFFSET(BT3,0,-2)>OFFSET(BT3,0,-1),"Gd",IF(OFFSET(BT3,0,-2)=OFFSET(BT3,0,-1),"N","Pd")),"R","I"),Règles!$A$1:$A$4,0))+INDEX(Règles!$C$1:$C$4,MATCH(IF(AND(OFFSET(BT3,0,-2)=$D3,OFFSET(BT3,0,-1)=$E3),"S",IF(OR(OFFSET(BT3,0,-2)=$D3,OFFSET(BT3,0,-1)=$E3),"M","I")),Règles!$A$1:$A$4,0)),0) -> 0 | BU3: =RANDBETWEEN(0,4) -> 4 | BV3: =RANDBETWEEN(0,4) -> 2 | BW3: =IF(AND(OFFSET(BW3,0,-2)<>"",OFFSET(BW3,0,-1)<>""),INDEX(Règles!$C$1:$C$4,MATCH(IF(IF($D3>$E3,"Gd",IF($D3=$E3,"N","Pd"))=IF(OFFSET(BW3,0,-2)>OFFSET(BW3,0,-1),"Gd",IF(OFFSET(BW3,0,-2)=OFFSET(BW3,0,-1),"N","Pd")),"R","I"),Règles!$A$1:$A$4,0))+INDEX(Règles!$C$1:$C$4,MATCH(IF(AND(OFFSET(BW3,0,-2)=$D3,OFFSET(BW3,0,-1)=$E3),"S",IF(OR(OFFSET(BW3,0,-2)=$D3,OFFSET(BW3,0,-1)=$E3),"M","I")),Règles!$A$1:$A$4,0)),0) -> 5 | BX3: =RANDBETWEEN(0,4) -> 1 | BY3: =RANDBETWEEN(0,4) -> 0 | BZ3: =IF(AND(OFFSET(BZ3,0,-2)<>"",OFFSET(BZ3,0,-1)<>""),INDEX(Règles!$C$1:$C$4,MATCH(IF(IF($D3>$E3,"Gd",IF($D3=$E3,"N","Pd"))=IF(OFFSET(BZ3,0,-2)>OFFSET(BZ3,0,-1),"Gd",IF(OFFSET(BZ3,0,-2)=OFFSET(BZ3,0,-1),"N","Pd")),"R","I"),Règles!$A$1:$A$4,0))+INDEX(Règles!$C$1:$C$4,MATCH(IF(AND(OFFSET(BZ3,0,-2)=$D3,OFFSET(BZ3,0,-1)=$E3),"S",IF(OR(OFFSET(BZ3,0,-2)=$D3,OFFSET(BZ3,0,-1)=$E3),"M","I")),Règles!$A$1:$A$4,0)),0) -> 10
A4: Match 2 | B4: Nice | C4: Paris | D4: 1 | E4: 3 | G4: =RANDBETWEEN(0,4) -> 3 | H4: =RANDBETWEEN(0,4) -> 2 | I4: =IF(AND(OFFSET(I4,0,-2)<>"",OFFSET(I4,0,-1)<>""),INDEX(Règles!$C$1:$C$4,MATCH(IF(IF($D4>$E4,"Gd",IF($D4=$E4,"N","Pd"))=IF(OFFSET(I4,0,-2)>OFFSET(I4,0,-1),"Gd",IF(OFFSET(I4,0,-2)=OFFSET(I4,0,-1),"N","Pd")),"R","I"),Règles!$A$1:$A$4,0))+INDEX(Règles!$C$1:$C$4,MATCH(IF(AND(OFFSET(I4,0,-2)=$D4,OFFSET(I4,0,-1)=$E4),"S",IF(OR(OFFSET(I4,0,-2)=$D4,OFFSET(I4,0,-1)=$E4),"M","I")),Règles!$A$1:$A$4,0)),0) -> 0 | J4: =RANDBETWEEN(0,4) -> 4 | K4: =RANDBETWEEN(0,4) -> 2 | L4: =IF(AND(OFFSET(L4,0,-2)<>"",OFFSET(L4,0,-1)<>""),INDEX(Règles!$C$1:$C$4,MATCH(IF(IF($D4>$E4,"Gd",IF($D4=$E4,"N","Pd"))=IF(OFFSET(L4,0,-2)>OFFSET(L4,0,-1),"Gd",IF(OFFSET(L4,0,-2)=OFFSET(L4,0,-1),"N","Pd")),"R","I"),Règles!$A$1:$A$4,0))+INDEX(Règles!$C$1:$C$4,MATCH(IF(AND(OFFSET(L4,0,-2)=$D4,OFFSET(L4,0,-1)=$E4),"S",IF(OR(OFFSET(L4,0,-2)=$D4,OFFSET(L4,0,-1)=$E4),"M","I")),Règles!$A$1:$A$4,0)),0) -> 0 | M4: =RANDBETWEEN(0,4) -> 3 | N4: =RANDBETWEEN(0,4) -> 4 | O4: =IF(AND(OFFSET(O4,0,-2)<>"",OFFSET(O4,0,-1)<>""),INDEX(Règles!$C$1:$C$4,MATCH(IF(IF($D4>$E4,"Gd",IF($D4=$E4,"N","Pd"))=IF(OFFSET(O4,0,-2)>OFFSET(O4,0,-1),"Gd",IF(OFFSET(O4,0,-2)=OFFSET(O4,0,-1),"N","Pd")),"R","I"),Règles!$A$1:$A$4,0))+INDEX(Règles!$C$1:$C$4,MATCH(IF(AND(OFFSET(O4,0,-2)=$D4,OFFSET(O4,0,-1)=$E4),"S",IF(OR(OFFSET(O4,0,-2)=$D4,OFFSET(O4,0,-1)=$E4),"M","I")),Règles!$A$1:$A$4,0)),0) -> 5 | P4: =RANDBETWEEN(0,4) -> 2 | Q4: =RANDBETWEEN(0,4) -> 0 | R4: =IF(AND(OFFSET(R4,0,-2)<>"",OFFSET(R4,0,-1)<>""),INDEX(Règles!$C$1:$C$4,MATCH(IF(IF($D4>$E4,"Gd",IF($D4=$E4,"N","Pd"))=IF(OFFSET(R4,0,-2)>OFFSET(R4,0,-1),"Gd",IF(OFFSET(R4,0,-2)=OFFSET(R4,0,-1),"N","Pd")),"R","I"),Règles!$A$1:$A$4,0))+INDEX(Règles!$C$1:$C$4,MATCH(IF(AND(OFFSET(R4,0,-2)=$D4,OFFSET(R4,0,-1)=$E4),"S",IF(OR(OFFSET(R4,0,-2)=$D4,OFFSET(R4,0,-1)=$E4),"M","I")),Règles!$A$1:$A$4,0)),0) -> 0 | S4: =RANDBETWEEN(0,4) -> 0 | T4: =RANDBETWEEN(0,4) -> 1 | U4: =IF(AND(OFFSET(U4,0,-2)<>"",OFFSET(U4,0,-1)<>""),INDEX(Règles!$C$1:$C$4,MATCH(IF(IF($D4>$E4,"Gd",IF($D4=$E4,"N","Pd"))=IF(OFFSET(U4,0,-2)>OFFSET(U4,0,-1),"Gd",IF(OFFSET(U4,0,-2)=OFFSET(U4,0,-1),"N","Pd")),"R","I"),Règles!$A$1:$A$4,0))+INDEX(Règles!$C$1:$C$4,MATCH(IF(AND(OFFSET(U4,0,-2)=$D4,OFFSET(U4,0,-1)=$E4),"S",IF(OR(OFFSET(U4,0,-2)=$D4,OFFSET(U4,0,-1)=$E4),"M","I")),Règles!$A$1:$A$4,0)),0) -> 5 | V4: =RANDBETWEEN(0,4) -> 0 | W4: =RANDBETWEEN(0,4) -> 4 | X4: =IF(AND(OFFSET(X4,0,-2)<>"",OFFSET(X4,0,-1)<>""),INDEX(Règles!$C$1:$C$4,MATCH(IF(IF($D4>$E4,"Gd",IF($D4=$E4,"N","Pd"))=IF(OFFSET(X4,0,-2)>OFFSET(X4,0,-1),"Gd",IF(OFFSET(X4,0,-2)=OFFSET(X4,0,-1),"N","Pd")),"R","I"),Règles!$A$1:$A$4,0))+INDEX(Règles!$C$1:$C$4,MATCH(IF(AND(OFFSET(X4,0,-2)=$D4,OFFSET(X4,0,-1)=$E4),"S",IF(OR(OFFSET(X4,0,-2)=$D4,OFFSET(X4,0,-1)=$E4),"M","I")),Règles!$A$1:$A$4,0)),0) -> 5 | Y4: =RANDBETWEEN(0,4) -> 1 | Z4: =RANDBETWEEN(0,4) -> 4 | AA4: =IF(AND(OFFSET(AA4,0,-2)<>"",OFFSET(AA4,0,-1)<>""),INDEX(Règles!$C$1:$C$4,MATCH(IF(IF($D4>$E4,"Gd",IF($D4=$E4,"N","Pd"))=IF(OFFSET(AA4,0,-2)>OFFSET(AA4,0,-1),"Gd",IF(OFFSET(AA4,0,-2)=OFFSET(AA4,0,-1),"N","Pd")),"R","I"),Règles!$A$1:$A$4,0))+INDEX(Règles!$C$1:$C$4,MATCH(IF(AND(OFFSET(AA4,0,-2)=$D4,OFFSET(AA4,0,-1)=$E4),"S",IF(OR(OFFSET(AA4,0,-2)=$D4,OFFSET(AA4,0,-1)=$E4),"M","I")),Règles!$A$1:$A$4,0)),0) -> 6 | AB4: =RANDBETWEEN(0,4) -> 0 | AC4: =RANDBETWEEN(0,4) -> 4 | AD4: =IF(AND(OFFSET(AD4,0,-2)<>"",OFFSET(AD4,0,-1)<>""),INDEX(Règles!$C$1:$C$4,MATCH(IF(IF($D4>$E4,"Gd",IF($D4=$E4,"N","Pd"))=IF(OFFSET(AD4,0,-2)>OFFSET(AD4,0,-1),"Gd",IF(OFFSET(AD4,0,-2)=OFFSET(AD4,0,-1),"N","Pd")),"R","I"),Règles!$A$1:$A$4,0))+INDEX(Règles!$C$1:$C$4,MATCH(IF(AND(OFFSET(AD4,0,-2)=$D4,OFFSET(AD4,0,-1)=$E4),"S",IF(OR(OFFSET(AD4,0,-2)=$D4,OFFSET(AD4,0,-1)=$E4),"M","I")),Règles!$A$1:$A$4,0)),0) -> 5 | AE4: =RANDBETWEEN(0,4) -> 0 | AF4: =RANDBETWEEN(0,4) -> 3 | AG4: =IF(AND(OFFSET(AG4,0,-2)<>"",OFFSET(AG4,0,-1)<>""),INDEX(Règles!$C$1:$C$4,MATCH(IF(IF($D4>$E4,"Gd",IF($D4=$E4,"N","Pd"))=IF(OFFSET(AG4,0,-2)>OFFSET(AG4,0,-1),"Gd",IF(OFFSET(AG4,0,-2)=OFFSET(AG4,0,-1),"N","Pd")),"R","I"),Règles!$A$1:$A$4,0))+INDEX(Règles!$C$1:$C$4,MATCH(IF(AND(OFFSET(AG4,0,-2)=$D4,OFFSET(AG4,0,-1)=$E4),"S",IF(OR(OFFSET(AG4,0,-2)=$D4,OFFSET(AG4,0,-1)=$E4),"M","I")),Règles!$A$1:$A$4,0)),0) -> 6 | AH4: =RANDBETWEEN(0,4) -> 2 | AI4: =RANDBETWEEN(0,4) -> 0 | AJ4: =IF(AND(OFFSET(AJ4,0,-2)<>"",OFFSET(AJ4,0,-1)<>""),INDEX(Règles!$C$1:$C$4,MATCH(IF(IF($D4>$E4,"Gd",IF($D4=$E4,"N","Pd"))=IF(OFFSET(AJ4,0,-2)>OFFSET(AJ4,0,-1),"Gd",IF(OFFSET(AJ4,0,-2)=OFFSET(AJ4,0,-1),"N","Pd")),"R","I"),Règles!$A$1:$A$4,0))+INDEX(Règles!$C$1:$C$4,MATCH(IF(AND(OFFSET(AJ4,0,-2)=$D4,OFFSET(AJ4,0,-1)=$E4),"S",IF(OR(OFFSET(AJ4,0,-2)=$D4,OFFSET(AJ4,0,-1)=$E4),"M","I")),Règles!$A$1:$A$4,0)),0) -> 0 | AK4: =RANDBETWEEN(0,4) -> 1 | AL4: =RANDBETWEEN(0,4) -> 1 | AM4: =IF(AND(OFFSET(AM4,0,-2)<>"",OFFSET(AM4,0,-1)<>""),INDEX(Règles!$C$1:$C$4,MATCH(IF(IF($D4>$E4,"Gd",IF($D4=$E4,"N","Pd"))=IF(OFFSET(AM4,0,-2)>OFFSET(AM4,0,-1),"Gd",IF(OFFSET(AM4,0,-2)=OFFSET(AM4,0,-1),"N","Pd")),"R","I"),Règles!$A$1:$A$4,0))+INDEX(Règles!$C$1:$C$4,MATCH(IF(AND(OFFSET(AM4,0,-2)=$D4,OFFSET(AM4,0,-1)=$E4),"S",IF(OR(OFFSET(AM4,0,-2)=$D4,OFFSET(AM4,0,-1)=$E4),"M","I")),Règles!$A$1:$A$4,0)),0) -> 1 | AN4: =RANDBETWEEN(0,4) -> 0 | AO4: =RANDBETWEEN(0,4) -> 3 | AP4: =IF(AND(OFFSET(AP4,0,-2)<>"",OFFSET(AP4,0,-1)<>""),INDEX(Règles!$C$1:$C$4,MATCH(IF(IF($D4>$E4,"Gd",IF($D4=$E4,"N","Pd"))=IF(OFFSET(AP4,0,-2)>OFFSET(AP4,0,-1),"Gd",IF(OFFSET(AP4,0,-2)=OFFSET(AP4,0,-1),"N","Pd")),"R","I"),Règles!$A$1:$A$4,0))+INDEX(Règles!$C$1:$C$4,MATCH(IF(AND(OFFSET(AP4,0,-2)=$D4,OFFSET(AP4,0,-1)=$E4),"S",IF(OR(OFFSET(AP4,0,-2)=$D4,OFFSET(AP4,0,-1)=$E4),"M","I")),Règles!$A$1:$A$4,0)),0) -> 6 | AQ4: =RANDBETWEEN(0,4) -> 2 | AR4: =RANDBETWEEN(0,4) -> 0 | AS4: =IF(AND(OFFSET(AS4,0,-2)<>"",OFFSET(AS4,0,-1)<>""),INDEX(Règles!$C$1:$C$4,MATCH(IF(IF($D4>$E4,"Gd",IF($D4=$E4,"N","Pd"))=IF(OFFSET(AS4,0,-2)>OFFSET(AS4,0,-1),"Gd",IF(OFFSET(AS4,0,-2)=OFFSET(AS4,0,-1),"N","Pd")),"R","I"),Règles!$A$1:$A$4,0))+INDEX(Règles!$C$1:$C$4,MATCH(IF(AND(OFFSET(AS4,0,-2)=$D4,OFFSET(AS4,0,-1)=$E4),"S",IF(OR(OFFSET(AS4,0,-2)=$D4,OFFSET(AS4,0,-1)=$E4),"M","I")),Règles!$A$1:$A$4,0)),0) -> 0 | AT4: =RANDBETWEEN(0,4) -> 2 | AU4: =RANDBETWEEN(0,4) -> 0 | AV4: =IF(AND(OFFSET(AV4,0,-2)<>"",OFFSET(AV4,0,-1)<>""),INDEX(Règles!$C$1:$C$4,MATCH(IF(IF($D4>$E4,"Gd",IF($D4=$E4,"N","Pd"))=IF(OFFSET(AV4,0,-2)>OFFSET(AV4,0,-1),"Gd",IF(OFFSET(AV4,0,-2)=OFFSET(AV4,0,-1),"N","Pd")),"R","I"),Règles!$A$1:$A$4,0))+INDEX(Règles!$C$1:$C$4,MATCH(IF(AND(OFFSET(AV4,0,-2)=$D4,OFFSET(AV4,0,-1)=$E4),"S",IF(OR(OFFSET(AV4,0,-2)=$D4,OFFSET(AV4,0,-1)=$E4),"M","I")),Règles!$A$1:$A$4,0)),0) -> 0 | AW4: =RANDBETWEEN(0,4) -> 4 | AX4: =RANDBETWEEN(0,4) -> 0 | AY4: =IF(AND(OFFSET(AY4,0,-2)<>"",OFFSET(AY4,0,-1)<>""),INDEX(Règles!$C$1:$C$4,MATCH(IF(IF($D4>$E4,"Gd",IF($D4=$E4,"N","Pd"))=IF(OFFSET(AY4,0,-2)>OFFSET(AY4,0,-1),"Gd",IF(OFFSET(AY4,0,-2)=OFFSET(AY4,0,-1),"N","Pd")),"R","I"),Règles!$A$1:$A$4,0))+INDEX(Règles!$C$1:$C$4,MATCH(IF(AND(OFFSET(AY4,0,-2)=$D4,OFFSET(AY4,0,-1)=$E4),"S",IF(OR(OFFSET(AY4,0,-2)=$D4,OFFSET(AY4,0,-1)=$E4),"M","I")),Règles!$A$1:$A$4,0)),0) -> 0 | AZ4: =RANDBETWEEN(0,4) -> 3 | BA4: =RANDBETWEEN(0,4) -> 4 | BB4: =IF(AND(OFFSET(BB4,0,-2)<>"",OFFSET(BB4,0,-1)<>""),INDEX(Règles!$C$1:$C$4,MATCH(IF(IF($D4>$E4,"Gd",IF($D4=$E4,"N","Pd"))=IF(OFFSET(BB4,0,-2)>OFFSET(BB4,0,-1),"Gd",IF(OFFSET(BB4,0,-2)=OFFSET(BB4,0,-1),"N","Pd")),"R","I"),Règles!$A$1:$A$4,0))+INDEX(Règles!$C$1:$C$4,MATCH(IF(AND(OFFSET(BB4,0,-2)=$D4,OFFSET(BB4,0,-1)=$E4),"S",IF(OR(OFFSET(BB4,0,-2)=$D4,OFFSET(BB4,0,-1)=$E4),"M","I")),Règles!$A$1:$A$4,0)),0) -> 5 | BC4: =RANDBETWEEN(0,4) -> 4 | BD4: =RANDBETWEEN(0,4) -> 1 | BE4: =IF(AND(OFFSET(BE4,0,-2)<>"",OFFSET(BE4,0,-1)<>""),INDEX(Règles!$C$1:$C$4,MATCH(IF(IF($D4>$E4,"Gd",IF($D4=$E4,"N","Pd"))=IF(OFFSET(BE4,0,-2)>OFFSET(BE4,0,-1),"Gd",IF(OFFSET(BE4,0,-2)=OFFSET(BE4,0,-1),"N","Pd")),"R","I"),Règles!$A$1:$A$4,0))+INDEX(Règles!$C$1:$C$4,MATCH(IF(AND(OFFSET(BE4,0,-2)=$D4,OFFSET(BE4,0,-1)=$E4),"S",IF(OR(OFFSET(BE4,0,-2)=$D4,OFFSET(BE4,0,-1)=$E4),"M","I")),Règles!$A$1:$A$4,0)),0) -> 0 | BF4: =RANDBETWEEN(0,4) -> 1 | BG4: =RANDBETWEEN(0,4) -> 0 | BH4: =IF(AND(OFFSET(BH4,0,-2)<>"",OFFSET(BH4,0,-1)<>""),INDEX(Règles!$C$1:$C$4,MATCH(IF(IF($D4>$E4,"Gd",IF($D4=$E4,"N","Pd"))=IF(OFFSET(BH4,0,-2)>OFFSET(BH4,0,-1),"Gd",IF(OFFSET(BH4,0,-2)=OFFSET(BH4,0,-1),"N","Pd")),"R","I"),Règles!$A$1:$A$4,0))+INDEX(Règles!$C$1:$C$4,MATCH(IF(AND(OFFSET(BH4,0,-2)=$D4,OFFSET(BH4,0,-1)=$E4),"S",IF(OR(OFFSET(BH4,0,-2)=$D4,OFFSET(BH4,0,-1)=$E4),"M","I")),Règles!$A$1:$A$4,0)),0) -> 1 | BI4: =RANDBETWEEN(0,4) -> 2 | BJ4: =RANDBETWEEN(0,4) -> 3 | BK4: =IF(AND(OFFSET(BK4,0,-2)<>"",OFFSET(BK4,0,-1)<>""),INDEX(Règles!$C$1:$C$4,MATCH(IF(IF($D4>$E4,"Gd",IF($D4=$E4,"N","Pd"))=IF(OFFSET(BK4,0,-2)>OFFSET(BK4,0,-1),"Gd",IF(OFFSET(BK4,0,-2)=OFFSET(BK4,0,-1),"N","Pd")),"R","I"),Règles!$A$1:$A$4,0))+INDEX(Règles!$C$1:$C$4,MATCH(IF(AND(OFFSET(BK4,0,-2)=$D4,OFFSET(BK4,0,-1)=$E4),"S",IF(OR(OFFSET(BK4,0,-2)=$D4,OFFSET(BK4,0,-1)=$E4),"M","I")),Règles!$A$1:$A$4,0)),0) -> 6 | BL4: =RANDBETWEEN(0,4) -> 2 | BM4: =RANDBETWEEN(0,4) -> 1 | BN4: =IF(AND(OFFSET(BN4,0,-2)<>"",OFFSET(BN4,0,-1)<>""),INDEX(Règles!$C$1:$C$4,MATCH(IF(IF($D4>$E4,"Gd",IF($D4=$E4,"N","Pd"))=IF(OFFSET(BN4,0,-2)>OFFSET(BN4,0,-1),"Gd",IF(OFFSET(BN4,0,-2)=OFFSET(BN4,0,-1),"N","Pd")),"R","I"),Règles!$A$1:$A$4,0))+INDEX(Règles!$C$1:$C$4,MATCH(IF(AND(OFFSET(BN4,0,-2)=$D4,OFFSET(BN4,0,-1)=$E4),"S",IF(OR(OFFSET(BN4,0,-2)=$D4,OFFSET(BN4,0,-1)=$E4),"M","I")),Règles!$A$1:$A$4,0)),0) -> 0 | BO4: =RANDBETWEEN(0,4) -> 3 | BP4: =RANDBETWEEN(0,4) -> 1 | BQ4: =IF(AND(OFFSET(BQ4,0,-2)<>"",OFFSET(BQ4,0,-1)<>""),INDEX(Règles!$C$1:$C$4,MATCH(IF(IF($D4>$E4,"Gd",IF($D4=$E4,"N","Pd"))=IF(OFFSET(BQ4,0,-2)>OFFSET(BQ4,0,-1),"Gd",IF(OFFSET(BQ4,0,-2)=OFFSET(BQ4,0,-1),"N","Pd")),"R","I"),Règles!$A$1:$A$4,0))+INDEX(Règles!$C$1:$C$4,MATCH(IF(AND(OFFSET(BQ4,0,-2)=$D4,OFFSET(BQ4,0,-1)=$E4),"S",IF(OR(OFFSET(BQ4,0,-2)=$D4,OFFSET(BQ4,0,-1)=$E4),"M","I")),Règles!$A$1:$A$4,0)),0) -> 0 | BR4: =RANDBETWEEN(0,4) -> 0 | BS4: =RANDBETWEEN(0,4) -> 4 | BT4: =IF(AND(OFFSET(BT4,0,-2)<>"",OFFSET(BT4,0,-1)<>""),INDEX(Règles!$C$1:$C$4,MATCH(IF(IF($D4>$E4,"Gd",IF($D4=$E4,"N","Pd"))=IF(OFFSET(BT4,0,-2)>OFFSET(BT4,0,-1),"Gd",IF(OFFSET(BT4,0,-2)=OFFSET(BT4,0,-1),"N","Pd")),"R","I"),Règles!$A$1:$A$4,0))+INDEX(Règles!$C$1:$C$4,MATCH(IF(AND(OFFSET(BT4,0,-2)=$D4,OFFSET(BT4,0,-1)=$E4),"S",IF(OR(OFFSET(BT4,0,-2)=$D4,OFFSET(BT4,0,-1)=$E4),"M","I")),Règles!$A$1:$A$4,0)),0) -> 5 | BU4: =RANDBETWEEN(0,4) -> 3 | BV4: =RANDBETWEEN(0,4) -> 4 | BW4: =IF(AND(OFFSET(BW4,0,-2)<>"",OFFSET(BW4,0,-1)<>""),INDEX(Règles!$C$1:$C$4,MATCH(IF(IF($D4>$E4,"Gd",IF($D4=$E4,"N","Pd"))=IF(OFFSET(BW4,0,-2)>OFFSET(BW4,0,-1),"Gd",IF(OFFSET(BW4,0,-2)=OFFSET(BW4,0,-1),"N","Pd")),"R","I"),Règles!$A$1:$A$4,0))+INDEX(Règles!$C$1:$C$4,MATCH(IF(AND(OFFSET(BW4,0,-2)=$D4,OFFSET(BW4,0,-1)=$E4),"S",IF(OR(OFFSET(BW4,0,-2)=$D4,OFFSET(BW4,0,-1)=$E4),"M","I")),Règles!$A$1:$A$4,0)),0) -> 5 | BX4: =RANDBETWEEN(0,4) -> 0 | BY4: =RANDBETWEEN(0,4) -> 1 | BZ4: =IF(AND(OFFSET(BZ4,0,-2)<>"",OFFSET(BZ4,0,-1)<>""),INDEX(Règles!$C$1:$C$4,MATCH(IF(IF($D4>$E4,"Gd",IF($D4=$E4,"N","Pd"))=IF(OFFSET(BZ4,0,-2)>OFFSET(BZ4,0,-1),"Gd",IF(OFFSET(BZ4,0,-2)=OFFSET(BZ4,0,-1),"N","Pd")),"R","I"),Règles!$A$1:$A$4,0))+INDEX(Règles!$C$1:$C$4,MATCH(IF(AND(OFFSET(BZ4,0,-2)=$D4,OFFSET(BZ4,0,-1)=$E4),"S",IF(OR(OFFSET(BZ4,0,-2)=$D4,OFFSET(BZ4,0,-1)=$E4),"M","I")),Règles!$A$1:$A$4,0)),0) -> 5
A5: Match 3 | B5: Bastia | C5: Reims | D5: 1 | E5: 2 | G5: =RANDBETWEEN(0,4) -> 4 | H5: =RANDBETWEEN(0,4) -> 0 | I5: =IF(AND(OFFSET(I5,0,-2)<>"",OFFSET(I5,0,-1)<>""),INDEX(Règles!$C$1:$C$4,MATCH(IF(IF($D5>$E5,"Gd",IF($D5=$E5,"N","Pd"))=IF(OFFSET(I5,0,-2)>OFFSET(I5,0,-1),"Gd",IF(OFFSET(I5,0,-2)=OFFSET(I5,0,-1),"N","Pd")),"R","I"),Règles!$A$1:$A$4,0))+INDEX(Règles!$C$1:$C$4,MATCH(IF(AND(OFFSET(I5,0,-2)=$D5,OFFSET(I5,0,-1)=$E5),"S",IF(OR(OFFSET(I5,0,-2)=$D5,OFFSET(I5,0,-1)=$E5),"M","I")),Règles!$A$1:$A$4,0)),0) -> 0 | J5: =RANDBETWEEN(0,4) -> 1 | K5: =RANDBETWEEN(0,4) -> 2 | L5: =IF(AND(OFFSET(L5,0,-2)<>"",OFFSET(L5,0,-1)<>""),INDEX(Règles!$C$1:$C$4,MATCH(IF(IF($D5>$E5,"Gd",IF($D5=$E5,"N","Pd"))=IF(OFFSET(L5,0,-2)>OFFSET(L5,0,-1),"Gd",IF(OFFSET(L5,0,-2)=OFFSET(L5,0,-1),"N","Pd")),"R","I"),Règles!$A$1:$A$4,0))+INDEX(Règles!$C$1:$C$4,MATCH(IF(AND(OFFSET(L5,0,-2)=$D5,OFFSET(L5,0,-1)=$E5),"S",IF(OR(OFFSET(L5,0,-2)=$D5,OFFSET(L5,0,-1)=$E5),"M","I")),Règles!$A$1:$A$4,0)),0) -> 10 | M5: =RANDBETWEEN(0,4) -> 3 | N5: =RANDBETWEEN(0,4) -> 1 | O5: =IF(AND(OFFSET(O5,0,-2)<>"",OFFSET(O5,0,-1)<>""),INDEX(Règles!$C$1:$C$4,MATCH(IF(IF($D5>$E5,"Gd",IF($D5=$E5,"N","Pd"))=IF(OFFSET(O5,0,-2)>OFFSET(O5,0,-1),"Gd",IF(OFFSET(O5,0,-2)=OFFSET(O5,0,-1),"N","Pd")),"R","I"),Règles!$A$1:$A$4,0))+INDEX(Règles!$C$1:$C$4,MATCH(IF(AND(OFFSET(O5,0,-2)=$D5,OFFSET(O5,0,-1)=$E5),"S",IF(OR(OFFSET(O5,0,-2)=$D5,OFFSET(O5,0,-1)=$E5),"M","I")),Règles!$A$1:$A$4,0)),0) -> 0 | P5: =RANDBETWEEN(0,4) -> 3 | Q5: =RANDBETWEEN(0,4) -> 1 | R5: =IF(AND(OFFSET(R5,0,-2)<>"",OFFSET(R5,0,-1)<>""),INDEX(Règles!$C$1:$C$4,MATCH(IF(IF($D5>$E5,"Gd",IF($D5=$E5,"N","Pd"))=IF(OFFSET(R5,0,-2)>OFFSET(R5,0,-1),"Gd",IF(OFFSET(R5,0,-2)=OFFSET(R5,0,-1),"N","Pd")),"R","I"),Règles!$A$1:$A$4,0))+INDEX(Règles!$C$1:$C$4,MATCH(IF(AND(OFFSET(R5,0,-2)=$D5,OFFSET(R5,0,-1)=$E5),"S",IF(OR(OFFSET(R5,0,-2)=$D5,OFFSET(R5,0,-1)=$E5),"M","I")),Règles!$A$1:$A$4,0)),0) -> 0 | S5: =RANDBETWEEN(0,4) -> 1 | T5: =RANDBETWEEN(0,4) -> 4 | U5: =IF(AND(OFFSET(U5,0,-2)<>"",OFFSET(U5,0,-1)<>""),INDEX(Règles!$C$1:$C$4,MATCH(IF(IF($D5>$E5,"Gd",IF($D5=$E5,"N","Pd"))=IF(OFFSET(U5,0,-2)>OFFSET(U5,0,-1),"Gd",IF(OFFSET(U5,0,-2)=OFFSET(U5,0,-1),"N","Pd")),"R","I"),Règles!$A$1:$A$4,0))+INDEX(Règles!$C$1:$C$4,MATCH(IF(AND(OFFSET(U5,0,-2)=$D5,OFFSET(U5,0,-1)=$E5),"S",IF(OR(OFFSET(U5,0,-2)=$D5,OFFSET(U5,0,-1)=$E5),"M","I")),Règles!$A$1:$A$4,0)),0) -> 6 | V5: =RANDBETWEEN(0,4) -> 1 | W5: =RANDBETWEEN(0,4) -> 1 | X5: =IF(AND(OFFSET(X5,0,-2)<>"",OFFSET(X5,0,-1)<>""),INDEX(Règles!$C$1:$C$4,MATCH(IF(IF($D5>$E5,"Gd",IF($D5=$E5,"N","Pd"))=IF(OFFSET(X5,0,-2)>OFFSET(X5,0,-1),"Gd",IF(OFFSET(X5,0,-2)=OFFSET(X5,0,-1),"N","Pd")),"R","I"),Règles!$A$1:$A$4,0))+INDEX(Règles!$C$1:$C$4,MATCH(IF(AND(OFFSET(X5,0,-2)=$D5,OFFSET(X5,0,-1)=$E5),"S",IF(OR(OFFSET(X5,0,-2)=$D5,OFFSET(X5,0,-1)=$E5),"M","I")),Règles!$A$1:$A$4,0)),0) -> 1 | Y5: =RANDBETWEEN(0,4) -> 2 | Z5: =RANDBETWEEN(0,4) -> 2 | AA5: =IF(AND(OFFSET(AA5,0,-2)<>"",OFFSET(AA5,0,-1)<>""),INDEX(Règles!$C$1:$C$4,MATCH(IF(IF($D5>$E5,"Gd",IF($D5=$E5,"N","Pd"))=IF(OFFSET(AA5,0,-2)>OFFSET(AA5,0,-1),"Gd",IF(OFFSET(AA5,0,-2)=OFFSET(AA5,0,-1),"N","Pd")),"R","I"),Règles!$A$1:$A$4,0))+INDEX(Règles!$C$1:$C$4,MATCH(IF(AND(OFFSET(AA5,0,-2)=$D5,OFFSET(AA5,0,-1)=$E5),"S",IF(OR(OFFSET(AA5,0,-2)=$D5,OFFSET(AA5,0,-1)=$E5),"M","I")),Règles!$A$1:$A$4,0)),0) -> 1 | AB5: =RANDBETWEEN(0,4) -> 1 | AC5: =RANDBETWEEN(0,4) -> 0 | AD5: =IF(AND(OFFSET(AD5,0,-2)<>"",OFFSET(AD5,0,-1)<>""),INDEX(Règles!$C$1:$C$4,MATCH(IF(IF($D5>$E5,"Gd",IF($D5=$E5,"N","Pd"))=IF(OFFSET(AD5,0,-2)>OFFSET(AD5,0,-1),"Gd",IF(OFFSET(AD5,0,-2)=OFFSET(AD5,0,-1),"N","Pd")),"R","I"),Règles!$A$1:$A$4,0))+INDEX(Règles!$C$1:$C$4,MATCH(IF(AND(OFFSET(AD5,0,-2)=$D5,OFFSET(AD5,0,-1)=$E5),"S",IF(OR(OFFSET(AD5,0,-2)=$D5,OFFSET(AD5,0,-1)=$E5),"M","I")),Règles!$A$1:$A$4,0)),0) -> 1 | AE5: =RANDBETWEEN(0,4) -> 3 | AF5: =RANDBETWEEN(0,4) -> 4 | AG5: =IF(AND(OFFSET(AG5,0,-2)<>"",OFFSET(AG5,0,-1)<>""),INDEX(Règles!$C$1:$C$4,MATCH(IF(IF($D5>$E5,"Gd",IF($D5=$E5,"N","Pd"))=IF(OFFSET(AG5,0,-2)>OFFSET(AG5,0,-1),"Gd",IF(OFFSET(AG5,0,-2)=OFFSET(AG5,0,-1),"N","Pd")),"R","I"),Règles!$A$1:$A$4,0))+INDEX(Règles!$C$1:$C$4,MATCH(IF(AND(OFFSET(AG5,0,-2)=$D5,OFFSET(AG5,0,-1)=$E5),"S",IF(OR(OFFSET(AG5,0,-2)=$D5,OFFSET(AG5,0,-1)=$E5),"M","I")),Règles!$A$1:$A$4,0)),0) -> 5 | AH5: =RANDBETWEEN(0,4) -> 1 | AI5: =RANDBETWEEN(0,4) -> 2 | AJ5: =IF(AND(OFFSET(AJ5,0,-2)<>"",OFFSET(AJ5,0,-1)<>""),INDEX(Règles!$C$1:$C$4,MATCH(IF(IF($D5>$E5,"Gd",IF($D5=$E5,"N","Pd"))=IF(OFFSET(AJ5,0,-2)>OFFSET(AJ5,0,-1),"Gd",IF(OFFSET(AJ5,0,-2)=OFFSET(AJ5,0,-1),"N","Pd")),"R","I"),Règles!$A$1:$A$4,0))+INDEX(Règles!$C$1:$C$4,MATCH(IF(AND(OFFSET(AJ5,0,-2)=$D5,OFFSET(AJ5,0,-1)=$E5),"S",IF(OR(OFFSET(AJ5,0,-2)=$D5,OFFSET(AJ5,0,-1)=$E5),"M","I")),Règles!$A$1:$A$4,0)),0) -> 10 | AK5: =RANDBETWEEN(0,4) -> 4 | AL5: =RANDBETWEEN(0,4) -> 0 | AM5: =IF(AND(OFFSET(AM5,0,-2)<>"",OFFSET(AM5,0,-1)<>""),INDEX(Règles!$C$1:$C$4,MATCH(IF(IF($D5>$E5,"Gd",IF($D5=$E5,"N","Pd"))=IF(OFFSET(AM5,0,-2)>OFFSET(AM5,0,-1),"Gd",IF(OFFSET(AM5,0,-2)=OFFSET(AM5,0,-1),"N","Pd")),"R","I"),Règles!$A$1:$A$4,0))+INDEX(Règles!$C$1:$C$4,MATCH(IF(AND(OFFSET(AM5,0,-2)=$D5,OFFSET(AM5,0,-1)=$E5),"S",IF(OR(OFFSET(AM5,0,-2)=$D5,OFFSET(AM5,0,-1)=$E5),"M","I")),Règles!$A$1:$A$4,0)),0) -> 0 | AN5: =RANDBETWEEN(0,4) -> 2 | AO5: =RANDBETWEEN(0,4) -> 4 | AP5: =IF(AND(OFFSET(AP5,0,-2)<>"",OFFSET(AP5,0,-1)<>""),INDEX(Règles!$C$1:$C$4,MATCH(IF(IF($D5>$E5,"Gd",IF($D5=$E5,"N","Pd"))=IF(OFFSET(AP5,0,-2)>OFFSET(AP5,0,-1),"Gd",IF(OFFSET(AP5,0,-2)=OFFSET(AP5,0,-1),"N","Pd")),"R","I"),Règles!$A$1:$A$4,0))+INDEX(Règles!$C$1:$C$4,MATCH(IF(AND(OFFSET(AP5,0,-2)=$D5,OFFSET(AP5,0,-1)=$E5),"S",IF(OR(OFFSET(AP5,0,-2)=$D5,OFFSET(AP5,0,-1)=$E5),"M","I")),Règles!$A$1:$A$4,0)),0) -> 5 | AQ5: =RANDBETWEEN(0,4) -> 4 | AR5: =RANDBETWEEN(0,4) -> 4 | AS5: =IF(AND(OFFSET(AS5,0,-2)<>"",OFFSET(AS5,0,-1)<>""),INDEX(Règles!$C$1:$C$4,MATCH(IF(IF($D5>$E5,"Gd",IF($D5=$E5,"N","Pd"))=IF(OFFSET(AS5,0,-2)>OFFSET(AS5,0,-1),"Gd",IF(OFFSET(AS5,0,-2)=OFFSET(AS5,0,-1),"N","Pd")),"R","I"),Règles!$A$1:$A$4,0))+INDEX(Règles!$C$1:$C$4,MATCH(IF(AND(OFFSET(AS5,0,-2)=$D5,OFFSET(AS5,0,-1)=$E5),"S",IF(OR(OFFSET(AS5,0,-2)=$D5,OFFSET(AS5,0,-1)=$E5),"M","I")),Règles!$A$1:$A$4,0)),0) -> 0 | AT5: =RANDBETWEEN(0,4) -> 1 | AU5: =RANDBETWEEN(0,4) -> 0 | AV5: =IF(AND(OFFSET(AV5,0,-2)<>"",OFFSET(AV5,0,-1)<>""),INDEX(Règles!$C$1:$C$4,MATCH(IF(IF($D5>$E5,"Gd",IF($D5=$E5,"N","Pd"))=IF(OFFSET(AV5,0,-2)>OFFSET(AV5,0,-1),"Gd",IF(OFFSET(AV5,0,-2)=OFFSET(AV5,0,-1),"N","Pd")),"R","I"),Règles!$A$1:$A$4,0))+INDEX(Règles!$C$1:$C$4,MATCH(IF(AND(OFFSET(AV5,0,-2)=$D5,OFFSET(AV5,0,-1)=$E5),"S",IF(OR(OFFSET(AV5,0,-2)=$D5,OFFSET(AV5,0,-1)=$E5),"M","I")),Règles!$A$1:$A$4,0)),0) -> 1 | AW5: =RANDBETWEEN(0,4) -> 4 | AX5: =RANDBETWEEN(0,4) -> 1 | AY5: =IF(AND(OFFSET(AY5,0,-2)<>"",OFFSET(AY5,0,-1)<>""),INDEX(Règles!$C$1:$C$4,MATCH(IF(IF($D5>$E5,"Gd",IF($D5=$E5,"N","Pd"))=IF(OFFSET(AY5,0,-2)>OFFSET(AY5,0,-1),"Gd",IF(OFFSET(AY5,0,-2)=OFFSET(AY5,0,-1),"N","Pd")),"R","I"),Règles!$A$1:$A$4,0))+INDEX(Règles!$C$1:$C$4,MATCH(IF(AND(OFFSET(AY5,0,-2)=$D5,OFFSET(AY5,0,-1)=$E5),"S",IF(OR(OFFSET(AY5,0,-2)=$D5,OFFSET(AY5,0,-1)=$E5),"M","I")),Règles!$A$1:$A$4,0)),0) -> 0 | AZ5: =RANDBETWEEN(0,4) -> 2 | BA5: =RANDBETWEEN(0,4) -> 3 | BB5: =IF(AND(OFFSET(BB5,0,-2)<>"",OFFSET(BB5,0,-1)<>""),INDEX(Règles!$C$1:$C$4,MATCH(IF(IF($D5>$E5,"Gd",IF($D5=$E5,"N","Pd"))=IF(OFFSET(BB5,0,-2)>OFFSET(BB5,0,-1),"Gd",IF(OFFSET(BB5,0,-2)=OFFSET(BB5,0,-1),"N","Pd")),"R","I"),Règles!$A$1:$A$4,0))+INDEX(Règles!$C$1:$C$4,MATCH(IF(AND(OFFSET(BB5,0,-2)=$D5,OFFSET(BB5,0,-1)=$E5),"S",IF(OR(OFFSET(BB5,0,-2)=$D5,OFFSET(BB5,0,-1)=$E5),"M","I")),Règles!$A$1:$A$4,0)),0) -> 5 | BC5: =RANDBETWEEN(0,4) -> 4 | BD5: =RANDBETWEEN(0,4) -> 1 | BE5: =IF(AND(OFFSET(BE5,0,-2)<>"",OFFSET(BE5,0,-1)<>""),INDEX(Règles!$C$1:$C$4,MATCH(IF(IF($D5>$E5,"Gd",IF($D5=$E5,"N","Pd"))=IF(OFFSET(BE5,0,-2)>OFFSET(BE5,0,-1),"Gd",IF(OFFSET(BE5,0,-2)=OFFSET(BE5,0,-1),"N","Pd")),"R","I"),Règles!$A$1:$A$4,0))+INDEX(Règles!$C$1:$C$4,MATCH(IF(AND(OFFSET(BE5,0,-2)=$D5,OFFSET(BE5,0,-1)=$E5),"S",IF(OR(OFFSET(BE5,0,-2)=$D5,OFFSET(BE5,0,-1)=$E5),"M","I")),Règles!$A$1:$A$4,0)),0) -> 0 | BF5: =RANDBETWEEN(0,4) -> 1 | BG5: =RANDBETWEEN(0,4) -> 3 | BH5: =IF(AND(OFFSET(BH5,0,-2)<>"",OFFSET(BH5,0,-1)<>""),INDEX(Règles!$C$1:$C$4,MATCH(IF(IF($D5>$E5,"Gd",IF($D5=$E5,"N","Pd"))=IF(OFFSET(BH5,0,-2)>OFFSET(BH5,0,-1),"Gd",IF(OFFSET(BH5,0,-2)=OFFSET(BH5,0,-1),"N","Pd")),"R","I"),Règles!$A$1:$A$4,0))+INDEX(Règles!$C$1:$C$4,MATCH(IF(AND(OFFSET(BH5,0,-2)=$D5,OFFSET(BH5,0,-1)=$E5),"S",IF(OR(OFFSET(BH5,0,-2)=$D5,OFFSET(BH5,0,-1)=$E5),"M","I")),Règles!$A$1:$A$4,0)),0) -> 6 | BI5: =RANDBETWEEN(0,4) -> 1 | BJ5: =RANDBETWEEN(0,4) -> 3 | BK5: =IF(AND(OFFSET(BK5,0,-2)<>"",OFFSET(BK5,0,-1)<>""),INDEX(Règles!$C$1:$C$4,MATCH(IF(IF($D5>$E5,"Gd",IF($D5=$E5,"N","Pd"))=IF(OFFSET(BK5,0,-2)>OFFSET(BK5,0,-1),"Gd",IF(OFFSET(BK5,0,-2)=OFFSET(BK5,0,-1),"N","Pd")),"R","I"),Règles!$A$1:$A$4,0))+INDEX(Règles!$C$1:$C$4,MATCH(IF(AND(OFFSET(BK5,0,-2)=$D5,OFFSET(BK5,0,-1)=$E5),"S",IF(OR(OFFSET(BK5,0,-2)=$D5,OFFSET(BK5,0,-1)=$E5),"M","I")),Règles!$A$1:$A$4,0)),0) -> 6 | BL5: =RANDBETWEEN(0,4) -> 1 | BM5: =RANDBETWEEN(0,4) -> 0 | BN5: =IF(AND(OFFSET(BN5,0,-2)<>"",OFFSET(BN5,0,-1)<>""),INDEX(Règles!$C$1:$C$4,MATCH(IF(IF($D5>$E5,"Gd",IF($D5=$E5,"N","Pd"))=IF(OFFSET(BN5,0,-2)>OFFSET(BN5,0,-1),"Gd",IF(OFFSET(BN5,0,-2)=OFFSET(BN5,0,-1),"N","Pd")),"R","I"),Règles!$A$1:$A$4,0))+INDEX(Règles!$C$1:$C$4,MATCH(IF(AND(OFFSET(BN5,0,-2)=$D5,OFFSET(BN5,0,-1)=$E5),"S",IF(OR(OFFSET(BN5,0,-2)=$D5,OFFSET(BN5,0,-1)=$E5),"M","I")),Règles!$A$1:$A$4,0)),0) -> 1 | BO5: =RANDBETWEEN(0,4) -> 0 | BP5: =RANDBETWEEN(0,4) -> 3 | BQ5: =IF(AND(OFFSET(BQ5,0,-2)<>"",OFFSET(BQ5,0,-1)<>""),INDEX(Règles!$C$1:$C$4,MATCH(IF(IF($D5>$E5,"Gd",IF($D5=$E5,"N","Pd"))=IF(OFFSET(BQ5,0,-2)>OFFSET(BQ5,0,-1),"Gd",IF(OFFSET(BQ5,0,-2)=OFFSET(BQ5,0,-1),"N","Pd")),"R","I"),Règles!$A$1:$A$4,0))+INDEX(Règles!$C$1:$C$4,MATCH(IF(AND(OFFSET(BQ5,0,-2)=$D5,OFFSET(BQ5,0,-1)=$E5),"S",IF(OR(OFFSET(BQ5,0,-2)=$D5,OFFSET(BQ5,0,-1)=$E5),"M","I")),Règles!$A$1:$A$4,0)),0) -> 5 | BR5: =RANDBETWEEN(0,4) -> 1 | BS5: =RANDBETWEEN(0,4) -> 4 | BT5: =IF(AND(OFFSET(BT5,0,-2)<>"",OFFSET(BT5,0,-1)<>""),INDEX(Règles!$C$1:$C$4,MATCH(IF(IF($D5>$E5,"Gd",IF($D5=$E5,"N","Pd"))=IF(OFFSET(BT5,0,-2)>OFFSET(BT5,0,-1),"Gd",IF(OFFSET(BT5,0,-2)=OFFSET(BT5,0,-1),"N","Pd")),"R","I"),Règles!$A$1:$A$4,0))+INDEX(Règles!$C$1:$C$4,MATCH(IF(AND(OFFSET(BT5,0,-2)=$D5,OFFSET(BT5,0,-1)=$E5),"S",IF(OR(OFFSET(BT5,0,-2)=$D5,OFFSET(BT5,0,-1)=$E5),"M","I")),Règles!$A$1:$A$4,0)),0) -> 6 | BU5: =RANDBETWEEN(0,4) -> 0 | BV5: =RANDBETWEEN(0,4) -> 2 | BW5: =IF(AND(OFFSET(BW5,0,-2)<>"",OFFSET(BW5,0,-1)<>""),INDEX(Règles!$C$1:$C$4,MATCH(IF(IF($D5>$E5,"Gd",IF($D5=$E5,"N","Pd"))=IF(OFFSET(BW5,0,-2)>OFFSET(BW5,0,-1),"Gd",IF(OFFSET(BW5,0,-2)=OFFSET(BW5,0,-1),"N","Pd")),"R","I"),Règles!$A$1:$A$4,0))+INDEX(Règles!$C$1:$C$4,MATCH(IF(AND(OFFSET(BW5,0,-2)=$D5,OFFSET(BW5,0,-1)=$E5),"S",IF(OR(OFFSET(BW5,0,-2)=$D5,OFFSET(BW5,0,-1)=$E5),"M","I")),Règles!$A$1:$A$4,0)),0) -> 6 | BX5: =RANDBETWEEN(0,4) -> 4 | BY5: =RANDBETWEEN(0,4) -> 1 | BZ5: =IF(AND(OFFSET(BZ5,0,-2)<>"",OFFSET(BZ5,0,-1)<>""),INDEX(Règles!$C$1:$C$4,MATCH(IF(IF($D5>$E5,"Gd",IF($D5=$E5,"N","Pd"))=IF(OFFSET(BZ5,0,-2)>OFFSET(BZ5,0,-1),"Gd",IF(OFFSET(BZ5,0,-2)=OFFSET(BZ5,0,-1),"N","Pd")),"R","I"),Règles!$A$1:$A$4,0))+INDEX(Règles!$C$1:$C$4,MATCH(IF(AND(OFFSET(BZ5,0,-2)=$D5,OFFSET(BZ5,0,-1)=$E5),"S",IF(OR(OFFSET(BZ5,0,-2)=$D5,OFFSET(BZ5,0,-1)=$E5),"M","I")),Règles!$A$1:$A$4,0)),0) -> 0
A6: Match 4 | B6: Guigamp | C6: Evian | D6: 1 | E6: 1 | G6: =RANDBETWEEN(0,4) -> 4 | H6: =RANDBETWEEN(0,4) -> 0 | I6: =IF(AND(OFFSET(I6,0,-2)<>"",OFFSET(I6,0,-1)<>""),INDEX(Règles!$C$1:$C$4,MATCH(IF(IF($D6>$E6,"Gd",IF($D6=$E6,"N","Pd"))=IF(OFFSET(I6,0,-2)>OFFSET(I6,0,-1),"Gd",IF(OFFSET(I6,0,-2)=OFFSET(I6,0,-1),"N","Pd")),"R","I"),Règles!$A$1:$A$4,0))+INDEX(Règles!$C$1:$C$4,MATCH(IF(AND(OFFSET(I6,0,-2)=$D6,OFFSET(I6,0,-1)=$E6),"S",IF(OR(OFFSET(I6,0,-2)=$D6,OFFSET(I6,0,-1)=$E6),"M","I")),Règles!$A$1:$A$4,0)),0) -> 0 | J6: =RANDBETWEEN(0,4) -> 0 | K6: =RANDBETWEEN(0,4) -> 3 | L6: =IF(AND(OFFSET(L6,0,-2)<>"",OFFSET(L6,0,-1)<>""),INDEX(Règles!$C$1:$C$4,MATCH(IF(IF($D6>$E6,"Gd",IF($D6=$E6,"N","Pd"))=IF(OFFSET(L6,0,-2)>OFFSET(L6,0,-1),"Gd",IF(OFFSET(L6,0,-2)=OFFSET(L6,0,-1),"N","Pd")),"R","I"),Règles!$A$1:$A$4,0))+INDEX(Règles!$C$1:$C$4,MATCH(IF(AND(OFFSET(L6,0,-2)=$D6,OFFSET(L6,0,-1)=$E6),"S",IF(OR(OFFSET(L6,0,-2)=$D6,OFFSET(L6,0,-1)=$E6),"M","I")),Règles!$A$1:$A$4,0)),0) -> 0 | M6: =RANDBETWEEN(0,4) -> 4 | N6: =RANDBETWEEN(0,4) -> 1 | O6: =IF(AND(OFFSET(O6,0,-2)<>"",OFFSET(O6,0,-1)<>""),INDEX(Règles!$C$1:$C$4,MATCH(IF(IF($D6>$E6,"Gd",IF($D6=$E6,"N","Pd"))=IF(OFFSET(O6,0,-2)>OFFSET(O6,0,-1),"Gd",IF(OFFSET(O6,0,-2)=OFFSET(O6,0,-1),"N","Pd")),"R","I"),Règles!$A$1:$A$4,0))+INDEX(Règles!$C$1:$C$4,MATCH(IF(AND(OFFSET(O6,0,-2)=$D6,OFFSET(O6,0,-1)=$E6),"S",IF(OR(OFFSET(O6,0,-2)=$D6,OFFSET(O6,0,-1)=$E6),"M","I")),Règles!$A$1:$A$4,0)),0) -> 1 | P6: =RANDBETWEEN(0,4) -> 4 | Q6: =RANDBETWEEN(0,4) -> 3 | R6: =IF(AND(OFFSET(R6,0,-2)<>"",OFFSET(R6,0,-1)<>""),INDEX(Règles!$C$1:$C$4,MATCH(IF(IF($D6>$E6,"Gd",IF($D6=$E6,"N","Pd"))=IF(OFFSET(R6,0,-2)>OFFSET(R6,0,-1),"Gd",IF(OFFSET(R6,0,-2)=OFFSET(R6,0,-1),"N","Pd")),"R","I"),Règles!$A$1:$A$4,0))+INDEX(Règles!$C$1:$C$4,MATCH(IF(AND(OFFSET(R6,0,-2)=$D6,OFFSET(R6,0,-1)=$E6),"S",IF(OR(OFFSET(R6,0,-2)=$D6,OFFSET(R6,0,-1)=$E6),"M","I")),Règles!$A$1:$A$4,0)),0) -> 0 | S6: =RANDBETWEEN(0,4) -> 3 | T6: =RANDBETWEEN(0,4) -> 4 | U6: =IF(AND(OFFSET(U6,0,-2)<>"",OFFSET(U6,0,-1)<>""),INDEX(Règles!$C$1:$C$4,MATCH(IF(IF($D6>$E6,"Gd",IF($D6=$E6,"N","Pd"))=IF(OFFSET(U6,0,-2)>OFFSET(U6,0,-1),"Gd",IF(OFFSET(U6,0,-2)=OFFSET(U6,0,-1),"N","Pd")),"R","I"),Règles!$A$1:$A$4,0))+INDEX(Règles!$C$1:$C$4,MATCH(IF(AND(OFFSET(U6,0,-2)=$D6,OFFSET(U6,0,-1)=$E6),"S",IF(OR(OFFSET(U6,0,-2)=$D6,OFFSET(U6,0,-1)=$E6),"M","I")),Règles!$A$1:$A$4,0)),0) -> 0 | V6: =RANDBETWEEN(0,4) -> 1 | W6: =RANDBETWEEN(0,4) -> 0 | X6: =IF(AND(OFFSET(X6,0,-2)<>"",OFFSET(X6,0,-1)<>""),INDEX(Règles!$C$1:$C$4,MATCH(IF(IF($D6>$E6,"Gd",IF($D6=$E6,"N","Pd"))=IF(OFFSET(X6,0,-2)>OFFSET(X6,0,-1),"Gd",IF(OFFSET(X6,0,-2)=OFFSET(X6,0,-1),"N","Pd")),"R","I"),Règles!$A$1:$A$4,0))+INDEX(Règles!$C$1:$C$4,MATCH(IF(AND(OFFSET(X6,0,-2)=$D6,OFFSET(X6,0,-1)=$E6),"S",IF(OR(OFFSET(X6,0,-2)=$D6,OFFSET(X6,0,-1)=$E6),"M","I")),Règles!$A$1:$A$4,0)),0) -> 1 | Y6: =RANDBETWEEN(0,4) -> 1 | Z6: =RANDBETWEEN(0,4) -> 1 | AA6: =IF(AND(OFFSET(AA6,0,-2)<>"",OFFSET(AA6,0,-1)<>""),INDEX(Règles!$C$1:$C$4,MATCH(IF(IF($D6>$E6,"Gd",IF($D6=$E6,"N","Pd"))=IF(OFFSET(AA6,0,-2)>OFFSET(AA6,0,-1),"Gd",IF(OFFSET(AA6,0,-2)=OFFSET(AA6,0,-1),"N","Pd")),"R","I"),Règles!$A$1:$A$4,0))+INDEX(Règles!$C$1:$C$4,MATCH(IF(AND(OFFSET(AA6,0,-2)=$D6,OFFSET(AA6,0,-1)=$E6),"S",IF(OR(OFFSET(AA6,0,-2)=$D6,OFFSET(AA6,0,-1)=$E6),"M","I")),Règles!$A$1:$A$4,0)),0) -> 10 | AB6: =RANDBETWEEN(0,4) -> 4 | AC6: =RANDBETWEEN(0,4) -> 0 | AD6: =IF(AND(OFFSET(AD6,0,-2)<>"",OFFSET(AD6,0,-1)<>""),INDEX(Règles!$C$1:$C$4,MATCH(IF(IF($D6>$E6,"Gd",IF($D6=$E6,"N","Pd"))=IF(OFFSET(AD6,0,-2)>OFFSET(AD6,0,-1),"Gd",IF(OFFSET(AD6,0,-2)=OFFSET(AD6,0,-1),"N","Pd")),"R","I"),Règles!$A$1:$A$4,0))+INDEX(Règles!$C$1:$C$4,MATCH(IF(AND(OFFSET(AD6,0,-2)=$D6,OFFSET(AD6,0,-1)=$E6),"S",IF(OR(OFFSET(AD6,0,-2)=$D6,OFFSET(AD6,0,-1)=$E6),"M","I")),Règles!$A$1:$A$4,0)),0) -> 0 | AE6: =RANDBETWEEN(0,4) -> 2 | AF6: =RANDBETWEEN(0,4) -> 1 | AG6: =IF(AND(OFFSET(AG6,0,-2)<>"",OFFSET(AG6,0,-1)<>""),INDEX(Règles!$C$1:$C$4,MATCH(IF(IF($D6>$E6,"Gd",IF($D6=$E6,"N","Pd"))=IF(OFFSET(AG6,0,-2)>OFFSET(AG6,0,-1),"Gd",IF(OFFSET(AG6,0,-2)=OFFSET(AG6,0,-1),"N","Pd")),"R","I"),Règles!$A$1:$A$4,0))+INDEX(Règles!$C$1:$C$4,MATCH(IF(AND(OFFSET(AG6,0,-2)=$D6,OFFSET(AG6,0,-1)=$E6),"S",IF(OR(OFFSET(AG6,0,-2)=$D6,OFFSET(AG6,0,-1)=$E6),"M","I")),Règles!$A$1:$A$4,0)),0) -> 1 | AH6: =RANDBETWEEN(0,4) -> 1 | AI6: =RANDBETWEEN(0,4) -> 4 | AJ6: =IF(AND(OFFSET(AJ6,0,-2)<>"",OFFSET(AJ6,0,-1)<>""),INDEX(Règles!$C$1:$C$4,MATCH(IF(IF($D6>$E6,"Gd",IF($D6=$E6,"N","Pd"))=IF(OFFSET(AJ6,0,-2)>OFFSET(AJ6,0,-1),"Gd",IF(OFFSET(AJ6,0,-2)=OFFSET(AJ6,0,-1),"N","Pd")),"R","I"),Règles!$A$1:$A$4,0))+INDEX(Règles!$C$1:$C$4,MATCH(IF(AND(OFFSET(AJ6,0,-2)=$D6,OFFSET(AJ6,0,-1)=$E6),"S",IF(OR(OFFSET(AJ6,0,-2)=$D6,OFFSET(AJ6,0,-1)=$E6),"M","I")),Règles!$A$1:$A$4,0)),0) -> 1 | AK6: =RANDBETWEEN(0,4) -> 2 | AL6: =RANDBETWEEN(0,4) -> 4 | AM6: =IF(AND(OFFSET(AM6,0,-2)<>"",OFFSET(AM6,0,-1)<>""),INDEX(Règles!$C$1:$C$4,MATCH(IF(IF($D6>$E6,"Gd",IF($D6=$E6,"N","Pd"))=IF(OFFSET(AM6,0,-2)>OFFSET(AM6,0,-1),"Gd",IF(OFFSET(AM6,0,-2)=OFFSET(AM6,0,-1),"N","Pd")),"R","I"),Règles!$A$1:$A$4,0))+INDEX(Règles!$C$1:$C$4,MATCH(IF(AND(OFFSET(AM6,0,-2)=$D6,OFFSET(AM6,0,-1)=$E6),"S",IF(OR(OFFSET(AM6,0,-2)=$D6,OFFSET(AM6,0,-1)=$E6),"M","I")),Règles!$A$1:$A$4,0)),0) -> 0 | AN6: =RANDBETWEEN(0,4) -> 2 | AO6: =RANDBETWEEN(0,4) -> 0 | AP6: =IF(AND(OFFSET(AP6,0,-2)<>"",OFFSET(AP6,0,-1)<>""),INDEX(Règles!$C$1:$C$4,MATCH(IF(IF($D6>$E6,"Gd",IF($D6=$E6,"N","Pd"))=IF(OFFSET(AP6,0,-2)>OFFSET(AP6,0,-1),"Gd",IF(OFFSET(AP6,0,-2)=OFFSET(AP6,0,-1),"N","Pd")),"R","I"),Règles!$A$1:$A$4,0))+INDEX(Règles!$C$1:$C$4,MATCH(IF(AND(OFFSET(AP6,0,-2)=$D6,OFFSET(AP6,0,-1)=$E6),"S",IF(OR(OFFSET(AP6,0,-2)=$D6,OFFSET(AP6,0,-1)=$E6),"M","I")),Règles!$A$1:$A$4,0)),0) -> 0 | AQ6: =RANDBETWEEN(0,4) -> 2 | AR6: =RANDBETWEEN(0,4) -> 3 | AS6: =IF(AND(OFFSET(AS6,0,-2)<>"",OFFSET(AS6,0,-1)<>""),INDEX(Règles!$C$1:$C$4,MATCH(IF(IF($D6>$E6,"Gd",IF($D6=$E6,"N","Pd"))=IF(OFFSET(AS6,0,-2)>OFFSET(AS6,0,-1),"Gd",IF(OFFSET(AS6,0,-2)=OFFSET(AS6,0,-1),"N","Pd")),"R","I"),Règles!$A$1:$A$4,0))+INDEX(Règles!$C$1:$C$4,MATCH(IF(AND(OFFSET(AS6,0,-2)=$D6,OFFSET(AS6,0,-1)=$E6),"S",IF(OR(OFFSET(AS6,0,-2)=$D6,OFFSET(AS6,0,-1)=$E6),"M","I")),Règles!$A$1:$A$4,0)),0) -> 0 | AT6: =RANDBETWEEN(0,4) -> 4 | AU6: =RANDBETWEEN(0,4) -> 4 | AV6: =IF(AND(OFFSET(AV6,0,-2)<>"",OFFSET(AV6,0,-1)<>""),INDEX(Règles!$C$1:$C$4,MATCH(IF(IF($D6>$E6,"Gd",IF($D6=$E6,"N","Pd"))=IF(OFFSET(AV6,0,-2)>OFFSET(AV6,0,-1),"Gd",IF(OFFSET(AV6,0,-2)=OFFSET(AV6,0,-1),"N","Pd")),"R","I"),Règles!$A$1:$A$4,0))+INDEX(Règles!$C$1:$C$4,MATCH(IF(AND(OFFSET(AV6,0,-2)=$D6,OFFSET(AV6,0,-1)=$E6),"S",IF(OR(OFFSET(AV6,0,-2)=$D6,OFFSET(AV6,0,-1)=$E6),"M","I")),Règles!$A$1:$A$4,0)),0) -> 5 | AW6: =RANDBETWEEN(0,4) -> 2 | AX6: =RANDBETWEEN(0,4) -> 3 | AY6: =IF(AND(OFFSET(AY6,0,-2)<>"",OFFSET(AY6,0,-1)<>""),INDEX(Règles!$C$1:$C$4,MATCH(IF(IF($D6>$E6,"Gd",IF($D6=$E6,"N","Pd"))=IF(OFFSET(AY6,0,-2)>OFFSET(AY6,0,-1),"Gd",IF(OFFSET(AY6,0,-2)=OFFSET(AY6,0,-1),"N","Pd")),"R","I"),Règles!$A$1:$A$4,0))+INDEX(Règles!$C$1:$C$4,MATCH(IF(AND(OFFSET(AY6,0,-2)=$D6,OFFSET(AY6,0,-1)=$E6),"S",IF(OR(OFFSET(AY6,0,-2)=$D6,OFFSET(AY6,0,-1)=$E6),"M","I")),Règles!$A$1:$A$4,0)),0) -> 0 | AZ6: =RANDBETWEEN(0,4) -> 1 | BA6: =RANDBETWEEN(0,4) -> 1 | BB6: =IF(AND(OFFSET(BB6,0,-2)<>"",OFFSET(BB6,0,-1)<>""),INDEX(Règles!$C$1:$C$4,MATCH(IF(IF($D6>$E6,"Gd",IF($D6=$E6,"N","Pd"))=IF(OFFSET(BB6,0,-2)>OFFSET(BB6,0,-1),"Gd",IF(OFFSET(BB6,0,-2)=OFFSET(BB6,0,-1),"N","Pd")),"R","I"),Règles!$A$1:$A$4,0))+INDEX(Règles!$C$1:$C$4,MATCH(IF(AND(OFFSET(BB6,0,-2)=$D6,OFFSET(BB6,0,-1)=$E6),"S",IF(OR(OFFSET(BB6,0,-2)=$D6,OFFSET(BB6,0,-1)=$E6),"M","I")),Règles!$A$1:$A$4,0)),0) -> 10 | BC6: =RANDBETWEEN(0,4) -> 1 | BD6: =RANDBETWEEN(0,4) -> 1 | BE6: =IF(AND(OFFSET(BE6,0,-2)<>"",OFFSET(BE6,0,-1)<>""),INDEX(Règles!$C$1:$C$4,MATCH(IF(IF($D6>$E6,"Gd",IF($D6=$E6,"N","Pd"))=IF(OFFSET(BE6,0,-2)>OFFSET(BE6,0,-1),"Gd",IF(OFFSET(BE6,0,-2)=OFFSET(BE6,0,-1),"N","Pd")),"R","I"),Règles!$A$1:$A$4,0))+INDEX(Règles!$C$1:$C$4,MATCH(IF(AND(OFFSET(BE6,0,-2)=$D6,OFFSET(BE6,0,-1)=$E6),"S",IF(OR(OFFSET(BE6,0,-2)=$D6,OFFSET(BE6,0,-1)=$E6),"M","I")),Règles!$A$1:$A$4,0)),0) -> 10 | BF6: =RANDBETWEEN(0,4) -> 1 | BG6: =RANDBETWEEN(0,4) -> 4 | BH6: =IF(AND(OFFSET(BH6,0,-2)<>"",OFFSET(BH6,0,-1)<>""),INDEX(Règles!$C$1:$C$4,MATCH(IF(IF($D6>$E6,"Gd",IF($D6=$E6,"N","Pd"))=IF(OFFSET(BH6,0,-2)>OFFSET(BH6,0,-1),"Gd",IF(OFFSET(BH6,0,-2)=OFFSET(BH6,0,-1),"N","Pd")),"R","I"),Règles!$A$1:$A$4,0))+INDEX(Règles!$C$1:$C$4,MATCH(IF(AND(OFFSET(BH6,0,-2)=$D6,OFFSET(BH6,0,-1)=$E6),"S",IF(OR(OFFSET(BH6,0,-2)=$D6,OFFSET(BH6,0,-1)=$E6),"M","I")),Règles!$A$1:$A$4,0)),0) -> 1 | BI6: =RANDBETWEEN(0,4) -> 2 | BJ6: =RANDBETWEEN(0,4) -> 1 | BK6: =IF(AND(OFFSET(BK6,0,-2)<>"",OFFSET(BK6,0,-1)<>""),INDEX(Règles!$C$1:$C$4,MATCH(IF(IF($D6>$E6,"Gd",IF($D6=$E6,"N","Pd"))=IF(OFFSET(BK6,0,-2)>OFFSET(BK6,0,-1),"Gd",IF(OFFSET(BK6,0,-2)=OFFSET(BK6,0,-1),"N","Pd")),"R","I"),Règles!$A$1:$A$4,0))+INDEX(Règles!$C$1:$C$4,MATCH(IF(AND(OFFSET(BK6,0,-2)=$D6,OFFSET(BK6,0,-1)=$E6),"S",IF(OR(OFFSET(BK6,0,-2)=$D6,OFFSET(BK6,0,-1)=$E6),"M","I")),Règles!$A$1:$A$4,0)),0) -> 1 | BL6: =RANDBETWEEN(0,4) -> 4 | BM6: =RANDBETWEEN(0,4) -> 2 | BN6: =IF(AND(OFFSET(BN6,0,-2)<>"",OFFSET(BN6,0,-1)<>""),INDEX(Règles!$C$1:$C$4,MATCH(IF(IF($D6>$E6,"Gd",IF($D6=$E6,"N","Pd"))=IF(OFFSET(BN6,0,-2)>OFFSET(BN6,0,-1),"Gd",IF(OFFSET(BN6,0,-2)=OFFSET(BN6,0,-1),"N","Pd")),"R","I"),Règles!$A$1:$A$4,0))+INDEX(Règles!$C$1:$C$4,MATCH(IF(AND(OFFSET(BN6,0,-2)=$D6,OFFSET(BN6,0,-1)=$E6),"S",IF(OR(OFFSET(BN6,0,-2)=$D6,OFFSET(BN6,0,-1)=$E6),"M","I")),Règles!$A$1:$A$4,0)),0) -> 0 | BO6: =RANDBETWEEN(0,4) -> 3 | BP6: =RANDBETWEEN(0,4) -> 3 | BQ6: =IF(AND(OFFSET(BQ6,0,-2)<>"",OFFSET(BQ6,0,-1)<>""),INDEX(Règles!$C$1:$C$4,MATCH(IF(IF($D6>$E6,"Gd",IF($D6=$E6,"N","Pd"))=IF(OFFSET(BQ6,0,-2)>OFFSET(BQ6,0,-1),"Gd",IF(OFFSET(BQ6,0,-2)=OFFSET(BQ6,0,-1),"N","Pd")),"R","I"),Règles!$A$1:$A$4,0))+INDEX(Règles!$C$1:$C$4,MATCH(IF(AND(OFFSET(BQ6,0,-2)=$D6,OFFSET(BQ6,0,-1)=$E6),"S",IF(OR(OFFSET(BQ6,0,-2)=$D6,OFFSET(BQ6,0,-1)=$E6),"M","I")),Règles!$A$1:$A$4,0)),0) -> 5 | BR6: =RANDBETWEEN(0,4) -> 0 | BS6: =RANDBETWEEN(0,4) -> 2 | BT6: =IF(AND(OFFSET(BT6,0,-2)<>"",OFFSET(BT6,0,-1)<>""),INDEX(Règles!$C$1:$C$4,MATCH(IF(IF($D6>$E6,"Gd",IF($D6=$E6,"N","Pd"))=IF(OFFSET(BT6,0,-2)>OFFSET(BT6,0,-1),"Gd",IF(OFFSET(BT6,0,-2)=OFFSET(BT6,0,-1),"N","Pd")),"R","I"),Règles!$A$1:$A$4,0))+INDEX(Règles!$C$1:$C$4,MATCH(IF(AND(OFFSET(BT6,0,-2)=$D6,OFFSET(BT6,0,-1)=$E6),"S",IF(OR(OFFSET(BT6,0,-2)=$D6,OFFSET(BT6,0,-1)=$E6),"M","I")),Règles!$A$1:$A$4,0)),0) -> 0 | BU6: =RANDBETWEEN(0,4) -> 3 | BV6: =RANDBETWEEN(0,4) -> 2 | BW6: =IF(AND(OFFSET(BW6,0,-2)<>"",OFFSET(BW6,0,-1)<>""),INDEX(Règles!$C$1:$C$4,MATCH(IF(IF($D6>$E6,"Gd",IF($D6=$E6,"N","Pd"))=IF(OFFSET(BW6,0,-2)>OFFSET(BW6,0,-1),"Gd",IF(OFFSET(BW6,0,-2)=OFFSET(BW6,0,-1),"N","Pd")),"R","I"),Règles!$A$1:$A$4,0))+INDEX(Règles!$C$1:$C$4,MATCH(IF(AND(OFFSET(BW6,0,-2)=$D6,OFFSET(BW6,0,-1)=$E6),"S",IF(OR(OFFSET(BW6,0,-2)=$D6,OFFSET(BW6,0,-1)=$E6),"M","I")),Règles!$A$1:$A$4,0)),0) -> 0 | BX6: =RANDBETWEEN(0,4) -> 0 | BY6: =RANDBETWEEN(0,4) -> 3 | BZ6: =IF(AND(OFFSET(BZ6,0,-2)<>"",OFFSET(BZ6,0,-1)<>""),INDEX(Règles!$C$1:$C$4,MATCH(IF(IF($D6>$E6,"Gd",IF($D6=$E6,"N","Pd"))=IF(OFFSET(BZ6,0,-2)>OFFSET(BZ6,0,-1),"Gd",IF(OFFSET(BZ6,0,-2)=OFFSET(BZ6,0,-1),"N","Pd")),"R","I"),Règles!$A$1:$A$4,0))+INDEX(Règles!$C$1:$C$4,MATCH(IF(AND(OFFSET(BZ6,0,-2)=$D6,OFFSET(BZ6,0,-1)=$E6),"S",IF(OR(OFFSET(BZ6,0,-2)=$D6,OFFSET(BZ6,0,-1)=$E6),"M","I")),Règles!$A$1:$A$4,0)),0) -> 0
A7: Match 5 | B7: Lorient | C7: Toulouse | D7: 0 | E7: 1 | G7: =RANDBETWEEN(0,4) -> 1 | H7: =RANDBETWEEN(0,4) -> 1 | I7: =IF(AND(OFFSET(I7,0,-2)<>"",OFFSET(I7,0,-1)<>""),INDEX(Règles!$C$1:$C$4,MATCH(IF(IF($D7>$E7,"Gd",IF($D7=$E7,"N","Pd"))=IF(OFFSET(I7,0,-2)>OFFSET(I7,0,-1),"Gd",IF(OFFSET(I7,0,-2)=OFFSET(I7,0,-1),"N","Pd")),"R","I"),Règles!$A$1:$A$4,0))+INDEX(Règles!$C$1:$C$4,MATCH(IF(AND(OFFSET(I7,0,-2)=$D7,OFFSET(I7,0,-1)=$E7),"S",IF(OR(OFFSET(I7,0,-2)=$D7,OFFSET(I7,0,-1)=$E7),"M","I")),Règles!$A$1:$A$4,0)),0) -> 1 | J7: =RANDBETWEEN(0,4) -> 0 | K7: =RANDBETWEEN(0,4) -> 4 | L7: =IF(AND(OFFSET(L7,0,-2)<>"",OFFSET(L7,0,-1)<>""),INDEX(Règles!$C$1:$C$4,MATCH(IF(IF($D7>$E7,"Gd",IF($D7=$E7,"N","Pd"))=IF(OFFSET(L7,0,-2)>OFFSET(L7,0,-1),"Gd",IF(OFFSET(L7,0,-2)=OFFSET(L7,0,-1),"N","Pd")),"R","I"),Règles!$A$1:$A$4,0))+INDEX(Règles!$C$1:$C$4,MATCH(IF(AND(OFFSET(L7,0,-2)=$D7,OFFSET(L7,0,-1)=$E7),"S",IF(OR(OFFSET(L7,0,-2)=$D7,OFFSET(L7,0,-1)=$E7),"M","I")),Règles!$A$1:$A$4,0)),0) -> 6 | M7: =RANDBETWEEN(0,4) -> 0 | N7: =RANDBETWEEN(0,4) -> 3 | O7: =IF(AND(OFFSET(O7,0,-2)<>"",OFFSET(O7,0,-1)<>""),INDEX(Règles!$C$1:$C$4,MATCH(IF(IF($D7>$E7,"Gd",IF($D7=$E7,"N","Pd"))=IF(OFFSET(O7,0,-2)>OFFSET(O7,0,-1),"Gd",IF(OFFSET(O7,0,-2)=OFFSET(O7,0,-1),"N","Pd")),"R","I"),Règles!$A$1:$A$4,0))+INDEX(Règles!$C$1:$C$4,MATCH(IF(AND(OFFSET(O7,0,-2)=$D7,OFFSET(O7,0,-1)=$E7),"S",IF(OR(OFFSET(O7,0,-2)=$D7,OFFSET(O7,0,-1)=$E7),"M","I")),Règles!$A$1:$A$4,0)),0) -> 6 | P7: =RANDBETWEEN(0,4) -> 4 | Q7: =RANDBETWEEN(0,4) -> 1 | R7: =IF(AND(OFFSET(R7,0,-2)<>"",OFFSET(R7,0,-1)<>""),INDEX(Règles!$C$1:$C$4,MATCH(IF(IF($D7>$E7,"Gd",IF($D7=$E7,"N","Pd"))=IF(OFFSET(R7,0,-2)>OFFSET(R7,0,-1),"Gd",IF(OFFSET(R7,0,-2)=OFFSET(R7,0,-1),"N","Pd")),"R","I"),Règles!$A$1:$A$4,0))+INDEX(Règles!$C$1:$C$4,MATCH(IF(AND(OFFSET(R7,0,-2)=$D7,OFFSET(R7,0,-1)=$E7),"S",IF(OR(OFFSET(R7,0,-2)=$D7,OFFSET(R7,0,-1)=$E7),"M","I")),Règles!$A$1:$A$4,0)),0) -> 1 | S7: =RANDBETWEEN(0,4) -> 2 | T7: =RANDBETWEEN(0,4) -> 0 | U7: =IF(AND(OFFSET(U7,0,-2)<>"",OFFSET(U7,0,-1)<>""),INDEX(Règles!$C$1:$C$4,MATCH(IF(IF($D7>$E7,"Gd",IF($D7=$E7,"N","Pd"))=IF(OFFSET(U7,0,-2)>OFFSET(U7,0,-1),"Gd",IF(OFFSET(U7,0,-2)=OFFSET(U7,0,-1),"N","Pd")),"R","I"),Règles!$A$1:$A$4,0))+INDEX(Règles!$C$1:$C$4,MATCH(IF(AND(OFFSET(U7,0,-2)=$D7,OFFSET(U7,0,-1)=$E7),"S",IF(OR(OFFSET(U7,0,-2)=$D7,OFFSET(U7,0,-1)=$E7),"M","I")),Règles!$A$1:$A$4,0)),0) -> 0 | V7: =RANDBETWEEN(0,4) -> 0 | W7: =RANDBETWEEN(0,4) -> 4 | X7: =IF(AND(OFFSET(X7,0,-2)<>"",OFFSET(X7,0,-1)<>""),INDEX(Règles!$C$1:$C$4,MATCH(IF(IF($D7>$E7,"Gd",IF($D7=$E7,"N","Pd"))=IF(OFFSET(X7,0,-2)>OFFSET(X7,0,-1),"Gd",IF(OFFSET(X7,0,-2)=OFFSET(X7,0,-1),"N","Pd")),"R","I"),Règles!$A$1:$A$4,0))+INDEX(Règles!$C$1:$C$4,MATCH(IF(AND(OFFSET(X7,0,-2)=$D7,OFFSET(X7,0,-1)=$E7),"S",IF(OR(OFFSET(X7,0,-2)=$D7,OFFSET(X7,0,-1)=$E7),"M","I")),Règles!$A$1:$A$4,0)),0) -> 6 | Y7: =RANDBETWEEN(0,4) -> 2 | Z7: =RANDBETWEEN(0,4) -> 3 | AA7: =IF(AND(OFFSET(AA7,0,-2)<>"",OFFSET(AA7,0,-1)<>""),INDEX(Règles!$C$1:$C$4,MATCH(IF(IF($D7>$E7,"Gd",IF($D7=$E7,"N","Pd"))=IF(OFFSET(AA7,0,-2)>OFFSET(AA7,0,-1),"Gd",IF(OFFSET(AA7,0,-2)=OFFSET(AA7,0,-1),"N","Pd")),"R","I"),Règles!$A$1:$A$4,0))+INDEX(Règles!$C$1:$C$4,MATCH(IF(AND(OFFSET(AA7,0,-2)=$D7,OFFSET(AA7,0,-1)=$E7),"S",IF(OR(OFFSET(AA7,0,-2)=$D7,OFFSET(AA7,0,-1)=$E7),"M","I")),Règles!$A$1:$A$4,0)),0) -> 5 | AB7: =RANDBETWEEN(0,4) -> 3 | AC7: =RANDBETWEEN(0,4) -> 2 | AD7: =IF(AND(OFFSET(AD7,0,-2)<>"",OFFSET(AD7,0,-1)<>""),INDEX(Règles!$C$1:$C$4,MATCH(IF(IF($D7>$E7,"Gd",IF($D7=$E7,"N","Pd"))=IF(OFFSET(AD7,0,-2)>OFFSET(AD7,0,-1),"Gd",IF(OFFSET(AD7,0,-2)=OFFSET(AD7,0,-1),"N","Pd")),"R","I"),Règles!$A$1:$A$4,0))+INDEX(Règles!$C$1:$C$4,MATCH(IF(AND(OFFSET(AD7,0,-2)=$D7,OFFSET(AD7,0,-1)=$E7),"S",IF(OR(OFFSET(AD7,0,-2)=$D7,OFFSET(AD7,0,-1)=$E7),"M","I")),Règles!$A$1:$A$4,0)),0) -> 0 | AE7: =RANDBETWEEN(0,4) -> 0 | AF7: =RANDBETWEEN(0,4) -> 4 | AG7: =IF(AND(OFFSET(AG7,0,-2)<>"",OFFSET(AG7,0,-1)<>""),INDEX(Règles!$C$1:$C$4,MATCH(IF(IF($D7>$E7,"Gd",IF($D7=$E7,"N","Pd"))=IF(OFFSET(AG7,0,-2)>OFFSET(AG7,0,-1),"Gd",IF(OFFSET(AG7,0,-2)=OFFSET(AG7,0,-1),"N","Pd")),"R","I"),Règles!$A$1:$A$4,0))+INDEX(Règles!$C$1:$C$4,MATCH(IF(AND(OFFSET(AG7,0,-2)=$D7,OFFSET(AG7,0,-1)=$E7),"S",IF(OR(OFFSET(AG7,0,-2)=$D7,OFFSET(AG7,0,-1)=$E7),"M","I")),Règles!$A$1:$A$4,0)),0) -> 6 | AH7: =RANDBETWEEN(0,4) -> 1 | AI7: =RANDBETWEEN(0,4) -> 3 | AJ7: =IF(AND(OFFSET(AJ7,0,-2)<>"",OFFSET(AJ7,0,-1)<>""),INDEX(Règles!$C$1:$C$4,MATCH(IF(IF($D7>$E7,"Gd",IF($D7=$E7,"N","Pd"))=IF(OFFSET(AJ7,0,-2)>OFFSET(AJ7,0,-1),"Gd",IF(OFFSET(AJ7,0,-2)=OFFSET(AJ7,0,-1),"N","Pd")),"R","I"),Règles!$A$1:$A$4,0))+INDEX(Règles!$C$1:$C$4,MATCH(IF(AND(OFFSET(AJ7,0,-2)=$D7,OFFSET(AJ7,0,-1)=$E7),"S",IF(OR(OFFSET(AJ7,0,-2)=$D7,OFFSET(AJ7,0,-1)=$E7),"M","I")),Règles!$A$1:$A$4,0)),0) -> 5 | AK7: =RANDBETWEEN(0,4) -> 0 | AL7: =RANDBETWEEN(0,4) -> 3 | AM7: =IF(AND(OFFSET(AM7,0,-2)<>"",OFFSET(AM7,0,-1)<>""),INDEX(Règles!$C$1:$C$4,MATCH(IF(IF($D7>$E7,"Gd",IF($D7=$E7,"N","Pd"))=IF(OFFSET(AM7,0,-2)>OFFSET(AM7,0,-1),"Gd",IF(OFFSET(AM7,0,-2)=OFFSET(AM7,0,-1),"N","Pd")),"R","I"),Règles!$A$1:$A$4,0))+INDEX(Règles!$C$1:$C$4,MATCH(IF(AND(OFFSET(AM7,0,-2)=$D7,OFFSET(AM7,0,-1)=$E7),"S",IF(OR(OFFSET(AM7,0,-2)=$D7,OFFSET(AM7,0,-1)=$E7),"M","I")),Règles!$A$1:$A$4,0)),0) -> 6 | AN7: =RANDBETWEEN(0,4) -> 1 | AO7: =RANDBETWEEN(0,4) -> 4 | AP7: =IF(AND(OFFSET(AP7,0,-2)<>"",OFFSET(AP7,0,-1)<>""),INDEX(Règles!$C$1:$C$4,MATCH(IF(IF($D7>$E7,"Gd",IF($D7=$E7,"N","Pd"))=IF(OFFSET(AP7,0,-2)>OFFSET(AP7,0,-1),"Gd",IF(OFFSET(AP7,0,-2)=OFFSET(AP7,0,-1),"N","Pd")),"R","I"),Règles!$A$1:$A$4,0))+INDEX(Règles!$C$1:$C$4,MATCH(IF(AND(OFFSET(AP7,0,-2)=$D7,OFFSET(AP7,0,-1)=$E7),"S",IF(OR(OFFSET(AP7,0,-2)=$D7,OFFSET(AP7,0,-1)=$E7),"M","I")),Règles!$A$1:$A$4,0)),0) -> 5 | AQ7: =RANDBETWEEN(0,4) -> 1 | AR7: =RANDBETWEEN(0,4) -> 1 | AS7: =IF(AND(OFFSET(AS7,0,-2)<>"",OFFSET(AS7,0,-1)<>""),INDEX(Règles!$C$1:$C$4,MATCH(IF(IF($D7>$E7,"Gd",IF($D7=$E7,"N","Pd"))=IF(OFFSET(AS7,0,-2)>OFFSET(AS7,0,-1),"Gd",IF(OFFSET(AS7,0,-2)=OFFSET(AS7,0,-1),"N","Pd")),"R","I"),Règles!$A$1:$A$4,0))+INDEX(Règles!$C$1:$C$4,MATCH(IF(AND(OFFSET(AS7,0,-2)=$D7,OFFSET(AS7,0,-1)=$E7),"S",IF(OR(OFFSET(AS7,0,-2)=$D7,OFFSET(AS7,0,-1)=$E7),"M","I")),Règles!$A$1:$A$4,0)),0) -> 1 | AT7: =RANDBETWEEN(0,4) -> 1 | AU7: =RANDBETWEEN(0,4) -> 3 | AV7: =IF(AND(OFFSET(AV7,0,-2)<>"",OFFSET(AV7,0,-1)<>""),INDEX(Règles!$C$1:$C$4,MATCH(IF(IF($D7>$E7,"Gd",IF($D7=$E7,"N","Pd"))=IF(OFFSET(AV7,0,-2)>OFFSET(AV7,0,-1),"Gd",IF(OFFSET(AV7,0,-2)=OFFSET(AV7,0,-1),"N","Pd")),"R","I"),Règles!$A$1:$A$4,0))+INDEX(Règles!$C$1:$C$4,MATCH(IF(AND(OFFSET(AV7,0,-2)=$D7,OFFSET(AV7,0,-1)=$E7),"S",IF(OR(OFFSET(AV7,0,-2)=$D7,OFFSET(AV7,0,-1)=$E7),"M","I")),Règles!$A$1:$A$4,0)),0) -> 5 | AW7: =RANDBETWEEN(0,4) -> 3 | AX7: =RANDBETWEEN(0,4) -> 2 | AY7: =IF(AND(OFFSET(AY7,0,-2)<>"",OFFSET(AY7,0,-1)<>""),INDEX(Règles!$C$1:$C$4,MATCH(IF(IF($D7>$E7,"Gd",IF($D7=$E7,"N","Pd"))=IF(OFFSET(AY7,0,-2)>OFFSET(AY7,0,-1),"Gd",IF(OFFSET(AY7,0,-2)=OFFSET(AY7,0,-1),"N","Pd")),"R","I"),Règles!$A$1:$A$4,0))+INDEX(Règles!$C$1:$C$4,MATCH(IF(AND(OFFSET(AY7,0,-2)=$D7,OFFSET(AY7,0,-1)=$E7),"S",IF(OR(OFFSET(AY7,0,-2)=$D7,OFFSET(AY7,0,-1)=$E7),"M","I")),Règles!$A$1:$A$4,0)),0) -> 0 | AZ7: =RANDBETWEEN(0,4) -> 0 | BA7: =RANDBETWEEN(0,4) -> 2 | BB7: =IF(AND(OFFSET(BB7,0,-2)<>"",OFFSET(BB7,0,-1)<>""),INDEX(Règles!$C$1:$C$4,MATCH(IF(IF($D7>$E7,"Gd",IF($D7=$E7,"N","Pd"))=IF(OFFSET(BB7,0,-2)>OFFSET(BB7,0,-1),"Gd",IF(OFFSET(BB7,0,-2)=OFFSET(BB7,0,-1),"N","Pd")),"R","I"),Règles!$A$1:$A$4,0))+INDEX(Règles!$C$1:$C$4,MATCH(IF(AND(OFFSET(BB7,0,-2)=$D7,OFFSET(BB7,0,-1)=$E7),"S",IF(OR(OFFSET(BB7,0,-2)=$D7,OFFSET(BB7,0,-1)=$E7),"M","I")),Règles!$A$1:$A$4,0)),0) -> 6 | BC7: =RANDBETWEEN(0,4) -> 4 | BD7: =RANDBETWEEN(0,4) -> 1 | BE7: =IF(AND(OFFSET(BE7,0,-2)<>"",OFFSET(BE7,0,-1)<>""),INDEX(Règles!$C$1:$C$4,MATCH(IF(IF($D7>$E7,"Gd",IF($D7=$E7,"N","Pd"))=IF(OFFSET(BE7,0,-2)>OFFSET(BE7,0,-1),"Gd",IF(OFFSET(BE7,0,-2)=OFFSET(BE7,0,-1),"N","Pd")),"R","I"),Règles!$A$1:$A$4,0))+INDEX(Règles!$C$1:$C$4,MATCH(IF(AND(OFFSET(BE7,0,-2)=$D7,OFFSET(BE7,0,-1)=$E7),"S",IF(OR(OFFSET(BE7,0,-2)=$D7,OFFSET(BE7,0,-1)=$E7),"M","I")),Règles!$A$1:$A$4,0)),0) -> 1 | BF7: =RANDBETWEEN(0,4) -> 4 | BG7: =RANDBETWEEN(0,4) -> 4 | BH7: =IF(AND(OFFSET(BH7,0,-2)<>"",OFFSET(BH7,0,-1)<>""),INDEX(Règles!$C$1:$C$4,MATCH(IF(IF($D7>$E7,"Gd",IF($D7=$E7,"N","Pd"))=IF(OFFSET(BH7,0,-2)>OFFSET(BH7,0,-1),"Gd",IF(OFFSET(BH7,0,-2)=OFFSET(BH7,0,-1),"N","Pd")),"R","I"),Règles!$A$1:$A$4,0))+INDEX(Règles!$C$1:$C$4,MATCH(IF(AND(OFFSET(BH7,0,-2)=$D7,OFFSET(BH7,0,-1)=$E7),"S",IF(OR(OFFSET(BH7,0,-2)=$D7,OFFSET(BH7,0,-1)=$E7),"M","I")),Règles!$A$1:$A$4,0)),0) -> 0 | BI7: =RANDBETWEEN(0,4) -> 4 | BJ7: =RANDBETWEEN(0,4) -> 3 | BK7: =IF(AND(OFFSET(BK7,0,-2)<>"",OFFSET(BK7,0,-1)<>""),INDEX(Règles!$C$1:$C$4,MATCH(IF(IF($D7>$E7,"Gd",IF($D7=$E7,"N","Pd"))=IF(OFFSET(BK7,0,-2)>OFFSET(BK7,0,-1),"Gd",IF(OFFSET(BK7,0,-2)=OFFSET(BK7,0,-1),"N","Pd")),"R","I"),Règles!$A$1:$A$4,0))+INDEX(Règles!$C$1:$C$4,MATCH(IF(AND(OFFSET(BK7,0,-2)=$D7,OFFSET(BK7,0,-1)=$E7),"S",IF(OR(OFFSET(BK7,0,-2)=$D7,OFFSET(BK7,0,-1)=$E7),"M","I")),Règles!$A$1:$A$4,0)),0) -> 0 | BL7: =RANDBETWEEN(0,4) -> 4 | BM7: =RANDBETWEEN(0,4) -> 4 | BN7: =IF(AND(OFFSET(BN7,0,-2)<>"",OFFSET(BN7,0,-1)<>""),INDEX(Règles!$C$1:$C$4,MATCH(IF(IF($D7>$E7,"Gd",IF($D7=$E7,"N","Pd"))=IF(OFFSET(BN7,0,-2)>OFFSET(BN7,0,-1),"Gd",IF(OFFSET(BN7,0,-2)=OFFSET(BN7,0,-1),"N","Pd")),"R","I"),Règles!$A$1:$A$4,0))+INDEX(Règles!$C$1:$C$4,MATCH(IF(AND(OFFSET(BN7,0,-2)=$D7,OFFSET(BN7,0,-1)=$E7),"S",IF(OR(OFFSET(BN7,0,-2)=$D7,OFFSET(BN7,0,-1)=$E7),"M","I")),Règles!$A$1:$A$4,0)),0) -> 0 | BO7: =RANDBETWEEN(0,4) -> 1 | BP7: =RANDBETWEEN(0,4) -> 0 | BQ7: =IF(AND(OFFSET(BQ7,0,-2)<>"",OFFSET(BQ7,0,-1)<>""),INDEX(Règles!$C$1:$C$4,MATCH(IF(IF($D7>$E7,"Gd",IF($D7=$E7,"N","Pd"))=IF(OFFSET(BQ7,0,-2)>OFFSET(BQ7,0,-1),"Gd",IF(OFFSET(BQ7,0,-2)=OFFSET(BQ7,0,-1),"N","Pd")),"R","I"),Règles!$A$1:$A$4,0))+INDEX(Règles!$C$1:$C$4,MATCH(IF(AND(OFFSET(BQ7,0,-2)=$D7,OFFSET(BQ7,0,-1)=$E7),"S",IF(OR(OFFSET(BQ7,0,-2)=$D7,OFFSET(BQ7,0,-1)=$E7),"M","I")),Règles!$A$1:$A$4,0)),0) -> 0 | BR7: =RANDBETWEEN(0,4) -> 0 | BS7: =RANDBETWEEN(0,4) -> 1 | BT7: =IF(AND(OFFSET(BT7,0,-2)<>"",OFFSET(BT7,0,-1)<>""),INDEX(Règles!$C$1:$C$4,MATCH(IF(IF($D7>$E7,"Gd",IF($D7=$E7,"N","Pd"))=IF(OFFSET(BT7,0,-2)>OFFSET(BT7,0,-1),"Gd",IF(OFFSET(BT7,0,-2)=OFFSET(BT7,0,-1),"N","Pd")),"R","I"),Règles!$A$1:$A$4,0))+INDEX(Règles!$C$1:$C$4,MATCH(IF(AND(OFFSET(BT7,0,-2)=$D7,OFFSET(BT7,0,-1)=$E7),"S",IF(OR(OFFSET(BT7,0,-2)=$D7,OFFSET(BT7,0,-1)=$E7),"M","I")),Règles!$A$1:$A$4,0)),0) -> 10 | BU7: =RANDBETWEEN(0,4) -> 2 | BV7: =RANDBETWEEN(0,4) -> 4 | BW7: =IF(AND(OFFSET(BW7,0,-2)<>"",OFFSET(BW7,0,-1)<>""),INDEX(Règles!$C$1:$C$4,MATCH(IF(IF($D7>$E7,"Gd",IF($D7=$E7,"N","Pd"))=IF(OFFSET(BW7,0,-2)>OFFSET(BW7,0,-1),"Gd",IF(OFFSET(BW7,0,-2)=OFFSET(BW7,0,-1),"N","Pd")),"R","I"),Règles!$A$1:$A$4,0))+INDEX(Règles!$C$1:$C$4,MATCH(IF(AND(OFFSET(BW7,0,-2)=$D7,OFFSET(BW7,0,-1)=$E7),"S",IF(OR(OFFSET(BW7,0,-2)=$D7,OFFSET(BW7,0,-1)=$E7),"M","I")),Règles!$A$1:$A$4,0)),0) -> 5 | BX7: =RANDBETWEEN(0,4) -> 1 | BY7: =RANDBETWEEN(0,4) -> 4 | BZ7: =IF(AND(OFFSET(BZ7,0,-2)<>"",OFFSET(BZ7,0,-1)<>""),INDEX(Règles!$C$1:$C$4,MATCH(IF(IF($D7>$E7,"Gd",IF($D7=$E7,"N","Pd"))=IF(OFFSET(BZ7,0,-2)>OFFSET(BZ7,0,-1),"Gd",IF(OFFSET(BZ7,0,-2)=OFFSET(BZ7,0,-1),"N","Pd")),"R","I"),Règles!$A$1:$A$4,0))+INDEX(Règles!$C$1:$C$4,MATCH(IF(AND(OFFSET(BZ7,0,-2)=$D7,OFFSET(BZ7,0,-1)=$E7),"S",IF(OR(OFFSET(BZ7,0,-2)=$D7,OFFSET(BZ7,0,-1)=$E7),"M","I")),Règles!$A$1:$A$4,0)),0) -> 5
A8: Match 6 | B8: Metz | C8: Lens | D8: 3 | E8: 1 | G8: =RANDBETWEEN(0,4) -> 3 | H8: =RANDBETWEEN(0,4) -> 0 | I8: =IF(AND(OFFSET(I8,0,-2)<>"",OFFSET(I8,0,-1)<>""),INDEX(Règles!$C$1:$C$4,MATCH(IF(IF($D8>$E8,"Gd",IF($D8=$E8,"N","Pd"))=IF(OFFSET(I8,0,-2)>OFFSET(I8,0,-1),"Gd",IF(OFFSET(I8,0,-2)=OFFSET(I8,0,-1),"N","Pd")),"R","I"),Règles!$A$1:$A$4,0))+INDEX(Règles!$C$1:$C$4,MATCH(IF(AND(OFFSET(I8,0,-2)=$D8,OFFSET(I8,0,-1)=$E8),"S",IF(OR(OFFSET(I8,0,-2)=$D8,OFFSET(I8,0,-1)=$E8),"M","I")),Règles!$A$1:$A$4,0)),0) -> 6 | J8: =RANDBETWEEN(0,4) -> 1 | K8: =RANDBETWEEN(0,4) -> 1 | L8: =IF(AND(OFFSET(L8,0,-2)<>"",OFFSET(L8,0,-1)<>""),INDEX(Règles!$C$1:$C$4,MATCH(IF(IF($D8>$E8,"Gd",IF($D8=$E8,"N","Pd"))=IF(OFFSET(L8,0,-2)>OFFSET(L8,0,-1),"Gd",IF(OFFSET(L8,0,-2)=OFFSET(L8,0,-1),"N","Pd")),"R","I"),Règles!$A$1:$A$4,0))+INDEX(Règles!$C$1:$C$4,MATCH(IF(AND(OFFSET(L8,0,-2)=$D8,OFFSET(L8,0,-1)=$E8),"S",IF(OR(OFFSET(L8,0,-2)=$D8,OFFSET(L8,0,-1)=$E8),"M","I")),Règles!$A$1:$A$4,0)),0) -> 1 | M8: =RANDBETWEEN(0,4) -> 3 | N8: =RANDBETWEEN(0,4) -> 4 | O8: =IF(AND(OFFSET(O8,0,-2)<>"",OFFSET(O8,0,-1)<>""),INDEX(Règles!$C$1:$C$4,MATCH(IF(IF($D8>$E8,"Gd",IF($D8=$E8,"N","Pd"))=IF(OFFSET(O8,0,-2)>OFFSET(O8,0,-1),"Gd",IF(OFFSET(O8,0,-2)=OFFSET(O8,0,-1),"N","Pd")),"R","I"),Règles!$A$1:$A$4,0))+INDEX(Règles!$C$1:$C$4,MATCH(IF(AND(OFFSET(O8,0,-2)=$D8,OFFSET(O8,0,-1)=$E8),"S",IF(OR(OFFSET(O8,0,-2)=$D8,OFFSET(O8,0,-1)=$E8),"M","I")),Règles!$A$1:$A$4,0)),0) -> 1 | P8: =RANDBETWEEN(0,4) -> 0 | Q8: =RANDBETWEEN(0,4) -> 1 | R8: =IF(AND(OFFSET(R8,0,-2)<>"",OFFSET(R8,0,-1)<>""),INDEX(Règles!$C$1:$C$4,MATCH(IF(IF($D8>$E8,"Gd",IF($D8=$E8,"N","Pd"))=IF(OFFSET(R8,0,-2)>OFFSET(R8,0,-1),"Gd",IF(OFFSET(R8,0,-2)=OFFSET(R8,0,-1),"N","Pd")),"R","I"),Règles!$A$1:$A$4,0))+INDEX(Règles!$C$1:$C$4,MATCH(IF(AND(OFFSET(R8,0,-2)=$D8,OFFSET(R8,0,-1)=$E8),"S",IF(OR(OFFSET(R8,0,-2)=$D8,OFFSET(R8,0,-1)=$E8),"M","I")),Règles!$A$1:$A$4,0)),0) -> 1 | S8: =RANDBETWEEN(0,4) -> 1 | T8: =RANDBETWEEN(0,4) -> 4 | U8: =IF(AND(OFFSET(U8,0,-2)<>"",OFFSET(U8,0,-1)<>""),INDEX(Règles!$C$1:$C$4,MATCH(IF(IF($D8>$E8,"Gd",IF($D8=$E8,"N","Pd"))=IF(OFFSET(U8,0,-2)>OFFSET(U8,0,-1),"Gd",IF(OFFSET(U8,0,-2)=OFFSET(U8,0,-1),"N","Pd")),"R","I"),Règles!$A$1:$A$4,0))+INDEX(Règles!$C$1:$C$4,MATCH(IF(AND(OFFSET(U8,0,-2)=$D8,OFFSET(U8,0,-1)=$E8),"S",IF(OR(OFFSET(U8,0,-2)=$D8,OFFSET(U8,0,-1)=$E8),"M","I")),Règles!$A$1:$A$4,0)),0) -> 0 | V8: =RANDBETWEEN(0,4) -> 3 | W8: =RANDBETWEEN(0,4) -> 1 | X8: =IF(AND(OFFSET(X8,0,-2)<>"",OFFSET(X8,0,-1)<>""),INDEX(Règles!$C$1:$C$4,MATCH(IF(IF($D8>$E8,"Gd",IF($D8=$E8,"N","Pd"))=IF(OFFSET(X8,0,-2)>OFFSET(X8,0,-1),"Gd",IF(OFFSET(X8,0,-2)=OFFSET(X8,0,-1),"N","Pd")),"R","I"),Règles!$A$1:$A$4,0))+INDEX(Règles!$C$1:$C$4,MATCH(IF(AND(OFFSET(X8,0,-2)=$D8,OFFSET(X8,0,-1)=$E8),"S",IF(OR(OFFSET(X8,0,-2)=$D8,OFFSET(X8,0,-1)=$E8),"M","I")),Règles!$A$1:$A$4,0)),0) -> 10 | Y8: =RANDBETWEEN(0,4) -> 2 | Z8: =RANDBETWEEN(0,4) -> 4 | AA8: =IF(AND(OFFSET(AA8,0,-2)<>"",OFFSET(AA8,0,-1)<>""),INDEX(Règles!$C$1:$C$4,MATCH(IF(IF($D8>$E8,"Gd",IF($D8=$E8,"N","Pd"))=IF(OFFSET(AA8,0,-2)>OFFSET(AA8,0,-1),"Gd",IF(OFFSET(AA8,0,-2)=OFFSET(AA8,0,-1),"N","Pd")),"R","I"),Règles!$A$1:$A$4,0))+INDEX(Règles!$C$1:$C$4,MATCH(IF(AND(OFFSET(AA8,0,-2)=$D8,OFFSET(AA8,0,-1)=$E8),"S",IF(OR(OFFSET(AA8,0,-2)=$D8,OFFSET(AA8,0,-1)=$E8),"M","I")),Règles!$A$1:$A$4,0)),0) -> 0 | AB8: =RANDBETWEEN(0,4) -> 2 | AC8: =RANDBETWEEN(0,4) -> 4 | AD8: =IF(AND(OFFSET(AD8,0,-2)<>"",OFFSET(AD8,0,-1)<>""),INDEX(Règles!$C$1:$C$4,MATCH(IF(IF($D8>$E8,"Gd",IF($D8=$E8,"N","Pd"))=IF(OFFSET(AD8,0,-2)>OFFSET(AD8,0,-1),"Gd",IF(OFFSET(AD8,0,-2)=OFFSET(AD8,0,-1),"N","Pd")),"R","I"),Règles!$A$1:$A$4,0))+INDEX(Règles!$C$1:$C$4,MATCH(IF(AND(OFFSET(AD8,0,-2)=$D8,OFFSET(AD8,0,-1)=$E8),"S",IF(OR(OFFSET(AD8,0,-2)=$D8,OFFSET(AD8,0,-1)=$E8),"M","I")),Règles!$A$1:$A$4,0)),0) -> 0 | AE8: =RANDBETWEEN(0,4) -> 2 | AF8: =RANDBETWEEN(0,4) -> 3 | AG8: =IF(AND(OFFSET(AG8,0,-2)<>"",OFFSET(AG8,0,-1)<>""),INDEX(Règles!$C$1:$C$4,MATCH(IF(IF($D8>$E8,"Gd",IF($D8=$E8,"N","Pd"))=IF(OFFSET(AG8,0,-2)>OFFSET(AG8,0,-1),"Gd",IF(OFFSET(AG8,0,-2)=OFFSET(AG8,0,-1),"N","Pd")),"R","I"),Règles!$A$1:$A$4,0))+INDEX(Règles!$C$1:$C$4,MATCH(IF(AND(OFFSET(AG8,0,-2)=$D8,OFFSET(AG8,0,-1)=$E8),"S",IF(OR(OFFSET(AG8,0,-2)=$D8,OFFSET(AG8,0,-1)=$E8),"M","I")),Règles!$A$1:$A$4,0)),0) -> 0 | AH8: =RANDBETWEEN(0,4) -> 4 | AI8: =RANDBETWEEN(0,4) -> 0 | AJ8: =IF(AND(OFFSET(AJ8,0,-2)<>"",OFFSET(AJ8,0,-1)<>""),INDEX(Règles!$C$1:$C$4,MATCH(IF(IF($D8>$E8,"Gd",IF($D8=$E8,"N","Pd"))=IF(OFFSET(AJ8,0,-2)>OFFSET(AJ8,0,-1),"Gd",IF(OFFSET(AJ8,0,-2)=OFFSET(AJ8,0,-1),"N","Pd")),"R","I"),Règles!$A$1:$A$4,0))+INDEX(Règles!$C$1:$C$4,MATCH(IF(AND(OFFSET(AJ8,0,-2)=$D8,OFFSET(AJ8,0,-1)=$E8),"S",IF(OR(OFFSET(AJ8,0,-2)=$D8,OFFSET(AJ8,0,-1)=$E8),"M","I")),Règles!$A$1:$A$4,0)),0) -> 5 | AK8: =RANDBETWEEN(0,4) -> 1 | AL8: =RANDBETWEEN(0,4) -> 4 | AM8: =IF(AND(OFFSET(AM8,0,-2)<>"",OFFSET(AM8,0,-1)<>""),INDEX(Règles!$C$1:$C$4,MATCH(IF(IF($D8>$E8,"Gd",IF($D8=$E8,"N","Pd"))=IF(OFFSET(AM8,0,-2)>OFFSET(AM8,0,-1),"Gd",IF(OFFSET(AM8,0,-2)=OFFSET(AM8,0,-1),"N","Pd")),"R","I"),Règles!$A$1:$A$4,0))+INDEX(Règles!$C$1:$C$4,MATCH(IF(AND(OFFSET(AM8,0,-2)=$D8,OFFSET(AM8,0,-1)=$E8),"S",IF(OR(OFFSET(AM8,0,-2)=$D8,OFFSET(AM8,0,-1)=$E8),"M","I")),Règles!$A$1:$A$4,0)),0) -> 0 | AN8: =RANDBETWEEN(0,4) -> 1 | AO8: =RANDBETWEEN(0,4) -> 3 | AP8: =IF(AND(OFFSET(AP8,0,-2)<>"",OFFSET(AP8,0,-1)<>""),INDEX(Règles!$C$1:$C$4,MATCH(IF(IF($D8>$E8,"Gd",IF($D8=$E8,"N","Pd"))=IF(OFFSET(AP8,0,-2)>OFFSET(AP8,0,-1),"Gd",IF(OFFSET(AP8,0,-2)=OFFSET(AP8,0,-1),"N","Pd")),"R","I"),Règles!$A$1:$A$4,0))+INDEX(Règles!$C$1:$C$4,MATCH(IF(AND(OFFSET(AP8,0,-2)=$D8,OFFSET(AP8,0,-1)=$E8),"S",IF(OR(OFFSET(AP8,0,-2)=$D8,OFFSET(AP8,0,-1)=$E8),"M","I")),Règles!$A$1:$A$4,0)),0) -> 0 | AQ8: =RANDBETWEEN(0,4) -> 2 | AR8: =RANDBETWEEN(0,4) -> 1 | AS8: =IF(AND(OFFSET(AS8,0,-2)<>"",OFFSET(AS8,0,-1)<>""),INDEX(Règles!$C$1:$C$4,MATCH(IF(IF($D8>$E8,"Gd",IF($D8=$E8,"N","Pd"))=IF(OFFSET(AS8,0,-2)>OFFSET(AS8,0,-1),"Gd",IF(OFFSET(AS8,0,-2)=OFFSET(AS8,0,-1),"N","Pd")),"R","I"),Règles!$A$1:$A$4,0))+INDEX(Règles!$C$1:$C$4,MATCH(IF(AND(OFFSET(AS8,0,-2)=$D8,OFFSET(AS8,0,-1)=$E8),"S",IF(OR(OFFSET(AS8,0,-2)=$D8,OFFSET(AS8,0,-1)=$E8),"M","I")),Règles!$A$1:$A$4,0)),0) -> 6 | AT8: =RANDBETWEEN(0,4) -> 3 | AU8: =RANDBETWEEN(0,4) -> 2 | AV8: =IF(AND(OFFSET(AV8,0,-2)<>"",OFFSET(AV8,0,-1)<>""),INDEX(Règles!$C$1:$C$4,MATCH(IF(IF($D8>$E8,"Gd",IF($D8=$E8,"N","Pd"))=IF(OFFSET(AV8,0,-2)>OFFSET(AV8,0,-1),"Gd",IF(OFFSET(AV8,0,-2)=OFFSET(AV8,0,-1),"N","Pd")),"R","I"),Règles!$A$1:$A$4,0))+INDEX(Règles!$C$1:$C$4,MATCH(IF(AND(OFFSET(AV8,0,-2)=$D8,OFFSET(AV8,0,-1)=$E8),"S",IF(OR(OFFSET(AV8,0,-2)=$D8,OFFSET(AV8,0,-1)=$E8),"M","I")),Règles!$A$1:$A$4,0)),0) -> 6 | AW8: =RANDBETWEEN(0,4) -> 2 | AX8: =RANDBETWEEN(0,4) -> 2 | AY8: =IF(AND(OFFSET(AY8,0,-2)<>"",OFFSET(AY8,0,-1)<>""),INDEX(Règles!$C$1:$C$4,MATCH(IF(IF($D8>$E8,"Gd",IF($D8=$E8,"N","Pd"))=IF(OFFSET(AY8,0,-2)>OFFSET(AY8,0,-1),"Gd",IF(OFFSET(AY8,0,-2)=OFFSET(AY8,0,-1),"N","Pd")),"R","I"),Règles!$A$1:$A$4,0))+INDEX(Règles!$C$1:$C$4,MATCH(IF(AND(OFFSET(AY8,0,-2)=$D8,OFFSET(AY8,0,-1)=$E8),"S",IF(OR(OFFSET(AY8,0,-2)=$D8,OFFSET(AY8,0,-1)=$E8),"M","I")),Règles!$A$1:$A$4,0)),0) -> 0 | AZ8: =RANDBETWEEN(0,4) -> 3 | BA8: =RANDBETWEEN(0,4) -> 1 | BB8: =IF(AND(OFFSET(BB8,0,-2)<>"",OFFSET(BB8,0,-1)<>""),INDEX(Règles!$C$1:$C$4,MATCH(IF(IF($D8>$E8,"Gd",IF($D8=$E8,"N","Pd"))=IF(OFFSET(BB8,0,-2)>OFFSET(BB8,0,-1),"Gd",IF(OFFSET(BB8,0,-2)=OFFSET(BB8,0,-1),"N","Pd")),"R","I"),Règles!$A$1:$A$4,0))+INDEX(Règles!$C$1:$C$4,MATCH(IF(AND(OFFSET(BB8,0,-2)=$D8,OFFSET(BB8,0,-1)=$E8),"S",IF(OR(OFFSET(BB8,0,-2)=$D8,OFFSET(BB8,0,-1)=$E8),"M","I")),Règles!$A$1:$A$4,0)),0) -> 10 | BC8: =RANDBETWEEN(0,4) -> 0 | BD8: =RANDBETWEEN(0,4) -> 2 | BE8: =IF(AND(OFFSET(BE8,0,-2)<>"",OFFSET(BE8,0,-1)<>""),INDEX(Règles!$C$1:$C$4,MATCH(IF(IF($D8>$E8,"Gd",IF($D8=$E8,"N","Pd"))=IF(OFFSET(BE8,0,-2)>OFFSET(BE8,0,-1),"Gd",IF(OFFSET(BE8,0,-2)=OFFSET(BE8,0,-1),"N","Pd")),"R","I"),Règles!$A$1:$A$4,0))+INDEX(Règles!$C$1:$C$4,MATCH(IF(AND(OFFSET(BE8,0,-2)=$D8,OFFSET(BE8,0,-1)=$E8),"S",IF(OR(OFFSET(BE8,0,-2)=$D8,OFFSET(BE8,0,-1)=$E8),"M","I")),Règles!$A$1:$A$4,0)),0) -> 0 | BF8: =RANDBETWEEN(0,4) -> 1 | BG8: =RANDBETWEEN(0,4) -> 2 | BH8: =IF(AND(OFFSET(BH8,0,-2)<>"",OFFSET(BH8,0,-1)<>""),INDEX(Règles!$C$1:$C$4,MATCH(IF(IF($D8>$E8,"Gd",IF($D8=$E8,"N","Pd"))=IF(OFFSET(BH8,0,-2)>OFFSET(BH8,0,-1),"Gd",IF(OFFSET(BH8,0,-2)=OFFSET(BH8,0,-1),"N","Pd")),"R","I"),Règles!$A$1:$A$4,0))+INDEX(Règles!$C$1:$C$4,MATCH(IF(AND(OFFSET(BH8,0,-2)=$D8,OFFSET(BH8,0,-1)=$E8),"S",IF(OR(OFFSET(BH8,0,-2)=$D8,OFFSET(BH8,0,-1)=$E8),"M","I")),Règles!$A$1:$A$4,0)),0) -> 0 | BI8: =RANDBETWEEN(0,4) -> 2 | BJ8: =RANDBETWEEN(0,4) -> 1 | BK8: =IF(AND(OFFSET(BK8,0,-2)<>"",OFFSET(BK8,0,-1)<>""),INDEX(Règles!$C$1:$C$4,MATCH(IF(IF($D8>$E8,"Gd",IF($D8=$E8,"N","Pd"))=IF(OFFSET(BK8,0,-2)>OFFSET(BK8,0,-1),"Gd",IF(OFFSET(BK8,0,-2)=OFFSET(BK8,0,-1),"N","Pd")),"R","I"),Règles!$A$1:$A$4,0))+INDEX(Règles!$C$1:$C$4,MATCH(IF(AND(OFFSET(BK8,0,-2)=$D8,OFFSET(BK8,0,-1)=$E8),"S",IF(OR(OFFSET(BK8,0,-2)=$D8,OFFSET(BK8,0,-1)=$E8),"M","I")),Règles!$A$1:$A$4,0)),0) -> 6 | BL8: =RANDBETWEEN(0,4) -> 4 | BM8: =RANDBETWEEN(0,4) -> 1 | BN8: =IF(AND(OFFSET(BN8,0,-2)<>"",OFFSET(BN8,0,-1)<>""),INDEX(Règles!$C$1:$C$4,MATCH(IF(IF($D8>$E8,"Gd",IF($D8=$E8,"N","Pd"))=IF(OFFSET(BN8,0,-2)>OFFSET(BN8,0,-1),"Gd",IF(OFFSET(BN8,0,-2)=OFFSET(BN8,0,-1),"N","Pd")),"R","I"),Règles!$A$1:$A$4,0))+INDEX(Règles!$C$1:$C$4,MATCH(IF(AND(OFFSET(BN8,0,-2)=$D8,OFFSET(BN8,0,-1)=$E8),"S",IF(OR(OFFSET(BN8,0,-2)=$D8,OFFSET(BN8,0,-1)=$E8),"M","I")),Règles!$A$1:$A$4,0)),0) -> 6 | BO8: =RANDBETWEEN(0,4) -> 2 | BP8: =RANDBETWEEN(0,4) -> 1 | BQ8: =IF(AND(OFFSET(BQ8,0,-2)<>"",OFFSET(BQ8,0,-1)<>""),INDEX(Règles!$C$1:$C$4,MATCH(IF(IF($D8>$E8,"Gd",IF($D8=$E8,"N","Pd"))=IF(OFFSET(BQ8,0,-2)>OFFSET(BQ8,0,-1),"Gd",IF(OFFSET(BQ8,0,-2)=OFFSET(BQ8,0,-1),"N","Pd")),"R","I"),Règles!$A$1:$A$4,0))+INDEX(Règles!$C$1:$C$4,MATCH(IF(AND(OFFSET(BQ8,0,-2)=$D8,OFFSET(BQ8,0,-1)=$E8),"S",IF(OR(OFFSET(BQ8,0,-2)=$D8,OFFSET(BQ8,0,-1)=$E8),"M","I")),Règles!$A$1:$A$4,0)),0) -> 6 | BR8: =RANDBETWEEN(0,4) -> 0 | BS8: =RANDBETWEEN(0,4) -> 4 | BT8: =IF(AND(OFFSET(BT8,0,-2)<>"",OFFSET(BT8,0,-1)<>""),INDEX(Règles!$C$1:$C$4,MATCH(IF(IF($D8>$E8,"Gd",IF($D8=$E8,"N","Pd"))=IF(OFFSET(BT8,0,-2)>OFFSET(BT8,0,-1),"Gd",IF(OFFSET(BT8,0,-2)=OFFSET(BT8,0,-1),"N","Pd")),"R","I"),Règles!$A$1:$A$4,0))+INDEX(Règles!$C$1:$C$4,MATCH(IF(AND(OFFSET(BT8,0,-2)=$D8,OFFSET(BT8,0,-1)=$E8),"S",IF(OR(OFFSET(BT8,0,-2)=$D8,OFFSET(BT8,0,-1)=$E8),"M","I")),Règles!$A$1:$A$4,0)),0) -> 0 | BU8: =RANDBETWEEN(0,4) -> 0 | BV8: =RANDBETWEEN(0,4) -> 1 | BW8: =IF(AND(OFFSET(BW8,0,-2)<>"",OFFSET(BW8,0,-1)<>""),INDEX(Règles!$C$1:$C$4,MATCH(IF(IF($D8>$E8,"Gd",IF($D8=$E8,"N","Pd"))=IF(OFFSET(BW8,0,-2)>OFFSET(BW8,0,-1),"Gd",IF(OFFSET(BW8,0,-2)=OFFSET(BW8,0,-1),"N","Pd")),"R","I"),Règles!$A$1:$A$4,0))+INDEX(Règles!$C$1:$C$4,MATCH(IF(AND(OFFSET(BW8,0,-2)=$D8,OFFSET(BW8,0,-1)=$E8),"S",IF(OR(OFFSET(BW8,0,-2)=$D8,OFFSET(BW8,0,-1)=$E8),"M","I")),Règles!$A$1:$A$4,0)),0) -> 1 | BX8: =RANDBETWEEN(0,4) -> 2 | BY8: =RANDBETWEEN(0,4) -> 4 | BZ8: =IF(AND(OFFSET(BZ8,0,-2)<>"",OFFSET(BZ8,0,-1)<>""),INDEX(Règles!$C$1:$C$4,MATCH(IF(IF($D8>$E8,"Gd",IF($D8=$E8,"N","Pd"))=IF(OFFSET(BZ8,0,-2)>OFFSET(BZ8,0,-1),"Gd",IF(OFFSET(BZ8,0,-2)=OFFSET(BZ8,0,-1),"N","Pd")),"R","I"),Règles!$A$1:$A$4,0))+INDEX(Règles!$C$1:$C$4,MATCH(IF(AND(OFFSET(BZ8,0,-2)=$D8,OFFSET(BZ8,0,-1)=$E8),"S",IF(OR(OFFSET(BZ8,0,-2)=$D8,OFFSET(BZ8,0,-1)=$E8),"M","I")),Règles!$A$1:$A$4,0)),0) -> 0
A9: Match 7 | B9: Monaco | C9: Rennes | D9: 1 | E9: 1 | G9: =RANDBETWEEN(0,4) -> 3 | H9: =RANDBETWEEN(0,4) -> 4 | I9: =IF(AND(OFFSET(I9,0,-2)<>"",OFFSET(I9,0,-1)<>""),INDEX(Règles!$C$1:$C$4,MATCH(IF(IF($D9>$E9,"Gd",IF($D9=$E9,"N","Pd"))=IF(OFFSET(I9,0,-2)>OFFSET(I9,0,-1),"Gd",IF(OFFSET(I9,0,-2)=OFFSET(I9,0,-1),"N","Pd")),"R","I"),Règles!$A$1:$A$4,0))+INDEX(Règles!$C$1:$C$4,MATCH(IF(AND(OFFSET(I9,0,-2)=$D9,OFFSET(I9,0,-1)=$E9),"S",IF(OR(OFFSET(I9,0,-2)=$D9,OFFSET(I9,0,-1)=$E9),"M","I")),Règles!$A$1:$A$4,0)),0) -> 0 | J9: =RANDBETWEEN(0,4) -> 1 | K9: =RANDBETWEEN(0,4) -> 2 | L9: =IF(AND(OFFSET(L9,0,-2)<>"",OFFSET(L9,0,-1)<>""),INDEX(Règles!$C$1:$C$4,MATCH(IF(IF($D9>$E9,"Gd",IF($D9=$E9,"N","Pd"))=IF(OFFSET(L9,0,-2)>OFFSET(L9,0,-1),"Gd",IF(OFFSET(L9,0,-2)=OFFSET(L9,0,-1),"N","Pd")),"R","I"),Règles!$A$1:$A$4,0))+INDEX(Règles!$C$1:$C$4,MATCH(IF(AND(OFFSET(L9,0,-2)=$D9,OFFSET(L9,0,-1)=$E9),"S",IF(OR(OFFSET(L9,0,-2)=$D9,OFFSET(L9,0,-1)=$E9),"M","I")),Règles!$A$1:$A$4,0)),0) -> 1 | M9: =RANDBETWEEN(0,4) -> 0 | N9: =RANDBETWEEN(0,4) -> 3 | O9: =IF(AND(OFFSET(O9,0,-2)<>"",OFFSET(O9,0,-1)<>""),INDEX(Règles!$C$1:$C$4,MATCH(IF(IF($D9>$E9,"Gd",IF($D9=$E9,"N","Pd"))=IF(OFFSET(O9,0,-2)>OFFSET(O9,0,-1),"Gd",IF(OFFSET(O9,0,-2)=OFFSET(O9,0,-1),"N","Pd")),"R","I"),Règles!$A$1:$A$4,0))+INDEX(Règles!$C$1:$C$4,MATCH(IF(AND(OFFSET(O9,0,-2)=$D9,OFFSET(O9,0,-1)=$E9),"S",IF(OR(OFFSET(O9,0,-2)=$D9,OFFSET(O9,0,-1)=$E9),"M","I")),Règles!$A$1:$A$4,0)),0) -> 0 | P9: =RANDBETWEEN(0,4) -> 3 | Q9: =RANDBETWEEN(0,4) -> 2 | R9: =IF(AND(OFFSET(R9,0,-2)<>"",OFFSET(R9,0,-1)<>""),INDEX(Règles!$C$1:$C$4,MATCH(IF(IF($D9>$E9,"Gd",IF($D9=$E9,"N","Pd"))=IF(OFFSET(R9,0,-2)>OFFSET(R9,0,-1),"Gd",IF(OFFSET(R9,0,-2)=OFFSET(R9,0,-1),"N","Pd")),"R","I"),Règles!$A$1:$A$4,0))+INDEX(Règles!$C$1:$C$4,MATCH(IF(AND(OFFSET(R9,0,-2)=$D9,OFFSET(R9,0,-1)=$E9),"S",IF(OR(OFFSET(R9,0,-2)=$D9,OFFSET(R9,0,-1)=$E9),"M","I")),Règles!$A$1:$A$4,0)),0) -> 0 | S9: =RANDBETWEEN(0,4) -> 4 | T9: =RANDBETWEEN(0,4) -> 2 | U9: =IF(AND(OFFSET(U9,0,-2)<>"",OFFSET(U9,0,-1)<>""),INDEX(Règles!$C$1:$C$4,MATCH(IF(IF($D9>$E9,"Gd",IF($D9=$E9,"N","Pd"))=IF(OFFSET(U9,0,-2)>OFFSET(U9,0,-1),"Gd",IF(OFFSET(U9,0,-2)=OFFSET(U9,0,-1),"N","Pd")),"R","I"),Règles!$A$1:$A$4,0))+INDEX(Règles!$C$1:$C$4,MATCH(IF(AND(OFFSET(U9,0,-2)=$D9,OFFSET(U9,0,-1)=$E9),"S",IF(OR(OFFSET(U9,0,-2)=$D9,OFFSET(U9,0,-1)=$E9),"M","I")),Règles!$A$1:$A$4,0)),0) -> 0 | V9: =RANDBETWEEN(0,4) -> 1 | W9: =RANDBETWEEN(0,4) -> 2 | X9: =IF(AND(OFFSET(X9,0,-2)<>"",OFFSET(X9,0,-1)<>""),INDEX(Règles!$C$1:$C$4,MATCH(IF(IF($D9>$E9,"Gd",IF($D9=$E9,"N","Pd"))=IF(OFFSET(X9,0,-2)>OFFSET(X9,0,-1),"Gd",IF(OFFSET(X9,0,-2)=OFFSET(X9,0,-1),"N","Pd")),"R","I"),Règles!$A$1:$A$4,0))+INDEX(Règles!$C$1:$C$4,MATCH(IF(AND(OFFSET(X9,0,-2)=$D9,OFFSET(X9,0,-1)=$E9),"S",IF(OR(OFFSET(X9,0,-2)=$D9,OFFSET(X9,0,-1)=$E9),"M","I")),Règles!$A$1:$A$4,0)),0) -> 1 | Y9: =RANDBETWEEN(0,4) -> 2 | Z9: =RANDBETWEEN(0,4) -> 2 | AA9: =IF(AND(OFFSET(AA9,0,-2)<>"",OFFSET(AA9,0,-1)<>""),INDEX(Règles!$C$1:$C$4,MATCH(IF(IF($D9>$E9,"Gd",IF($D9=$E9,"N","Pd"))=IF(OFFSET(AA9,0,-2)>OFFSET(AA9,0,-1),"Gd",IF(OFFSET(AA9,0,-2)=OFFSET(AA9,0,-1),"N","Pd")),"R","I"),Règles!$A$1:$A$4,0))+INDEX(Règles!$C$1:$C$4,MATCH(IF(AND(OFFSET(AA9,0,-2)=$D9,OFFSET(AA9,0,-1)=$E9),"S",IF(OR(OFFSET(AA9,0,-2)=$D9,OFFSET(AA9,0,-1)=$E9),"M","I")),Règles!$A$1:$A$4,0)),0) -> 5 | AB9: =RANDBETWEEN(0,4) -> 4 | AC9: =RANDBETWEEN(0,4) -> 4 | AD9: =IF(AND(OFFSET(AD9,0,-2)<>"",OFFSET(AD9,0,-1)<>""),INDEX(Règles!$C$1:$C$4,MATCH(IF(IF($D9>$E9,"Gd",IF($D9=$E9,"N","Pd"))=IF(OFFSET(AD9,0,-2)>OFFSET(AD9,0,-1),"Gd",IF(OFFSET(AD9,0,-2)=OFFSET(AD9,0,-1),"N","Pd")),"R","I"),Règles!$A$1:$A$4,0))+INDEX(Règles!$C$1:$C$4,MATCH(IF(AND(OFFSET(AD9,0,-2)=$D9,OFFSET(AD9,0,-1)=$E9),"S",IF(OR(OFFSET(AD9,0,-2)=$D9,OFFSET(AD9,0,-1)=$E9),"M","I")),Règles!$A$1:$A$4,0)),0) -> 5 | AE9: =RANDBETWEEN(0,4) -> 1 | AF9: =RANDBETWEEN(0,4) -> 1 | AG9: =IF(AND(OFFSET(AG9,0,-2)<>"",OFFSET(AG9,0,-1)<>""),INDEX(Règles!$C$1:$C$4,MATCH(IF(IF($D9>$E9,"Gd",IF($D9=$E9,"N","Pd"))=IF(OFFSET(AG9,0,-2)>OFFSET(AG9,0,-1),"Gd",IF(OFFSET(AG9,0,-2)=OFFSET(AG9,0,-1),"N","Pd")),"R","I"),Règles!$A$1:$A$4,0))+INDEX(Règles!$C$1:$C$4,MATCH(IF(AND(OFFSET(AG9,0,-2)=$D9,OFFSET(AG9,0,-1)=$E9),"S",IF(OR(OFFSET(AG9,0,-2)=$D9,OFFSET(AG9,0,-1)=$E9),"M","I")),Règles!$A$1:$A$4,0)),0) -> 10 | AH9: =RANDBETWEEN(0,4) -> 3 | AI9: =RANDBETWEEN(0,4) -> 4 | AJ9: =IF(AND(OFFSET(AJ9,0,-2)<>"",OFFSET(AJ9,0,-1)<>""),INDEX(Règles!$C$1:$C$4,MATCH(IF(IF($D9>$E9,"Gd",IF($D9=$E9,"N","Pd"))=IF(OFFSET(AJ9,0,-2)>OFFSET(AJ9,0,-1),"Gd",IF(OFFSET(AJ9,0,-2)=OFFSET(AJ9,0,-1),"N","Pd")),"R","I"),Règles!$A$1:$A$4,0))+INDEX(Règles!$C$1:$C$4,MATCH(IF(AND(OFFSET(AJ9,0,-2)=$D9,OFFSET(AJ9,0,-1)=$E9),"S",IF(OR(OFFSET(AJ9,0,-2)=$D9,OFFSET(AJ9,0,-1)=$E9),"M","I")),Règles!$A$1:$A$4,0)),0) -> 0 | AK9: =RANDBETWEEN(0,4) -> 2 | AL9: =RANDBETWEEN(0,4) -> 1 | AM9: =IF(AND(OFFSET(AM9,0,-2)<>"",OFFSET(AM9,0,-1)<>""),INDEX(Règles!$C$1:$C$4,MATCH(IF(IF($D9>$E9,"Gd",IF($D9=$E9,"N","Pd"))=IF(OFFSET(AM9,0,-2)>OFFSET(AM9,0,-1),"Gd",IF(OFFSET(AM9,0,-2)=OFFSET(AM9,0,-1),"N","Pd")),"R","I"),Règles!$A$1:$A$4,0))+INDEX(Règles!$C$1:$C$4,MATCH(IF(AND(OFFSET(AM9,0,-2)=$D9,OFFSET(AM9,0,-1)=$E9),"S",IF(OR(OFFSET(AM9,0,-2)=$D9,OFFSET(AM9,0,-1)=$E9),"M","I")),Règles!$A$1:$A$4,0)),0) -> 1 | AN9: =RANDBETWEEN(0,4) -> 3 | AO9: =RANDBETWEEN(0,4) -> 1 | AP9: =IF(AND(OFFSET(AP9,0,-2)<>"",OFFSET(AP9,0,-1)<>""),INDEX(Règles!$C$1:$C$4,MATCH(IF(IF($D9>$E9,"Gd",IF($D9=$E9,"N","Pd"))=IF(OFFSET(AP9,0,-2)>OFFSET(AP9,0,-1),"Gd",IF(OFFSET(AP9,0,-2)=OFFSET(AP9,0,-1),"N","Pd")),"R","I"),Règles!$A$1:$A$4,0))+INDEX(Règles!$C$1:$C$4,MATCH(IF(AND(OFFSET(AP9,0,-2)=$D9,OFFSET(AP9,0,-1)=$E9),"S",IF(OR(OFFSET(AP9,0,-2)=$D9,OFFSET(AP9,0,-1)=$E9),"M","I")),Règles!$A$1:$A$4,0)),0) -> 1 | AQ9: =RANDBETWEEN(0,4) -> 1 | AR9: =RANDBETWEEN(0,4) -> 1 | AS9: =IF(AND(OFFSET(AS9,0,-2)<>"",OFFSET(AS9,0,-1)<>""),INDEX(Règles!$C$1:$C$4,MATCH(IF(IF($D9>$E9,"Gd",IF($D9=$E9,"N","Pd"))=IF(OFFSET(AS9,0,-2)>OFFSET(AS9,0,-1),"Gd",IF(OFFSET(AS9,0,-2)=OFFSET(AS9,0,-1),"N","Pd")),"R","I"),Règles!$A$1:$A$4,0))+INDEX(Règles!$C$1:$C$4,MATCH(IF(AND(OFFSET(AS9,0,-2)=$D9,OFFSET(AS9,0,-1)=$E9),"S",IF(OR(OFFSET(AS9,0,-2)=$D9,OFFSET(AS9,0,-1)=$E9),"M","I")),Règles!$A$1:$A$4,0)),0) -> 10 | AT9: =RANDBETWEEN(0,4) -> 2 | AU9: =RANDBETWEEN(0,4) -> 4 | AV9: =IF(AND(OFFSET(AV9,0,-2)<>"",OFFSET(AV9,0,-1)<>""),INDEX(Règles!$C$1:$C$4,MATCH(IF(IF($D9>$E9,"Gd",IF($D9=$E9,"N","Pd"))=IF(OFFSET(AV9,0,-2)>OFFSET(AV9,0,-1),"Gd",IF(OFFSET(AV9,0,-2)=OFFSET(AV9,0,-1),"N","Pd")),"R","I"),Règles!$A$1:$A$4,0))+INDEX(Règles!$C$1:$C$4,MATCH(IF(AND(OFFSET(AV9,0,-2)=$D9,OFFSET(AV9,0,-1)=$E9),"S",IF(OR(OFFSET(AV9,0,-2)=$D9,OFFSET(AV9,0,-1)=$E9),"M","I")),Règles!$A$1:$A$4,0)),0) -> 0 | AW9: =RANDBETWEEN(0,4) -> 4 | AX9: =RANDBETWEEN(0,4) -> 1 | AY9: =IF(AND(OFFSET(AY9,0,-2)<>"",OFFSET(AY9,0,-1)<>""),INDEX(Règles!$C$1:$C$4,MATCH(IF(IF($D9>$E9,"Gd",IF($D9=$E9,"N","Pd"))=IF(OFFSET(AY9,0,-2)>OFFSET(AY9,0,-1),"Gd",IF(OFFSET(AY9,0,-2)=OFFSET(AY9,0,-1),"N","Pd")),"R","I"),Règles!$A$1:$A$4,0))+INDEX(Règles!$C$1:$C$4,MATCH(IF(AND(OFFSET(AY9,0,-2)=$D9,OFFSET(AY9,0,-1)=$E9),"S",IF(OR(OFFSET(AY9,0,-2)=$D9,OFFSET(AY9,0,-1)=$E9),"M","I")),Règles!$A$1:$A$4,0)),0) -> 1 | AZ9: =RANDBETWEEN(0,4) -> 4 | BA9: =RANDBETWEEN(0,4) -> 0 | BB9: =IF(AND(OFFSET(BB9,0,-2)<>"",OFFSET(BB9,0,-1)<>""),INDEX(Règles!$C$1:$C$4,MATCH(IF(IF($D9>$E9,"Gd",IF($D9=$E9,"N","Pd"))=IF(OFFSET(BB9,0,-2)>OFFSET(BB9,0,-1),"Gd",IF(OFFSET(BB9,0,-2)=OFFSET(BB9,0,-1),"N","Pd")),"R","I"),Règles!$A$1:$A$4,0))+INDEX(Règles!$C$1:$C$4,MATCH(IF(AND(OFFSET(BB9,0,-2)=$D9,OFFSET(BB9,0,-1)=$E9),"S",IF(OR(OFFSET(BB9,0,-2)=$D9,OFFSET(BB9,0,-1)=$E9),"M","I")),Règles!$A$1:$A$4,0)),0) -> 0 | BC9: =RANDBETWEEN(0,4) -> 2 | BD9: =RANDBETWEEN(0,4) -> 3 | BE9: =IF(AND(OFFSET(BE9,0,-2)<>"",OFFSET(BE9,0,-1)<>""),INDEX(Règles!$C$1:$C$4,MATCH(IF(IF($D9>$E9,"Gd",IF($D9=$E9,"N","Pd"))=IF(OFFSET(BE9,0,-2)>OFFSET(BE9,0,-1),"Gd",IF(OFFSET(BE9,0,-2)=OFFSET(BE9,0,-1),"N","Pd")),"R","I"),Règles!$A$1:$A$4,0))+INDEX(Règles!$C$1:$C$4,MATCH(IF(AND(OFFSET(BE9,0,-2)=$D9,OFFSET(BE9,0,-1)=$E9),"S",IF(OR(OFFSET(BE9,0,-2)=$D9,OFFSET(BE9,0,-1)=$E9),"M","I")),Règles!$A$1:$A$4,0)),0) -> 0 | BF9: =RANDBETWEEN(0,4) -> 0 | BG9: =RANDBETWEEN(0,4) -> 4 | BH9: =IF(AND(OFFSET(BH9,0,-2)<>"",OFFSET(BH9,0,-1)<>""),INDEX(Règles!$C$1:$C$4,MATCH(IF(IF($D9>$E9,"Gd",IF($D9=$E9,"N","Pd"))=IF(OFFSET(BH9,0,-2)>OFFSET(BH9,0,-1),"Gd",IF(OFFSET(BH9,0,-2)=OFFSET(BH9,0,-1),"N","Pd")),"R","I"),Règles!$A$1:$A$4,0))+INDEX(Règles!$C$1:$C$4,MATCH(IF(AND(OFFSET(BH9,0,-2)=$D9,OFFSET(BH9,0,-1)=$E9),"S",IF(OR(OFFSET(BH9,0,-2)=$D9,OFFSET(BH9,0,-1)=$E9),"M","I")),Règles!$A$1:$A$4,0)),0) -> 0 | BI9: =RANDBETWEEN(0,4) -> 4 | BJ9: =RANDBETWEEN(0,4) -> 0 | BK9: =IF(AND(OFFSET(BK9,0,-2)<>"",OFFSET(BK9,0,-1)<>""),INDEX(Règles!$C$1:$C$4,MATCH(IF(IF($D9>$E9,"Gd",IF($D9=$E9,"N","Pd"))=IF(OFFSET(BK9,0,-2)>OFFSET(BK9,0,-1),"Gd",IF(OFFSET(BK9,0,-2)=OFFSET(BK9,0,-1),"N","Pd")),"R","I"),Règles!$A$1:$A$4,0))+INDEX(Règles!$C$1:$C$4,MATCH(IF(AND(OFFSET(BK9,0,-2)=$D9,OFFSET(BK9,0,-1)=$E9),"S",IF(OR(OFFSET(BK9,0,-2)=$D9,OFFSET(BK9,0,-1)=$E9),"M","I")),Règles!$A$1:$A$4,0)),0) -> 0 | BL9: =RANDBETWEEN(0,4) -> 0 | BM9: =RANDBETWEEN(0,4) -> 3 | BN9: =IF(AND(OFFSET(BN9,0,-2)<>"",OFFSET(BN9,0,-1)<>""),INDEX(Règles!$C$1:$C$4,MATCH(IF(IF($D9>$E9,"Gd",IF($D9=$E9,"N","Pd"))=IF(OFFSET(BN9,0,-2)>OFFSET(BN9,0,-1),"Gd",IF(OFFSET(BN9,0,-2)=OFFSET(BN9,0,-1),"N","Pd")),"R","I"),Règles!$A$1:$A$4,0))+INDEX(Règles!$C$1:$C$4,MATCH(IF(AND(OFFSET(BN9,0,-2)=$D9,OFFSET(BN9,0,-1)=$E9),"S",IF(OR(OFFSET(BN9,0,-2)=$D9,OFFSET(BN9,0,-1)=$E9),"M","I")),Règles!$A$1:$A$4,0)),0) -> 0 | BO9: =RANDBETWEEN(0,4) -> 1 | BP9: =RANDBETWEEN(0,4) -> 0 | BQ9: =IF(AND(OFFSET(BQ9,0,-2)<>"",OFFSET(BQ9,0,-1)<>""),INDEX(Règles!$C$1:$C$4,MATCH(IF(IF($D9>$E9,"Gd",IF($D9=$E9,"N","Pd"))=IF(OFFSET(BQ9,0,-2)>OFFSET(BQ9,0,-1),"Gd",IF(OFFSET(BQ9,0,-2)=OFFSET(BQ9,0,-1),"N","Pd")),"R","I"),Règles!$A$1:$A$4,0))+INDEX(Règles!$C$1:$C$4,MATCH(IF(AND(OFFSET(BQ9,0,-2)=$D9,OFFSET(BQ9,0,-1)=$E9),"S",IF(OR(OFFSET(BQ9,0,-2)=$D9,OFFSET(BQ9,0,-1)=$E9),"M","I")),Règles!$A$1:$A$4,0)),0) -> 1 | BR9: =RANDBETWEEN(0,4) -> 3 | BS9: =RANDBETWEEN(0,4) -> 1 | BT9: =IF(AND(OFFSET(BT9,0,-2)<>"",OFFSET(BT9,0,-1)<>""),INDEX(Règles!$C$1:$C$4,MATCH(IF(IF($D9>$E9,"Gd",IF($D9=$E9,"N","Pd"))=IF(OFFSET(BT9,0,-2)>OFFSET(BT9,0,-1),"Gd",IF(OFFSET(BT9,0,-2)=OFFSET(BT9,0,-1),"N","Pd")),"R","I"),Règles!$A$1:$A$4,0))+INDEX(Règles!$C$1:$C$4,MATCH(IF(AND(OFFSET(BT9,0,-2)=$D9,OFFSET(BT9,0,-1)=$E9),"S",IF(OR(OFFSET(BT9,0,-2)=$D9,OFFSET(BT9,0,-1)=$E9),"M","I")),Règles!$A$1:$A$4,0)),0) -> 1 | BU9: =RANDBETWEEN(0,4) -> 3 | BV9: =RANDBETWEEN(0,4) -> 4 | BW9: =IF(AND(OFFSET(BW9,0,-2)<>"",OFFSET(BW9,0,-1)<>""),INDEX(Règles!$C$1:$C$4,MATCH(IF(IF($D9>$E9,"Gd",IF($D9=$E9,"N","Pd"))=IF(OFFSET(BW9,0,-2)>OFFSET(BW9,0,-1),"Gd",IF(OFFSET(BW9,0,-2)=OFFSET(BW9,0,-1),"N","Pd")),"R","I"),Règles!$A$1:$A$4,0))+INDEX(Règles!$C$1:$C$4,MATCH(IF(AND(OFFSET(BW9,0,-2)=$D9,OFFSET(BW9,0,-1)=$E9),"S",IF(OR(OFFSET(BW9,0,-2)=$D9,OFFSET(BW9,0,-1)=$E9),"M","I")),Règles!$A$1:$A$4,0)),0) -> 0 | BX9: =RANDBETWEEN(0,4) -> 2 | BY9: =RANDBETWEEN(0,4) -> 2 | BZ9: =IF(AND(OFFSET(BZ9,0,-2)<>"",OFFSET(BZ9,0,-1)<>""),INDEX(Règles!$C$1:$C$4,MATCH(IF(IF($D9>$E9,"Gd",IF($D9=$E9,"N","Pd"))=IF(OFFSET(BZ9,0,-2)>OFFSET(BZ9,0,-1),"Gd",IF(OFFSET(BZ9,0,-2)=OFFSET(BZ9,0,-1),"N","Pd")),"R","I"),Règles!$A$1:$A$4,0))+INDEX(Règles!$C$1:$C$4,MATCH(IF(AND(OFFSET(BZ9,0,-2)=$D9,OFFSET(BZ9,0,-1)=$E9),"S",IF(OR(OFFSET(BZ9,0,-2)=$D9,OFFSET(BZ9,0,-1)=$E9),"M","I")),Règles!$A$1:$A$4,0)),0) -> 5
A10: Match 8 | B10: Lille | C10: Bordeaux | D10: 2 | E10: 0 | G10: =RANDBETWEEN(0,4) -> 3 | H10: =RANDBETWEEN(0,4) -> 4 | I10: =IF(AND(OFFSET(I10,0,-2)<>"",OFFSET(I10,0,-1)<>""),INDEX(Règles!$C$1:$C$4,MATCH(IF(IF($D10>$E10,"Gd",IF($D10=$E10,"N","Pd"))=IF(OFFSET(I10,0,-2)>OFFSET(I10,0,-1),"Gd",IF(OFFSET(I10,0,-2)=OFFSET(I10,0,-1),"N","Pd")),"R","I"),Règles!$A$1:$A$4,0))+INDEX(Règles!$C$1:$C$4,MATCH(IF(AND(OFFSET(I10,0,-2)=$D10,OFFSET(I10,0,-1)=$E10),"S",IF(OR(OFFSET(I10,0,-2)=$D10,OFFSET(I10,0,-1)=$E10),"M","I")),Règles!$A$1:$A$4,0)),0) -> 0 | J10: =RANDBETWEEN(0,4) -> 1 | K10: =RANDBETWEEN(0,4) -> 3 | L10: =IF(AND(OFFSET(L10,0,-2)<>"",OFFSET(L10,0,-1)<>""),INDEX(Règles!$C$1:$C$4,MATCH(IF(IF($D10>$E10,"Gd",IF($D10=$E10,"N","Pd"))=IF(OFFSET(L10,0,-2)>OFFSET(L10,0,-1),"Gd",IF(OFFSET(L10,0,-2)=OFFSET(L10,0,-1),"N","Pd")),"R","I"),Règles!$A$1:$A$4,0))+INDEX(Règles!$C$1:$C$4,MATCH(IF(AND(OFFSET(L10,0,-2)=$D10,OFFSET(L10,0,-1)=$E10),"S",IF(OR(OFFSET(L10,0,-2)=$D10,OFFSET(L10,0,-1)=$E10),"M","I")),Règles!$A$1:$A$4,0)),0) -> 0 | M10: =RANDBETWEEN(0,4) -> 0 | N10: =RANDBETWEEN(0,4) -> 4 | O10: =IF(AND(OFFSET(O10,0,-2)<>"",OFFSET(O10,0,-1)<>""),INDEX(Règles!$C$1:$C$4,MATCH(IF(IF($D10>$E10,"Gd",IF($D10=$E10,"N","Pd"))=IF(OFFSET(O10,0,-2)>OFFSET(O10,0,-1),"Gd",IF(OFFSET(O10,0,-2)=OFFSET(O10,0,-1),"N","Pd")),"R","I"),Règles!$A$1:$A$4,0))+INDEX(Règles!$C$1:$C$4,MATCH(IF(AND(OFFSET(O10,0,-2)=$D10,OFFSET(O10,0,-1)=$E10),"S",IF(OR(OFFSET(O10,0,-2)=$D10,OFFSET(O10,0,-1)=$E10),"M","I")),Règles!$A$1:$A$4,0)),0) -> 0 | P10: =RANDBETWEEN(0,4) -> 4 | Q10: =RANDBETWEEN(0,4) -> 1 | R10: =IF(AND(OFFSET(R10,0,-2)<>"",OFFSET(R10,0,-1)<>""),INDEX(Règles!$C$1:$C$4,MATCH(IF(IF($D10>$E10,"Gd",IF($D10=$E10,"N","Pd"))=IF(OFFSET(R10,0,-2)>OFFSET(R10,0,-1),"Gd",IF(OFFSET(R10,0,-2)=OFFSET(R10,0,-1),"N","Pd")),"R","I"),Règles!$A$1:$A$4,0))+INDEX(Règles!$C$1:$C$4,MATCH(IF(AND(OFFSET(R10,0,-2)=$D10,OFFSET(R10,0,-1)=$E10),"S",IF(OR(OFFSET(R10,0,-2)=$D10,OFFSET(R10,0,-1)=$E10),"M","I")),Règles!$A$1:$A$4,0)),0) -> 5 | S10: =RANDBETWEEN(0,4) -> 2 | T10: =RANDBETWEEN(0,4) -> 4 | U10: =IF(AND(OFFSET(U10,0,-2)<>"",OFFSET(U10,0,-1)<>""),INDEX(Règles!$C$1:$C$4,MATCH(IF(IF($D10>$E10,"Gd",IF($D10=$E10,"N","Pd"))=IF(OFFSET(U10,0,-2)>OFFSET(U10,0,-1),"Gd",IF(OFFSET(U10,0,-2)=OFFSET(U10,0,-1),"N","Pd")),"R","I"),Règles!$A$1:$A$4,0))+INDEX(Règles!$C$1:$C$4,MATCH(IF(AND(OFFSET(U10,0,-2)=$D10,OFFSET(U10,0,-1)=$E10),"S",IF(OR(OFFSET(U10,0,-2)=$D10,OFFSET(U10,0,-1)=$E10),"M","I")),Règles!$A$1:$A$4,0)),0) -> 1 | V10: =RANDBETWEEN(0,4) -> 1 | W10: =RANDBETWEEN(0,4) -> 3 | X10: =IF(AND(OFFSET(X10,0,-2)<>"",OFFSET(X10,0,-1)<>""),INDEX(Règles!$C$1:$C$4,MATCH(IF(IF($D10>$E10,"Gd",IF($D10=$E10,"N","Pd"))=IF(OFFSET(X10,0,-2)>OFFSET(X10,0,-1),"Gd",IF(OFFSET(X10,0,-2)=OFFSET(X10,0,-1),"N","Pd")),"R","I"),Règles!$A$1:$A$4,0))+INDEX(Règles!$C$1:$C$4,MATCH(IF(AND(OFFSET(X10,0,-2)=$D10,OFFSET(X10,0,-1)=$E10),"S",IF(OR(OFFSET(X10,0,-2)=$D10,OFFSET(X10,0,-1)=$E10),"M","I")),Règles!$A$1:$A$4,0)),0) -> 0 | Y10: =RANDBETWEEN(0,4) -> 0 | Z10: =RANDBETWEEN(0,4) -> 2 | AA10: =IF(AND(OFFSET(AA10,0,-2)<>"",OFFSET(AA10,0,-1)<>""),INDEX(Règles!$C$1:$C$4,MATCH(IF(IF($D10>$E10,"Gd",IF($D10=$E10,"N","Pd"))=IF(OFFSET(AA10,0,-2)>OFFSET(AA10,0,-1),"Gd",IF(OFFSET(AA10,0,-2)=OFFSET(AA10,0,-1),"N","Pd")),"R","I"),Règles!$A$1:$A$4,0))+INDEX(Règles!$C$1:$C$4,MATCH(IF(AND(OFFSET(AA10,0,-2)=$D10,OFFSET(AA10,0,-1)=$E10),"S",IF(OR(OFFSET(AA10,0,-2)=$D10,OFFSET(AA10,0,-1)=$E10),"M","I")),Règles!$A$1:$A$4,0)),0) -> 0 | AB10: =RANDBETWEEN(0,4) -> 1 | AC10: =RANDBETWEEN(0,4) -> 1 | AD10: =IF(AND(OFFSET(AD10,0,-2)<>"",OFFSET(AD10,0,-1)<>""),INDEX(Règles!$C$1:$C$4,MATCH(IF(IF($D10>$E10,"Gd",IF($D10=$E10,"N","Pd"))=IF(OFFSET(AD10,0,-2)>OFFSET(AD10,0,-1),"Gd",IF(OFFSET(AD10,0,-2)=OFFSET(AD10,0,-1),"N","Pd")),"R","I"),Règles!$A$1:$A$4,0))+INDEX(Règles!$C$1:$C$4,MATCH(IF(AND(OFFSET(AD10,0,-2)=$D10,OFFSET(AD10,0,-1)=$E10),"S",IF(OR(OFFSET(AD10,0,-2)=$D10,OFFSET(AD10,0,-1)=$E10),"M","I")),Règles!$A$1:$A$4,0)),0) -> 0 | AE10: =RANDBETWEEN(0,4) -> 0 | AF10: =RANDBETWEEN(0,4) -> 3 | AG10: =IF(AND(OFFSET(AG10,0,-2)<>"",OFFSET(AG10,0,-1)<>""),INDEX(Règles!$C$1:$C$4,MATCH(IF(IF($D10>$E10,"Gd",IF($D10=$E10,"N","Pd"))=IF(OFFSET(AG10,0,-2)>OFFSET(AG10,0,-1),"Gd",IF(OFFSET(AG10,0,-2)=OFFSET(AG10,0,-1),"N","Pd")),"R","I"),Règles!$A$1:$A$4,0))+INDEX(Règles!$C$1:$C$4,MATCH(IF(AND(OFFSET(AG10,0,-2)=$D10,OFFSET(AG10,0,-1)=$E10),"S",IF(OR(OFFSET(AG10,0,-2)=$D10,OFFSET(AG10,0,-1)=$E10),"M","I")),Règles!$A$1:$A$4,0)),0) -> 0 | AH10: =RANDBETWEEN(0,4) -> 3 | AI10: =RANDBETWEEN(0,4) -> 1 | AJ10: =IF(AND(OFFSET(AJ10,0,-2)<>"",OFFSET(AJ10,0,-1)<>""),INDEX(Règles!$C$1:$C$4,MATCH(IF(IF($D10>$E10,"Gd",IF($D10=$E10,"N","Pd"))=IF(OFFSET(AJ10,0,-2)>OFFSET(AJ10,0,-1),"Gd",IF(OFFSET(AJ10,0,-2)=OFFSET(AJ10,0,-1),"N","Pd")),"R","I"),Règles!$A$1:$A$4,0))+INDEX(Règles!$C$1:$C$4,MATCH(IF(AND(OFFSET(AJ10,0,-2)=$D10,OFFSET(AJ10,0,-1)=$E10),"S",IF(OR(OFFSET(AJ10,0,-2)=$D10,OFFSET(AJ10,0,-1)=$E10),"M","I")),Règles!$A$1:$A$4,0)),0) -> 5 | AK10: =RANDBETWEEN(0,4) -> 0 | AL10: =RANDBETWEEN(0,4) -> 1 | AM10: =IF(AND(OFFSET(AM10,0,-2)<>"",OFFSET(AM10,0,-1)<>""),INDEX(Règles!$C$1:$C$4,MATCH(IF(IF($D10>$E10,"Gd",IF($D10=$E10,"N","Pd"))=IF(OFFSET(AM10,0,-2)>OFFSET(AM10,0,-1),"Gd",IF(OFFSET(AM10,0,-2)=OFFSET(AM10,0,-1),"N","Pd")),"R","I"),Règles!$A$1:$A$4,0))+INDEX(Règles!$C$1:$C$4,MATCH(IF(AND(OFFSET(AM10,0,-2)=$D10,OFFSET(AM10,0,-1)=$E10),"S",IF(OR(OFFSET(AM10,0,-2)=$D10,OFFSET(AM10,0,-1)=$E10),"M","I")),Règles!$A$1:$A$4,0)),0) -> 0 | AN10: =RANDBETWEEN(0,4) -> 1 | AO10: =RANDBETWEEN(0,4) -> 0 | AP10: =IF(AND(OFFSET(AP10,0,-2)<>"",OFFSET(AP10,0,-1)<>""),INDEX(Règles!$C$1:$C$4,MATCH(IF(IF($D10>$E10,"Gd",IF($D10=$E10,"N","Pd"))=IF(OFFSET(AP10,0,-2)>OFFSET(AP10,0,-1),"Gd",IF(OFFSET(AP10,0,-2)=OFFSET(AP10,0,-1),"N","Pd")),"R","I"),Règles!$A$1:$A$4,0))+INDEX(Règles!$C$1:$C$4,MATCH(IF(AND(OFFSET(AP10,0,-2)=$D10,OFFSET(AP10,0,-1)=$E10),"S",IF(OR(OFFSET(AP10,0,-2)=$D10,OFFSET(AP10,0,-1)=$E10),"M","I")),Règles!$A$1:$A$4,0)),0) -> 6 | AQ10: =RANDBETWEEN(0,4) -> 3 | AR10: =RANDBETWEEN(0,4) -> 2 | AS10: =IF(AND(OFFSET(AS10,0,-2)<>"",OFFSET(AS10,0,-1)<>""),INDEX(Règles!$C$1:$C$4,MATCH(IF(IF($D10>$E10,"Gd",IF($D10=$E10,"N","Pd"))=IF(OFFSET(AS10,0,-2)>OFFSET(AS10,0,-1),"Gd",IF(OFFSET(AS10,0,-2)=OFFSET(AS10,0,-1),"N","Pd")),"R","I"),Règles!$A$1:$A$4,0))+INDEX(Règles!$C$1:$C$4,MATCH(IF(AND(OFFSET(AS10,0,-2)=$D10,OFFSET(AS10,0,-1)=$E10),"S",IF(OR(OFFSET(AS10,0,-2)=$D10,OFFSET(AS10,0,-1)=$E10),"M","I")),Règles!$A$1:$A$4,0)),0) -> 5 | AT10: =RANDBETWEEN(0,4) -> 2 | AU10: =RANDBETWEEN(0,4) -> 3 | AV10: =IF(AND(OFFSET(AV10,0,-2)<>"",OFFSET(AV10,0,-1)<>""),INDEX(Règles!$C$1:$C$4,MATCH(IF(IF($D10>$E10,"Gd",IF($D10=$E10,"N","Pd"))=IF(OFFSET(AV10,0,-2)>OFFSET(AV10,0,-1),"Gd",IF(OFFSET(AV10,0,-2)=OFFSET(AV10,0,-1),"N","Pd")),"R","I"),Règles!$A$1:$A$4,0))+INDEX(Règles!$C$1:$C$4,MATCH(IF(AND(OFFSET(AV10,0,-2)=$D10,OFFSET(AV10,0,-1)=$E10),"S",IF(OR(OFFSET(AV10,0,-2)=$D10,OFFSET(AV10,0,-1)=$E10),"M","I")),Règles!$A$1:$A$4,0)),0) -> 1 | AW10: =RANDBETWEEN(0,4) -> 2 | AX10: =RANDBETWEEN(0,4) -> 3 | AY10: =IF(AND(OFFSET(AY10,0,-2)<>"",OFFSET(AY10,0,-1)<>""),INDEX(Règles!$C$1:$C$4,MATCH(IF(IF($D10>$E10,"Gd",IF($D10=$E10,"N","Pd"))=IF(OFFSET(AY10,0,-2)>OFFSET(AY10,0,-1),"Gd",IF(OFFSET(AY10,0,-2)=OFFSET(AY10,0,-1),"N","Pd")),"R","I"),Règles!$A$1:$A$4,0))+INDEX(Règles!$C$1:$C$4,MATCH(IF(AND(OFFSET(AY10,0,-2)=$D10,OFFSET(AY10,0,-1)=$E10),"S",IF(OR(OFFSET(AY10,0,-2)=$D10,OFFSET(AY10,0,-1)=$E10),"M","I")),Règles!$A$1:$A$4,0)),0) -> 1 | AZ10: =RANDBETWEEN(0,4) -> 2 | BA10: =RANDBETWEEN(0,4) -> 4 | BB10: =IF(AND(OFFSET(BB10,0,-2)<>"",OFFSET(BB10,0,-1)<>""),INDEX(Règles!$C$1:$C$4,MATCH(IF(IF($D10>$E10,"Gd",IF($D10=$E10,"N","Pd"))=IF(OFFSET(BB10,0,-2)>OFFSET(BB10,0,-1),"Gd",IF(OFFSET(BB10,0,-2)=OFFSET(BB10,0,-1),"N","Pd")),"R","I"),Règles!$A$1:$A$4,0))+INDEX(Règles!$C$1:$C$4,MATCH(IF(AND(OFFSET(BB10,0,-2)=$D10,OFFSET(BB10,0,-1)=$E10),"S",IF(OR(OFFSET(BB10,0,-2)=$D10,OFFSET(BB10,0,-1)=$E10),"M","I")),Règles!$A$1:$A$4,0)),0) -> 1 | BC10: =RANDBETWEEN(0,4) -> 0 | BD10: =RANDBETWEEN(0,4) -> 0 | BE10: =IF(AND(OFFSET(BE10,0,-2)<>"",OFFSET(BE10,0,-1)<>""),INDEX(Règles!$C$1:$C$4,MATCH(IF(IF($D10>$E10,"Gd",IF($D10=$E10,"N","Pd"))=IF(OFFSET(BE10,0,-2)>OFFSET(BE10,0,-1),"Gd",IF(OFFSET(BE10,0,-2)=OFFSET(BE10,0,-1),"N","Pd")),"R","I"),Règles!$A$1:$A$4,0))+INDEX(Règles!$C$1:$C$4,MATCH(IF(AND(OFFSET(BE10,0,-2)=$D10,OFFSET(BE10,0,-1)=$E10),"S",IF(OR(OFFSET(BE10,0,-2)=$D10,OFFSET(BE10,0,-1)=$E10),"M","I")),Règles!$A$1:$A$4,0)),0) -> 1 | BF10: =RANDBETWEEN(0,4) -> 2 | BG10: =RANDBETWEEN(0,4) -> 4 | BH10: =IF(AND(OFFSET(BH10,0,-2)<>"",OFFSET(BH10,0,-1)<>""),INDEX(Règles!$C$1:$C$4,MATCH(IF(IF($D10>$E10,"Gd",IF($D10=$E10,"N","Pd"))=IF(OFFSET(BH10,0,-2)>OFFSET(BH10,0,-1),"Gd",IF(OFFSET(BH10,0,-2)=OFFSET(BH10,0,-1),"N","Pd")),"R","I"),Règles!$A$1:$A$4,0))+INDEX(Règles!$C$1:$C$4,MATCH(IF(AND(OFFSET(BH10,0,-2)=$D10,OFFSET(BH10,0,-1)=$E10),"S",IF(OR(OFFSET(BH10,0,-2)=$D10,OFFSET(BH10,0,-1)=$E10),"M","I")),Règles!$A$1:$A$4,0)),0) -> 1 | BI10: =RANDBETWEEN(0,4) -> 0 | BJ10: =RANDBETWEEN(0,4) -> 4 | BK10: =IF(AND(OFFSET(BK10,0,-2)<>"",OFFSET(BK10,0,-1)<>""),INDEX(Règles!$C$1:$C$4,MATCH(IF(IF($D10>$E10,"Gd",IF($D10=$E10,"N","Pd"))=IF(OFFSET(BK10,0,-2)>OFFSET(BK10,0,-1),"Gd",IF(OFFSET(BK10,0,-2)=OFFSET(BK10,0,-1),"N","Pd")),"R","I"),Règles!$A$1:$A$4,0))+INDEX(Règles!$C$1:$C$4,MATCH(IF(AND(OFFSET(BK10,0,-2)=$D10,OFFSET(BK10,0,-1)=$E10),"S",IF(OR(OFFSET(BK10,0,-2)=$D10,OFFSET(BK10,0,-1)=$E10),"M","I")),Règles!$A$1:$A$4,0)),0) -> 0 | BL10: =RANDBETWEEN(0,4) -> 2 | BM10: =RANDBETWEEN(0,4) -> 3 | BN10: =IF(AND(OFFSET(BN10,0,-2)<>"",OFFSET(BN10,0,-1)<>""),INDEX(Règles!$C$1:$C$4,MATCH(IF(IF($D10>$E10,"Gd",IF($D10=$E10,"N","Pd"))=IF(OFFSET(BN10,0,-2)>OFFSET(BN10,0,-1),"Gd",IF(OFFSET(BN10,0,-2)=OFFSET(BN10,0,-1),"N","Pd")),"R","I"),Règles!$A$1:$A$4,0))+INDEX(Règles!$C$1:$C$4,MATCH(IF(AND(OFFSET(BN10,0,-2)=$D10,OFFSET(BN10,0,-1)=$E10),"S",IF(OR(OFFSET(BN10,0,-2)=$D10,OFFSET(BN10,0,-1)=$E10),"M","I")),Règles!$A$1:$A$4,0)),0) -> 1 | BO10: =RANDBETWEEN(0,4) -> 1 | BP10: =RANDBETWEEN(0,4) -> 3 | BQ10: =IF(AND(OFFSET(BQ10,0,-2)<>"",OFFSET(BQ10,0,-1)<>""),INDEX(Règles!$C$1:$C$4,MATCH(IF(IF($D10>$E10,"Gd",IF($D10=$E10,"N","Pd"))=IF(OFFSET(BQ10,0,-2)>OFFSET(BQ10,0,-1),"Gd",IF(OFFSET(BQ10,0,-2)=OFFSET(BQ10,0,-1),"N","Pd")),"R","I"),Règles!$A$1:$A$4,0))+INDEX(Règles!$C$1:$C$4,MATCH(IF(AND(OFFSET(BQ10,0,-2)=$D10,OFFSET(BQ10,0,-1)=$E10),"S",IF(OR(OFFSET(BQ10,0,-2)=$D10,OFFSET(BQ10,0,-1)=$E10),"M","I")),Règles!$A$1:$A$4,0)),0) -> 0 | BR10: =RANDBETWEEN(0,4) -> 2 | BS10: =RANDBETWEEN(0,4) -> 2 | BT10: =IF(AND(OFFSET(BT10,0,-2)<>"",OFFSET(BT10,0,-1)<>""),INDEX(Règles!$C$1:$C$4,MATCH(IF(IF($D10>$E10,"Gd",IF($D10=$E10,"N","Pd"))=IF(OFFSET(BT10,0,-2)>OFFSET(BT10,0,-1),"Gd",IF(OFFSET(BT10,0,-2)=OFFSET(BT10,0,-1),"N","Pd")),"R","I"),Règles!$A$1:$A$4,0))+INDEX(Règles!$C$1:$C$4,MATCH(IF(AND(OFFSET(BT10,0,-2)=$D10,OFFSET(BT10,0,-1)=$E10),"S",IF(OR(OFFSET(BT10,0,-2)=$D10,OFFSET(BT10,0,-1)=$E10),"M","I")),Règles!$A$1:$A$4,0)),0) -> 1 | BU10: =RANDBETWEEN(0,4) -> 0 | BV10: =RANDBETWEEN(0,4) -> 2 | BW10: =IF(AND(OFFSET(BW10,0,-2)<>"",OFFSET(BW10,0,-1)<>""),INDEX(Règles!$C$1:$C$4,MATCH(IF(IF($D10>$E10,"Gd",IF($D10=$E10,"N","Pd"))=IF(OFFSET(BW10,0,-2)>OFFSET(BW10,0,-1),"Gd",IF(OFFSET(BW10,0,-2)=OFFSET(BW10,0,-1),"N","Pd")),"R","I"),Règles!$A$1:$A$4,0))+INDEX(Règles!$C$1:$C$4,MATCH(IF(AND(OFFSET(BW10,0,-2)=$D10,OFFSET(BW10,0,-1)=$E10),"S",IF(OR(OFFSET(BW10,0,-2)=$D10,OFFSET(BW10,0,-1)=$E10),"M","I")),Règles!$A$1:$A$4,0)),0) -> 0 | BX10: =RANDBETWEEN(0,4) -> 0 | BY10: =RANDBETWEEN(0,4) -> 2 | BZ10: =IF(AND(OFFSET(BZ10,0,-2)<>"",OFFSET(BZ10,0,-1)<>""),INDEX(Règles!$C$1:$C$4,MATCH(IF(IF($D10>$E10,"Gd",IF($D10=$E10,"N","Pd"))=IF(OFFSET(BZ10,0,-2)>OFFSET(BZ10,0,-1),"Gd",IF(OFFSET(BZ10,0,-2)=OFFSET(BZ10,0,-1),"N","Pd")),"R","I"),Règles!$A$1:$A$4,0))+INDEX(Règles!$C$1:$C$4,MATCH(IF(AND(OFFSET(BZ10,0,-2)=$D10,OFFSET(BZ10,0,-1)=$E10),"S",IF(OR(OFFSET(BZ10,0,-2)=$D10,OFFSET(BZ10,0,-1)=$E10),"M","I")),Règles!$A$1:$A$4,0)),0) -> 0
A11: Match 9 | B11: Montpellier | C11: Caen | D11: 1 | E11: 0 | G11: =RANDBETWEEN(0,4) -> 1 | H11: =RANDBETWEEN(0,4) -> 3 | I11: =IF(AND(OFFSET(I11,0,-2)<>"",OFFSET(I11,0,-1)<>""),INDEX(Règles!$C$1:$C$4,MATCH(IF(IF($D11>$E11,"Gd",IF($D11=$E11,"N","Pd"))=IF(OFFSET(I11,0,-2)>OFFSET(I11,0,-1),"Gd",IF(OFFSET(I11,0,-2)=OFFSET(I11,0,-1),"N","Pd")),"R","I"),Règles!$A$1:$A$4,0))+INDEX(Règles!$C$1:$C$4,MATCH(IF(AND(OFFSET(I11,0,-2)=$D11,OFFSET(I11,0,-1)=$E11),"S",IF(OR(OFFSET(I11,0,-2)=$D11,OFFSET(I11,0,-1)=$E11),"M","I")),Règles!$A$1:$A$4,0)),0) -> 1 | J11: =RANDBETWEEN(0,4) -> 4 | K11: =RANDBETWEEN(0,4) -> 4 | L11: =IF(AND(OFFSET(L11,0,-2)<>"",OFFSET(L11,0,-1)<>""),INDEX(Règles!$C$1:$C$4,MATCH(IF(IF($D11>$E11,"Gd",IF($D11=$E11,"N","Pd"))=IF(OFFSET(L11,0,-2)>OFFSET(L11,0,-1),"Gd",IF(OFFSET(L11,0,-2)=OFFSET(L11,0,-1),"N","Pd")),"R","I"),Règles!$A$1:$A$4,0))+INDEX(Règles!$C$1:$C$4,MATCH(IF(AND(OFFSET(L11,0,-2)=$D11,OFFSET(L11,0,-1)=$E11),"S",IF(OR(OFFSET(L11,0,-2)=$D11,OFFSET(L11,0,-1)=$E11),"M","I")),Règles!$A$1:$A$4,0)),0) -> 0 | M11: =RANDBETWEEN(0,4) -> 0 | N11: =RANDBETWEEN(0,4) -> 0 | O11: =IF(AND(OFFSET(O11,0,-2)<>"",OFFSET(O11,0,-1)<>""),INDEX(Règles!$C$1:$C$4,MATCH(IF(IF($D11>$E11,"Gd",IF($D11=$E11,"N","Pd"))=IF(OFFSET(O11,0,-2)>OFFSET(O11,0,-1),"Gd",IF(OFFSET(O11,0,-2)=OFFSET(O11,0,-1),"N","Pd")),"R","I"),Règles!$A$1:$A$4,0))+INDEX(Règles!$C$1:$C$4,MATCH(IF(AND(OFFSET(O11,0,-2)=$D11,OFFSET(O11,0,-1)=$E11),"S",IF(OR(OFFSET(O11,0,-2)=$D11,OFFSET(O11,0,-1)=$E11),"M","I")),Règles!$A$1:$A$4,0)),0) -> 1 | P11: =RANDBETWEEN(0,4) -> 1 | Q11: =RANDBETWEEN(0,4) -> 4 | R11: =IF(AND(OFFSET(R11,0,-2)<>"",OFFSET(R11,0,-1)<>""),INDEX(Règles!$C$1:$C$4,MATCH(IF(IF($D11>$E11,"Gd",IF($D11=$E11,"N","Pd"))=IF(OFFSET(R11,0,-2)>OFFSET(R11,0,-1),"Gd",IF(OFFSET(R11,0,-2)=OFFSET(R11,0,-1),"N","Pd")),"R","I"),Règles!$A$1:$A$4,0))+INDEX(Règles!$C$1:$C$4,MATCH(IF(AND(OFFSET(R11,0,-2)=$D11,OFFSET(R11,0,-1)=$E11),"S",IF(OR(OFFSET(R11,0,-2)=$D11,OFFSET(R11,0,-1)=$E11),"M","I")),Règles!$A$1:$A$4,0)),0) -> 1 | S11: =RANDBETWEEN(0,4) -> 0 | T11: =RANDBETWEEN(0,4) -> 0 | U11: =IF(AND(OFFSET(U11,0,-2)<>"",OFFSET(U11,0,-1)<>""),INDEX(Règles!$C$1:$C$4,MATCH(IF(IF($D11>$E11,"Gd",IF($D11=$E11,"N","Pd"))=IF(OFFSET(U11,0,-2)>OFFSET(U11,0,-1),"Gd",IF(OFFSET(U11,0,-2)=OFFSET(U11,0,-1),"N","Pd")),"R","I"),Règles!$A$1:$A$4,0))+INDEX(Règles!$C$1:$C$4,MATCH(IF(AND(OFFSET(U11,0,-2)=$D11,OFFSET(U11,0,-1)=$E11),"S",IF(OR(OFFSET(U11,0,-2)=$D11,OFFSET(U11,0,-1)=$E11),"M","I")),Règles!$A$1:$A$4,0)),0) -> 1 | V11: =RANDBETWEEN(0,4) -> 0 | W11: =RANDBETWEEN(0,4) -> 1 | X11: =IF(AND(OFFSET(X11,0,-2)<>"",OFFSET(X11,0,-1)<>""),INDEX(Règles!$C$1:$C$4,MATCH(IF(IF($D11>$E11,"Gd",IF($D11=$E11,"N","Pd"))=IF(OFFSET(X11,0,-2)>OFFSET(X11,0,-1),"Gd",IF(OFFSET(X11,0,-2)=OFFSET(X11,0,-1),"N","Pd")),"R","I"),Règles!$A$1:$A$4,0))+INDEX(Règles!$C$1:$C$4,MATCH(IF(AND(OFFSET(X11,0,-2)=$D11,OFFSET(X11,0,-1)=$E11),"S",IF(OR(OFFSET(X11,0,-2)=$D11,OFFSET(X11,0,-1)=$E11),"M","I")),Règles!$A$1:$A$4,0)),0) -> 0 | Y11: =RANDBETWEEN(0,4) -> 3 | Z11: =RANDBETWEEN(0,4) -> 2 | AA11: =IF(AND(OFFSET(AA11,0,-2)<>"",OFFSET(AA11,0,-1)<>""),INDEX(Règles!$C$1:$C$4,MATCH(IF(IF($D11>$E11,"Gd",IF($D11=$E11,"N","Pd"))=IF(OFFSET(AA11,0,-2)>OFFSET(AA11,0,-1),"Gd",IF(OFFSET(AA11,0,-2)=OFFSET(AA11,0,-1),"N","Pd")),"R","I"),Règles!$A$1:$A$4,0))+INDEX(Règles!$C$1:$C$4,MATCH(IF(AND(OFFSET(AA11,0,-2)=$D11,OFFSET(AA11,0,-1)=$E11),"S",IF(OR(OFFSET(AA11,0,-2)=$D11,OFFSET(AA11,0,-1)=$E11),"M","I")),Règles!$A$1:$A$4,0)),0) -> 5 | AB11: =RANDBETWEEN(0,4) -> 0 | AC11: =RANDBETWEEN(0,4) -> 4 | AD11: =IF(AND(OFFSET(AD11,0,-2)<>"",OFFSET(AD11,0,-1)<>""),INDEX(Règles!$C$1:$C$4,MATCH(IF(IF($D11>$E11,"Gd",IF($D11=$E11,"N","Pd"))=IF(OFFSET(AD11,0,-2)>OFFSET(AD11,0,-1),"Gd",IF(OFFSET(AD11,0,-2)=OFFSET(AD11,0,-1),"N","Pd")),"R","I"),Règles!$A$1:$A$4,0))+INDEX(Règles!$C$1:$C$4,MATCH(IF(AND(OFFSET(AD11,0,-2)=$D11,OFFSET(AD11,0,-1)=$E11),"S",IF(OR(OFFSET(AD11,0,-2)=$D11,OFFSET(AD11,0,-1)=$E11),"M","I")),Règles!$A$1:$A$4,0)),0) -> 0 | AE11: =RANDBETWEEN(0,4) -> 4 | AF11: =RANDBETWEEN(0,4) -> 4 | AG11: =IF(AND(OFFSET(AG11,0,-2)<>"",OFFSET(AG11,0,-1)<>""),INDEX(Règles!$C$1:$C$4,MATCH(IF(IF($D11>$E11,"Gd",IF($D11=$E11,"N","Pd"))=IF(OFFSET(AG11,0,-2)>OFFSET(AG11,0,-1),"Gd",IF(OFFSET(AG11,0,-2)=OFFSET(AG11,0,-1),"N","Pd")),"R","I"),Règles!$A$1:$A$4,0))+INDEX(Règles!$C$1:$C$4,MATCH(IF(AND(OFFSET(AG11,0,-2)=$D11,OFFSET(AG11,0,-1)=$E11),"S",IF(OR(OFFSET(AG11,0,-2)=$D11,OFFSET(AG11,0,-1)=$E11),"M","I")),Règles!$A$1:$A$4,0)),0) -> 0 | AH11: =RANDBETWEEN(0,4) -> 4 | AI11: =RANDBETWEEN(0,4) -> 1 | AJ11: =IF(AND(OFFSET(AJ11,0,-2)<>"",OFFSET(AJ11,0,-1)<>""),INDEX(Règles!$C$1:$C$4,MATCH(IF(IF($D11>$E11,"Gd",IF($D11=$E11,"N","Pd"))=IF(OFFSET(AJ11,0,-2)>OFFSET(AJ11,0,-1),"Gd",IF(OFFSET(AJ11,0,-2)=OFFSET(AJ11,0,-1),"N","Pd")),"R","I"),Règles!$A$1:$A$4,0))+INDEX(Règles!$C$1:$C$4,MATCH(IF(AND(OFFSET(AJ11,0,-2)=$D11,OFFSET(AJ11,0,-1)=$E11),"S",IF(OR(OFFSET(AJ11,0,-2)=$D11,OFFSET(AJ11,0,-1)=$E11),"M","I")),Règles!$A$1:$A$4,0)),0) -> 5 | AK11: =RANDBETWEEN(0,4) -> 1 | AL11: =RANDBETWEEN(0,4) -> 1 | AM11: =IF(AND(OFFSET(AM11,0,-2)<>"",OFFSET(AM11,0,-1)<>""),INDEX(Règles!$C$1:$C$4,MATCH(IF(IF($D11>$E11,"Gd",IF($D11=$E11,"N","Pd"))=IF(OFFSET(AM11,0,-2)>OFFSET(AM11,0,-1),"Gd",IF(OFFSET(AM11,0,-2)=OFFSET(AM11,0,-1),"N","Pd")),"R","I"),Règles!$A$1:$A$4,0))+INDEX(Règles!$C$1:$C$4,MATCH(IF(AND(OFFSET(AM11,0,-2)=$D11,OFFSET(AM11,0,-1)=$E11),"S",IF(OR(OFFSET(AM11,0,-2)=$D11,OFFSET(AM11,0,-1)=$E11),"M","I")),Règles!$A$1:$A$4,0)),0) -> 1 | AN11: =RANDBETWEEN(0,4) -> 1 | AO11: =RANDBETWEEN(0,4) -> 4 | AP11: =IF(AND(OFFSET(AP11,0,-2)<>"",OFFSET(AP11,0,-1)<>""),INDEX(Règles!$C$1:$C$4,MATCH(IF(IF($D11>$E11,"Gd",IF($D11=$E11,"N","Pd"))=IF(OFFSET(AP11,0,-2)>OFFSET(AP11,0,-1),"Gd",IF(OFFSET(AP11,0,-2)=OFFSET(AP11,0,-1),"N","Pd")),"R","I"),Règles!$A$1:$A$4,0))+INDEX(Règles!$C$1:$C$4,MATCH(IF(AND(OFFSET(AP11,0,-2)=$D11,OFFSET(AP11,0,-1)=$E11),"S",IF(OR(OFFSET(AP11,0,-2)=$D11,OFFSET(AP11,0,-1)=$E11),"M","I")),Règles!$A$1:$A$4,0)),0) -> 1 | AQ11: =RANDBETWEEN(0,4) -> 3 | AR11: =RANDBETWEEN(0,4) -> 0 | AS11: =IF(AND(OFFSET(AS11,0,-2)<>"",OFFSET(AS11,0,-1)<>""),INDEX(Règles!$C$1:$C$4,MATCH(IF(IF($D11>$E11,"Gd",IF($D11=$E11,"N","Pd"))=IF(OFFSET(AS11,0,-2)>OFFSET(AS11,0,-1),"Gd",IF(OFFSET(AS11,0,-2)=OFFSET(AS11,0,-1),"N","Pd")),"R","I"),Règles!$A$1:$A$4,0))+INDEX(Règles!$C$1:$C$4,MATCH(IF(AND(OFFSET(AS11,0,-2)=$D11,OFFSET(AS11,0,-1)=$E11),"S",IF(OR(OFFSET(AS11,0,-2)=$D11,OFFSET(AS11,0,-1)=$E11),"M","I")),Règles!$A$1:$A$4,0)),0) -> 6 | AT11: =RANDBETWEEN(0,4) -> 3 | AU11: =RANDBETWEEN(0,4) -> 1 | AV11: =IF(AND(OFFSET(AV11,0,-2)<>"",OFFSET(AV11,0,-1)<>""),INDEX(Règles!$C$1:$C$4,MATCH(IF(IF($D11>$E11,"Gd",IF($D11=$E11,"N","Pd"))=IF(OFFSET(AV11,0,-2)>OFFSET(AV11,0,-1),"Gd",IF(OFFSET(AV11,0,-2)=OFFSET(AV11,0,-1),"N","Pd")),"R","I"),Règles!$A$1:$A$4,0))+INDEX(Règles!$C$1:$C$4,MATCH(IF(AND(OFFSET(AV11,0,-2)=$D11,OFFSET(AV11,0,-1)=$E11),"S",IF(OR(OFFSET(AV11,0,-2)=$D11,OFFSET(AV11,0,-1)=$E11),"M","I")),Règles!$A$1:$A$4,0)),0) -> 5 | AW11: =RANDBETWEEN(0,4) -> 4 | AX11: =RANDBETWEEN(0,4) -> 2 | AY11: =IF(AND(OFFSET(AY11,0,-2)<>"",OFFSET(AY11,0,-1)<>""),INDEX(Règles!$C$1:$C$4,MATCH(IF(IF($D11>$E11,"Gd",IF($D11=$E11,"N","Pd"))=IF(OFFSET(AY11,0,-2)>OFFSET(AY11,0,-1),"Gd",IF(OFFSET(AY11,0,-2)=OFFSET(AY11,0,-1),"N","Pd")),"R","I"),Règles!$A$1:$A$4,0))+INDEX(Règles!$C$1:$C$4,MATCH(IF(AND(OFFSET(AY11,0,-2)=$D11,OFFSET(AY11,0,-1)=$E11),"S",IF(OR(OFFSET(AY11,0,-2)=$D11,OFFSET(AY11,0,-1)=$E11),"M","I")),Règles!$A$1:$A$4,0)),0) -> 5 | AZ11: =RANDBETWEEN(0,4) -> 0 | BA11: =RANDBETWEEN(0,4) -> 4 | BB11: =IF(AND(OFFSET(BB11,0,-2)<>"",OFFSET(BB11,0,-1)<>""),INDEX(Règles!$C$1:$C$4,MATCH(IF(IF($D11>$E11,"Gd",IF($D11=$E11,"N","Pd"))=IF(OFFSET(BB11,0,-2)>OFFSET(BB11,0,-1),"Gd",IF(OFFSET(BB11,0,-2)=OFFSET(BB11,0,-1),"N","Pd")),"R","I"),Règles!$A$1:$A$4,0))+INDEX(Règles!$C$1:$C$4,MATCH(IF(AND(OFFSET(BB11,0,-2)=$D11,OFFSET(BB11,0,-1)=$E11),"S",IF(OR(OFFSET(BB11,0,-2)=$D11,OFFSET(BB11,0,-1)=$E11),"M","I")),Règles!$A$1:$A$4,0)),0) -> 0 | BC11: =RANDBETWEEN(0,4) -> 2 | BD11: =RANDBETWEEN(0,4) -> 3 | BE11: =IF(AND(OFFSET(BE11,0,-2)<>"",OFFSET(BE11,0,-1)<>""),INDEX(Règles!$C$1:$C$4,MATCH(IF(IF($D11>$E11,"Gd",IF($D11=$E11,"N","Pd"))=IF(OFFSET(BE11,0,-2)>OFFSET(BE11,0,-1),"Gd",IF(OFFSET(BE11,0,-2)=OFFSET(BE11,0,-1),"N","Pd")),"R","I"),Règles!$A$1:$A$4,0))+INDEX(Règles!$C$1:$C$4,MATCH(IF(AND(OFFSET(BE11,0,-2)=$D11,OFFSET(BE11,0,-1)=$E11),"S",IF(OR(OFFSET(BE11,0,-2)=$D11,OFFSET(BE11,0,-1)=$E11),"M","I")),Règles!$A$1:$A$4,0)),0) -> 0 | BF11: =RANDBETWEEN(0,4) -> 1 | BG11: =RANDBETWEEN(0,4) -> 1 | BH11: =IF(AND(OFFSET(BH11,0,-2)<>"",OFFSET(BH11,0,-1)<>""),INDEX(Règles!$C$1:$C$4,MATCH(IF(IF($D11>$E11,"Gd",IF($D11=$E11,"N","Pd"))=IF(OFFSET(BH11,0,-2)>OFFSET(BH11,0,-1),"Gd",IF(OFFSET(BH11,0,-2)=OFFSET(BH11,0,-1),"N","Pd")),"R","I"),Règles!$A$1:$A$4,0))+INDEX(Règles!$C$1:$C$4,MATCH(IF(AND(OFFSET(BH11,0,-2)=$D11,OFFSET(BH11,0,-1)=$E11),"S",IF(OR(OFFSET(BH11,0,-2)=$D11,OFFSET(BH11,0,-1)=$E11),"M","I")),Règles!$A$1:$A$4,0)),0) -> 1 | BI11: =RANDBETWEEN(0,4) -> 4 | BJ11: =RANDBETWEEN(0,4) -> 3 | BK11: =IF(AND(OFFSET(BK11,0,-2)<>"",OFFSET(BK11,0,-1)<>""),INDEX(Règles!$C$1:$C$4,MATCH(IF(IF($D11>$E11,"Gd",IF($D11=$E11,"N","Pd"))=IF(OFFSET(BK11,0,-2)>OFFSET(BK11,0,-1),"Gd",IF(OFFSET(BK11,0,-2)=OFFSET(BK11,0,-1),"N","Pd")),"R","I"),Règles!$A$1:$A$4,0))+INDEX(Règles!$C$1:$C$4,MATCH(IF(AND(OFFSET(BK11,0,-2)=$D11,OFFSET(BK11,0,-1)=$E11),"S",IF(OR(OFFSET(BK11,0,-2)=$D11,OFFSET(BK11,0,-1)=$E11),"M","I")),Règles!$A$1:$A$4,0)),0) -> 5 | BL11: =RANDBETWEEN(0,4) -> 3 | BM11: =RANDBETWEEN(0,4) -> 2 | BN11: =IF(AND(OFFSET(BN11,0,-2)<>"",OFFSET(BN11,0,-1)<>""),INDEX(Règles!$C$1:$C$4,MATCH(IF(IF($D11>$E11,"Gd",IF($D11=$E11,"N","Pd"))=IF(OFFSET(BN11,0,-2)>OFFSET(BN11,0,-1),"Gd",IF(OFFSET(BN11,0,-2)=OFFSET(BN11,0,-1),"N","Pd")),"R","I"),Règles!$A$1:$A$4,0))+INDEX(Règles!$C$1:$C$4,MATCH(IF(AND(OFFSET(BN11,0,-2)=$D11,OFFSET(BN11,0,-1)=$E11),"S",IF(OR(OFFSET(BN11,0,-2)=$D11,OFFSET(BN11,0,-1)=$E11),"M","I")),Règles!$A$1:$A$4,0)),0) -> 5 | BO11: =RANDBETWEEN(0,4) -> 4 | BP11: =RANDBETWEEN(0,4) -> 4 | BQ11: =IF(AND(OFFSET(BQ11,0,-2)<>"",OFFSET(BQ11,0,-1)<>""),INDEX(Règles!$C$1:$C$4,MATCH(IF(IF($D11>$E11,"Gd",IF($D11=$E11,"N","Pd"))=IF(OFFSET(BQ11,0,-2)>OFFSET(BQ11,0,-1),"Gd",IF(OFFSET(BQ11,0,-2)=OFFSET(BQ11,0,-1),"N","Pd")),"R","I"),Règles!$A$1:$A$4,0))+INDEX(Règles!$C$1:$C$4,MATCH(IF(AND(OFFSET(BQ11,0,-2)=$D11,OFFSET(BQ11,0,-1)=$E11),"S",IF(OR(OFFSET(BQ11,0,-2)=$D11,OFFSET(BQ11,0,-1)=$E11),"M","I")),Règles!$A$1:$A$4,0)),0) -> 0 | BR11: =RANDBETWEEN(0,4) -> 4 | BS11: =RANDBETWEEN(0,4) -> 0 | BT11: =IF(AND(OFFSET(BT11,0,-2)<>"",OFFSET(BT11,0,-1)<>""),INDEX(Règles!$C$1:$C$4,MATCH(IF(IF($D11>$E11,"Gd",IF($D11=$E11,"N","Pd"))=IF(OFFSET(BT11,0,-2)>OFFSET(BT11,0,-1),"Gd",IF(OFFSET(BT11,0,-2)=OFFSET(BT11,0,-1),"N","Pd")),"R","I"),Règles!$A$1:$A$4,0))+INDEX(Règles!$C$1:$C$4,MATCH(IF(AND(OFFSET(BT11,0,-2)=$D11,OFFSET(BT11,0,-1)=$E11),"S",IF(OR(OFFSET(BT11,0,-2)=$D11,OFFSET(BT11,0,-1)=$E11),"M","I")),Règles!$A$1:$A$4,0)),0) -> 6 | BU11: =RANDBETWEEN(0,4) -> 4 | BV11: =RANDBETWEEN(0,4) -> 1 | BW11: =IF(AND(OFFSET(BW11,0,-2)<>"",OFFSET(BW11,0,-1)<>""),INDEX(Règles!$C$1:$C$4,MATCH(IF(IF($D11>$E11,"Gd",IF($D11=$E11,"N","Pd"))=IF(OFFSET(BW11,0,-2)>OFFSET(BW11,0,-1),"Gd",IF(OFFSET(BW11,0,-2)=OFFSET(BW11,0,-1),"N","Pd")),"R","I"),Règles!$A$1:$A$4,0))+INDEX(Règles!$C$1:$C$4,MATCH(IF(AND(OFFSET(BW11,0,-2)=$D11,OFFSET(BW11,0,-1)=$E11),"S",IF(OR(OFFSET(BW11,0,-2)=$D11,OFFSET(BW11,0,-1)=$E11),"M","I")),Règles!$A$1:$A$4,0)),0) -> 5 | BX11: =RANDBETWEEN(0,4) -> 4 | BY11: =RANDBETWEEN(0,4) -> 4 | BZ11: =IF(AND(OFFSET(BZ11,0,-2)<>"",OFFSET(BZ11,0,-1)<>""),INDEX(Règles!$C$1:$C$4,MATCH(IF(IF($D11>$E11,"Gd",IF($D11=$E11,"N","Pd"))=IF(OFFSET(BZ11,0,-2)>OFFSET(BZ11,0,-1),"Gd",IF(OFFSET(BZ11,0,-2)=OFFSET(BZ11,0,-1),"N","Pd")),"R","I"),Règles!$A$1:$A$4,0))+INDEX(Règles!$C$1:$C$4,MATCH(IF(AND(OFFSET(BZ11,0,-2)=$D11,OFFSET(BZ11,0,-1)=$E11),"S",IF(OR(OFFSET(BZ11,0,-2)=$D11,OFFSET(BZ11,0,-1)=$E11),"M","I")),Règles!$A$1:$A$4,0)),0) -> 0
A12: Match 10 | B12: Lyon | C12: St-Étienne | D12: 2 | E12: 2 | G12: =RANDBETWEEN(0,4) -> 2 | H12: =RANDBETWEEN(0,4) -> 3 | I12: =IF(AND(OFFSET(I12,0,-2)<>"",OFFSET(I12,0,-1)<>""),INDEX(Règles!$C$1:$C$4,MATCH(IF(IF($D12>$E12,"Gd",IF($D12=$E12,"N","Pd"))=IF(OFFSET(I12,0,-2)>OFFSET(I12,0,-1),"Gd",IF(OFFSET(I12,0,-2)=OFFSET(I12,0,-1),"N","Pd")),"R","I"),Règles!$A$1:$A$4,0))+INDEX(Règles!$C$1:$C$4,MATCH(IF(AND(OFFSET(I12,0,-2)=$D12,OFFSET(I12,0,-1)=$E12),"S",IF(OR(OFFSET(I12,0,-2)=$D12,OFFSET(I12,0,-1)=$E12),"M","I")),Règles!$A$1:$A$4,0)),0) -> 1 | J12: =RANDBETWEEN(0,4) -> 1 | K12: =RANDBETWEEN(0,4) -> 4 | L12: =IF(AND(OFFSET(L12,0,-2)<>"",OFFSET(L12,0,-1)<>""),INDEX(Règles!$C$1:$C$4,MATCH(IF(IF($D12>$E12,"Gd",IF($D12=$E12,"N","Pd"))=IF(OFFSET(L12,0,-2)>OFFSET(L12,0,-1),"Gd",IF(OFFSET(L12,0,-2)=OFFSET(L12,0,-1),"N","Pd")),"R","I"),Règles!$A$1:$A$4,0))+INDEX(Règles!$C$1:$C$4,MATCH(IF(AND(OFFSET(L12,0,-2)=$D12,OFFSET(L12,0,-1)=$E12),"S",IF(OR(OFFSET(L12,0,-2)=$D12,OFFSET(L12,0,-1)=$E12),"M","I")),Règles!$A$1:$A$4,0)),0) -> 0 | M12: =RANDBETWEEN(0,4) -> 1 | N12: =RANDBETWEEN(0,4) -> 1 | O12: =IF(AND(OFFSET(O12,0,-2)<>"",OFFSET(O12,0,-1)<>""),INDEX(Règles!$C$1:$C$4,MATCH(IF(IF($D12>$E12,"Gd",IF($D12=$E12,"N","Pd"))=IF(OFFSET(O12,0,-2)>OFFSET(O12,0,-1),"Gd",IF(OFFSET(O12,0,-2)=OFFSET(O12,0,-1),"N","Pd")),"R","I"),Règles!$A$1:$A$4,0))+INDEX(Règles!$C$1:$C$4,MATCH(IF(AND(OFFSET(O12,0,-2)=$D12,OFFSET(O12,0,-1)=$E12),"S",IF(OR(OFFSET(O12,0,-2)=$D12,OFFSET(O12,0,-1)=$E12),"M","I")),Règles!$A$1:$A$4,0)),0) -> 5 | P12: =RANDBETWEEN(0,4) -> 2 | Q12: =RANDBETWEEN(0,4) -> 2 | R12: =IF(AND(OFFSET(R12,0,-2)<>"",OFFSET(R12,0,-1)<>""),INDEX(Règles!$C$1:$C$4,MATCH(IF(IF($D12>$E12,"Gd",IF($D12=$E12,"N","Pd"))=IF(OFFSET(R12,0,-2)>OFFSET(R12,0,-1),"Gd",IF(OFFSET(R12,0,-2)=OFFSET(R12,0,-1),"N","Pd")),"R","I"),Règles!$A$1:$A$4,0))+INDEX(Règles!$C$1:$C$4,MATCH(IF(AND(OFFSET(R12,0,-2)=$D12,OFFSET(R12,0,-1)=$E12),"S",IF(OR(OFFSET(R12,0,-2)=$D12,OFFSET(R12,0,-1)=$E12),"M","I")),Règles!$A$1:$A$4,0)),0) -> 10 | S12: =RANDBETWEEN(0,4) -> 4 | T12: =RANDBETWEEN(0,4) -> 2 | U12: =IF(AND(OFFSET(U12,0,-2)<>"",OFFSET(U12,0,-1)<>""),INDEX(Règles!$C$1:$C$4,MATCH(IF(IF($D12>$E12,"Gd",IF($D12=$E12,"N","Pd"))=IF(OFFSET(U12,0,-2)>OFFSET(U12,0,-1),"Gd",IF(OFFSET(U12,0,-2)=OFFSET(U12,0,-1),"N","Pd")),"R","I"),Règles!$A$1:$A$4,0))+INDEX(Règles!$C$1:$C$4,MATCH(IF(AND(OFFSET(U12,0,-2)=$D12,OFFSET(U12,0,-1)=$E12),"S",IF(OR(OFFSET(U12,0,-2)=$D12,OFFSET(U12,0,-1)=$E12),"M","I")),Règles!$A$1:$A$4,0)),0) -> 1 | V12: =RANDBETWEEN(0,4) -> 3 | W12: =RANDBETWEEN(0,4) -> 1 | X12: =IF(AND(OFFSET(X12,0,-2)<>"",OFFSET(X12,0,-1)<>""),INDEX(Règles!$C$1:$C$4,MATCH(IF(IF($D12>$E12,"Gd",IF($D12=$E12,"N","Pd"))=IF(OFFSET(X12,0,-2)>OFFSET(X12,0,-1),"Gd",IF(OFFSET(X12,0,-2)=OFFSET(X12,0,-1),"N","Pd")),"R","I"),Règles!$A$1:$A$4,0))+INDEX(Règles!$C$1:$C$4,MATCH(IF(AND(OFFSET(X12,0,-2)=$D12,OFFSET(X12,0,-1)=$E12),"S",IF(OR(OFFSET(X12,0,-2)=$D12,OFFSET(X12,0,-1)=$E12),"M","I")),Règles!$A$1:$A$4,0)),0) -> 0 | Y12: =RANDBETWEEN(0,4) -> 2 | Z12: =RANDBETWEEN(0,4) -> 4 | AA12: =IF(AND(OFFSET(AA12,0,-2)<>"",OFFSET(AA12,0,-1)<>""),INDEX(Règles!$C$1:$C$4,MATCH(IF(IF($D12>$E12,"Gd",IF($D12=$E12,"N","Pd"))=IF(OFFSET(AA12,0,-2)>OFFSET(AA12,0,-1),"Gd",IF(OFFSET(AA12,0,-2)=OFFSET(AA12,0,-1),"N","Pd")),"R","I"),Règles!$A$1:$A$4,0))+INDEX(Règles!$C$1:$C$4,MATCH(IF(AND(OFFSET(AA12,0,-2)=$D12,OFFSET(AA12,0,-1)=$E12),"S",IF(OR(OFFSET(AA12,0,-2)=$D12,OFFSET(AA12,0,-1)=$E12),"M","I")),Règles!$A$1:$A$4,0)),0) -> 1 | AB12: =RANDBETWEEN(0,4) -> 3 | AC12: =RANDBETWEEN(0,4) -> 4 | AD12: =IF(AND(OFFSET(AD12,0,-2)<>"",OFFSET(AD12,0,-1)<>""),INDEX(Règles!$C$1:$C$4,MATCH(IF(IF($D12>$E12,"Gd",IF($D12=$E12,"N","Pd"))=IF(OFFSET(AD12,0,-2)>OFFSET(AD12,0,-1),"Gd",IF(OFFSET(AD12,0,-2)=OFFSET(AD12,0,-1),"N","Pd")),"R","I"),Règles!$A$1:$A$4,0))+INDEX(Règles!$C$1:$C$4,MATCH(IF(AND(OFFSET(AD12,0,-2)=$D12,OFFSET(AD12,0,-1)=$E12),"S",IF(OR(OFFSET(AD12,0,-2)=$D12,OFFSET(AD12,0,-1)=$E12),"M","I")),Règles!$A$1:$A$4,0)),0) -> 0 | AE12: =RANDBETWEEN(0,4) -> 1 | AF12: =RANDBETWEEN(0,4) -> 4 | AG12: =IF(AND(OFFSET(AG12,0,-2)<>"",OFFSET(AG12,0,-1)<>""),INDEX(Règles!$C$1:$C$4,MATCH(IF(IF($D12>$E12,"Gd",IF($D12=$E12,"N","Pd"))=IF(OFFSET(AG12,0,-2)>OFFSET(AG12,0,-1),"Gd",IF(OFFSET(AG12,0,-2)=OFFSET(AG12,0,-1),"N","Pd")),"R","I"),Règles!$A$1:$A$4,0))+INDEX(Règles!$C$1:$C$4,MATCH(IF(AND(OFFSET(AG12,0,-2)=$D12,OFFSET(AG12,0,-1)=$E12),"S",IF(OR(OFFSET(AG12,0,-2)=$D12,OFFSET(AG12,0,-1)=$E12),"M","I")),Règles!$A$1:$A$4,0)),0) -> 0 | AH12: =RANDBETWEEN(0,4) -> 2 | AI12: =RANDBETWEEN(0,4) -> 4 | AJ12: =IF(AND(OFFSET(AJ12,0,-2)<>"",OFFSET(AJ12,0,-1)<>""),INDEX(Règles!$C$1:$C$4,MATCH(IF(IF($D12>$E12,"Gd",IF($D12=$E12,"N","Pd"))=IF(OFFSET(AJ12,0,-2)>OFFSET(AJ12,0,-1),"Gd",IF(OFFSET(AJ12,0,-2)=OFFSET(AJ12,0,-1),"N","Pd")),"R","I"),Règles!$A$1:$A$4,0))+INDEX(Règles!$C$1:$C$4,MATCH(IF(AND(OFFSET(AJ12,0,-2)=$D12,OFFSET(AJ12,0,-1)=$E12),"S",IF(OR(OFFSET(AJ12,0,-2)=$D12,OFFSET(AJ12,0,-1)=$E12),"M","I")),Règles!$A$1:$A$4,0)),0) -> 1 | AK12: =RANDBETWEEN(0,4) -> 4 | AL12: =RANDBETWEEN(0,4) -> 2 | AM12: =IF(AND(OFFSET(AM12,0,-2)<>"",OFFSET(AM12,0,-1)<>""),INDEX(Règles!$C$1:$C$4,MATCH(IF(IF($D12>$E12,"Gd",IF($D12=$E12,"N","Pd"))=IF(OFFSET(AM12,0,-2)>OFFSET(AM12,0,-1),"Gd",IF(OFFSET(AM12,0,-2)=OFFSET(AM12,0,-1),"N","Pd")),"R","I"),Règles!$A$1:$A$4,0))+INDEX(Règles!$C$1:$C$4,MATCH(IF(AND(OFFSET(AM12,0,-2)=$D12,OFFSET(AM12,0,-1)=$E12),"S",IF(OR(OFFSET(AM12,0,-2)=$D12,OFFSET(AM12,0,-1)=$E12),"M","I")),Règles!$A$1:$A$4,0)),0) -> 1 | AN12: =RANDBETWEEN(0,4) -> 0 | AO12: =RANDBETWEEN(0,4) -> 3 | AP12: =IF(AND(OFFSET(AP12,0,-2)<>"",OFFSET(AP12,0,-1)<>""),INDEX(Règles!$C$1:$C$4,MATCH(IF(IF($D12>$E12,"Gd",IF($D12=$E12,"N","Pd"))=IF(OFFSET(AP12,0,-2)>OFFSET(AP12,0,-1),"Gd",IF(OFFSET(AP12,0,-2)=OFFSET(AP12,0,-1),"N","Pd")),"R","I"),Règles!$A$1:$A$4,0))+INDEX(Règles!$C$1:$C$4,MATCH(IF(AND(OFFSET(AP12,0,-2)=$D12,OFFSET(AP12,0,-1)=$E12),"S",IF(OR(OFFSET(AP12,0,-2)=$D12,OFFSET(AP12,0,-1)=$E12),"M","I")),Règles!$A$1:$A$4,0)),0) -> 0 | AQ12: =RANDBETWEEN(0,4) -> 2 | AR12: =RANDBETWEEN(0,4) -> 2 | AS12: =IF(AND(OFFSET(AS12,0,-2)<>"",OFFSET(AS12,0,-1)<>""),INDEX(Règles!$C$1:$C$4,MATCH(IF(IF($D12>$E12,"Gd",IF($D12=$E12,"N","Pd"))=IF(OFFSET(AS12,0,-2)>OFFSET(AS12,0,-1),"Gd",IF(OFFSET(AS12,0,-2)=OFFSET(AS12,0,-1),"N","Pd")),"R","I"),Règles!$A$1:$A$4,0))+INDEX(Règles!$C$1:$C$4,MATCH(IF(AND(OFFSET(AS12,0,-2)=$D12,OFFSET(AS12,0,-1)=$E12),"S",IF(OR(OFFSET(AS12,0,-2)=$D12,OFFSET(AS12,0,-1)=$E12),"M","I")),Règles!$A$1:$A$4,0)),0) -> 10 | AT12: =RANDBETWEEN(0,4) -> 3 | AU12: =RANDBETWEEN(0,4) -> 0 | AV12: =IF(AND(OFFSET(AV12,0,-2)<>"",OFFSET(AV12,0,-1)<>""),INDEX(Règles!$C$1:$C$4,MATCH(IF(IF($D12>$E12,"Gd",IF($D12=$E12,"N","Pd"))=IF(OFFSET(AV12,0,-2)>OFFSET(AV12,0,-1),"Gd",IF(OFFSET(AV12,0,-2)=OFFSET(AV12,0,-1),"N","Pd")),"R","I"),Règles!$A$1:$A$4,0))+INDEX(Règles!$C$1:$C$4,MATCH(IF(AND(OFFSET(AV12,0,-2)=$D12,OFFSET(AV12,0,-1)=$E12),"S",IF(OR(OFFSET(AV12,0,-2)=$D12,OFFSET(AV12,0,-1)=$E12),"M","I")),Règles!$A$1:$A$4,0)),0) -> 0 | AW12: =RANDBETWEEN(0,4) -> 1 | AX12: =RANDBETWEEN(0,4) -> 2 | AY12: =IF(AND(OFFSET(AY12,0,-2)<>"",OFFSET(AY12,0,-1)<>""),INDEX(Règles!$C$1:$C$4,MATCH(IF(IF($D12>$E12,"Gd",IF($D12=$E12,"N","Pd"))=IF(OFFSET(AY12,0,-2)>OFFSET(AY12,0,-1),"Gd",IF(OFFSET(AY12,0,-2)=OFFSET(AY12,0,-1),"N","Pd")),"R","I"),Règles!$A$1:$A$4,0))+INDEX(Règles!$C$1:$C$4,MATCH(IF(AND(OFFSET(AY12,0,-2)=$D12,OFFSET(AY12,0,-1)=$E12),"S",IF(OR(OFFSET(AY12,0,-2)=$D12,OFFSET(AY12,0,-1)=$E12),"M","I")),Règles!$A$1:$A$4,0)),0) -> 1 | AZ12: =RANDBETWEEN(0,4) -> 1 | BA12: =RANDBETWEEN(0,4) -> 0 | BB12: =IF(AND(OFFSET(BB12,0,-2)<>"",OFFSET(BB12,0,-1)<>""),INDEX(Règles!$C$1:$C$4,MATCH(IF(IF($D12>$E12,"Gd",IF($D12=$E12,"N","Pd"))=IF(OFFSET(BB12,0,-2)>OFFSET(BB12,0,-1),"Gd",IF(OFFSET(BB12,0,-2)=OFFSET(BB12,0,-1),"N","Pd")),"R","I"),Règles!$A$1:$A$4,0))+INDEX(Règles!$C$1:$C$4,MATCH(IF(AND(OFFSET(BB12,0,-2)=$D12,OFFSET(BB12,0,-1)=$E12),"S",IF(OR(OFFSET(BB12,0,-2)=$D12,OFFSET(BB12,0,-1)=$E12),"M","I")),Règles!$A$1:$A$4,0)),0) -> 0 | BC12: =RANDBETWEEN(0,4) -> 4 | BD12: =RANDBETWEEN(0,4) -> 1 | BE12: =IF(AND(OFFSET(BE12,0,-2)<>"",OFFSET(BE12,0,-1)<>""),INDEX(Règles!$C$1:$C$4,MATCH(IF(IF($D12>$E12,"Gd",IF($D12=$E12,"N","Pd"))=IF(OFFSET(BE12,0,-2)>OFFSET(BE12,0,-1),"Gd",IF(OFFSET(BE12,0,-2)=OFFSET(BE12,0,-1),"N","Pd")),"R","I"),Règles!$A$1:$A$4,0))+INDEX(Règles!$C$1:$C$4,MATCH(IF(AND(OFFSET(BE12,0,-2)=$D12,OFFSET(BE12,0,-1)=$E12),"S",IF(OR(OFFSET(BE12,0,-2)=$D12,OFFSET(BE12,0,-1)=$E12),"M","I")),Règles!$A$1:$A$4,0)),0) -> 0 | BF12: =RANDBETWEEN(0,4) -> 4 | BG12: =RANDBETWEEN(0,4) -> 3 | BH12: =IF(AND(OFFSET(BH12,0,-2)<>"",OFFSET(BH12,0,-1)<>""),INDEX(Règles!$C$1:$C$4,MATCH(IF(IF($D12>$E12,"Gd",IF($D12=$E12,"N","Pd"))=IF(OFFSET(BH12,0,-2)>OFFSET(BH12,0,-1),"Gd",IF(OFFSET(BH12,0,-2)=OFFSET(BH12,0,-1),"N","Pd")),"R","I"),Règles!$A$1:$A$4,0))+INDEX(Règles!$C$1:$C$4,MATCH(IF(AND(OFFSET(BH12,0,-2)=$D12,OFFSET(BH12,0,-1)=$E12),"S",IF(OR(OFFSET(BH12,0,-2)=$D12,OFFSET(BH12,0,-1)=$E12),"M","I")),Règles!$A$1:$A$4,0)),0) -> 0 | BI12: =RANDBETWEEN(0,4) -> 0 | BJ12: =RANDBETWEEN(0,4) -> 0 | BK12: =IF(AND(OFFSET(BK12,0,-2)<>"",OFFSET(BK12,0,-1)<>""),INDEX(Règles!$C$1:$C$4,MATCH(IF(IF($D12>$E12,"Gd",IF($D12=$E12,"N","Pd"))=IF(OFFSET(BK12,0,-2)>OFFSET(BK12,0,-1),"Gd",IF(OFFSET(BK12,0,-2)=OFFSET(BK12,0,-1),"N","Pd")),"R","I"),Règles!$A$1:$A$4,0))+INDEX(Règles!$C$1:$C$4,MATCH(IF(AND(OFFSET(BK12,0,-2)=$D12,OFFSET(BK12,0,-1)=$E12),"S",IF(OR(OFFSET(BK12,0,-2)=$D12,OFFSET(BK12,0,-1)=$E12),"M","I")),Règles!$A$1:$A$4,0)),0) -> 5 | BL12: =RANDBETWEEN(0,4) -> 4 | BM12: =RANDBETWEEN(0,4) -> 2 | BN12: =IF(AND(OFFSET(BN12,0,-2)<>"",OFFSET(BN12,0,-1)<>""),INDEX(Règles!$C$1:$C$4,MATCH(IF(IF($D12>$E12,"Gd",IF($D12=$E12,"N","Pd"))=IF(OFFSET(BN12,0,-2)>OFFSET(BN12,0,-1),"Gd",IF(OFFSET(BN12,0,-2)=OFFSET(BN12,0,-1),"N","Pd")),"R","I"),Règles!$A$1:$A$4,0))+INDEX(Règles!$C$1:$C$4,MATCH(IF(AND(OFFSET(BN12,0,-2)=$D12,OFFSET(BN12,0,-1)=$E12),"S",IF(OR(OFFSET(BN12,0,-2)=$D12,OFFSET(BN12,0,-1)=$E12),"M","I")),Règles!$A$1:$A$4,0)),0) -> 1 | BO12: =RANDBETWEEN(0,4) -> 1 | BP12: =RANDBETWEEN(0,4) -> 4 | BQ12: =IF(AND(OFFSET(BQ12,0,-2)<>"",OFFSET(BQ12,0,-1)<>""),INDEX(Règles!$C$1:$C$4,MATCH(IF(IF($D12>$E12,"Gd",IF($D12=$E12,"N","Pd"))=IF(OFFSET(BQ12,0,-2)>OFFSET(BQ12,0,-1),"Gd",IF(OFFSET(BQ12,0,-2)=OFFSET(BQ12,0,-1),"N","Pd")),"R","I"),Règles!$A$1:$A$4,0))+INDEX(Règles!$C$1:$C$4,MATCH(IF(AND(OFFSET(BQ12,0,-2)=$D12,OFFSET(BQ12,0,-1)=$E12),"S",IF(OR(OFFSET(BQ12,0,-2)=$D12,OFFSET(BQ12,0,-1)=$E12),"M","I")),Règles!$A$1:$A$4,0)),0) -> 0 | BR12: =RANDBETWEEN(0,4) -> 4 | BS12: =RANDBETWEEN(0,4) -> 3 | BT12: =IF(AND(OFFSET(BT12,0,-2)<>"",OFFSET(BT12,0,-1)<>""),INDEX(Règles!$C$1:$C$4,MATCH(IF(IF($D12>$E12,"Gd",IF($D12=$E12,"N","Pd"))=IF(OFFSET(BT12,0,-2)>OFFSET(BT12,0,-1),"Gd",IF(OFFSET(BT12,0,-2)=OFFSET(BT12,0,-1),"N","Pd")),"R","I"),Règles!$A$1:$A$4,0))+INDEX(Règles!$C$1:$C$4,MATCH(IF(AND(OFFSET(BT12,0,-2)=$D12,OFFSET(BT12,0,-1)=$E12),"S",IF(OR(OFFSET(BT12,0,-2)=$D12,OFFSET(BT12,0,-1)=$E12),"M","I")),Règles!$A$1:$A$4,0)),0) -> 0 | BU12: =RANDBETWEEN(0,4) -> 1 | BV12: =RANDBETWEEN(0,4) -> 2 | BW12: =IF(AND(OFFSET(BW12,0,-2)<>"",OFFSET(BW12,0,-1)<>""),INDEX(Règles!$C$1:$C$4,MATCH(IF(IF($D12>$E12,"Gd",IF($D12=$E12,"N","Pd"))=IF(OFFSET(BW12,0,-2)>OFFSET(BW12,0,-1),"Gd",IF(OFFSET(BW12,0,-2)=OFFSET(BW12,0,-1),"N","Pd")),"R","I"),Règles!$A$1:$A$4,0))+INDEX(Règles!$C$1:$C$4,MATCH(IF(AND(OFFSET(BW12,0,-2)=$D12,OFFSET(BW12,0,-1)=$E12),"S",IF(OR(OFFSET(BW12,0,-2)=$D12,OFFSET(BW12,0,-1)=$E12),"M","I")),Règles!$A$1:$A$4,0)),0) -> 1 | BX12: =RANDBETWEEN(0,4) -> 0 | BY12: =RANDBETWEEN(0,4) -> 1 | BZ12: =IF(AND(OFFSET(BZ12,0,-2)<>"",OFFSET(BZ12,0,-1)<>""),INDEX(Règles!$C$1:$C$4,MATCH(IF(IF($D12>$E12,"Gd",IF($D12=$E12,"N","Pd"))=IF(OFFSET(BZ12,0,-2)>OFFSET(BZ12,0,-1),"Gd",IF(OFFSET(BZ12,0,-2)=OFFSET(BZ12,0,-1),"N","Pd")),"R","I"),Règles!$A$1:$A$4,0))+INDEX(Règles!$C$1:$C$4,MATCH(IF(AND(OFFSET(BZ12,0,-2)=$D12,OFFSET(BZ12,0,-1)=$E12),"S",IF(OR(OFFSET(BZ12,0,-2)=$D12,OFFSET(BZ12,0,-1)=$E12),"M","I")),Règles!$A$1:$A$4,0)),0) -> 0
I13: =SUM(I3:I12) -> 9 | L13: =SUM(L3:L12) -> 19 | O13: =SUM(O3:O12) -> 25 | R13: =SUM(R3:R12) -> 19 | U13: =SUM(U3:U12) -> 20 | X13: =SUM(X3:X12) -> 24 | AA13: =SUM(AA3:AA12) -> 33 | AD13: =SUM(AD3:AD12) -> 11 | AG13: =SUM(AG3:AG12) -> 28 | AJ13: =SUM(AJ3:AJ12) -> 33 | AM13: =SUM(AM3:AM12) -> 15 | AP13: =SUM(AP3:AP12) -> 25 | AS13: =SUM(AS3:AS12) -> 38 | AV13: =SUM(AV3:AV12) -> 23 | AY13: =SUM(AY3:AY12) -> 13 | BB13: =SUM(BB3:BB12) -> 37 | BE13: =SUM(BE3:BE12) -> 12 | BH13: =SUM(BH3:BH12) -> 15 | BK13: =SUM(BK3:BK12) -> 35 | BN13: =SUM(BN3:BN12) -> 15 | BQ13: =SUM(BQ3:BQ12) -> 27 | BT13: =SUM(BT3:BT12) -> 29 | BW13: =SUM(BW3:BW12) -> 28 | BZ13: =SUM(BZ3:BZ12) -> 25
F15: 10 | I15: =COUNTIF(I3:I12,$F15) -> 0 | L15: =COUNTIF(L3:L12,$F15) -> 1 | O15: =COUNTIF(O3:O12,$F15) -> 0 | R15: =COUNTIF(R3:R12,$F15) -> 1 | U15: =COUNTIF(U3:U12,$F15) -> 0 | X15: =COUNTIF(X3:X12,$F15) -> 1 | AA15: =COUNTIF(AA3:AA12,$F15) -> 1 | AD15: =COUNTIF(AD3:AD12,$F15) -> 0 | AG15: =COUNTIF(AG3:AG12,$F15) -> 1 | AJ15: =COUNTIF(AJ3:AJ12,$F15) -> 1 | AM15: =COUNTIF(AM3:AM12,$F15) -> 0 | AP15: =COUNTIF(AP3:AP12,$F15) -> 0 | AS15: =COUNTIF(AS3:AS12,$F15) -> 2 | AV15: =COUNTIF(AV3:AV12,$F15) -> 0 | AY15: =COUNTIF(AY3:AY12,$F15) -> 0 | BB15: =COUNTIF(BB3:BB12,$F15) -> 2 | BE15: =COUNTIF(BE3:BE12,$F15) -> 1 | BH15: =COUNTIF(BH3:BH12,$F15) -> 0 | BK15: =COUNTIF(BK3:BK12,$F15) -> 0 | BN15: =COUNTIF(BN3:BN12,$F15) -> 0 | BQ15: =COUNTIF(BQ3:BQ12,$F15) -> 1 | BT15: =COUNTIF(BT3:BT12,$F15) -> 1 | BW15: =COUNTIF(BW3:BW12,$F15) -> 0 | BZ15: =COUNTIF(BZ3:BZ12,$F15) -> 1
F16: 5 | I16: =COUNTIF(I3:I12,$F16)+COUNTIF(I3:I12,$F16+1) -> 1 | L16: =COUNTIF(L3:L12,$F16)+COUNTIF(L3:L12,$F16+1) -> 1 | O16: =COUNTIF(O3:O12,$F16)+COUNTIF(O3:O12,$F16+1) -> 4 | R16: =COUNTIF(R3:R12,$F16)+COUNTIF(R3:R12,$F16+1) -> 1 | U16: =COUNTIF(U3:U12,$F16)+COUNTIF(U3:U12,$F16+1) -> 3 | X16: =COUNTIF(X3:X12,$F16)+COUNTIF(X3:X12,$F16+1) -> 2 | AA16: =COUNTIF(AA3:AA12,$F16)+COUNTIF(AA3:AA12,$F16+1) -> 4 | AD16: =COUNTIF(AD3:AD12,$F16)+COUNTIF(AD3:AD12,$F16+1) -> 2 | AG16: =COUNTIF(AG3:AG12,$F16)+COUNTIF(AG3:AG12,$F16+1) -> 3 | AJ16: =COUNTIF(AJ3:AJ12,$F16)+COUNTIF(AJ3:AJ12,$F16+1) -> 4 | AM16: =COUNTIF(AM3:AM12,$F16)+COUNTIF(AM3:AM12,$F16+1) -> 2 | AP16: =COUNTIF(AP3:AP12,$F16)+COUNTIF(AP3:AP12,$F16+1) -> 4 | AS16: =COUNTIF(AS3:AS12,$F16)+COUNTIF(AS3:AS12,$F16+1) -> 3 | AV16: =COUNTIF(AV3:AV12,$F16)+COUNTIF(AV3:AV12,$F16+1) -> 4 | AY16: =COUNTIF(AY3:AY12,$F16)+COUNTIF(AY3:AY12,$F16+1) -> 2 | BB16: =COUNTIF(BB3:BB12,$F16)+COUNTIF(BB3:BB12,$F16+1) -> 3 | BE16: =COUNTIF(BE3:BE12,$F16)+COUNTIF(BE3:BE12,$F16+1) -> 0 | BH16: =COUNTIF(BH3:BH12,$F16)+COUNTIF(BH3:BH12,$F16+1) -> 2 | BK16: =COUNTIF(BK3:BK12,$F16)+COUNTIF(BK3:BK12,$F16+1) -> 6 | BN16: =COUNTIF(BN3:BN12,$F16)+COUNTIF(BN3:BN12,$F16+1) -> 2 | BQ16: =COUNTIF(BQ3:BQ12,$F16)+COUNTIF(BQ3:BQ12,$F16+1) -> 3 | BT16: =COUNTIF(BT3:BT12,$F16)+COUNTIF(BT3:BT12,$F16+1) -> 3 | BW16: =COUNTIF(BW3:BW12,$F16)+COUNTIF(BW3:BW12,$F16+1) -> 5 | BZ16: =COUNTIF(BZ3:BZ12,$F16)+COUNTIF(BZ3:BZ12,$F16+1) -> 3

Sheet Jour2
H1: =OFFSET(Règles!$P$1,(COLUMN()-8)/3,0) -> Guigui | K1: =OFFSET(Règles!$P$1,(COLUMN()-8)/3,0) -> Stef | N1: =OFFSET(Règles!$P$1,(COLUMN()-8)/3,0) -> Papa | Q1: =OFFSET(Règles!$P$1,(COLUMN()-8)/3,0) -> Maman | T1: =OFFSET(Règles!$P$1,(COLUMN()-8)/3,0) -> Flo | W1: =OFFSET(Règles!$P$1,(COLUMN()-8)/3,0) -> Florian | Z1: =OFFSET(Règles!$P$1,(COLUMN()-8)/3,0) -> Jonas | AC1: =OFFSET(Règles!$P$1,(COLUMN()-8)/3,0) -> Céline | AF1: =OFFSET(Règles!$P$1,(COLUMN()-8)/3,0) -> Mich | AI1: =OFFSET(Règles!$P$1,(COLUMN()-8)/3,0) -> Olivier | AL1: =OFFSET(Règles!$P$1,(COLUMN()-8)/3,0) -> Remi | AO1: =OFFSET(Règles!$P$1,(COLUMN()-8)/3,0) -> Alexis | AR1: =OFFSET(Règles!$P$1,(COLUMN()-8)/3,0) -> Julien | AU1: =OFFSET(Règles!$P$1,(COLUMN()-8)/3,0) -> Maxime | AX1: =OFFSET(Règles!$P$1,(COLUMN()-8)/3,0) -> Goncalves | BA1: =OFFSET(Règles!$P$1,(COLUMN()-8)/3,0) -> Yann | BD1: =OFFSET(Règles!$P$1,(COLUMN()-8)/3,0) -> Maurice | BG1: =OFFSET(Règles!$P$1,(COLUMN()-8)/3,0) -> Cédric | BJ1: =OFFSET(Règles!$P$1,(COLUMN()-8)/3,0) -> Benjamin | BM1: =OFFSET(Règles!$P$1,(COLUMN()-8)/3,0) -> Bean | BP1: =OFFSET(Règles!$P$1,(COLUMN()-8)/3,0) -> Isabelle | BS1: =OFFSET(Règles!$P$1,(COLUMN()-8)/3,0) -> Emmanuel | BV1: =OFFSET(Règles!$P$1,(COLUMN()-8)/3,0) -> Fernando | BY1: =OFFSET(Règles!$P$1,(COLUMN()-8)/3,0) -> Manu
D2: Scores | G2: Pari | I2: pts | J2: Pari | L2: pts | M2: Pari | O2: pts | P2: Pari | R2: pts | S2: Pari | U2: pts | V2: Pari | X2: pts | Y2: Pari | AA2: pts | AB2: Pari | AD2: pts | AE2: Pari | AG2: pts | AH2: Pari | AJ2: pts | AK2: Pari | AM2: pts | AN2: Pari | AP2: pts | AQ2: Pari | AS2: pts | AT2: Pari | AV2: pts | AW2: Pari | AY2: pts | AZ2: Pari | BB2: pts | BC2: Pari | BE2: pts | BF2: Pari | BH2: pts | BI2: Pari | BK2: pts | BL2: Pari | BN2: pts | BO2: Pari | BQ2: pts | BR2: Pari | BT2: pts | BU2: Pari | BW2: pts | BX2: Pari | BZ2: pts
A3: Match 1 | B3: Nantes | C3: Marseille | D3: 1 | E3: 0 | G3: =RANDBETWEEN(0,4) -> 0 | H3: =RANDBETWEEN(0,4) -> 1 | I3: =IF(AND(OFFSET(I3,0,-2)<>"",OFFSET(I3,0,-1)<>""),INDEX(Règles!$C$1:$C$4,MATCH(IF(IF($D3>$E3,"Gd",IF($D3=$E3,"N","Pd"))=IF(OFFSET(I3,0,-2)>OFFSET(I3,0,-1),"Gd",IF(OFFSET(I3,0,-2)=OFFSET(I3,0,-1),"N","Pd")),"R","I"),Règles!$A$1:$A$4,0))+INDEX(Règles!$C$1:$C$4,MATCH(IF(AND(OFFSET(I3,0,-2)=$D3,OFFSET(I3,0,-1)=$E3),"S",IF(OR(OFFSET(I3,0,-2)=$D3,OFFSET(I3,0,-1)=$E3),"M","I")),Règles!$A$1:$A$4,0)),0) -> 0 | J3: =RANDBETWEEN(0,4) -> 1 | K3: =RANDBETWEEN(0,4) -> 3 | L3: =IF(AND(OFFSET(L3,0,-2)<>"",OFFSET(L3,0,-1)<>""),INDEX(Règles!$C$1:$C$4,MATCH(IF(IF($D3>$E3,"Gd",IF($D3=$E3,"N","Pd"))=IF(OFFSET(L3,0,-2)>OFFSET(L3,0,-1),"Gd",IF(OFFSET(L3,0,-2)=OFFSET(L3,0,-1),"N","Pd")),"R","I"),Règles!$A$1:$A$4,0))+INDEX(Règles!$C$1:$C$4,MATCH(IF(AND(OFFSET(L3,0,-2)=$D3,OFFSET(L3,0,-1)=$E3),"S",IF(OR(OFFSET(L3,0,-2)=$D3,OFFSET(L3,0,-1)=$E3),"M","I")),Règles!$A$1:$A$4,0)),0) -> 1 | M3: =RANDBETWEEN(0,4) -> 3 | N3: =RANDBETWEEN(0,4) -> 3 | O3: =IF(AND(OFFSET(O3,0,-2)<>"",OFFSET(O3,0,-1)<>""),INDEX(Règles!$C$1:$C$4,MATCH(IF(IF($D3>$E3,"Gd",IF($D3=$E3,"N","Pd"))=IF(OFFSET(O3,0,-2)>OFFSET(O3,0,-1),"Gd",IF(OFFSET(O3,0,-2)=OFFSET(O3,0,-1),"N","Pd")),"R","I"),Règles!$A$1:$A$4,0))+INDEX(Règles!$C$1:$C$4,MATCH(IF(AND(OFFSET(O3,0,-2)=$D3,OFFSET(O3,0,-1)=$E3),"S",IF(OR(OFFSET(O3,0,-2)=$D3,OFFSET(O3,0,-1)=$E3),"M","I")),Règles!$A$1:$A$4,0)),0) -> 0 | P3: =RANDBETWEEN(0,4) -> 3 | Q3: =RANDBETWEEN(0,4) -> 4 | R3: =IF(AND(OFFSET(R3,0,-2)<>"",OFFSET(R3,0,-1)<>""),INDEX(Règles!$C$1:$C$4,MATCH(IF(IF($D3>$E3,"Gd",IF($D3=$E3,"N","Pd"))=IF(OFFSET(R3,0,-2)>OFFSET(R3,0,-1),"Gd",IF(OFFSET(R3,0,-2)=OFFSET(R3,0,-1),"N","Pd")),"R","I"),Règles!$A$1:$A$4,0))+INDEX(Règles!$C$1:$C$4,MATCH(IF(AND(OFFSET(R3,0,-2)=$D3,OFFSET(R3,0,-1)=$E3),"S",IF(OR(OFFSET(R3,0,-2)=$D3,OFFSET(R3,0,-1)=$E3),"M","I")),Règles!$A$1:$A$4,0)),0) -> 0 | S3: =RANDBETWEEN(0,4) -> 1 | T3: =RANDBETWEEN(0,4) -> 1 | U3: =IF(AND(OFFSET(U3,0,-2)<>"",OFFSET(U3,0,-1)<>""),INDEX(Règles!$C$1:$C$4,MATCH(IF(IF($D3>$E3,"Gd",IF($D3=$E3,"N","Pd"))=IF(OFFSET(U3,0,-2)>OFFSET(U3,0,-1),"Gd",IF(OFFSET(U3,0,-2)=OFFSET(U3,0,-1),"N","Pd")),"R","I"),Règles!$A$1:$A$4,0))+INDEX(Règles!$C$1:$C$4,MATCH(IF(AND(OFFSET(U3,0,-2)=$D3,OFFSET(U3,0,-1)=$E3),"S",IF(OR(OFFSET(U3,0,-2)=$D3,OFFSET(U3,0,-1)=$E3),"M","I")),Règles!$A$1:$A$4,0)),0) -> 1 | V3: =RANDBETWEEN(0,4) -> 2 | W3: =RANDBETWEEN(0,4) -> 1 | X3: =IF(AND(OFFSET(X3,0,-2)<>"",OFFSET(X3,0,-1)<>""),INDEX(Règles!$C$1:$C$4,MATCH(IF(IF($D3>$E3,"Gd",IF($D3=$E3,"N","Pd"))=IF(OFFSET(X3,0,-2)>OFFSET(X3,0,-1),"Gd",IF(OFFSET(X3,0,-2)=OFFSET(X3,0,-1),"N","Pd")),"R","I"),Règles!$A$1:$A$4,0))+INDEX(Règles!$C$1:$C$4,MATCH(IF(AND(OFFSET(X3,0,-2)=$D3,OFFSET(X3,0,-1)=$E3),"S",IF(OR(OFFSET(X3,0,-2)=$D3,OFFSET(X3,0,-1)=$E3),"M","I")),Règles!$A$1:$A$4,0)),0) -> 5 | Y3: =RANDBETWEEN(0,4) -> 1 | Z3: =RANDBETWEEN(0,4) -> 4 | AA3: =IF(AND(OFFSET(AA3,0,-2)<>"",OFFSET(AA3,0,-1)<>""),INDEX(Règles!$C$1:$C$4,MATCH(IF(IF($D3>$E3,"Gd",IF($D3=$E3,"N","Pd"))=IF(OFFSET(AA3,0,-2)>OFFSET(AA3,0,-1),"Gd",IF(OFFSET(AA3,0,-2)=OFFSET(AA3,0,-1),"N","Pd")),"R","I"),Règles!$A$1:$A$4,0))+INDEX(Règles!$C$1:$C$4,MATCH(IF(AND(OFFSET(AA3,0,-2)=$D3,OFFSET(AA3,0,-1)=$E3),"S",IF(OR(OFFSET(AA3,0,-2)=$D3,OFFSET(AA3,0,-1)=$E3),"M","I")),Règles!$A$1:$A$4,0)),0) -> 1 | AB3: =RANDBETWEEN(0,4) -> 0 | AC3: =RANDBETWEEN(0,4) -> 2 | AD3: =IF(AND(OFFSET(AD3,0,-2)<>"",OFFSET(AD3,0,-1)<>""),INDEX(Règles!$C$1:$C$4,MATCH(IF(IF($D3>$E3,"Gd",IF($D3=$E3,"N","Pd"))=IF(OFFSET(AD3,0,-2)>OFFSET(AD3,0,-1),"Gd",IF(OFFSET(AD3,0,-2)=OFFSET(AD3,0,-1),"N","Pd")),"R","I"),Règles!$A$1:$A$4,0))+INDEX(Règles!$C$1:$C$4,MATCH(IF(AND(OFFSET(AD3,0,-2)=$D3,OFFSET(AD3,0,-1)=$E3),"S",IF(OR(OFFSET(AD3,0,-2)=$D3,OFFSET(AD3,0,-1)=$E3),"M","I")),Règles!$A$1:$A$4,0)),0) -> 0 | AE3: =RANDBETWEEN(0,4) -> 0 | AF3: =RANDBETWEEN(0,4) -> 1 | AG3: =IF(AND(OFFSET(AG3,0,-2)<>"",OFFSET(AG3,0,-1)<>""),INDEX(Règles!$C$1:$C$4,MATCH(IF(IF($D3>$E3,"Gd",IF($D3=$E3,"N","Pd"))=IF(OFFSET(AG3,0,-2)>OFFSET(AG3,0,-1),"Gd",IF(OFFSET(AG3,0,-2)=OFFSET(AG3,0,-1),"N","Pd")),"R","I"),Règles!$A$1:$A$4,0))+INDEX(Règles!$C$1:$C$4,MATCH(IF(AND(OFFSET(AG3,0,-2)=$D3,OFFSET(AG3,0,-1)=$E3),"S",IF(OR(OFFSET(AG3,0,-2)=$D3,OFFSET(AG3,0,-1)=$E3),"M","I")),Règles!$A$1:$A$4,0)),0) -> 0 | AH3: =RANDBETWEEN(0,4) -> 0 | AI3: =RANDBETWEEN(0,4) -> 4 | AJ3: =IF(AND(OFFSET(AJ3,0,-2)<>"",OFFSET(AJ3,0,-1)<>""),INDEX(Règles!$C$1:$C$4,MATCH(IF(IF($D3>$E3,"Gd",IF($D3=$E3,"N","Pd"))=IF(OFFSET(AJ3,0,-2)>OFFSET(AJ3,0,-1),"Gd",IF(OFFSET(AJ3,0,-2)=OFFSET(AJ3,0,-1),"N","Pd")),"R","I"),Règles!$A$1:$A$4,0))+INDEX(Règles!$C$1:$C$4,MATCH(IF(AND(OFFSET(AJ3,0,-2)=$D3,OFFSET(AJ3,0,-1)=$E3),"S",IF(OR(OFFSET(AJ3,0,-2)=$D3,OFFSET(AJ3,0,-1)=$E3),"M","I")),Règles!$A$1:$A$4,0)),0) -> 0 | AK3: =RANDBETWEEN(0,4) -> 2 | AL3: =RANDBETWEEN(0,4) -> 4 | AM3: =IF(AND(OFFSET(AM3,0,-2)<>"",OFFSET(AM3,0,-1)<>""),INDEX(Règles!$C$1:$C$4,MATCH(IF(IF($D3>$E3,"Gd",IF($D3=$E3,"N","Pd"))=IF(OFFSET(AM3,0,-2)>OFFSET(AM3,0,-1),"Gd",IF(OFFSET(AM3,0,-2)=OFFSET(AM3,0,-1),"N","Pd")),"R","I"),Règles!$A$1:$A$4,0))+INDEX(Règles!$C$1:$C$4,MATCH(IF(AND(OFFSET(AM3,0,-2)=$D3,OFFSET(AM3,0,-1)=$E3),"S",IF(OR(OFFSET(AM3,0,-2)=$D3,OFFSET(AM3,0,-1)=$E3),"M","I")),Règles!$A$1:$A$4,0)),0) -> 0 | AN3: =RANDBETWEEN(0,4) -> 1 | AO3: =RANDBETWEEN(0,4) -> 1 | AP3: =IF(AND(OFFSET(AP3,0,-2)<>"",OFFSET(AP3,0,-1)<>""),INDEX(Règles!$C$1:$C$4,MATCH(IF(IF($D3>$E3,"Gd",IF($D3=$E3,"N","Pd"))=IF(OFFSET(AP3,0,-2)>OFFSET(AP3,0,-1),"Gd",IF(OFFSET(AP3,0,-2)=OFFSET(AP3,0,-1),"N","Pd")),"R","I"),Règles!$A$1:$A$4,0))+INDEX(Règles!$C$1:$C$4,MATCH(IF(AND(OFFSET(AP3,0,-2)=$D3,OFFSET(AP3,0,-1)=$E3),"S",IF(OR(OFFSET(AP3,0,-2)=$D3,OFFSET(AP3,0,-1)=$E3),"M","I")),Règles!$A$1:$A$4,0)),0) -> 1 | AQ3: =RANDBETWEEN(0,4) -> 1 | AR3: =RANDBETWEEN(0,4) -> 4 | AS3: =IF(AND(OFFSET(AS3,0,-2)<>"",OFFSET(AS3,0,-1)<>""),INDEX(Règles!$C$1:$C$4,MATCH(IF(IF($D3>$E3,"Gd",IF($D3=$E3,"N","Pd"))=IF(OFFSET(AS3,0,-2)>OFFSET(AS3,0,-1),"Gd",IF(OFFSET(AS3,0,-2)=OFFSET(AS3,0,-1),"N","Pd")),"R","I"),Règles!$A$1:$A$4,0))+INDEX(Règles!$C$1:$C$4,MATCH(IF(AND(OFFSET(AS3,0,-2)=$D3,OFFSET(AS3,0,-1)=$E3),"S",IF(OR(OFFSET(AS3,0,-2)=$D3,OFFSET(AS3,0,-1)=$E3),"M","I")),Règles!$A$1:$A$4,0)),0) -> 1 | AT3: =RANDBETWEEN(0,4) -> 3 | AU3: =RANDBETWEEN(0,4) -> 4 | AV3: =IF(AND(OFFSET(AV3,0,-2)<>"",OFFSET(AV3,0,-1)<>""),INDEX(Règles!$C$1:$C$4,MATCH(IF(IF($D3>$E3,"Gd",IF($D3=$E3,"N","Pd"))=IF(OFFSET(AV3,0,-2)>OFFSET(AV3,0,-1),"Gd",IF(OFFSET(AV3,0,-2)=OFFSET(AV3,0,-1),"N","Pd")),"R","I"),Règles!$A$1:$A$4,0))+INDEX(Règles!$C$1:$C$4,MATCH(IF(AND(OFFSET(AV3,0,-2)=$D3,OFFSET(AV3,0,-1)=$E3),"S",IF(OR(OFFSET(AV3,0,-2)=$D3,OFFSET(AV3,0,-1)=$E3),"M","I")),Règles!$A$1:$A$4,0)),0) -> 0 | AW3: =RANDBETWEEN(0,4) -> 0 | AX3: =RANDBETWEEN(0,4) -> 1 | AY3: =IF(AND(OFFSET(AY3,0,-2)<>"",OFFSET(AY3,0,-1)<>""),INDEX(Règles!$C$1:$C$4,MATCH(IF(IF($D3>$E3,"Gd",IF($D3=$E3,"N","Pd"))=IF(OFFSET(AY3,0,-2)>OFFSET(AY3,0,-1),"Gd",IF(OFFSET(AY3,0,-2)=OFFSET(AY3,0,-1),"N","Pd")),"R","I"),Règles!$A$1:$A$4,0))+INDEX(Règles!$C$1:$C$4,MATCH(IF(AND(OFFSET(AY3,0,-2)=$D3,OFFSET(AY3,0,-1)=$E3),"S",IF(OR(OFFSET(AY3,0,-2)=$D3,OFFSET(AY3,0,-1)=$E3),"M","I")),Règles!$A$1:$A$4,0)),0) -> 0 | AZ3: =RANDBETWEEN(0,4) -> 3 | BA3: =RANDBETWEEN(0,4) -> 0 | BB3: =IF(AND(OFFSET(BB3,0,-2)<>"",OFFSET(BB3,0,-1)<>""),INDEX(Règles!$C$1:$C$4,MATCH(IF(IF($D3>$E3,"Gd",IF($D3=$E3,"N","Pd"))=IF(OFFSET(BB3,0,-2)>OFFSET(BB3,0,-1),"Gd",IF(OFFSET(BB3,0,-2)=OFFSET(BB3,0,-1),"N","Pd")),"R","I"),Règles!$A$1:$A$4,0))+INDEX(Règles!$C$1:$C$4,MATCH(IF(AND(OFFSET(BB3,0,-2)=$D3,OFFSET(BB3,0,-1)=$E3),"S",IF(OR(OFFSET(BB3,0,-2)=$D3,OFFSET(BB3,0,-1)=$E3),"M","I")),Règles!$A$1:$A$4,0)),0) -> 6 | BC3: =RANDBETWEEN(0,4) -> 4 | BD3: =RANDBETWEEN(0,4) -> 3 | BE3: =IF(AND(OFFSET(BE3,0,-2)<>"",OFFSET(BE3,0,-1)<>""),INDEX(Règles!$C$1:$C$4,MATCH(IF(IF($D3>$E3,"Gd",IF($D3=$E3,"N","Pd"))=IF(OFFSET(BE3,0,-2)>OFFSET(BE3,0,-1),"Gd",IF(OFFSET(BE3,0,-2)=OFFSET(BE3,0,-1),"N","Pd")),"R","I"),Règles!$A$1:$A$4,0))+INDEX(Règles!$C$1:$C$4,MATCH(IF(AND(OFFSET(BE3,0,-2)=$D3,OFFSET(BE3,0,-1)=$E3),"S",IF(OR(OFFSET(BE3,0,-2)=$D3,OFFSET(BE3,0,-1)=$E3),"M","I")),Règles!$A$1:$A$4,0)),0) -> 5 | BF3: =RANDBETWEEN(0,4) -> 2 | BG3: =RANDBETWEEN(0,4) -> 0 | BH3: =IF(AND(OFFSET(BH3,0,-2)<>"",OFFSET(BH3,0,-1)<>""),INDEX(Règles!$C$1:$C$4,MATCH(IF(IF($D3>$E3,"Gd",IF($D3=$E3,"N","Pd"))=IF(OFFSET(BH3,0,-2)>OFFSET(BH3,0,-1),"Gd",IF(OFFSET(BH3,0,-2)=OFFSET(BH3,0,-1),"N","Pd")),"R","I"),Règles!$A$1:$A$4,0))+INDEX(Règles!$C$1:$C$4,MATCH(IF(AND(OFFSET(BH3,0,-2)=$D3,OFFSET(BH3,0,-1)=$E3),"S",IF(OR(OFFSET(BH3,0,-2)=$D3,OFFSET(BH3,0,-1)=$E3),"M","I")),Règles!$A$1:$A$4,0)),0) -> 6 | BI3: =RANDBETWEEN(0,4) -> 0 | BJ3: =RANDBETWEEN(0,4) -> 4 | BK3: =IF(AND(OFFSET(BK3,0,-2)<>"",OFFSET(BK3,0,-1)<>""),INDEX(Règles!$C$1:$C$4,MATCH(IF(IF($D3>$E3,"Gd",IF($D3=$E3,"N","Pd"))=IF(OFFSET(BK3,0,-2)>OFFSET(BK3,0,-1),"Gd",IF(OFFSET(BK3,0,-2)=OFFSET(BK3,0,-1),"N","Pd")),"R","I"),Règles!$A$1:$A$4,0))+INDEX(Règles!$C$1:$C$4,MATCH(IF(AND(OFFSET(BK3,0,-2)=$D3,OFFSET(BK3,0,-1)=$E3),"S",IF(OR(OFFSET(BK3,0,-2)=$D3,OFFSET(BK3,0,-1)=$E3),"M","I")),Règles!$A$1:$A$4,0)),0) -> 0 | BL3: =RANDBETWEEN(0,4) -> 4 | BM3: =RANDBETWEEN(0,4) -> 0 | BN3: =IF(AND(OFFSET(BN3,0,-2)<>"",OFFSET(BN3,0,-1)<>""),INDEX(Règles!$C$1:$C$4,MATCH(IF(IF($D3>$E3,"Gd",IF($D3=$E3,"N","Pd"))=IF(OFFSET(BN3,0,-2)>OFFSET(BN3,0,-1),"Gd",IF(OFFSET(BN3,0,-2)=OFFSET(BN3,0,-1),"N","Pd")),"R","I"),Règles!$A$1:$A$4,0))+INDEX(Règles!$C$1:$C$4,MATCH(IF(AND(OFFSET(BN3,0,-2)=$D3,OFFSET(BN3,0,-1)=$E3),"S",IF(OR(OFFSET(BN3,0,-2)=$D3,OFFSET(BN3,0,-1)=$E3),"M","I")),Règles!$A$1:$A$4,0)),0) -> 6 | BO3: =RANDBETWEEN(0,4) -> 0 | BP3: =RANDBETWEEN(0,4) -> 0 | BQ3: =IF(AND(OFFSET(BQ3,0,-2)<>"",OFFSET(BQ3,0,-1)<>""),INDEX(Règles!$C$1:$C$4,MATCH(IF(IF($D3>$E3,"Gd",IF($D3=$E3,"N","Pd"))=IF(OFFSET(BQ3,0,-2)>OFFSET(BQ3,0,-1),"Gd",IF(OFFSET(BQ3,0,-2)=OFFSET(BQ3,0,-1),"N","Pd")),"R","I"),Règles!$A$1:$A$4,0))+INDEX(Règles!$C$1:$C$4,MATCH(IF(AND(OFFSET(BQ3,0,-2)=$D3,OFFSET(BQ3,0,-1)=$E3),"S",IF(OR(OFFSET(BQ3,0,-2)=$D3,OFFSET(BQ3,0,-1)=$E3),"M","I")),Règles!$A$1:$A$4,0)),0) -> 1 | BR3: =RANDBETWEEN(0,4) -> 2 | BS3: =RANDBETWEEN(0,4) -> 1 | BT3: =IF(AND(OFFSET(BT3,0,-2)<>"",OFFSET(BT3,0,-1)<>""),INDEX(Règles!$C$1:$C$4,MATCH(IF(IF($D3>$E3,"Gd",IF($D3=$E3,"N","Pd"))=IF(OFFSET(BT3,0,-2)>OFFSET(BT3,0,-1),"Gd",IF(OFFSET(BT3,0,-2)=OFFSET(BT3,0,-1),"N","Pd")),"R","I"),Règles!$A$1:$A$4,0))+INDEX(Règles!$C$1:$C$4,MATCH(IF(AND(OFFSET(BT3,0,-2)=$D3,OFFSET(BT3,0,-1)=$E3),"S",IF(OR(OFFSET(BT3,0,-2)=$D3,OFFSET(BT3,0,-1)=$E3),"M","I")),Règles!$A$1:$A$4,0)),0) -> 5 | BU3: =RANDBETWEEN(0,4) -> 0 | BV3: =RANDBETWEEN(0,4) -> 0 | BW3: =IF(AND(OFFSET(BW3,0,-2)<>"",OFFSET(BW3,0,-1)<>""),INDEX(Règles!$C$1:$C$4,MATCH(IF(IF($D3>$E3,"Gd",IF($D3=$E3,"N","Pd"))=IF(OFFSET(BW3,0,-2)>OFFSET(BW3,0,-1),"Gd",IF(OFFSET(BW3,0,-2)=OFFSET(BW3,0,-1),"N","Pd")),"R","I"),Règles!$A$1:$A$4,0))+INDEX(Règles!$C$1:$C$4,MATCH(IF(AND(OFFSET(BW3,0,-2)=$D3,OFFSET(BW3,0,-1)=$E3),"S",IF(OR(OFFSET(BW3,0,-2)=$D3,OFFSET(BW3,0,-1)=$E3),"M","I")),Règles!$A$1:$A$4,0)),0) -> 1 | BX3: =RANDBETWEEN(0,4) -> 2 | BY3: =RANDBETWEEN(0,4) -> 0 | BZ3: =IF(AND(OFFSET(BZ3,0,-2)<>"",OFFSET(BZ3,0,-1)<>""),INDEX(Règles!$C$1:$C$4,MATCH(IF(IF($D3>$E3,"Gd",IF($D3=$E3,"N","Pd"))=IF(OFFSET(BZ3,0,-2)>OFFSET(BZ3,0,-1),"Gd",IF(OFFSET(BZ3,0,-2)=OFFSET(BZ3,0,-1),"N","Pd")),"R","I"),Règles!$A$1:$A$4,0))+INDEX(Règles!$C$1:$C$4,MATCH(IF(AND(OFFSET(BZ3,0,-2)=$D3,OFFSET(BZ3,0,-1)=$E3),"S",IF(OR(OFFSET(BZ3,0,-2)=$D3,OFFSET(BZ3,0,-1)=$E3),"M","I")),Règles!$A$1:$A$4,0)),0) -> 6
A4: Match 2 | B4: Nice | C4: Paris | D4: 1 | E4: 3 | G4: =RANDBETWEEN(0,4) -> 4 | H4: =RANDBETWEEN(0,4) -> 3 | I4: =IF(AND(OFFSET(I4,0,-2)<>"",OFFSET(I4,0,-1)<>""),INDEX(Règles!$C$1:$C$4,MATCH(IF(IF($D4>$E4,"Gd",IF($D4=$E4,"N","Pd"))=IF(OFFSET(I4,0,-2)>OFFSET(I4,0,-1),"Gd",IF(OFFSET(I4,0,-2)=OFFSET(I4,0,-1),"N","Pd")),"R","I"),Règles!$A$1:$A$4,0))+INDEX(Règles!$C$1:$C$4,MATCH(IF(AND(OFFSET(I4,0,-2)=$D4,OFFSET(I4,0,-1)=$E4),"S",IF(OR(OFFSET(I4,0,-2)=$D4,OFFSET(I4,0,-1)=$E4),"M","I")),Règles!$A$1:$A$4,0)),0) -> 1 | J4: =RANDBETWEEN(0,4) -> 2 | K4: =RANDBETWEEN(0,4) -> 2 | L4: =IF(AND(OFFSET(L4,0,-2)<>"",OFFSET(L4,0,-1)<>""),INDEX(Règles!$C$1:$C$4,MATCH(IF(IF($D4>$E4,"Gd",IF($D4=$E4,"N","Pd"))=IF(OFFSET(L4,0,-2)>OFFSET(L4,0,-1),"Gd",IF(OFFSET(L4,0,-2)=OFFSET(L4,0,-1),"N","Pd")),"R","I"),Règles!$A$1:$A$4,0))+INDEX(Règles!$C$1:$C$4,MATCH(IF(AND(OFFSET(L4,0,-2)=$D4,OFFSET(L4,0,-1)=$E4),"S",IF(OR(OFFSET(L4,0,-2)=$D4,OFFSET(L4,0,-1)=$E4),"M","I")),Règles!$A$1:$A$4,0)),0) -> 0 | M4: =RANDBETWEEN(0,4) -> 1 | N4: =RANDBETWEEN(0,4) -> 2 | O4: =IF(AND(OFFSET(O4,0,-2)<>"",OFFSET(O4,0,-1)<>""),INDEX(Règles!$C$1:$C$4,MATCH(IF(IF($D4>$E4,"Gd",IF($D4=$E4,"N","Pd"))=IF(OFFSET(O4,0,-2)>OFFSET(O4,0,-1),"Gd",IF(OFFSET(O4,0,-2)=OFFSET(O4,0,-1),"N","Pd")),"R","I"),Règles!$A$1:$A$4,0))+INDEX(Règles!$C$1:$C$4,MATCH(IF(AND(OFFSET(O4,0,-2)=$D4,OFFSET(O4,0,-1)=$E4),"S",IF(OR(OFFSET(O4,0,-2)=$D4,OFFSET(O4,0,-1)=$E4),"M","I")),Règles!$A$1:$A$4,0)),0) -> 6 | P4: =RANDBETWEEN(0,4) -> 0 | Q4: =RANDBETWEEN(0,4) -> 0 | R4: =IF(AND(OFFSET(R4,0,-2)<>"",OFFSET(R4,0,-1)<>""),INDEX(Règles!$C$1:$C$4,MATCH(IF(IF($D4>$E4,"Gd",IF($D4=$E4,"N","Pd"))=IF(OFFSET(R4,0,-2)>OFFSET(R4,0,-1),"Gd",IF(OFFSET(R4,0,-2)=OFFSET(R4,0,-1),"N","Pd")),"R","I"),Règles!$A$1:$A$4,0))+INDEX(Règles!$C$1:$C$4,MATCH(IF(AND(OFFSET(R4,0,-2)=$D4,OFFSET(R4,0,-1)=$E4),"S",IF(OR(OFFSET(R4,0,-2)=$D4,OFFSET(R4,0,-1)=$E4),"M","I")),Règles!$A$1:$A$4,0)),0) -> 0 | S4: =RANDBETWEEN(0,4) -> 2 | T4: =RANDBETWEEN(0,4) -> 1 | U4: =IF(AND(OFFSET(U4,0,-2)<>"",OFFSET(U4,0,-1)<>""),INDEX(Règles!$C$1:$C$4,MATCH(IF(IF($D4>$E4,"Gd",IF($D4=$E4,"N","Pd"))=IF(OFFSET(U4,0,-2)>OFFSET(U4,0,-1),"Gd",IF(OFFSET(U4,0,-2)=OFFSET(U4,0,-1),"N","Pd")),"R","I"),Règles!$A$1:$A$4,0))+INDEX(Règles!$C$1:$C$4,MATCH(IF(AND(OFFSET(U4,0,-2)=$D4,OFFSET(U4,0,-1)=$E4),"S",IF(OR(OFFSET(U4,0,-2)=$D4,OFFSET(U4,0,-1)=$E4),"M","I")),Règles!$A$1:$A$4,0)),0) -> 0 | V4: =RANDBETWEEN(0,4) -> 2 | W4: =RANDBETWEEN(0,4) -> 4 | X4: =IF(AND(OFFSET(X4,0,-2)<>"",OFFSET(X4,0,-1)<>""),INDEX(Règles!$C$1:$C$4,MATCH(IF(IF($D4>$E4,"Gd",IF($D4=$E4,"N","Pd"))=IF(OFFSET(X4,0,-2)>OFFSET(X4,0,-1),"Gd",IF(OFFSET(X4,0,-2)=OFFSET(X4,0,-1),"N","Pd")),"R","I"),Règles!$A$1:$A$4,0))+INDEX(Règles!$C$1:$C$4,MATCH(IF(AND(OFFSET(X4,0,-2)=$D4,OFFSET(X4,0,-1)=$E4),"S",IF(OR(OFFSET(X4,0,-2)=$D4,OFFSET(X4,0,-1)=$E4),"M","I")),Règles!$A$1:$A$4,0)),0) -> 5 | Y4: =RANDBETWEEN(0,4) -> 2 | Z4: =RANDBETWEEN(0,4) -> 3 | AA4: =IF(AND(OFFSET(AA4,0,-2)<>"",OFFSET(AA4,0,-1)<>""),INDEX(Règles!$C$1:$C$4,MATCH(IF(IF($D4>$E4,"Gd",IF($D4=$E4,"N","Pd"))=IF(OFFSET(AA4,0,-2)>OFFSET(AA4,0,-1),"Gd",IF(OFFSET(AA4,0,-2)=OFFSET(AA4,0,-1),"N","Pd")),"R","I"),Règles!$A$1:$A$4,0))+INDEX(Règles!$C$1:$C$4,MATCH(IF(AND(OFFSET(AA4,0,-2)=$D4,OFFSET(AA4,0,-1)=$E4),"S",IF(OR(OFFSET(AA4,0,-2)=$D4,OFFSET(AA4,0,-1)=$E4),"M","I")),Règles!$A$1:$A$4,0)),0) -> 6 | AB4: =RANDBETWEEN(0,4) -> 2 | AC4: =RANDBETWEEN(0,4) -> 1 | AD4: =IF(AND(OFFSET(AD4,0,-2)<>"",OFFSET(AD4,0,-1)<>""),INDEX(Règles!$C$1:$C$4,MATCH(IF(IF($D4>$E4,"Gd",IF($D4=$E4,"N","Pd"))=IF(OFFSET(AD4,0,-2)>OFFSET(AD4,0,-1),"Gd",IF(OFFSET(AD4,0,-2)=OFFSET(AD4,0,-1),"N","Pd")),"R","I"),Règles!$A$1:$A$4,0))+INDEX(Règles!$C$1:$C$4,MATCH(IF(AND(OFFSET(AD4,0,-2)=$D4,OFFSET(AD4,0,-1)=$E4),"S",IF(OR(OFFSET(AD4,0,-2)=$D4,OFFSET(AD4,0,-1)=$E4),"M","I")),Règles!$A$1:$A$4,0)),0) -> 0 | AE4: =RANDBETWEEN(0,4) -> 3 | AF4: =RANDBETWEEN(0,4) -> 3 | AG4: =IF(AND(OFFSET(AG4,0,-2)<>"",OFFSET(AG4,0,-1)<>""),INDEX(Règles!$C$1:$C$4,MATCH(IF(IF($D4>$E4,"Gd",IF($D4=$E4,"N","Pd"))=IF(OFFSET(AG4,0,-2)>OFFSET(AG4,0,-1),"Gd",IF(OFFSET(AG4,0,-2)=OFFSET(AG4,0,-1),"N","Pd")),"R","I"),Règles!$A$1:$A$4,0))+INDEX(Règles!$C$1:$C$4,MATCH(IF(AND(OFFSET(AG4,0,-2)=$D4,OFFSET(AG4,0,-1)=$E4),"S",IF(OR(OFFSET(AG4,0,-2)=$D4,OFFSET(AG4,0,-1)=$E4),"M","I")),Règles!$A$1:$A$4,0)),0) -> 1 | AH4: =RANDBETWEEN(0,4) -> 0 | AI4: =RANDBETWEEN(0,4) -> 1 | AJ4: =IF(AND(OFFSET(AJ4,0,-2)<>"",OFFSET(AJ4,0,-1)<>""),INDEX(Règles!$C$1:$C$4,MATCH(IF(IF($D4>$E4,"Gd",IF($D4=$E4,"N","Pd"))=IF(OFFSET(AJ4,0,-2)>OFFSET(AJ4,0,-1),"Gd",IF(OFFSET(AJ4,0,-2)=OFFSET(AJ4,0,-1),"N","Pd")),"R","I"),Règles!$A$1:$A$4,0))+INDEX(Règles!$C$1:$C$4,MATCH(IF(AND(OFFSET(AJ4,0,-2)=$D4,OFFSET(AJ4,0,-1)=$E4),"S",IF(OR(OFFSET(AJ4,0,-2)=$D4,OFFSET(AJ4,0,-1)=$E4),"M","I")),Règles!$A$1:$A$4,0)),0) -> 5 | AK4: =RANDBETWEEN(0,4) -> 1 | AL4: =RANDBETWEEN(0,4) -> 4 | AM4: =IF(AND(OFFSET(AM4,0,-2)<>"",OFFSET(AM4,0,-1)<>""),INDEX(Règles!$C$1:$C$4,MATCH(IF(IF($D4>$E4,"Gd",IF($D4=$E4,"N","Pd"))=IF(OFFSET(AM4,0,-2)>OFFSET(AM4,0,-1),"Gd",IF(OFFSET(AM4,0,-2)=OFFSET(AM4,0,-1),"N","Pd")),"R","I"),Règles!$A$1:$A$4,0))+INDEX(Règles!$C$1:$C$4,MATCH(IF(AND(OFFSET(AM4,0,-2)=$D4,OFFSET(AM4,0,-1)=$E4),"S",IF(OR(OFFSET(AM4,0,-2)=$D4,OFFSET(AM4,0,-1)=$E4),"M","I")),Règles!$A$1:$A$4,0)),0) -> 6 | AN4: =RANDBETWEEN(0,4) -> 3 | AO4: =RANDBETWEEN(0,4) -> 3 | AP4: =IF(AND(OFFSET(AP4,0,-2)<>"",OFFSET(AP4,0,-1)<>""),INDEX(Règles!$C$1:$C$4,MATCH(IF(IF($D4>$E4,"Gd",IF($D4=$E4,"N","Pd"))=IF(OFFSET(AP4,0,-2)>OFFSET(AP4,0,-1),"Gd",IF(OFFSET(AP4,0,-2)=OFFSET(AP4,0,-1),"N","Pd")),"R","I"),Règles!$A$1:$A$4,0))+INDEX(Règles!$C$1:$C$4,MATCH(IF(AND(OFFSET(AP4,0,-2)=$D4,OFFSET(AP4,0,-1)=$E4),"S",IF(OR(OFFSET(AP4,0,-2)=$D4,OFFSET(AP4,0,-1)=$E4),"M","I")),Règles!$A$1:$A$4,0)),0) -> 1 | AQ4: =RANDBETWEEN(0,4) -> 0 | AR4: =RANDBETWEEN(0,4) -> 0 | AS4: =IF(AND(OFFSET(AS4,0,-2)<>"",OFFSET(AS4,0,-1)<>""),INDEX(Règles!$C$1:$C$4,MATCH(IF(IF($D4>$E4,"Gd",IF($D4=$E4,"N","Pd"))=IF(OFFSET(AS4,0,-2)>OFFSET(AS4,0,-1),"Gd",IF(OFFSET(AS4,0,-2)=OFFSET(AS4,0,-1),"N","Pd")),"R","I"),Règles!$A$1:$A$4,0))+INDEX(Règles!$C$1:$C$4,MATCH(IF(AND(OFFSET(AS4,0,-2)=$D4,OFFSET(AS4,0,-1)=$E4),"S",IF(OR(OFFSET(AS4,0,-2)=$D4,OFFSET(AS4,0,-1)=$E4),"M","I")),Règles!$A$1:$A$4,0)),0) -> 0 | AT4: =RANDBETWEEN(0,4) -> 0 | AU4: =RANDBETWEEN(0,4) -> 3 | AV4: =IF(AND(OFFSET(AV4,0,-2)<>"",OFFSET(AV4,0,-1)<>""),INDEX(Règles!$C$1:$C$4,MATCH(IF(IF($D4>$E4,"Gd",IF($D4=$E4,"N","Pd"))=IF(OFFSET(AV4,0,-2)>OFFSET(AV4,0,-1),"Gd",IF(OFFSET(AV4,0,-2)=OFFSET(AV4,0,-1),"N","Pd")),"R","I"),Règles!$A$1:$A$4,0))+INDEX(Règles!$C$1:$C$4,MATCH(IF(AND(OFFSET(AV4,0,-2)=$D4,OFFSET(AV4,0,-1)=$E4),"S",IF(OR(OFFSET(AV4,0,-2)=$D4,OFFSET(AV4,0,-1)=$E4),"M","I")),Règles!$A$1:$A$4,0)),0) -> 6 | AW4: =RANDBETWEEN(0,4) -> 1 | AX4: =RANDBETWEEN(0,4) -> 2 | AY4: =IF(AND(OFFSET(AY4,0,-2)<>"",OFFSET(AY4,0,-1)<>""),INDEX(Règles!$C$1:$C$4,MATCH(IF(IF($D4>$E4,"Gd",IF($D4=$E4,"N","Pd"))=IF(OFFSET(AY4,0,-2)>OFFSET(AY4,0,-1),"Gd",IF(OFFSET(AY4,0,-2)=OFFSET(AY4,0,-1),"N","Pd")),"R","I"),Règles!$A$1:$A$4,0))+INDEX(Règles!$C$1:$C$4,MATCH(IF(AND(OFFSET(AY4,0,-2)=$D4,OFFSET(AY4,0,-1)=$E4),"S",IF(OR(OFFSET(AY4,0,-2)=$D4,OFFSET(AY4,0,-1)=$E4),"M","I")),Règles!$A$1:$A$4,0)),0) -> 6 | AZ4: =RANDBETWEEN(0,4) -> 1 | BA4: =RANDBETWEEN(0,4) -> 4 | BB4: =IF(AND(OFFSET(BB4,0,-2)<>"",OFFSET(BB4,0,-1)<>""),INDEX(Règles!$C$1:$C$4,MATCH(IF(IF($D4>$E4,"Gd",IF($D4=$E4,"N","Pd"))=IF(OFFSET(BB4,0,-2)>OFFSET(BB4,0,-1),"Gd",IF(OFFSET(BB4,0,-2)=OFFSET(BB4,0,-1),"N","Pd")),"R","I"),Règles!$A$1:$A$4,0))+INDEX(Règles!$C$1:$C$4,MATCH(IF(AND(OFFSET(BB4,0,-2)=$D4,OFFSET(BB4,0,-1)=$E4),"S",IF(OR(OFFSET(BB4,0,-2)=$D4,OFFSET(BB4,0,-1)=$E4),"M","I")),Règles!$A$1:$A$4,0)),0) -> 6 | BC4: =RANDBETWEEN(0,4) -> 3 | BD4: =RANDBETWEEN(0,4) -> 2 | BE4: =IF(AND(OFFSET(BE4,0,-2)<>"",OFFSET(BE4,0,-1)<>""),INDEX(Règles!$C$1:$C$4,MATCH(IF(IF($D4>$E4,"Gd",IF($D4=$E4,"N","Pd"))=IF(OFFSET(BE4,0,-2)>OFFSET(BE4,0,-1),"Gd",IF(OFFSET(BE4,0,-2)=OFFSET(BE4,0,-1),"N","Pd")),"R","I"),Règles!$A$1:$A$4,0))+INDEX(Règles!$C$1:$C$4,MATCH(IF(AND(OFFSET(BE4,0,-2)=$D4,OFFSET(BE4,0,-1)=$E4),"S",IF(OR(OFFSET(BE4,0,-2)=$D4,OFFSET(BE4,0,-1)=$E4),"M","I")),Règles!$A$1:$A$4,0)),0) -> 0 | BF4: =RANDBETWEEN(0,4) -> 0 | BG4: =RANDBETWEEN(0,4) -> 1 | BH4: =IF(AND(OFFSET(BH4,0,-2)<>"",OFFSET(BH4,0,-1)<>""),INDEX(Règles!$C$1:$C$4,MATCH(IF(IF($D4>$E4,"Gd",IF($D4=$E4,"N","Pd"))=IF(OFFSET(BH4,0,-2)>OFFSET(BH4,0,-1),"Gd",IF(OFFSET(BH4,0,-2)=OFFSET(BH4,0,-1),"N","Pd")),"R","I"),Règles!$A$1:$A$4,0))+INDEX(Règles!$C$1:$C$4,MATCH(IF(AND(OFFSET(BH4,0,-2)=$D4,OFFSET(BH4,0,-1)=$E4),"S",IF(OR(OFFSET(BH4,0,-2)=$D4,OFFSET(BH4,0,-1)=$E4),"M","I")),Règles!$A$1:$A$4,0)),0) -> 5 | BI4: =RANDBETWEEN(0,4) -> 0 | BJ4: =RANDBETWEEN(0,4) -> 2 | BK4: =IF(AND(OFFSET(BK4,0,-2)<>"",OFFSET(BK4,0,-1)<>""),INDEX(Règles!$C$1:$C$4,MATCH(IF(IF($D4>$E4,"Gd",IF($D4=$E4,"N","Pd"))=IF(OFFSET(BK4,0,-2)>OFFSET(BK4,0,-1),"Gd",IF(OFFSET(BK4,0,-2)=OFFSET(BK4,0,-1),"N","Pd")),"R","I"),Règles!$A$1:$A$4,0))+INDEX(Règles!$C$1:$C$4,MATCH(IF(AND(OFFSET(BK4,0,-2)=$D4,OFFSET(BK4,0,-1)=$E4),"S",IF(OR(OFFSET(BK4,0,-2)=$D4,OFFSET(BK4,0,-1)=$E4),"M","I")),Règles!$A$1:$A$4,0)),0) -> 5 | BL4: =RANDBETWEEN(0,4) -> 4 | BM4: =RANDBETWEEN(0,4) -> 3 | BN4: =IF(AND(OFFSET(BN4,0,-2)<>"",OFFSET(BN4,0,-1)<>""),INDEX(Règles!$C$1:$C$4,MATCH(IF(IF($D4>$E4,"Gd",IF($D4=$E4,"N","Pd"))=IF(OFFSET(BN4,0,-2)>OFFSET(BN4,0,-1),"Gd",IF(OFFSET(BN4,0,-2)=OFFSET(BN4,0,-1),"N","Pd")),"R","I"),Règles!$A$1:$A$4,0))+INDEX(Règles!$C$1:$C$4,MATCH(IF(AND(OFFSET(BN4,0,-2)=$D4,OFFSET(BN4,0,-1)=$E4),"S",IF(OR(OFFSET(BN4,0,-2)=$D4,OFFSET(BN4,0,-1)=$E4),"M","I")),Règles!$A$1:$A$4,0)),0) -> 1 | BO4: =RANDBETWEEN(0,4) -> 2 | BP4: =RANDBETWEEN(0,4) -> 2 | BQ4: =IF(AND(OFFSET(BQ4,0,-2)<>"",OFFSET(BQ4,0,-1)<>""),INDEX(Règles!$C$1:$C$4,MATCH(IF(IF($D4>$E4,"Gd",IF($D4=$E4,"N","Pd"))=IF(OFFSET(BQ4,0,-2)>OFFSET(BQ4,0,-1),"Gd",IF(OFFSET(BQ4,0,-2)=OFFSET(BQ4,0,-1),"N","Pd")),"R","I"),Règles!$A$1:$A$4,0))+INDEX(Règles!$C$1:$C$4,MATCH(IF(AND(OFFSET(BQ4,0,-2)=$D4,OFFSET(BQ4,0,-1)=$E4),"S",IF(OR(OFFSET(BQ4,0,-2)=$D4,OFFSET(BQ4,0,-1)=$E4),"M","I")),Règles!$A$1:$A$4,0)),0) -> 0 | BR4: =RANDBETWEEN(0,4) -> 1 | BS4: =RANDBETWEEN(0,4) -> 3 | BT4: =IF(AND(OFFSET(BT4,0,-2)<>"",OFFSET(BT4,0,-1)<>""),INDEX(Règles!$C$1:$C$4,MATCH(IF(IF($D4>$E4,"Gd",IF($D4=$E4,"N","Pd"))=IF(OFFSET(BT4,0,-2)>OFFSET(BT4,0,-1),"Gd",IF(OFFSET(BT4,0,-2)=OFFSET(BT4,0,-1),"N","Pd")),"R","I"),Règles!$A$1:$A$4,0))+INDEX(Règles!$C$1:$C$4,MATCH(IF(AND(OFFSET(BT4,0,-2)=$D4,OFFSET(BT4,0,-1)=$E4),"S",IF(OR(OFFSET(BT4,0,-2)=$D4,OFFSET(BT4,0,-1)=$E4),"M","I")),Règles!$A$1:$A$4,0)),0) -> 10 | BU4: =RANDBETWEEN(0,4) -> 0 | BV4: =RANDBETWEEN(0,4) -> 0 | BW4: =IF(AND(OFFSET(BW4,0,-2)<>"",OFFSET(BW4,0,-1)<>""),INDEX(Règles!$C$1:$C$4,MATCH(IF(IF($D4>$E4,"Gd",IF($D4=$E4,"N","Pd"))=IF(OFFSET(BW4,0,-2)>OFFSET(BW4,0,-1),"Gd",IF(OFFSET(BW4,0,-2)=OFFSET(BW4,0,-1),"N","Pd")),"R","I"),Règles!$A$1:$A$4,0))+INDEX(Règles!$C$1:$C$4,MATCH(IF(AND(OFFSET(BW4,0,-2)=$D4,OFFSET(BW4,0,-1)=$E4),"S",IF(OR(OFFSET(BW4,0,-2)=$D4,OFFSET(BW4,0,-1)=$E4),"M","I")),Règles!$A$1:$A$4,0)),0) -> 0 | BX4: =RANDBETWEEN(0,4) -> 3 | BY4: =RANDBETWEEN(0,4) -> 4 | BZ4: =IF(AND(OFFSET(BZ4,0,-2)<>"",OFFSET(BZ4,0,-1)<>""),INDEX(Règles!$C$1:$C$4,MATCH(IF(IF($D4>$E4,"Gd",IF($D4=$E4,"N","Pd"))=IF(OFFSET(BZ4,0,-2)>OFFSET(BZ4,0,-1),"Gd",IF(OFFSET(BZ4,0,-2)=OFFSET(BZ4,0,-1),"N","Pd")),"R","I"),Règles!$A$1:$A$4,0))+INDEX(Règles!$C$1:$C$4,MATCH(IF(AND(OFFSET(BZ4,0,-2)=$D4,OFFSET(BZ4,0,-1)=$E4),"S",IF(OR(OFFSET(BZ4,0,-2)=$D4,OFFSET(BZ4,0,-1)=$E4),"M","I")),Règles!$A$1:$A$4,0)),0) -> 5
A5: Match 3 | B5: Bastia | C5: Reims | D5: 1 | E5: 2 | G5: =RANDBETWEEN(0,4) -> 3 | H5: =RANDBETWEEN(0,4) -> 2 | I5: =IF(AND(OFFSET(I5,0,-2)<>"",OFFSET(I5,0,-1)<>""),INDEX(Règles!$C$1:$C$4,MATCH(IF(IF($D5>$E5,"Gd",IF($D5=$E5,"N","Pd"))=IF(OFFSET(I5,0,-2)>OFFSET(I5,0,-1),"Gd",IF(OFFSET(I5,0,-2)=OFFSET(I5,0,-1),"N","Pd")),"R","I"),Règles!$A$1:$A$4,0))+INDEX(Règles!$C$1:$C$4,MATCH(IF(AND(OFFSET(I5,0,-2)=$D5,OFFSET(I5,0,-1)=$E5),"S",IF(OR(OFFSET(I5,0,-2)=$D5,OFFSET(I5,0,-1)=$E5),"M","I")),Règles!$A$1:$A$4,0)),0) -> 1 | J5: =RANDBETWEEN(0,4) -> 0 | K5: =RANDBETWEEN(0,4) -> 4 | L5: =IF(AND(OFFSET(L5,0,-2)<>"",OFFSET(L5,0,-1)<>""),INDEX(Règles!$C$1:$C$4,MATCH(IF(IF($D5>$E5,"Gd",IF($D5=$E5,"N","Pd"))=IF(OFFSET(L5,0,-2)>OFFSET(L5,0,-1),"Gd",IF(OFFSET(L5,0,-2)=OFFSET(L5,0,-1),"N","Pd")),"R","I"),Règles!$A$1:$A$4,0))+INDEX(Règles!$C$1:$C$4,MATCH(IF(AND(OFFSET(L5,0,-2)=$D5,OFFSET(L5,0,-1)=$E5),"S",IF(OR(OFFSET(L5,0,-2)=$D5,OFFSET(L5,0,-1)=$E5),"M","I")),Règles!$A$1:$A$4,0)),0) -> 5 | M5: =RANDBETWEEN(0,4) -> 2 | N5: =RANDBETWEEN(0,4) -> 1 | O5: =IF(AND(OFFSET(O5,0,-2)<>"",OFFSET(O5,0,-1)<>""),INDEX(Règles!$C$1:$C$4,MATCH(IF(IF($D5>$E5,"Gd",IF($D5=$E5,"N","Pd"))=IF(OFFSET(O5,0,-2)>OFFSET(O5,0,-1),"Gd",IF(OFFSET(O5,0,-2)=OFFSET(O5,0,-1),"N","Pd")),"R","I"),Règles!$A$1:$A$4,0))+INDEX(Règles!$C$1:$C$4,MATCH(IF(AND(OFFSET(O5,0,-2)=$D5,OFFSET(O5,0,-1)=$E5),"S",IF(OR(OFFSET(O5,0,-2)=$D5,OFFSET(O5,0,-1)=$E5),"M","I")),Règles!$A$1:$A$4,0)),0) -> 0 | P5: =RANDBETWEEN(0,4) -> 3 | Q5: =RANDBETWEEN(0,4) -> 3 | R5: =IF(AND(OFFSET(R5,0,-2)<>"",OFFSET(R5,0,-1)<>""),INDEX(Règles!$C$1:$C$4,MATCH(IF(IF($D5>$E5,"Gd",IF($D5=$E5,"N","Pd"))=IF(OFFSET(R5,0,-2)>OFFSET(R5,0,-1),"Gd",IF(OFFSET(R5,0,-2)=OFFSET(R5,0,-1),"N","Pd")),"R","I"),Règles!$A$1:$A$4,0))+INDEX(Règles!$C$1:$C$4,MATCH(IF(AND(OFFSET(R5,0,-2)=$D5,OFFSET(R5,0,-1)=$E5),"S",IF(OR(OFFSET(R5,0,-2)=$D5,OFFSET(R5,0,-1)=$E5),"M","I")),Règles!$A$1:$A$4,0)),0) -> 0 | S5: =RANDBETWEEN(0,4) -> 0 | T5: =RANDBETWEEN(0,4) -> 1 | U5: =IF(AND(OFFSET(U5,0,-2)<>"",OFFSET(U5,0,-1)<>""),INDEX(Règles!$C$1:$C$4,MATCH(IF(IF($D5>$E5,"Gd",IF($D5=$E5,"N","Pd"))=IF(OFFSET(U5,0,-2)>OFFSET(U5,0,-1),"Gd",IF(OFFSET(U5,0,-2)=OFFSET(U5,0,-1),"N","Pd")),"R","I"),Règles!$A$1:$A$4,0))+INDEX(Règles!$C$1:$C$4,MATCH(IF(AND(OFFSET(U5,0,-2)=$D5,OFFSET(U5,0,-1)=$E5),"S",IF(OR(OFFSET(U5,0,-2)=$D5,OFFSET(U5,0,-1)=$E5),"M","I")),Règles!$A$1:$A$4,0)),0) -> 5 | V5: =RANDBETWEEN(0,4) -> 2 | W5: =RANDBETWEEN(0,4) -> 2 | X5: =IF(AND(OFFSET(X5,0,-2)<>"",OFFSET(X5,0,-1)<>""),INDEX(Règles!$C$1:$C$4,MATCH(IF(IF($D5>$E5,"Gd",IF($D5=$E5,"N","Pd"))=IF(OFFSET(X5,0,-2)>OFFSET(X5,0,-1),"Gd",IF(OFFSET(X5,0,-2)=OFFSET(X5,0,-1),"N","Pd")),"R","I"),Règles!$A$1:$A$4,0))+INDEX(Règles!$C$1:$C$4,MATCH(IF(AND(OFFSET(X5,0,-2)=$D5,OFFSET(X5,0,-1)=$E5),"S",IF(OR(OFFSET(X5,0,-2)=$D5,OFFSET(X5,0,-1)=$E5),"M","I")),Règles!$A$1:$A$4,0)),0) -> 1 | Y5: =RANDBETWEEN(0,4) -> 4 | Z5: =RANDBETWEEN(0,4) -> 1 | AA5: =IF(AND(OFFSET(AA5,0,-2)<>"",OFFSET(AA5,0,-1)<>""),INDEX(Règles!$C$1:$C$4,MATCH(IF(IF($D5>$E5,"Gd",IF($D5=$E5,"N","Pd"))=IF(OFFSET(AA5,0,-2)>OFFSET(AA5,0,-1),"Gd",IF(OFFSET(AA5,0,-2)=OFFSET(AA5,0,-1),"N","Pd")),"R","I"),Règles!$A$1:$A$4,0))+INDEX(Règles!$C$1:$C$4,MATCH(IF(AND(OFFSET(AA5,0,-2)=$D5,OFFSET(AA5,0,-1)=$E5),"S",IF(OR(OFFSET(AA5,0,-2)=$D5,OFFSET(AA5,0,-1)=$E5),"M","I")),Règles!$A$1:$A$4,0)),0) -> 0 | AB5: =RANDBETWEEN(0,4) -> 0 | AC5: =RANDBETWEEN(0,4) -> 1 | AD5: =IF(AND(OFFSET(AD5,0,-2)<>"",OFFSET(AD5,0,-1)<>""),INDEX(Règles!$C$1:$C$4,MATCH(IF(IF($D5>$E5,"Gd",IF($D5=$E5,"N","Pd"))=IF(OFFSET(AD5,0,-2)>OFFSET(AD5,0,-1),"Gd",IF(OFFSET(AD5,0,-2)=OFFSET(AD5,0,-1),"N","Pd")),"R","I"),Règles!$A$1:$A$4,0))+INDEX(Règles!$C$1:$C$4,MATCH(IF(AND(OFFSET(AD5,0,-2)=$D5,OFFSET(AD5,0,-1)=$E5),"S",IF(OR(OFFSET(AD5,0,-2)=$D5,OFFSET(AD5,0,-1)=$E5),"M","I")),Règles!$A$1:$A$4,0)),0) -> 5 | AE5: =RANDBETWEEN(0,4) -> 0 | AF5: =RANDBETWEEN(0,4) -> 3 | AG5: =IF(AND(OFFSET(AG5,0,-2)<>"",OFFSET(AG5,0,-1)<>""),INDEX(Règles!$C$1:$C$4,MATCH(IF(IF($D5>$E5,"Gd",IF($D5=$E5,"N","Pd"))=IF(OFFSET(AG5,0,-2)>OFFSET(AG5,0,-1),"Gd",IF(OFFSET(AG5,0,-2)=OFFSET(AG5,0,-1),"N","Pd")),"R","I"),Règles!$A$1:$A$4,0))+INDEX(Règles!$C$1:$C$4,MATCH(IF(AND(OFFSET(AG5,0,-2)=$D5,OFFSET(AG5,0,-1)=$E5),"S",IF(OR(OFFSET(AG5,0,-2)=$D5,OFFSET(AG5,0,-1)=$E5),"M","I")),Règles!$A$1:$A$4,0)),0) -> 5 | AH5: =RANDBETWEEN(0,4) -> 3 | AI5: =RANDBETWEEN(0,4) -> 0 | AJ5: =IF(AND(OFFSET(AJ5,0,-2)<>"",OFFSET(AJ5,0,-1)<>""),INDEX(Règles!$C$1:$C$4,MATCH(IF(IF($D5>$E5,"Gd",IF($D5=$E5,"N","Pd"))=IF(OFFSET(AJ5,0,-2)>OFFSET(AJ5,0,-1),"Gd",IF(OFFSET(AJ5,0,-2)=OFFSET(AJ5,0,-1),"N","Pd")),"R","I"),Règles!$A$1:$A$4,0))+INDEX(Règles!$C$1:$C$4,MATCH(IF(AND(OFFSET(AJ5,0,-2)=$D5,OFFSET(AJ5,0,-1)=$E5),"S",IF(OR(OFFSET(AJ5,0,-2)=$D5,OFFSET(AJ5,0,-1)=$E5),"M","I")),Règles!$A$1:$A$4,0)),0) -> 0 | AK5: =RANDBETWEEN(0,4) -> 3 | AL5: =RANDBETWEEN(0,4) -> 2 | AM5: =IF(AND(OFFSET(AM5,0,-2)<>"",OFFSET(AM5,0,-1)<>""),INDEX(Règles!$C$1:$C$4,MATCH(IF(IF($D5>$E5,"Gd",IF($D5=$E5,"N","Pd"))=IF(OFFSET(AM5,0,-2)>OFFSET(AM5,0,-1),"Gd",IF(OFFSET(AM5,0,-2)=OFFSET(AM5,0,-1),"N","Pd")),"R","I"),Règles!$A$1:$A$4,0))+INDEX(Règles!$C$1:$C$4,MATCH(IF(AND(OFFSET(AM5,0,-2)=$D5,OFFSET(AM5,0,-1)=$E5),"S",IF(OR(OFFSET(AM5,0,-2)=$D5,OFFSET(AM5,0,-1)=$E5),"M","I")),Règles!$A$1:$A$4,0)),0) -> 1 | AN5: =RANDBETWEEN(0,4) -> 2 | AO5: =RANDBETWEEN(0,4) -> 1 | AP5: =IF(AND(OFFSET(AP5,0,-2)<>"",OFFSET(AP5,0,-1)<>""),INDEX(Règles!$C$1:$C$4,MATCH(IF(IF($D5>$E5,"Gd",IF($D5=$E5,"N","Pd"))=IF(OFFSET(AP5,0,-2)>OFFSET(AP5,0,-1),"Gd",IF(OFFSET(AP5,0,-2)=OFFSET(AP5,0,-1),"N","Pd")),"R","I"),Règles!$A$1:$A$4,0))+INDEX(Règles!$C$1:$C$4,MATCH(IF(AND(OFFSET(AP5,0,-2)=$D5,OFFSET(AP5,0,-1)=$E5),"S",IF(OR(OFFSET(AP5,0,-2)=$D5,OFFSET(AP5,0,-1)=$E5),"M","I")),Règles!$A$1:$A$4,0)),0) -> 0 | AQ5: =RANDBETWEEN(0,4) -> 2 | AR5: =RANDBETWEEN(0,4) -> 2 | AS5: =IF(AND(OFFSET(AS5,0,-2)<>"",OFFSET(AS5,0,-1)<>""),INDEX(Règles!$C$1:$C$4,MATCH(IF(IF($D5>$E5,"Gd",IF($D5=$E5,"N","Pd"))=IF(OFFSET(AS5,0,-2)>OFFSET(AS5,0,-1),"Gd",IF(OFFSET(AS5,0,-2)=OFFSET(AS5,0,-1),"N","Pd")),"R","I"),Règles!$A$1:$A$4,0))+INDEX(Règles!$C$1:$C$4,MATCH(IF(AND(OFFSET(AS5,0,-2)=$D5,OFFSET(AS5,0,-1)=$E5),"S",IF(OR(OFFSET(AS5,0,-2)=$D5,OFFSET(AS5,0,-1)=$E5),"M","I")),Règles!$A$1:$A$4,0)),0) -> 1 | AT5: =RANDBETWEEN(0,4) -> 0 | AU5: =RANDBETWEEN(0,4) -> 3 | AV5: =IF(AND(OFFSET(AV5,0,-2)<>"",OFFSET(AV5,0,-1)<>""),INDEX(Règles!$C$1:$C$4,MATCH(IF(IF($D5>$E5,"Gd",IF($D5=$E5,"N","Pd"))=IF(OFFSET(AV5,0,-2)>OFFSET(AV5,0,-1),"Gd",IF(OFFSET(AV5,0,-2)=OFFSET(AV5,0,-1),"N","Pd")),"R","I"),Règles!$A$1:$A$4,0))+INDEX(Règles!$C$1:$C$4,MATCH(IF(AND(OFFSET(AV5,0,-2)=$D5,OFFSET(AV5,0,-1)=$E5),"S",IF(OR(OFFSET(AV5,0,-2)=$D5,OFFSET(AV5,0,-1)=$E5),"M","I")),Règles!$A$1:$A$4,0)),0) -> 5 | AW5: =RANDBETWEEN(0,4) -> 4 | AX5: =RANDBETWEEN(0,4) -> 4 | AY5: =IF(AND(OFFSET(AY5,0,-2)<>"",OFFSET(AY5,0,-1)<>""),INDEX(Règles!$C$1:$C$4,MATCH(IF(IF($D5>$E5,"Gd",IF($D5=$E5,"N","Pd"))=IF(OFFSET(AY5,0,-2)>OFFSET(AY5,0,-1),"Gd",IF(OFFSET(AY5,0,-2)=OFFSET(AY5,0,-1),"N","Pd")),"R","I"),Règles!$A$1:$A$4,0))+INDEX(Règles!$C$1:$C$4,MATCH(IF(AND(OFFSET(AY5,0,-2)=$D5,OFFSET(AY5,0,-1)=$E5),"S",IF(OR(OFFSET(AY5,0,-2)=$D5,OFFSET(AY5,0,-1)=$E5),"M","I")),Règles!$A$1:$A$4,0)),0) -> 0 | AZ5: =RANDBETWEEN(0,4) -> 2 | BA5: =RANDBETWEEN(0,4) -> 0 | BB5: =IF(AND(OFFSET(BB5,0,-2)<>"",OFFSET(BB5,0,-1)<>""),INDEX(Règles!$C$1:$C$4,MATCH(IF(IF($D5>$E5,"Gd",IF($D5=$E5,"N","Pd"))=IF(OFFSET(BB5,0,-2)>OFFSET(BB5,0,-1),"Gd",IF(OFFSET(BB5,0,-2)=OFFSET(BB5,0,-1),"N","Pd")),"R","I"),Règles!$A$1:$A$4,0))+INDEX(Règles!$C$1:$C$4,MATCH(IF(AND(OFFSET(BB5,0,-2)=$D5,OFFSET(BB5,0,-1)=$E5),"S",IF(OR(OFFSET(BB5,0,-2)=$D5,OFFSET(BB5,0,-1)=$E5),"M","I")),Règles!$A$1:$A$4,0)),0) -> 0 | BC5: =RANDBETWEEN(0,4) -> 0 | BD5: =RANDBETWEEN(0,4) -> 1 | BE5: =IF(AND(OFFSET(BE5,0,-2)<>"",OFFSET(BE5,0,-1)<>""),INDEX(Règles!$C$1:$C$4,MATCH(IF(IF($D5>$E5,"Gd",IF($D5=$E5,"N","Pd"))=IF(OFFSET(BE5,0,-2)>OFFSET(BE5,0,-1),"Gd",IF(OFFSET(BE5,0,-2)=OFFSET(BE5,0,-1),"N","Pd")),"R","I"),Règles!$A$1:$A$4,0))+INDEX(Règles!$C$1:$C$4,MATCH(IF(AND(OFFSET(BE5,0,-2)=$D5,OFFSET(BE5,0,-1)=$E5),"S",IF(OR(OFFSET(BE5,0,-2)=$D5,OFFSET(BE5,0,-1)=$E5),"M","I")),Règles!$A$1:$A$4,0)),0) -> 5 | BF5: =RANDBETWEEN(0,4) -> 2 | BG5: =RANDBETWEEN(0,4) -> 1 | BH5: =IF(AND(OFFSET(BH5,0,-2)<>"",OFFSET(BH5,0,-1)<>""),INDEX(Règles!$C$1:$C$4,MATCH(IF(IF($D5>$E5,"Gd",IF($D5=$E5,"N","Pd"))=IF(OFFSET(BH5,0,-2)>OFFSET(BH5,0,-1),"Gd",IF(OFFSET(BH5,0,-2)=OFFSET(BH5,0,-1),"N","Pd")),"R","I"),Règles!$A$1:$A$4,0))+INDEX(Règles!$C$1:$C$4,MATCH(IF(AND(OFFSET(BH5,0,-2)=$D5,OFFSET(BH5,0,-1)=$E5),"S",IF(OR(OFFSET(BH5,0,-2)=$D5,OFFSET(BH5,0,-1)=$E5),"M","I")),Règles!$A$1:$A$4,0)),0) -> 0 | BI5: =RANDBETWEEN(0,4) -> 1 | BJ5: =RANDBETWEEN(0,4) -> 0 | BK5: =IF(AND(OFFSET(BK5,0,-2)<>"",OFFSET(BK5,0,-1)<>""),INDEX(Règles!$C$1:$C$4,MATCH(IF(IF($D5>$E5,"Gd",IF($D5=$E5,"N","Pd"))=IF(OFFSET(BK5,0,-2)>OFFSET(BK5,0,-1),"Gd",IF(OFFSET(BK5,0,-2)=OFFSET(BK5,0,-1),"N","Pd")),"R","I"),Règles!$A$1:$A$4,0))+INDEX(Règles!$C$1:$C$4,MATCH(IF(AND(OFFSET(BK5,0,-2)=$D5,OFFSET(BK5,0,-1)=$E5),"S",IF(OR(OFFSET(BK5,0,-2)=$D5,OFFSET(BK5,0,-1)=$E5),"M","I")),Règles!$A$1:$A$4,0)),0) -> 1 | BL5: =RANDBETWEEN(0,4) -> 0 | BM5: =RANDBETWEEN(0,4) -> 2 | BN5: =IF(AND(OFFSET(BN5,0,-2)<>"",OFFSET(BN5,0,-1)<>""),INDEX(Règles!$C$1:$C$4,MATCH(IF(IF($D5>$E5,"Gd",IF($D5=$E5,"N","Pd"))=IF(OFFSET(BN5,0,-2)>OFFSET(BN5,0,-1),"Gd",IF(OFFSET(BN5,0,-2)=OFFSET(BN5,0,-1),"N","Pd")),"R","I"),Règles!$A$1:$A$4,0))+INDEX(Règles!$C$1:$C$4,MATCH(IF(AND(OFFSET(BN5,0,-2)=$D5,OFFSET(BN5,0,-1)=$E5),"S",IF(OR(OFFSET(BN5,0,-2)=$D5,OFFSET(BN5,0,-1)=$E5),"M","I")),Règles!$A$1:$A$4,0)),0) -> 6 | BO5: =RANDBETWEEN(0,4) -> 2 | BP5: =RANDBETWEEN(0,4) -> 2 | BQ5: =IF(AND(OFFSET(BQ5,0,-2)<>"",OFFSET(BQ5,0,-1)<>""),INDEX(Règles!$C$1:$C$4,MATCH(IF(IF($D5>$E5,"Gd",IF($D5=$E5,"N","Pd"))=IF(OFFSET(BQ5,0,-2)>OFFSET(BQ5,0,-1),"Gd",IF(OFFSET(BQ5,0,-2)=OFFSET(BQ5,0,-1),"N","Pd")),"R","I"),Règles!$A$1:$A$4,0))+INDEX(Règles!$C$1:$C$4,MATCH(IF(AND(OFFSET(BQ5,0,-2)=$D5,OFFSET(BQ5,0,-1)=$E5),"S",IF(OR(OFFSET(BQ5,0,-2)=$D5,OFFSET(BQ5,0,-1)=$E5),"M","I")),Règles!$A$1:$A$4,0)),0) -> 1 | BR5: =RANDBETWEEN(0,4) -> 3 | BS5: =RANDBETWEEN(0,4) -> 3 | BT5: =IF(AND(OFFSET(BT5,0,-2)<>"",OFFSET(BT5,0,-1)<>""),INDEX(Règles!$C$1:$C$4,MATCH(IF(IF($D5>$E5,"Gd",IF($D5=$E5,"N","Pd"))=IF(OFFSET(BT5,0,-2)>OFFSET(BT5,0,-1),"Gd",IF(OFFSET(BT5,0,-2)=OFFSET(BT5,0,-1),"N","Pd")),"R","I"),Règles!$A$1:$A$4,0))+INDEX(Règles!$C$1:$C$4,MATCH(IF(AND(OFFSET(BT5,0,-2)=$D5,OFFSET(BT5,0,-1)=$E5),"S",IF(OR(OFFSET(BT5,0,-2)=$D5,OFFSET(BT5,0,-1)=$E5),"M","I")),Règles!$A$1:$A$4,0)),0) -> 0 | BU5: =RANDBETWEEN(0,4) -> 3 | BV5: =RANDBETWEEN(0,4) -> 0 | BW5: =IF(AND(OFFSET(BW5,0,-2)<>"",OFFSET(BW5,0,-1)<>""),INDEX(Règles!$C$1:$C$4,MATCH(IF(IF($D5>$E5,"Gd",IF($D5=$E5,"N","Pd"))=IF(OFFSET(BW5,0,-2)>OFFSET(BW5,0,-1),"Gd",IF(OFFSET(BW5,0,-2)=OFFSET(BW5,0,-1),"N","Pd")),"R","I"),Règles!$A$1:$A$4,0))+INDEX(Règles!$C$1:$C$4,MATCH(IF(AND(OFFSET(BW5,0,-2)=$D5,OFFSET(BW5,0,-1)=$E5),"S",IF(OR(OFFSET(BW5,0,-2)=$D5,OFFSET(BW5,0,-1)=$E5),"M","I")),Règles!$A$1:$A$4,0)),0) -> 0 | BX5: =RANDBETWEEN(0,4) -> 1 | BY5: =RANDBETWEEN(0,4) -> 4 | BZ5: =IF(AND(OFFSET(BZ5,0,-2)<>"",OFFSET(BZ5,0,-1)<>""),INDEX(Règles!$C$1:$C$4,MATCH(IF(IF($D5>$E5,"Gd",IF($D5=$E5,"N","Pd"))=IF(OFFSET(BZ5,0,-2)>OFFSET(BZ5,0,-1),"Gd",IF(OFFSET(BZ5,0,-2)=OFFSET(BZ5,0,-1),"N","Pd")),"R","I"),Règles!$A$1:$A$4,0))+INDEX(Règles!$C$1:$C$4,MATCH(IF(AND(OFFSET(BZ5,0,-2)=$D5,OFFSET(BZ5,0,-1)=$E5),"S",IF(OR(OFFSET(BZ5,0,-2)=$D5,OFFSET(BZ5,0,-1)=$E5),"M","I")),Règles!$A$1:$A$4,0)),0) -> 6
A6: Match 4 | B6: Guigamp | C6: Evian | D6: 1 | E6: 1 | G6: =RANDBETWEEN(0,4) -> 0 | H6: =RANDBETWEEN(0,4) -> 3 | I6: =IF(AND(OFFSET(I6,0,-2)<>"",OFFSET(I6,0,-1)<>""),INDEX(Règles!$C$1:$C$4,MATCH(IF(IF($D6>$E6,"Gd",IF($D6=$E6,"N","Pd"))=IF(OFFSET(I6,0,-2)>OFFSET(I6,0,-1),"Gd",IF(OFFSET(I6,0,-2)=OFFSET(I6,0,-1),"N","Pd")),"R","I"),Règles!$A$1:$A$4,0))+INDEX(Règles!$C$1:$C$4,MATCH(IF(AND(OFFSET(I6,0,-2)=$D6,OFFSET(I6,0,-1)=$E6),"S",IF(OR(OFFSET(I6,0,-2)=$D6,OFFSET(I6,0,-1)=$E6),"M","I")),Règles!$A$1:$A$4,0)),0) -> 0 | J6: =RANDBETWEEN(0,4) -> 4 | K6: =RANDBETWEEN(0,4) -> 3 | L6: =IF(AND(OFFSET(L6,0,-2)<>"",OFFSET(L6,0,-1)<>""),INDEX(Règles!$C$1:$C$4,MATCH(IF(IF($D6>$E6,"Gd",IF($D6=$E6,"N","Pd"))=IF(OFFSET(L6,0,-2)>OFFSET(L6,0,-1),"Gd",IF(OFFSET(L6,0,-2)=OFFSET(L6,0,-1),"N","Pd")),"R","I"),Règles!$A$1:$A$4,0))+INDEX(Règles!$C$1:$C$4,MATCH(IF(AND(OFFSET(L6,0,-2)=$D6,OFFSET(L6,0,-1)=$E6),"S",IF(OR(OFFSET(L6,0,-2)=$D6,OFFSET(L6,0,-1)=$E6),"M","I")),Règles!$A$1:$A$4,0)),0) -> 0 | M6: =RANDBETWEEN(0,4) -> 0 | N6: =RANDBETWEEN(0,4) -> 1 | O6: =IF(AND(OFFSET(O6,0,-2)<>"",OFFSET(O6,0,-1)<>""),INDEX(Règles!$C$1:$C$4,MATCH(IF(IF($D6>$E6,"Gd",IF($D6=$E6,"N","Pd"))=IF(OFFSET(O6,0,-2)>OFFSET(O6,0,-1),"Gd",IF(OFFSET(O6,0,-2)=OFFSET(O6,0,-1),"N","Pd")),"R","I"),Règles!$A$1:$A$4,0))+INDEX(Règles!$C$1:$C$4,MATCH(IF(AND(OFFSET(O6,0,-2)=$D6,OFFSET(O6,0,-1)=$E6),"S",IF(OR(OFFSET(O6,0,-2)=$D6,OFFSET(O6,0,-1)=$E6),"M","I")),Règles!$A$1:$A$4,0)),0) -> 1 | P6: =RANDBETWEEN(0,4) -> 2 | Q6: =RANDBETWEEN(0,4) -> 3 | R6: =IF(AND(OFFSET(R6,0,-2)<>"",OFFSET(R6,0,-1)<>""),INDEX(Règles!$C$1:$C$4,MATCH(IF(IF($D6>$E6,"Gd",IF($D6=$E6,"N","Pd"))=IF(OFFSET(R6,0,-2)>OFFSET(R6,0,-1),"Gd",IF(OFFSET(R6,0,-2)=OFFSET(R6,0,-1),"N","Pd")),"R","I"),Règles!$A$1:$A$4,0))+INDEX(Règles!$C$1:$C$4,MATCH(IF(AND(OFFSET(R6,0,-2)=$D6,OFFSET(R6,0,-1)=$E6),"S",IF(OR(OFFSET(R6,0,-2)=$D6,OFFSET(R6,0,-1)=$E6),"M","I")),Règles!$A$1:$A$4,0)),0) -> 0 | S6: =RANDBETWEEN(0,4) -> 0 | T6: =RANDBETWEEN(0,4) -> 0 | U6: =IF(AND(OFFSET(U6,0,-2)<>"",OFFSET(U6,0,-1)<>""),INDEX(Règles!$C$1:$C$4,MATCH(IF(IF($D6>$E6,"Gd",IF($D6=$E6,"N","Pd"))=IF(OFFSET(U6,0,-2)>OFFSET(U6,0,-1),"Gd",IF(OFFSET(U6,0,-2)=OFFSET(U6,0,-1),"N","Pd")),"R","I"),Règles!$A$1:$A$4,0))+INDEX(Règles!$C$1:$C$4,MATCH(IF(AND(OFFSET(U6,0,-2)=$D6,OFFSET(U6,0,-1)=$E6),"S",IF(OR(OFFSET(U6,0,-2)=$D6,OFFSET(U6,0,-1)=$E6),"M","I")),Règles!$A$1:$A$4,0)),0) -> 5 | V6: =RANDBETWEEN(0,4) -> 4 | W6: =RANDBETWEEN(0,4) -> 3 | X6: =IF(AND(OFFSET(X6,0,-2)<>"",OFFSET(X6,0,-1)<>""),INDEX(Règles!$C$1:$C$4,MATCH(IF(IF($D6>$E6,"Gd",IF($D6=$E6,"N","Pd"))=IF(OFFSET(X6,0,-2)>OFFSET(X6,0,-1),"Gd",IF(OFFSET(X6,0,-2)=OFFSET(X6,0,-1),"N","Pd")),"R","I"),Règles!$A$1:$A$4,0))+INDEX(Règles!$C$1:$C$4,MATCH(IF(AND(OFFSET(X6,0,-2)=$D6,OFFSET(X6,0,-1)=$E6),"S",IF(OR(OFFSET(X6,0,-2)=$D6,OFFSET(X6,0,-1)=$E6),"M","I")),Règles!$A$1:$A$4,0)),0) -> 0 | Y6: =RANDBETWEEN(0,4) -> 1 | Z6: =RANDBETWEEN(0,4) -> 1 | AA6: =IF(AND(OFFSET(AA6,0,-2)<>"",OFFSET(AA6,0,-1)<>""),INDEX(Règles!$C$1:$C$4,MATCH(IF(IF($D6>$E6,"Gd",IF($D6=$E6,"N","Pd"))=IF(OFFSET(AA6,0,-2)>OFFSET(AA6,0,-1),"Gd",IF(OFFSET(AA6,0,-2)=OFFSET(AA6,0,-1),"N","Pd")),"R","I"),Règles!$A$1:$A$4,0))+INDEX(Règles!$C$1:$C$4,MATCH(IF(AND(OFFSET(AA6,0,-2)=$D6,OFFSET(AA6,0,-1)=$E6),"S",IF(OR(OFFSET(AA6,0,-2)=$D6,OFFSET(AA6,0,-1)=$E6),"M","I")),Règles!$A$1:$A$4,0)),0) -> 10 | AB6: =RANDBETWEEN(0,4) -> 3 | AC6: =RANDBETWEEN(0,4) -> 2 | AD6: =IF(AND(OFFSET(AD6,0,-2)<>"",OFFSET(AD6,0,-1)<>""),INDEX(Règles!$C$1:$C$4,MATCH(IF(IF($D6>$E6,"Gd",IF($D6=$E6,"N","Pd"))=IF(OFFSET(AD6,0,-2)>OFFSET(AD6,0,-1),"Gd",IF(OFFSET(AD6,0,-2)=OFFSET(AD6,0,-1),"N","Pd")),"R","I"),Règles!$A$1:$A$4,0))+INDEX(Règles!$C$1:$C$4,MATCH(IF(AND(OFFSET(AD6,0,-2)=$D6,OFFSET(AD6,0,-1)=$E6),"S",IF(OR(OFFSET(AD6,0,-2)=$D6,OFFSET(AD6,0,-1)=$E6),"M","I")),Règles!$A$1:$A$4,0)),0) -> 0 | AE6: =RANDBETWEEN(0,4) -> 2 | AF6: =RANDBETWEEN(0,4) -> 3 | AG6: =IF(AND(OFFSET(AG6,0,-2)<>"",OFFSET(AG6,0,-1)<>""),INDEX(Règles!$C$1:$C$4,MATCH(IF(IF($D6>$E6,"Gd",IF($D6=$E6,"N","Pd"))=IF(OFFSET(AG6,0,-2)>OFFSET(AG6,0,-1),"Gd",IF(OFFSET(AG6,0,-2)=OFFSET(AG6,0,-1),"N","Pd")),"R","I"),Règles!$A$1:$A$4,0))+INDEX(Règles!$C$1:$C$4,MATCH(IF(AND(OFFSET(AG6,0,-2)=$D6,OFFSET(AG6,0,-1)=$E6),"S",IF(OR(OFFSET(AG6,0,-2)=$D6,OFFSET(AG6,0,-1)=$E6),"M","I")),Règles!$A$1:$A$4,0)),0) -> 0 | AH6: =RANDBETWEEN(0,4) -> 2 | AI6: =RANDBETWEEN(0,4) -> 2 | AJ6: =IF(AND(OFFSET(AJ6,0,-2)<>"",OFFSET(AJ6,0,-1)<>""),INDEX(Règles!$C$1:$C$4,MATCH(IF(IF($D6>$E6,"Gd",IF($D6=$E6,"N","Pd"))=IF(OFFSET(AJ6,0,-2)>OFFSET(AJ6,0,-1),"Gd",IF(OFFSET(AJ6,0,-2)=OFFSET(AJ6,0,-1),"N","Pd")),"R","I"),Règles!$A$1:$A$4,0))+INDEX(Règles!$C$1:$C$4,MATCH(IF(AND(OFFSET(AJ6,0,-2)=$D6,OFFSET(AJ6,0,-1)=$E6),"S",IF(OR(OFFSET(AJ6,0,-2)=$D6,OFFSET(AJ6,0,-1)=$E6),"M","I")),Règles!$A$1:$A$4,0)),0) -> 5 | AK6: =RANDBETWEEN(0,4) -> 4 | AL6: =RANDBETWEEN(0,4) -> 0 | AM6: =IF(AND(OFFSET(AM6,0,-2)<>"",OFFSET(AM6,0,-1)<>""),INDEX(Règles!$C$1:$C$4,MATCH(IF(IF($D6>$E6,"Gd",IF($D6=$E6,"N","Pd"))=IF(OFFSET(AM6,0,-2)>OFFSET(AM6,0,-1),"Gd",IF(OFFSET(AM6,0,-2)=OFFSET(AM6,0,-1),"N","Pd")),"R","I"),Règles!$A$1:$A$4,0))+INDEX(Règles!$C$1:$C$4,MATCH(IF(AND(OFFSET(AM6,0,-2)=$D6,OFFSET(AM6,0,-1)=$E6),"S",IF(OR(OFFSET(AM6,0,-2)=$D6,OFFSET(AM6,0,-1)=$E6),"M","I")),Règles!$A$1:$A$4,0)),0) -> 0 | AN6: =RANDBETWEEN(0,4) -> 1 | AO6: =RANDBETWEEN(0,4) -> 1 | AP6: =IF(AND(OFFSET(AP6,0,-2)<>"",OFFSET(AP6,0,-1)<>""),INDEX(Règles!$C$1:$C$4,MATCH(IF(IF($D6>$E6,"Gd",IF($D6=$E6,"N","Pd"))=IF(OFFSET(AP6,0,-2)>OFFSET(AP6,0,-1),"Gd",IF(OFFSET(AP6,0,-2)=OFFSET(AP6,0,-1),"N","Pd")),"R","I"),Règles!$A$1:$A$4,0))+INDEX(Règles!$C$1:$C$4,MATCH(IF(AND(OFFSET(AP6,0,-2)=$D6,OFFSET(AP6,0,-1)=$E6),"S",IF(OR(OFFSET(AP6,0,-2)=$D6,OFFSET(AP6,0,-1)=$E6),"M","I")),Règles!$A$1:$A$4,0)),0) -> 10 | AQ6: =RANDBETWEEN(0,4) -> 2 | AR6: =RANDBETWEEN(0,4) -> 4 | AS6: =IF(AND(OFFSET(AS6,0,-2)<>"",OFFSET(AS6,0,-1)<>""),INDEX(Règles!$C$1:$C$4,MATCH(IF(IF($D6>$E6,"Gd",IF($D6=$E6,"N","Pd"))=IF(OFFSET(AS6,0,-2)>OFFSET(AS6,0,-1),"Gd",IF(OFFSET(AS6,0,-2)=OFFSET(AS6,0,-1),"N","Pd")),"R","I"),Règles!$A$1:$A$4,0))+INDEX(Règles!$C$1:$C$4,MATCH(IF(AND(OFFSET(AS6,0,-2)=$D6,OFFSET(AS6,0,-1)=$E6),"S",IF(OR(OFFSET(AS6,0,-2)=$D6,OFFSET(AS6,0,-1)=$E6),"M","I")),Règles!$A$1:$A$4,0)),0) -> 0 | AT6: =RANDBETWEEN(0,4) -> 2 | AU6: =RANDBETWEEN(0,4) -> 0 | AV6: =IF(AND(OFFSET(AV6,0,-2)<>"",OFFSET(AV6,0,-1)<>""),INDEX(Règles!$C$1:$C$4,MATCH(IF(IF($D6>$E6,"Gd",IF($D6=$E6,"N","Pd"))=IF(OFFSET(AV6,0,-2)>OFFSET(AV6,0,-1),"Gd",IF(OFFSET(AV6,0,-2)=OFFSET(AV6,0,-1),"N","Pd")),"R","I"),Règles!$A$1:$A$4,0))+INDEX(Règles!$C$1:$C$4,MATCH(IF(AND(OFFSET(AV6,0,-2)=$D6,OFFSET(AV6,0,-1)=$E6),"S",IF(OR(OFFSET(AV6,0,-2)=$D6,OFFSET(AV6,0,-1)=$E6),"M","I")),Règles!$A$1:$A$4,0)),0) -> 0 | AW6: =RANDBETWEEN(0,4) -> 2 | AX6: =RANDBETWEEN(0,4) -> 1 | AY6: =IF(AND(OFFSET(AY6,0,-2)<>"",OFFSET(AY6,0,-1)<>""),INDEX(Règles!$C$1:$C$4,MATCH(IF(IF($D6>$E6,"Gd",IF($D6=$E6,"N","Pd"))=IF(OFFSET(AY6,0,-2)>OFFSET(AY6,0,-1),"Gd",IF(OFFSET(AY6,0,-2)=OFFSET(AY6,0,-1),"N","Pd")),"R","I"),Règles!$A$1:$A$4,0))+INDEX(Règles!$C$1:$C$4,MATCH(IF(AND(OFFSET(AY6,0,-2)=$D6,OFFSET(AY6,0,-1)=$E6),"S",IF(OR(OFFSET(AY6,0,-2)=$D6,OFFSET(AY6,0,-1)=$E6),"M","I")),Règles!$A$1:$A$4,0)),0) -> 1 | AZ6: =RANDBETWEEN(0,4) -> 2 | BA6: =RANDBETWEEN(0,4) -> 1 | BB6: =IF(AND(OFFSET(BB6,0,-2)<>"",OFFSET(BB6,0,-1)<>""),INDEX(Règles!$C$1:$C$4,MATCH(IF(IF($D6>$E6,"Gd",IF($D6=$E6,"N","Pd"))=IF(OFFSET(BB6,0,-2)>OFFSET(BB6,0,-1),"Gd",IF(OFFSET(BB6,0,-2)=OFFSET(BB6,0,-1),"N","Pd")),"R","I"),Règles!$A$1:$A$4,0))+INDEX(Règles!$C$1:$C$4,MATCH(IF(AND(OFFSET(BB6,0,-2)=$D6,OFFSET(BB6,0,-1)=$E6),"S",IF(OR(OFFSET(BB6,0,-2)=$D6,OFFSET(BB6,0,-1)=$E6),"M","I")),Règles!$A$1:$A$4,0)),0) -> 1 | BC6: =RANDBETWEEN(0,4) -> 2 | BD6: =RANDBETWEEN(0,4) -> 2 | BE6: =IF(AND(OFFSET(BE6,0,-2)<>"",OFFSET(BE6,0,-1)<>""),INDEX(Règles!$C$1:$C$4,MATCH(IF(IF($D6>$E6,"Gd",IF($D6=$E6,"N","Pd"))=IF(OFFSET(BE6,0,-2)>OFFSET(BE6,0,-1),"Gd",IF(OFFSET(BE6,0,-2)=OFFSET(BE6,0,-1),"N","Pd")),"R","I"),Règles!$A$1:$A$4,0))+INDEX(Règles!$C$1:$C$4,MATCH(IF(AND(OFFSET(BE6,0,-2)=$D6,OFFSET(BE6,0,-1)=$E6),"S",IF(OR(OFFSET(BE6,0,-2)=$D6,OFFSET(BE6,0,-1)=$E6),"M","I")),Règles!$A$1:$A$4,0)),0) -> 5 | BF6: =RANDBETWEEN(0,4) -> 2 | BG6: =RANDBETWEEN(0,4) -> 3 | BH6: =IF(AND(OFFSET(BH6,0,-2)<>"",OFFSET(BH6,0,-1)<>""),INDEX(Règles!$C$1:$C$4,MATCH(IF(IF($D6>$E6,"Gd",IF($D6=$E6,"N","Pd"))=IF(OFFSET(BH6,0,-2)>OFFSET(BH6,0,-1),"Gd",IF(OFFSET(BH6,0,-2)=OFFSET(BH6,0,-1),"N","Pd")),"R","I"),Règles!$A$1:$A$4,0))+INDEX(Règles!$C$1:$C$4,MATCH(IF(AND(OFFSET(BH6,0,-2)=$D6,OFFSET(BH6,0,-1)=$E6),"S",IF(OR(OFFSET(BH6,0,-2)=$D6,OFFSET(BH6,0,-1)=$E6),"M","I")),Règles!$A$1:$A$4,0)),0) -> 0 | BI6: =RANDBETWEEN(0,4) -> 3 | BJ6: =RANDBETWEEN(0,4) -> 2 | BK6: =IF(AND(OFFSET(BK6,0,-2)<>"",OFFSET(BK6,0,-1)<>""),INDEX(Règles!$C$1:$C$4,MATCH(IF(IF($D6>$E6,"Gd",IF($D6=$E6,"N","Pd"))=IF(OFFSET(BK6,0,-2)>OFFSET(BK6,0,-1),"Gd",IF(OFFSET(BK6,0,-2)=OFFSET(BK6,0,-1),"N","Pd")),"R","I"),Règles!$A$1:$A$4,0))+INDEX(Règles!$C$1:$C$4,MATCH(IF(AND(OFFSET(BK6,0,-2)=$D6,OFFSET(BK6,0,-1)=$E6),"S",IF(OR(OFFSET(BK6,0,-2)=$D6,OFFSET(BK6,0,-1)=$E6),"M","I")),Règles!$A$1:$A$4,0)),0) -> 0 | BL6: =RANDBETWEEN(0,4) -> 3 | BM6: =RANDBETWEEN(0,4) -> 2 | BN6: =IF(AND(OFFSET(BN6,0,-2)<>"",OFFSET(BN6,0,-1)<>""),INDEX(Règles!$C$1:$C$4,MATCH(IF(IF($D6>$E6,"Gd",IF($D6=$E6,"N","Pd"))=IF(OFFSET(BN6,0,-2)>OFFSET(BN6,0,-1),"Gd",IF(OFFSET(BN6,0,-2)=OFFSET(BN6,0,-1),"N","Pd")),"R","I"),Règles!$A$1:$A$4,0))+INDEX(Règles!$C$1:$C$4,MATCH(IF(AND(OFFSET(BN6,0,-2)=$D6,OFFSET(BN6,0,-1)=$E6),"S",IF(OR(OFFSET(BN6,0,-2)=$D6,OFFSET(BN6,0,-1)=$E6),"M","I")),Règles!$A$1:$A$4,0)),0) -> 0 | BO6: =RANDBETWEEN(0,4) -> 3 | BP6: =RANDBETWEEN(0,4) -> 0 | BQ6: =IF(AND(OFFSET(BQ6,0,-2)<>"",OFFSET(BQ6,0,-1)<>""),INDEX(Règles!$C$1:$C$4,MATCH(IF(IF($D6>$E6,"Gd",IF($D6=$E6,"N","Pd"))=IF(OFFSET(BQ6,0,-2)>OFFSET(BQ6,0,-1),"Gd",IF(OFFSET(BQ6,0,-2)=OFFSET(BQ6,0,-1),"N","Pd")),"R","I"),Règles!$A$1:$A$4,0))+INDEX(Règles!$C$1:$C$4,MATCH(IF(AND(OFFSET(BQ6,0,-2)=$D6,OFFSET(BQ6,0,-1)=$E6),"S",IF(OR(OFFSET(BQ6,0,-2)=$D6,OFFSET(BQ6,0,-1)=$E6),"M","I")),Règles!$A$1:$A$4,0)),0) -> 0 | BR6: =RANDBETWEEN(0,4) -> 3 | BS6: =RANDBETWEEN(0,4) -> 1 | BT6: =IF(AND(OFFSET(BT6,0,-2)<>"",OFFSET(BT6,0,-1)<>""),INDEX(Règles!$C$1:$C$4,MATCH(IF(IF($D6>$E6,"Gd",IF($D6=$E6,"N","Pd"))=IF(OFFSET(BT6,0,-2)>OFFSET(BT6,0,-1),"Gd",IF(OFFSET(BT6,0,-2)=OFFSET(BT6,0,-1),"N","Pd")),"R","I"),Règles!$A$1:$A$4,0))+INDEX(Règles!$C$1:$C$4,MATCH(IF(AND(OFFSET(BT6,0,-2)=$D6,OFFSET(BT6,0,-1)=$E6),"S",IF(OR(OFFSET(BT6,0,-2)=$D6,OFFSET(BT6,0,-1)=$E6),"M","I")),Règles!$A$1:$A$4,0)),0) -> 1 | BU6: =RANDBETWEEN(0,4) -> 1 | BV6: =RANDBETWEEN(0,4) -> 3 | BW6: =IF(AND(OFFSET(BW6,0,-2)<>"",OFFSET(BW6,0,-1)<>""),INDEX(Règles!$C$1:$C$4,MATCH(IF(IF($D6>$E6,"Gd",IF($D6=$E6,"N","Pd"))=IF(OFFSET(BW6,0,-2)>OFFSET(BW6,0,-1),"Gd",IF(OFFSET(BW6,0,-2)=OFFSET(BW6,0,-1),"N","Pd")),"R","I"),Règles!$A$1:$A$4,0))+INDEX(Règles!$C$1:$C$4,MATCH(IF(AND(OFFSET(BW6,0,-2)=$D6,OFFSET(BW6,0,-1)=$E6),"S",IF(OR(OFFSET(BW6,0,-2)=$D6,OFFSET(BW6,0,-1)=$E6),"M","I")),Règles!$A$1:$A$4,0)),0) -> 1 | BX6: =RANDBETWEEN(0,4) -> 4 | BY6: =RANDBETWEEN(0,4) -> 0 | BZ6: =IF(AND(OFFSET(BZ6,0,-2)<>"",OFFSET(BZ6,0,-1)<>""),INDEX(Règles!$C$1:$C$4,MATCH(IF(IF($D6>$E6,"Gd",IF($D6=$E6,"N","Pd"))=IF(OFFSET(BZ6,0,-2)>OFFSET(BZ6,0,-1),"Gd",IF(OFFSET(BZ6,0,-2)=OFFSET(BZ6,0,-1),"N","Pd")),"R","I"),Règles!$A$1:$A$4,0))+INDEX(Règles!$C$1:$C$4,MATCH(IF(AND(OFFSET(BZ6,0,-2)=$D6,OFFSET(BZ6,0,-1)=$E6),"S",IF(OR(OFFSET(BZ6,0,-2)=$D6,OFFSET(BZ6,0,-1)=$E6),"M","I")),Règles!$A$1:$A$4,0)),0) -> 0
A7: Match 5 | B7: Lorient | C7: Toulouse | D7: 0 | E7: 1 | G7: =RANDBETWEEN(0,4) -> 0 | H7: =RANDBETWEEN(0,4) -> 1 | I7: =IF(AND(OFFSET(I7,0,-2)<>"",OFFSET(I7,0,-1)<>""),INDEX(Règles!$C$1:$C$4,MATCH(IF(IF($D7>$E7,"Gd",IF($D7=$E7,"N","Pd"))=IF(OFFSET(I7,0,-2)>OFFSET(I7,0,-1),"Gd",IF(OFFSET(I7,0,-2)=OFFSET(I7,0,-1),"N","Pd")),"R","I"),Règles!$A$1:$A$4,0))+INDEX(Règles!$C$1:$C$4,MATCH(IF(AND(OFFSET(I7,0,-2)=$D7,OFFSET(I7,0,-1)=$E7),"S",IF(OR(OFFSET(I7,0,-2)=$D7,OFFSET(I7,0,-1)=$E7),"M","I")),Règles!$A$1:$A$4,0)),0) -> 10 | J7: =RANDBETWEEN(0,4) -> 0 | K7: =RANDBETWEEN(0,4) -> 0 | L7: =IF(AND(OFFSET(L7,0,-2)<>"",OFFSET(L7,0,-1)<>""),INDEX(Règles!$C$1:$C$4,MATCH(IF(IF($D7>$E7,"Gd",IF($D7=$E7,"N","Pd"))=IF(OFFSET(L7,0,-2)>OFFSET(L7,0,-1),"Gd",IF(OFFSET(L7,0,-2)=OFFSET(L7,0,-1),"N","Pd")),"R","I"),Règles!$A$1:$A$4,0))+INDEX(Règles!$C$1:$C$4,MATCH(IF(AND(OFFSET(L7,0,-2)=$D7,OFFSET(L7,0,-1)=$E7),"S",IF(OR(OFFSET(L7,0,-2)=$D7,OFFSET(L7,0,-1)=$E7),"M","I")),Règles!$A$1:$A$4,0)),0) -> 1 | M7: =RANDBETWEEN(0,4) -> 0 | N7: =RANDBETWEEN(0,4) -> 3 | O7: =IF(AND(OFFSET(O7,0,-2)<>"",OFFSET(O7,0,-1)<>""),INDEX(Règles!$C$1:$C$4,MATCH(IF(IF($D7>$E7,"Gd",IF($D7=$E7,"N","Pd"))=IF(OFFSET(O7,0,-2)>OFFSET(O7,0,-1),"Gd",IF(OFFSET(O7,0,-2)=OFFSET(O7,0,-1),"N","Pd")),"R","I"),Règles!$A$1:$A$4,0))+INDEX(Règles!$C$1:$C$4,MATCH(IF(AND(OFFSET(O7,0,-2)=$D7,OFFSET(O7,0,-1)=$E7),"S",IF(OR(OFFSET(O7,0,-2)=$D7,OFFSET(O7,0,-1)=$E7),"M","I")),Règles!$A$1:$A$4,0)),0) -> 6 | P7: =RANDBETWEEN(0,4) -> 4 | Q7: =RANDBETWEEN(0,4) -> 3 | R7: =IF(AND(OFFSET(R7,0,-2)<>"",OFFSET(R7,0,-1)<>""),INDEX(Règles!$C$1:$C$4,MATCH(IF(IF($D7>$E7,"Gd",IF($D7=$E7,"N","Pd"))=IF(OFFSET(R7,0,-2)>OFFSET(R7,0,-1),"Gd",IF(OFFSET(R7,0,-2)=OFFSET(R7,0,-1),"N","Pd")),"R","I"),Règles!$A$1:$A$4,0))+INDEX(Règles!$C$1:$C$4,MATCH(IF(AND(OFFSET(R7,0,-2)=$D7,OFFSET(R7,0,-1)=$E7),"S",IF(OR(OFFSET(R7,0,-2)=$D7,OFFSET(R7,0,-1)=$E7),"M","I")),Règles!$A$1:$A$4,0)),0) -> 0 | S7: =RANDBETWEEN(0,4) -> 1 | T7: =RANDBETWEEN(0,4) -> 4 | U7: =IF(AND(OFFSET(U7,0,-2)<>"",OFFSET(U7,0,-1)<>""),INDEX(Règles!$C$1:$C$4,MATCH(IF(IF($D7>$E7,"Gd",IF($D7=$E7,"N","Pd"))=IF(OFFSET(U7,0,-2)>OFFSET(U7,0,-1),"Gd",IF(OFFSET(U7,0,-2)=OFFSET(U7,0,-1),"N","Pd")),"R","I"),Règles!$A$1:$A$4,0))+INDEX(Règles!$C$1:$C$4,MATCH(IF(AND(OFFSET(U7,0,-2)=$D7,OFFSET(U7,0,-1)=$E7),"S",IF(OR(OFFSET(U7,0,-2)=$D7,OFFSET(U7,0,-1)=$E7),"M","I")),Règles!$A$1:$A$4,0)),0) -> 5 | V7: =RANDBETWEEN(0,4) -> 2 | W7: =RANDBETWEEN(0,4) -> 2 | X7: =IF(AND(OFFSET(X7,0,-2)<>"",OFFSET(X7,0,-1)<>""),INDEX(Règles!$C$1:$C$4,MATCH(IF(IF($D7>$E7,"Gd",IF($D7=$E7,"N","Pd"))=IF(OFFSET(X7,0,-2)>OFFSET(X7,0,-1),"Gd",IF(OFFSET(X7,0,-2)=OFFSET(X7,0,-1),"N","Pd")),"R","I"),Règles!$A$1:$A$4,0))+INDEX(Règles!$C$1:$C$4,MATCH(IF(AND(OFFSET(X7,0,-2)=$D7,OFFSET(X7,0,-1)=$E7),"S",IF(OR(OFFSET(X7,0,-2)=$D7,OFFSET(X7,0,-1)=$E7),"M","I")),Règles!$A$1:$A$4,0)),0) -> 0 | Y7: =RANDBETWEEN(0,4) -> 4 | Z7: =RANDBETWEEN(0,4) -> 4 | AA7: =IF(AND(OFFSET(AA7,0,-2)<>"",OFFSET(AA7,0,-1)<>""),INDEX(Règles!$C$1:$C$4,MATCH(IF(IF($D7>$E7,"Gd",IF($D7=$E7,"N","Pd"))=IF(OFFSET(AA7,0,-2)>OFFSET(AA7,0,-1),"Gd",IF(OFFSET(AA7,0,-2)=OFFSET(AA7,0,-1),"N","Pd")),"R","I"),Règles!$A$1:$A$4,0))+INDEX(Règles!$C$1:$C$4,MATCH(IF(AND(OFFSET(AA7,0,-2)=$D7,OFFSET(AA7,0,-1)=$E7),"S",IF(OR(OFFSET(AA7,0,-2)=$D7,OFFSET(AA7,0,-1)=$E7),"M","I")),Règles!$A$1:$A$4,0)),0) -> 0 | AB7: =RANDBETWEEN(0,4) -> 0 | AC7: =RANDBETWEEN(0,4) -> 3 | AD7: =IF(AND(OFFSET(AD7,0,-2)<>"",OFFSET(AD7,0,-1)<>""),INDEX(Règles!$C$1:$C$4,MATCH(IF(IF($D7>$E7,"Gd",IF($D7=$E7,"N","Pd"))=IF(OFFSET(AD7,0,-2)>OFFSET(AD7,0,-1),"Gd",IF(OFFSET(AD7,0,-2)=OFFSET(AD7,0,-1),"N","Pd")),"R","I"),Règles!$A$1:$A$4,0))+INDEX(Règles!$C$1:$C$4,MATCH(IF(AND(OFFSET(AD7,0,-2)=$D7,OFFSET(AD7,0,-1)=$E7),"S",IF(OR(OFFSET(AD7,0,-2)=$D7,OFFSET(AD7,0,-1)=$E7),"M","I")),Règles!$A$1:$A$4,0)),0) -> 6 | AE7: =RANDBETWEEN(0,4) -> 1 | AF7: =RANDBETWEEN(0,4) -> 2 | AG7: =IF(AND(OFFSET(AG7,0,-2)<>"",OFFSET(AG7,0,-1)<>""),INDEX(Règles!$C$1:$C$4,MATCH(IF(IF($D7>$E7,"Gd",IF($D7=$E7,"N","Pd"))=IF(OFFSET(AG7,0,-2)>OFFSET(AG7,0,-1),"Gd",IF(OFFSET(AG7,0,-2)=OFFSET(AG7,0,-1),"N","Pd")),"R","I"),Règles!$A$1:$A$4,0))+INDEX(Règles!$C$1:$C$4,MATCH(IF(AND(OFFSET(AG7,0,-2)=$D7,OFFSET(AG7,0,-1)=$E7),"S",IF(OR(OFFSET(AG7,0,-2)=$D7,OFFSET(AG7,0,-1)=$E7),"M","I")),Règles!$A$1:$A$4,0)),0) -> 5 | AH7: =RANDBETWEEN(0,4) -> 1 | AI7: =RANDBETWEEN(0,4) -> 1 | AJ7: =IF(AND(OFFSET(AJ7,0,-2)<>"",OFFSET(AJ7,0,-1)<>""),INDEX(Règles!$C$1:$C$4,MATCH(IF(IF($D7>$E7,"Gd",IF($D7=$E7,"N","Pd"))=IF(OFFSET(AJ7,0,-2)>OFFSET(AJ7,0,-1),"Gd",IF(OFFSET(AJ7,0,-2)=OFFSET(AJ7,0,-1),"N","Pd")),"R","I"),Règles!$A$1:$A$4,0))+INDEX(Règles!$C$1:$C$4,MATCH(IF(AND(OFFSET(AJ7,0,-2)=$D7,OFFSET(AJ7,0,-1)=$E7),"S",IF(OR(OFFSET(AJ7,0,-2)=$D7,OFFSET(AJ7,0,-1)=$E7),"M","I")),Règles!$A$1:$A$4,0)),0) -> 1 | AK7: =RANDBETWEEN(0,4) -> 4 | AL7: =RANDBETWEEN(0,4) -> 4 | AM7: =IF(AND(OFFSET(AM7,0,-2)<>"",OFFSET(AM7,0,-1)<>""),INDEX(Règles!$C$1:$C$4,MATCH(IF(IF($D7>$E7,"Gd",IF($D7=$E7,"N","Pd"))=IF(OFFSET(AM7,0,-2)>OFFSET(AM7,0,-1),"Gd",IF(OFFSET(AM7,0,-2)=OFFSET(AM7,0,-1),"N","Pd")),"R","I"),Règles!$A$1:$A$4,0))+INDEX(Règles!$C$1:$C$4,MATCH(IF(AND(OFFSET(AM7,0,-2)=$D7,OFFSET(AM7,0,-1)=$E7),"S",IF(OR(OFFSET(AM7,0,-2)=$D7,OFFSET(AM7,0,-1)=$E7),"M","I")),Règles!$A$1:$A$4,0)),0) -> 0 | AN7: =RANDBETWEEN(0,4) -> 4 | AO7: =RANDBETWEEN(0,4) -> 1 | AP7: =IF(AND(OFFSET(AP7,0,-2)<>"",OFFSET(AP7,0,-1)<>""),INDEX(Règles!$C$1:$C$4,MATCH(IF(IF($D7>$E7,"Gd",IF($D7=$E7,"N","Pd"))=IF(OFFSET(AP7,0,-2)>OFFSET(AP7,0,-1),"Gd",IF(OFFSET(AP7,0,-2)=OFFSET(AP7,0,-1),"N","Pd")),"R","I"),Règles!$A$1:$A$4,0))+INDEX(Règles!$C$1:$C$4,MATCH(IF(AND(OFFSET(AP7,0,-2)=$D7,OFFSET(AP7,0,-1)=$E7),"S",IF(OR(OFFSET(AP7,0,-2)=$D7,OFFSET(AP7,0,-1)=$E7),"M","I")),Règles!$A$1:$A$4,0)),0) -> 1 | AQ7: =RANDBETWEEN(0,4) -> 4 | AR7: =RANDBETWEEN(0,4) -> 0 | AS7: =IF(AND(OFFSET(AS7,0,-2)<>"",OFFSET(AS7,0,-1)<>""),INDEX(Règles!$C$1:$C$4,MATCH(IF(IF($D7>$E7,"Gd",IF($D7=$E7,"N","Pd"))=IF(OFFSET(AS7,0,-2)>OFFSET(AS7,0,-1),"Gd",IF(OFFSET(AS7,0,-2)=OFFSET(AS7,0,-1),"N","Pd")),"R","I"),Règles!$A$1:$A$4,0))+INDEX(Règles!$C$1:$C$4,MATCH(IF(AND(OFFSET(AS7,0,-2)=$D7,OFFSET(AS7,0,-1)=$E7),"S",IF(OR(OFFSET(AS7,0,-2)=$D7,OFFSET(AS7,0,-1)=$E7),"M","I")),Règles!$A$1:$A$4,0)),0) -> 0 | AT7: =RANDBETWEEN(0,4) -> 1 | AU7: =RANDBETWEEN(0,4) -> 3 | AV7: =IF(AND(OFFSET(AV7,0,-2)<>"",OFFSET(AV7,0,-1)<>""),INDEX(Règles!$C$1:$C$4,MATCH(IF(IF($D7>$E7,"Gd",IF($D7=$E7,"N","Pd"))=IF(OFFSET(AV7,0,-2)>OFFSET(AV7,0,-1),"Gd",IF(OFFSET(AV7,0,-2)=OFFSET(AV7,0,-1),"N","Pd")),"R","I"),Règles!$A$1:$A$4,0))+INDEX(Règles!$C$1:$C$4,MATCH(IF(AND(OFFSET(AV7,0,-2)=$D7,OFFSET(AV7,0,-1)=$E7),"S",IF(OR(OFFSET(AV7,0,-2)=$D7,OFFSET(AV7,0,-1)=$E7),"M","I")),Règles!$A$1:$A$4,0)),0) -> 5 | AW7: =RANDBETWEEN(0,4) -> 2 | AX7: =RANDBETWEEN(0,4) -> 0 | AY7: =IF(AND(OFFSET(AY7,0,-2)<>"",OFFSET(AY7,0,-1)<>""),INDEX(Règles!$C$1:$C$4,MATCH(IF(IF($D7>$E7,"Gd",IF($D7=$E7,"N","Pd"))=IF(OFFSET(AY7,0,-2)>OFFSET(AY7,0,-1),"Gd",IF(OFFSET(AY7,0,-2)=OFFSET(AY7,0,-1),"N","Pd")),"R","I"),Règles!$A$1:$A$4,0))+INDEX(Règles!$C$1:$C$4,MATCH(IF(AND(OFFSET(AY7,0,-2)=$D7,OFFSET(AY7,0,-1)=$E7),"S",IF(OR(OFFSET(AY7,0,-2)=$D7,OFFSET(AY7,0,-1)=$E7),"M","I")),Règles!$A$1:$A$4,0)),0) -> 0 | AZ7: =RANDBETWEEN(0,4) -> 0 | BA7: =RANDBETWEEN(0,4) -> 2 | BB7: =IF(AND(OFFSET(BB7,0,-2)<>"",OFFSET(BB7,0,-1)<>""),INDEX(Règles!$C$1:$C$4,MATCH(IF(IF($D7>$E7,"Gd",IF($D7=$E7,"N","Pd"))=IF(OFFSET(BB7,0,-2)>OFFSET(BB7,0,-1),"Gd",IF(OFFSET(BB7,0,-2)=OFFSET(BB7,0,-1),"N","Pd")),"R","I"),Règles!$A$1:$A$4,0))+INDEX(Règles!$C$1:$C$4,MATCH(IF(AND(OFFSET(BB7,0,-2)=$D7,OFFSET(BB7,0,-1)=$E7),"S",IF(OR(OFFSET(BB7,0,-2)=$D7,OFFSET(BB7,0,-1)=$E7),"M","I")),Règles!$A$1:$A$4,0)),0) -> 6 | BC7: =RANDBETWEEN(0,4) -> 1 | BD7: =RANDBETWEEN(0,4) -> 0 | BE7: =IF(AND(OFFSET(BE7,0,-2)<>"",OFFSET(BE7,0,-1)<>""),INDEX(Règles!$C$1:$C$4,MATCH(IF(IF($D7>$E7,"Gd",IF($D7=$E7,"N","Pd"))=IF(OFFSET(BE7,0,-2)>OFFSET(BE7,0,-1),"Gd",IF(OFFSET(BE7,0,-2)=OFFSET(BE7,0,-1),"N","Pd")),"R","I"),Règles!$A$1:$A$4,0))+INDEX(Règles!$C$1:$C$4,MATCH(IF(AND(OFFSET(BE7,0,-2)=$D7,OFFSET(BE7,0,-1)=$E7),"S",IF(OR(OFFSET(BE7,0,-2)=$D7,OFFSET(BE7,0,-1)=$E7),"M","I")),Règles!$A$1:$A$4,0)),0) -> 0 | BF7: =RANDBETWEEN(0,4) -> 1 | BG7: =RANDBETWEEN(0,4) -> 4 | BH7: =IF(AND(OFFSET(BH7,0,-2)<>"",OFFSET(BH7,0,-1)<>""),INDEX(Règles!$C$1:$C$4,MATCH(IF(IF($D7>$E7,"Gd",IF($D7=$E7,"N","Pd"))=IF(OFFSET(BH7,0,-2)>OFFSET(BH7,0,-1),"Gd",IF(OFFSET(BH7,0,-2)=OFFSET(BH7,0,-1),"N","Pd")),"R","I"),Règles!$A$1:$A$4,0))+INDEX(Règles!$C$1:$C$4,MATCH(IF(AND(OFFSET(BH7,0,-2)=$D7,OFFSET(BH7,0,-1)=$E7),"S",IF(OR(OFFSET(BH7,0,-2)=$D7,OFFSET(BH7,0,-1)=$E7),"M","I")),Règles!$A$1:$A$4,0)),0) -> 5 | BI7: =RANDBETWEEN(0,4) -> 1 | BJ7: =RANDBETWEEN(0,4) -> 3 | BK7: =IF(AND(OFFSET(BK7,0,-2)<>"",OFFSET(BK7,0,-1)<>""),INDEX(Règles!$C$1:$C$4,MATCH(IF(IF($D7>$E7,"Gd",IF($D7=$E7,"N","Pd"))=IF(OFFSET(BK7,0,-2)>OFFSET(BK7,0,-1),"Gd",IF(OFFSET(BK7,0,-2)=OFFSET(BK7,0,-1),"N","Pd")),"R","I"),Règles!$A$1:$A$4,0))+INDEX(Règles!$C$1:$C$4,MATCH(IF(AND(OFFSET(BK7,0,-2)=$D7,OFFSET(BK7,0,-1)=$E7),"S",IF(OR(OFFSET(BK7,0,-2)=$D7,OFFSET(BK7,0,-1)=$E7),"M","I")),Règles!$A$1:$A$4,0)),0) -> 5 | BL7: =RANDBETWEEN(0,4) -> 3 | BM7: =RANDBETWEEN(0,4) -> 1 | BN7: =IF(AND(OFFSET(BN7,0,-2)<>"",OFFSET(BN7,0,-1)<>""),INDEX(Règles!$C$1:$C$4,MATCH(IF(IF($D7>$E7,"Gd",IF($D7=$E7,"N","Pd"))=IF(OFFSET(BN7,0,-2)>OFFSET(BN7,0,-1),"Gd",IF(OFFSET(BN7,0,-2)=OFFSET(BN7,0,-1),"N","Pd")),"R","I"),Règles!$A$1:$A$4,0))+INDEX(Règles!$C$1:$C$4,MATCH(IF(AND(OFFSET(BN7,0,-2)=$D7,OFFSET(BN7,0,-1)=$E7),"S",IF(OR(OFFSET(BN7,0,-2)=$D7,OFFSET(BN7,0,-1)=$E7),"M","I")),Règles!$A$1:$A$4,0)),0) -> 1 | BO7: =RANDBETWEEN(0,4) -> 1 | BP7: =RANDBETWEEN(0,4) -> 4 | BQ7: =IF(AND(OFFSET(BQ7,0,-2)<>"",OFFSET(BQ7,0,-1)<>""),INDEX(Règles!$C$1:$C$4,MATCH(IF(IF($D7>$E7,"Gd",IF($D7=$E7,"N","Pd"))=IF(OFFSET(BQ7,0,-2)>OFFSET(BQ7,0,-1),"Gd",IF(OFFSET(BQ7,0,-2)=OFFSET(BQ7,0,-1),"N","Pd")),"R","I"),Règles!$A$1:$A$4,0))+INDEX(Règles!$C$1:$C$4,MATCH(IF(AND(OFFSET(BQ7,0,-2)=$D7,OFFSET(BQ7,0,-1)=$E7),"S",IF(OR(OFFSET(BQ7,0,-2)=$D7,OFFSET(BQ7,0,-1)=$E7),"M","I")),Règles!$A$1:$A$4,0)),0) -> 5 | BR7: =RANDBETWEEN(0,4) -> 3 | BS7: =RANDBETWEEN(0,4) -> 0 | BT7: =IF(AND(OFFSET(BT7,0,-2)<>"",OFFSET(BT7,0,-1)<>""),INDEX(Règles!$C$1:$C$4,MATCH(IF(IF($D7>$E7,"Gd",IF($D7=$E7,"N","Pd"))=IF(OFFSET(BT7,0,-2)>OFFSET(BT7,0,-1),"Gd",IF(OFFSET(BT7,0,-2)=OFFSET(BT7,0,-1),"N","Pd")),"R","I"),Règles!$A$1:$A$4,0))+INDEX(Règles!$C$1:$C$4,MATCH(IF(AND(OFFSET(BT7,0,-2)=$D7,OFFSET(BT7,0,-1)=$E7),"S",IF(OR(OFFSET(BT7,0,-2)=$D7,OFFSET(BT7,0,-1)=$E7),"M","I")),Règles!$A$1:$A$4,0)),0) -> 0 | BU7: =RANDBETWEEN(0,4) -> 3 | BV7: =RANDBETWEEN(0,4) -> 3 | BW7: =IF(AND(OFFSET(BW7,0,-2)<>"",OFFSET(BW7,0,-1)<>""),INDEX(Règles!$C$1:$C$4,MATCH(IF(IF($D7>$E7,"Gd",IF($D7=$E7,"N","Pd"))=IF(OFFSET(BW7,0,-2)>OFFSET(BW7,0,-1),"Gd",IF(OFFSET(BW7,0,-2)=OFFSET(BW7,0,-1),"N","Pd")),"R","I"),Règles!$A$1:$A$4,0))+INDEX(Règles!$C$1:$C$4,MATCH(IF(AND(OFFSET(BW7,0,-2)=$D7,OFFSET(BW7,0,-1)=$E7),"S",IF(OR(OFFSET(BW7,0,-2)=$D7,OFFSET(BW7,0,-1)=$E7),"M","I")),Règles!$A$1:$A$4,0)),0) -> 0 | BX7: =RANDBETWEEN(0,4) -> 0 | BY7: =RANDBETWEEN(0,4) -> 4 | BZ7: =IF(AND(OFFSET(BZ7,0,-2)<>"",OFFSET(BZ7,0,-1)<>""),INDEX(Règles!$C$1:$C$4,MATCH(IF(IF($D7>$E7,"Gd",IF($D7=$E7,"N","Pd"))=IF(OFFSET(BZ7,0,-2)>OFFSET(BZ7,0,-1),"Gd",IF(OFFSET(BZ7,0,-2)=OFFSET(BZ7,0,-1),"N","Pd")),"R","I"),Règles!$A$1:$A$4,0))+INDEX(Règles!$C$1:$C$4,MATCH(IF(AND(OFFSET(BZ7,0,-2)=$D7,OFFSET(BZ7,0,-1)=$E7),"S",IF(OR(OFFSET(BZ7,0,-2)=$D7,OFFSET(BZ7,0,-1)=$E7),"M","I")),Règles!$A$1:$A$4,0)),0) -> 6
A8: Match 6 | B8: Metz | C8: Lens | D8: 3 | E8: 1 | G8: =RANDBETWEEN(0,4) -> 3 | H8: =RANDBETWEEN(0,4) -> 2 | I8: =IF(AND(OFFSET(I8,0,-2)<>"",OFFSET(I8,0,-1)<>""),INDEX(Règles!$C$1:$C$4,MATCH(IF(IF($D8>$E8,"Gd",IF($D8=$E8,"N","Pd"))=IF(OFFSET(I8,0,-2)>OFFSET(I8,0,-1),"Gd",IF(OFFSET(I8,0,-2)=OFFSET(I8,0,-1),"N","Pd")),"R","I"),Règles!$A$1:$A$4,0))+INDEX(Règles!$C$1:$C$4,MATCH(IF(AND(OFFSET(I8,0,-2)=$D8,OFFSET(I8,0,-1)=$E8),"S",IF(OR(OFFSET(I8,0,-2)=$D8,OFFSET(I8,0,-1)=$E8),"M","I")),Règles!$A$1:$A$4,0)),0) -> 6 | J8: =RANDBETWEEN(0,4) -> 1 | K8: =RANDBETWEEN(0,4) -> 4 | L8: =IF(AND(OFFSET(L8,0,-2)<>"",OFFSET(L8,0,-1)<>""),INDEX(Règles!$C$1:$C$4,MATCH(IF(IF($D8>$E8,"Gd",IF($D8=$E8,"N","Pd"))=IF(OFFSET(L8,0,-2)>OFFSET(L8,0,-1),"Gd",IF(OFFSET(L8,0,-2)=OFFSET(L8,0,-1),"N","Pd")),"R","I"),Règles!$A$1:$A$4,0))+INDEX(Règles!$C$1:$C$4,MATCH(IF(AND(OFFSET(L8,0,-2)=$D8,OFFSET(L8,0,-1)=$E8),"S",IF(OR(OFFSET(L8,0,-2)=$D8,OFFSET(L8,0,-1)=$E8),"M","I")),Règles!$A$1:$A$4,0)),0) -> 0 | M8: =RANDBETWEEN(0,4) -> 3 | N8: =RANDBETWEEN(0,4) -> 4 | O8: =IF(AND(OFFSET(O8,0,-2)<>"",OFFSET(O8,0,-1)<>""),INDEX(Règles!$C$1:$C$4,MATCH(IF(IF($D8>$E8,"Gd",IF($D8=$E8,"N","Pd"))=IF(OFFSET(O8,0,-2)>OFFSET(O8,0,-1),"Gd",IF(OFFSET(O8,0,-2)=OFFSET(O8,0,-1),"N","Pd")),"R","I"),Règles!$A$1:$A$4,0))+INDEX(Règles!$C$1:$C$4,MATCH(IF(AND(OFFSET(O8,0,-2)=$D8,OFFSET(O8,0,-1)=$E8),"S",IF(OR(OFFSET(O8,0,-2)=$D8,OFFSET(O8,0,-1)=$E8),"M","I")),Règles!$A$1:$A$4,0)),0) -> 1 | P8: =RANDBETWEEN(0,4) -> 1 | Q8: =RANDBETWEEN(0,4) -> 1 | R8: =IF(AND(OFFSET(R8,0,-2)<>"",OFFSET(R8,0,-1)<>""),INDEX(Règles!$C$1:$C$4,MATCH(IF(IF($D8>$E8,"Gd",IF($D8=$E8,"N","Pd"))=IF(OFFSET(R8,0,-2)>OFFSET(R8,0,-1),"Gd",IF(OFFSET(R8,0,-2)=OFFSET(R8,0,-1),"N","Pd")),"R","I"),Règles!$A$1:$A$4,0))+INDEX(Règles!$C$1:$C$4,MATCH(IF(AND(OFFSET(R8,0,-2)=$D8,OFFSET(R8,0,-1)=$E8),"S",IF(OR(OFFSET(R8,0,-2)=$D8,OFFSET(R8,0,-1)=$E8),"M","I")),Règles!$A$1:$A$4,0)),0) -> 1 | S8: =RANDBETWEEN(0,4) -> 2 | T8: =RANDBETWEEN(0,4) -> 4 | U8: =IF(AND(OFFSET(U8,0,-2)<>"",OFFSET(U8,0,-1)<>""),INDEX(Règles!$C$1:$C$4,MATCH(IF(IF($D8>$E8,"Gd",IF($D8=$E8,"N","Pd"))=IF(OFFSET(U8,0,-2)>OFFSET(U8,0,-1),"Gd",IF(OFFSET(U8,0,-2)=OFFSET(U8,0,-1),"N","Pd")),"R","I"),Règles!$A$1:$A$4,0))+INDEX(Règles!$C$1:$C$4,MATCH(IF(AND(OFFSET(U8,0,-2)=$D8,OFFSET(U8,0,-1)=$E8),"S",IF(OR(OFFSET(U8,0,-2)=$D8,OFFSET(U8,0,-1)=$E8),"M","I")),Règles!$A$1:$A$4,0)),0) -> 0 | V8: =RANDBETWEEN(0,4) -> 1 | W8: =RANDBETWEEN(0,4) -> 1 | X8: =IF(AND(OFFSET(X8,0,-2)<>"",OFFSET(X8,0,-1)<>""),INDEX(Règles!$C$1:$C$4,MATCH(IF(IF($D8>$E8,"Gd",IF($D8=$E8,"N","Pd"))=IF(OFFSET(X8,0,-2)>OFFSET(X8,0,-1),"Gd",IF(OFFSET(X8,0,-2)=OFFSET(X8,0,-1),"N","Pd")),"R","I"),Règles!$A$1:$A$4,0))+INDEX(Règles!$C$1:$C$4,MATCH(IF(AND(OFFSET(X8,0,-2)=$D8,OFFSET(X8,0,-1)=$E8),"S",IF(OR(OFFSET(X8,0,-2)=$D8,OFFSET(X8,0,-1)=$E8),"M","I")),Règles!$A$1:$A$4,0)),0) -> 1 | Y8: =RANDBETWEEN(0,4) -> 4 | Z8: =RANDBETWEEN(0,4) -> 1 | AA8: =IF(AND(OFFSET(AA8,0,-2)<>"",OFFSET(AA8,0,-1)<>""),INDEX(Règles!$C$1:$C$4,MATCH(IF(IF($D8>$E8,"Gd",IF($D8=$E8,"N","Pd"))=IF(OFFSET(AA8,0,-2)>OFFSET(AA8,0,-1),"Gd",IF(OFFSET(AA8,0,-2)=OFFSET(AA8,0,-1),"N","Pd")),"R","I"),Règles!$A$1:$A$4,0))+INDEX(Règles!$C$1:$C$4,MATCH(IF(AND(OFFSET(AA8,0,-2)=$D8,OFFSET(AA8,0,-1)=$E8),"S",IF(OR(OFFSET(AA8,0,-2)=$D8,OFFSET(AA8,0,-1)=$E8),"M","I")),Règles!$A$1:$A$4,0)),0) -> 6 | AB8: =RANDBETWEEN(0,4) -> 0 | AC8: =RANDBETWEEN(0,4) -> 1 | AD8: =IF(AND(OFFSET(AD8,0,-2)<>"",OFFSET(AD8,0,-1)<>""),INDEX(Règles!$C$1:$C$4,MATCH(IF(IF($D8>$E8,"Gd",IF($D8=$E8,"N","Pd"))=IF(OFFSET(AD8,0,-2)>OFFSET(AD8,0,-1),"Gd",IF(OFFSET(AD8,0,-2)=OFFSET(AD8,0,-1),"N","Pd")),"R","I"),Règles!$A$1:$A$4,0))+INDEX(Règles!$C$1:$C$4,MATCH(IF(AND(OFFSET(AD8,0,-2)=$D8,OFFSET(AD8,0,-1)=$E8),"S",IF(OR(OFFSET(AD8,0,-2)=$D8,OFFSET(AD8,0,-1)=$E8),"M","I")),Règles!$A$1:$A$4,0)),0) -> 1 | AE8: =RANDBETWEEN(0,4) -> 4 | AF8: =RANDBETWEEN(0,4) -> 0 | AG8: =IF(AND(OFFSET(AG8,0,-2)<>"",OFFSET(AG8,0,-1)<>""),INDEX(Règles!$C$1:$C$4,MATCH(IF(IF($D8>$E8,"Gd",IF($D8=$E8,"N","Pd"))=IF(OFFSET(AG8,0,-2)>OFFSET(AG8,0,-1),"Gd",IF(OFFSET(AG8,0,-2)=OFFSET(AG8,0,-1),"N","Pd")),"R","I"),Règles!$A$1:$A$4,0))+INDEX(Règles!$C$1:$C$4,MATCH(IF(AND(OFFSET(AG8,0,-2)=$D8,OFFSET(AG8,0,-1)=$E8),"S",IF(OR(OFFSET(AG8,0,-2)=$D8,OFFSET(AG8,0,-1)=$E8),"M","I")),Règles!$A$1:$A$4,0)),0) -> 5 | AH8: =RANDBETWEEN(0,4) -> 0 | AI8: =RANDBETWEEN(0,4) -> 2 | AJ8: =IF(AND(OFFSET(AJ8,0,-2)<>"",OFFSET(AJ8,0,-1)<>""),INDEX(Règles!$C$1:$C$4,MATCH(IF(IF($D8>$E8,"Gd",IF($D8=$E8,"N","Pd"))=IF(OFFSET(AJ8,0,-2)>OFFSET(AJ8,0,-1),"Gd",IF(OFFSET(AJ8,0,-2)=OFFSET(AJ8,0,-1),"N","Pd")),"R","I"),Règles!$A$1:$A$4,0))+INDEX(Règles!$C$1:$C$4,MATCH(IF(AND(OFFSET(AJ8,0,-2)=$D8,OFFSET(AJ8,0,-1)=$E8),"S",IF(OR(OFFSET(AJ8,0,-2)=$D8,OFFSET(AJ8,0,-1)=$E8),"M","I")),Règles!$A$1:$A$4,0)),0) -> 0 | AK8: =RANDBETWEEN(0,4) -> 3 | AL8: =RANDBETWEEN(0,4) -> 4 | AM8: =IF(AND(OFFSET(AM8,0,-2)<>"",OFFSET(AM8,0,-1)<>""),INDEX(Règles!$C$1:$C$4,MATCH(IF(IF($D8>$E8,"Gd",IF($D8=$E8,"N","Pd"))=IF(OFFSET(AM8,0,-2)>OFFSET(AM8,0,-1),"Gd",IF(OFFSET(AM8,0,-2)=OFFSET(AM8,0,-1),"N","Pd")),"R","I"),Règles!$A$1:$A$4,0))+INDEX(Règles!$C$1:$C$4,MATCH(IF(AND(OFFSET(AM8,0,-2)=$D8,OFFSET(AM8,0,-1)=$E8),"S",IF(OR(OFFSET(AM8,0,-2)=$D8,OFFSET(AM8,0,-1)=$E8),"M","I")),Règles!$A$1:$A$4,0)),0) -> 1 | AN8: =RANDBETWEEN(0,4) -> 3 | AO8: =RANDBETWEEN(0,4) -> 2 | AP8: =IF(AND(OFFSET(AP8,0,-2)<>"",OFFSET(AP8,0,-1)<>""),INDEX(Règles!$C$1:$C$4,MATCH(IF(IF($D8>$E8,"Gd",IF($D8=$E8,"N","Pd"))=IF(OFFSET(AP8,0,-2)>OFFSET(AP8,0,-1),"Gd",IF(OFFSET(AP8,0,-2)=OFFSET(AP8,0,-1),"N","Pd")),"R","I"),Règles!$A$1:$A$4,0))+INDEX(Règles!$C$1:$C$4,MATCH(IF(AND(OFFSET(AP8,0,-2)=$D8,OFFSET(AP8,0,-1)=$E8),"S",IF(OR(OFFSET(AP8,0,-2)=$D8,OFFSET(AP8,0,-1)=$E8),"M","I")),Règles!$A$1:$A$4,0)),0) -> 6 | AQ8: =RANDBETWEEN(0,4) -> 1 | AR8: =RANDBETWEEN(0,4) -> 2 | AS8: =IF(AND(OFFSET(AS8,0,-2)<>"",OFFSET(AS8,0,-1)<>""),INDEX(Règles!$C$1:$C$4,MATCH(IF(IF($D8>$E8,"Gd",IF($D8=$E8,"N","Pd"))=IF(OFFSET(AS8,0,-2)>OFFSET(AS8,0,-1),"Gd",IF(OFFSET(AS8,0,-2)=OFFSET(AS8,0,-1),"N","Pd")),"R","I"),Règles!$A$1:$A$4,0))+INDEX(Règles!$C$1:$C$4,MATCH(IF(AND(OFFSET(AS8,0,-2)=$D8,OFFSET(AS8,0,-1)=$E8),"S",IF(OR(OFFSET(AS8,0,-2)=$D8,OFFSET(AS8,0,-1)=$E8),"M","I")),Règles!$A$1:$A$4,0)),0) -> 0 | AT8: =RANDBETWEEN(0,4) -> 2 | AU8: =RANDBETWEEN(0,4) -> 2 | AV8: =IF(AND(OFFSET(AV8,0,-2)<>"",OFFSET(AV8,0,-1)<>""),INDEX(Règles!$C$1:$C$4,MATCH(IF(IF($D8>$E8,"Gd",IF($D8=$E8,"N","Pd"))=IF(OFFSET(AV8,0,-2)>OFFSET(AV8,0,-1),"Gd",IF(OFFSET(AV8,0,-2)=OFFSET(AV8,0,-1),"N","Pd")),"R","I"),Règles!$A$1:$A$4,0))+INDEX(Règles!$C$1:$C$4,MATCH(IF(AND(OFFSET(AV8,0,-2)=$D8,OFFSET(AV8,0,-1)=$E8),"S",IF(OR(OFFSET(AV8,0,-2)=$D8,OFFSET(AV8,0,-1)=$E8),"M","I")),Règles!$A$1:$A$4,0)),0) -> 0 | AW8: =RANDBETWEEN(0,4) -> 4 | AX8: =RANDBETWEEN(0,4) -> 1 | AY8: =IF(AND(OFFSET(AY8,0,-2)<>"",OFFSET(AY8,0,-1)<>""),INDEX(Règles!$C$1:$C$4,MATCH(IF(IF($D8>$E8,"Gd",IF($D8=$E8,"N","Pd"))=IF(OFFSET(AY8,0,-2)>OFFSET(AY8,0,-1),"Gd",IF(OFFSET(AY8,0,-2)=OFFSET(AY8,0,-1),"N","Pd")),"R","I"),Règles!$A$1:$A$4,0))+INDEX(Règles!$C$1:$C$4,MATCH(IF(AND(OFFSET(AY8,0,-2)=$D8,OFFSET(AY8,0,-1)=$E8),"S",IF(OR(OFFSET(AY8,0,-2)=$D8,OFFSET(AY8,0,-1)=$E8),"M","I")),Règles!$A$1:$A$4,0)),0) -> 6 | AZ8: =RANDBETWEEN(0,4) -> 4 | BA8: =RANDBETWEEN(0,4) -> 4 | BB8: =IF(AND(OFFSET(BB8,0,-2)<>"",OFFSET(BB8,0,-1)<>""),INDEX(Règles!$C$1:$C$4,MATCH(IF(IF($D8>$E8,"Gd",IF($D8=$E8,"N","Pd"))=IF(OFFSET(BB8,0,-2)>OFFSET(BB8,0,-1),"Gd",IF(OFFSET(BB8,0,-2)=OFFSET(BB8,0,-1),"N","Pd")),"R","I"),Règles!$A$1:$A$4,0))+INDEX(Règles!$C$1:$C$4,MATCH(IF(AND(OFFSET(BB8,0,-2)=$D8,OFFSET(BB8,0,-1)=$E8),"S",IF(OR(OFFSET(BB8,0,-2)=$D8,OFFSET(BB8,0,-1)=$E8),"M","I")),Règles!$A$1:$A$4,0)),0) -> 0 | BC8: =RANDBETWEEN(0,4) -> 1 | BD8: =RANDBETWEEN(0,4) -> 2 | BE8: =IF(AND(OFFSET(BE8,0,-2)<>"",OFFSET(BE8,0,-1)<>""),INDEX(Règles!$C$1:$C$4,MATCH(IF(IF($D8>$E8,"Gd",IF($D8=$E8,"N","Pd"))=IF(OFFSET(BE8,0,-2)>OFFSET(BE8,0,-1),"Gd",IF(OFFSET(BE8,0,-2)=OFFSET(BE8,0,-1),"N","Pd")),"R","I"),Règles!$A$1:$A$4,0))+INDEX(Règles!$C$1:$C$4,MATCH(IF(AND(OFFSET(BE8,0,-2)=$D8,OFFSET(BE8,0,-1)=$E8),"S",IF(OR(OFFSET(BE8,0,-2)=$D8,OFFSET(BE8,0,-1)=$E8),"M","I")),Règles!$A$1:$A$4,0)),0) -> 0 | BF8: =RANDBETWEEN(0,4) -> 3 | BG8: =RANDBETWEEN(0,4) -> 3 | BH8: =IF(AND(OFFSET(BH8,0,-2)<>"",OFFSET(BH8,0,-1)<>""),INDEX(Règles!$C$1:$C$4,MATCH(IF(IF($D8>$E8,"Gd",IF($D8=$E8,"N","Pd"))=IF(OFFSET(BH8,0,-2)>OFFSET(BH8,0,-1),"Gd",IF(OFFSET(BH8,0,-2)=OFFSET(BH8,0,-1),"N","Pd")),"R","I"),Règles!$A$1:$A$4,0))+INDEX(Règles!$C$1:$C$4,MATCH(IF(AND(OFFSET(BH8,0,-2)=$D8,OFFSET(BH8,0,-1)=$E8),"S",IF(OR(OFFSET(BH8,0,-2)=$D8,OFFSET(BH8,0,-1)=$E8),"M","I")),Règles!$A$1:$A$4,0)),0) -> 1 | BI8: =RANDBETWEEN(0,4) -> 1 | BJ8: =RANDBETWEEN(0,4) -> 3 | BK8: =IF(AND(OFFSET(BK8,0,-2)<>"",OFFSET(BK8,0,-1)<>""),INDEX(Règles!$C$1:$C$4,MATCH(IF(IF($D8>$E8,"Gd",IF($D8=$E8,"N","Pd"))=IF(OFFSET(BK8,0,-2)>OFFSET(BK8,0,-1),"Gd",IF(OFFSET(BK8,0,-2)=OFFSET(BK8,0,-1),"N","Pd")),"R","I"),Règles!$A$1:$A$4,0))+INDEX(Règles!$C$1:$C$4,MATCH(IF(AND(OFFSET(BK8,0,-2)=$D8,OFFSET(BK8,0,-1)=$E8),"S",IF(OR(OFFSET(BK8,0,-2)=$D8,OFFSET(BK8,0,-1)=$E8),"M","I")),Règles!$A$1:$A$4,0)),0) -> 0 | BL8: =RANDBETWEEN(0,4) -> 2 | BM8: =RANDBETWEEN(0,4) -> 4 | BN8: =IF(AND(OFFSET(BN8,0,-2)<>"",OFFSET(BN8,0,-1)<>""),INDEX(Règles!$C$1:$C$4,MATCH(IF(IF($D8>$E8,"Gd",IF($D8=$E8,"N","Pd"))=IF(OFFSET(BN8,0,-2)>OFFSET(BN8,0,-1),"Gd",IF(OFFSET(BN8,0,-2)=OFFSET(BN8,0,-1),"N","Pd")),"R","I"),Règles!$A$1:$A$4,0))+INDEX(Règles!$C$1:$C$4,MATCH(IF(AND(OFFSET(BN8,0,-2)=$D8,OFFSET(BN8,0,-1)=$E8),"S",IF(OR(OFFSET(BN8,0,-2)=$D8,OFFSET(BN8,0,-1)=$E8),"M","I")),Règles!$A$1:$A$4,0)),0) -> 0 | BO8: =RANDBETWEEN(0,4) -> 3 | BP8: =RANDBETWEEN(0,4) -> 1 | BQ8: =IF(AND(OFFSET(BQ8,0,-2)<>"",OFFSET(BQ8,0,-1)<>""),INDEX(Règles!$C$1:$C$4,MATCH(IF(IF($D8>$E8,"Gd",IF($D8=$E8,"N","Pd"))=IF(OFFSET(BQ8,0,-2)>OFFSET(BQ8,0,-1),"Gd",IF(OFFSET(BQ8,0,-2)=OFFSET(BQ8,0,-1),"N","Pd")),"R","I"),Règles!$A$1:$A$4,0))+INDEX(Règles!$C$1:$C$4,MATCH(IF(AND(OFFSET(BQ8,0,-2)=$D8,OFFSET(BQ8,0,-1)=$E8),"S",IF(OR(OFFSET(BQ8,0,-2)=$D8,OFFSET(BQ8,0,-1)=$E8),"M","I")),Règles!$A$1:$A$4,0)),0) -> 10 | BR8: =RANDBETWEEN(0,4) -> 3 | BS8: =RANDBETWEEN(0,4) -> 0 | BT8: =IF(AND(OFFSET(BT8,0,-2)<>"",OFFSET(BT8,0,-1)<>""),INDEX(Règles!$C$1:$C$4,MATCH(IF(IF($D8>$E8,"Gd",IF($D8=$E8,"N","Pd"))=IF(OFFSET(BT8,0,-2)>OFFSET(BT8,0,-1),"Gd",IF(OFFSET(BT8,0,-2)=OFFSET(BT8,0,-1),"N","Pd")),"R","I"),Règles!$A$1:$A$4,0))+INDEX(Règles!$C$1:$C$4,MATCH(IF(AND(OFFSET(BT8,0,-2)=$D8,OFFSET(BT8,0,-1)=$E8),"S",IF(OR(OFFSET(BT8,0,-2)=$D8,OFFSET(BT8,0,-1)=$E8),"M","I")),Règles!$A$1:$A$4,0)),0) -> 6 | BU8: =RANDBETWEEN(0,4) -> 0 | BV8: =RANDBETWEEN(0,4) -> 2 | BW8: =IF(AND(OFFSET(BW8,0,-2)<>"",OFFSET(BW8,0,-1)<>""),INDEX(Règles!$C$1:$C$4,MATCH(IF(IF($D8>$E8,"Gd",IF($D8=$E8,"N","Pd"))=IF(OFFSET(BW8,0,-2)>OFFSET(BW8,0,-1),"Gd",IF(OFFSET(BW8,0,-2)=OFFSET(BW8,0,-1),"N","Pd")),"R","I"),Règles!$A$1:$A$4,0))+INDEX(Règles!$C$1:$C$4,MATCH(IF(AND(OFFSET(BW8,0,-2)=$D8,OFFSET(BW8,0,-1)=$E8),"S",IF(OR(OFFSET(BW8,0,-2)=$D8,OFFSET(BW8,0,-1)=$E8),"M","I")),Règles!$A$1:$A$4,0)),0) -> 0 | BX8: =RANDBETWEEN(0,4) -> 4 | BY8: =RANDBETWEEN(0,4) -> 0 | BZ8: =IF(AND(OFFSET(BZ8,0,-2)<>"",OFFSET(BZ8,0,-1)<>""),INDEX(Règles!$C$1:$C$4,MATCH(IF(IF($D8>$E8,"Gd",IF($D8=$E8,"N","Pd"))=IF(OFFSET(BZ8,0,-2)>OFFSET(BZ8,0,-1),"Gd",IF(OFFSET(BZ8,0,-2)=OFFSET(BZ8,0,-1),"N","Pd")),"R","I"),Règles!$A$1:$A$4,0))+INDEX(Règles!$C$1:$C$4,MATCH(IF(AND(OFFSET(BZ8,0,-2)=$D8,OFFSET(BZ8,0,-1)=$E8),"S",IF(OR(OFFSET(BZ8,0,-2)=$D8,OFFSET(BZ8,0,-1)=$E8),"M","I")),Règles!$A$1:$A$4,0)),0) -> 5
