Workbook
Name Equipes: Règles!$S$1:$S$20

Sheet Jour1
H1: =OFFSET(Règles!$P$1,(COLUMN()-8)/3,0) -> Guigui | K1: =OFFSET(Règles!$P$1,(COLUMN()-8)/3,0) -> Stef | N1: =OFFSET(Règles!$P$1,(COLUMN()-8)/3,0) -> Papa | Q1: =OFFSET(Règles!$P$1,(COLUMN()-8)/3,0) -> Maman | T1: =OFFSET(Règles!$P$1,(COLUMN()-8)/3,0) -> Flo | W1: =OFFSET(Règles!$P$1,(COLUMN()-8)/3,0) -> Florian | Z1: =OFFSET(Règles!$P$1,(COLUMN()-8)/3,0) -> Jonas | AC1: =OFFSET(Règles!$P$1,(COLUMN()-8)/3,0) -> Céline | AF1: =OFFSET(Règles!$P$1,(COLUMN()-8)/3,0) -> Mich | AI1: =OFFSET(Règles!$P$1,(COLUMN()-8)/3,0) -> Olivier | AL1: =OFFSET(Règles!$P$1,(COLUMN()-8)/3,0) -> Remi | AO1: =OFFSET(Règles!$P$1,(COLUMN()-8)/3,0) -> Alexis | AR1: =OFFSET(Règles!$P$1,(COLUMN()-8)/3,0) -> Julien | AU1: =OFFSET(Règles!$P$1,(COLUMN()-8)/3,0) -> Maxime | AX1: =OFFSET(Règles!$P$1,(COLUMN()-8)/3,0) -> Goncalves | BA1: =OFFSET(Règles!$P$1,(COLUMN()-8)/3,0) -> Yann | BD1: =OFFSET(Règles!$P$1,(COLUMN()-8)/3,0) -> Maurice | BG1: =OFFSET(Règles!$P$1,(COLUMN()-8)/3,0) -> Cédric | BJ1: =OFFSET(Règles!$P$1,(COLUMN()-8)/3,0) -> Benjamin | BM1: =OFFSET(Règles!$P$1,(COLUMN()-8)/3,0) -> Bean | BP1: =OFFSET(Règles!$P$1,(COLUMN()-8)/3,0) -> Isabelle | BS1: =OFFSET(Règles!$P$1,(COLUMN()-8)/3,0) -> Emmanuel | BV1: =OFFSET(Règles!$P$1,(COLUMN()-8)/3,0) -> Fernando | BY1: =OFFSET(Règles!$P$1,(COLUMN()-8)/3,0) -> Manu
D2: Scores | G2: Pari | I2: pts | J2: Pari | L2: pts | M2: Pari | O2: pts | P2: Pari | R2: pts | S2: Pari | U2: pts | V2: Pari | X2: pts | Y2: Pari | AA2: pts | AB2: Pari | AD2: pts | AE2: Pari | AG2: pts | AH2: Pari | AJ2: pts | AK2: Pari | AM2: pts | AN2: Pari | AP2: pts | AQ2: Pari | AS2: pts | AT2: Pari | AV2: pts | AW2: Pari | AY2: pts | AZ2: Pari | BB2: pts | BC2: Pari | BE2: pts | BF2: Pari | BH2: pts | BI2: Pari | BK2: pts | BL2: Pari | BN2: pts | BO2: Pari | BQ2: pts | BR2: Pari | BT2: pts | BU2: Pari | BW2: pts | BX2: Pari | BZ2: pts
A3: Match 1 | B3: Nantes | C3: Marseille | D3: 1 | E3: 0 | G3: =RANDBETWEEN(0,4) -> 0 | H3: =RANDBETWEEN(0,4) -> 4 | I3: =IF(AND(OFFSET(I3,0,-2)<>"",OFFSET(I3,0,-1)<>""),INDEX(Règles!$C$1:$C$4,MATCH(IF(IF($D3>$E3,"Gd",IF($D3=$E3,"N","Pd"))=IF(OFFSET(I3,0,-2)>OFFSET(I3,0,-1),"Gd",IF(OFFSET(I3,0,-2)=OFFSET(I3,0,-1),"N","Pd")),"R","I"),Règles!$A$1:$A$4,0))+INDEX(Règles!$C$1:$C$4,MATCH(IF(AND(OFFSET(I3,0,-2)=$D3,OFFSET(I3,0,-1)=$E3),"S",IF(OR(OFFSET(I3,0,-2)=$D3,OFFSET(I3,0,-1)=$E3),"M","I")),Règles!$A$1:$A$4,0)),0) -> 0 | J3: =RANDBETWEEN(0,4) -> 1 | K3: =RANDBETWEEN(0,4) -> 4 | L3: =IF(AND(OFFSET(L3,0,-2)<>"",OFFSET(L3,0,-1)<>""),INDEX(Règles!$C$1:$C$4,MATCH(IF(IF($D3>$E3,"Gd",IF($D3=$E3,"N","Pd"))=IF(OFFSET(L3,0,-2)>OFFSET(L3,0,-1),"Gd",IF(OFFSET(L3,0,-2)=OFFSET(L3,0,-1),"N","Pd")),"R","I"),Règles!$A$1:$A$4,0))+INDEX(Règles!$C$1:$C$4,MATCH(IF(AND(OFFSET(L3,0,-2)=$D3,OFFSET(L3,0,-1)=$E3),"S",IF(OR(OFFSET(L3,0,-2)=$D3,OFFSET(L3,0,-1)=$E3),"M","I")),Règles!$A$1:$A$4,0)),0) -> 1 | M3: =RANDBETWEEN(0,4) -> 4 | N3: =RANDBETWEEN(0,4) -> 0 | O3: =IF(AND(OFFSET(O3,0,-2)<>"",OFFSET(O3,0,-1)<>""),INDEX(Règles!$C$1:$C$4,MATCH(IF(IF($D3>$E3,"Gd",IF($D3=$E3,"N","Pd"))=IF(OFFSET(O3,0,-2)>OFFSET(O3,0,-1),"Gd",IF(OFFSET(O3,0,-2)=OFFSET(O3,0,-1),"N","Pd")),"R","I"),Règles!$A$1:$A$4,0))+INDEX(Règles!$C$1:$C$4,MATCH(IF(AND(OFFSET(O3,0,-2)=$D3,OFFSET(O3,0,-1)=$E3),"S",IF(OR(OFFSET(O3,0,-2)=$D3,OFFSET(O3,0,-1)=$E3),"M","I")),Règles!$A$1:$A$4,0)),0) -> 6 | P3: =RANDBETWEEN(0,4) -> 0 | Q3: =RANDBETWEEN(0,4) -> 0 | R3: =IF(AND(OFFSET(R3,0,-2)<>"",OFFSET(R3,0,-1)<>""),INDEX(Règles!$C$1:$C$4,MATCH(IF(IF($D3>$E3,"Gd",IF($D3=$E3,"N","Pd"))=IF(OFFSET(R3,0,-2)>OFFSET(R3,0,-1),"Gd",IF(OFFSET(R3,0,-2)=OFFSET(R3,0,-1),"N","Pd")),"R","I"),Règles!$A$1:$A$4,0))+INDEX(Règles!$C$1:$C$4,MATCH(IF(AND(OFFSET(R3,0,-2)=$D3,OFFSET(R3,0,-1)=$E3),"S",IF(OR(OFFSET(R3,0,-2)=$D3,OFFSET(R3,0,-1)=$E3),"M","I")),Règles!$A$1:$A$4,0)),0) -> 1 | S3: =RANDBETWEEN(0,4) -> 4 | T3: =RANDBETWEEN(0,4) -> 0 | U3: =IF(AND(OFFSET(U3,0,-2)<>"",OFFSET(U3,0,-1)<>""),INDEX(Règles!$C$1:$C$4,MATCH(IF(IF($D3>$E3,"Gd",IF($D3=$E3,"N","Pd"))=IF(OFFSET(U3,0,-2)>OFFSET(U3,0,-1),"Gd",IF(OFFSET(U3,0,-2)=OFFSET(U3,0,-1),"N","Pd")),"R","I"),Règles!$A$1:$A$4,0))+INDEX(Règles!$C$1:$C$4,MATCH(IF(AND(OFFSET(U3,0,-2)=$D3,OFFSET(U3,0,-1)=$E3),"S",IF(OR(OFFSET(U3,0,-2)=$D3,OFFSET(U3,0,-1)=$E3),"M","I")),Règles!$A$1:$A$4,0)),0) -> 6 | V3: =RANDBETWEEN(0,4) -> 2 | W3: =RANDBETWEEN(0,4) -> 4 | X3: =IF(AND(OFFSET(X3,0,-2)<>"",OFFSET(X3,0,-1)<>""),INDEX(Règles!$C$1:$C$4,MATCH(IF(IF($D3>$E3,"Gd",IF($D3=$E3,"N","Pd"))=IF(OFFSET(X3,0,-2)>OFFSET(X3,0,-1),"Gd",IF(OFFSET(X3,0,-2)=OFFSET(X3,0,-1),"N","Pd")),"R","I"),Règles!$A$1:$A$4,0))+INDEX(Règles!$C$1:$C$4,MATCH(IF(AND(OFFSET(X3,0,-2)=$D3,OFFSET(X3,0,-1)=$E3),"S",IF(OR(OFFSET(X3,0,-2)=$D3,OFFSET(X3,0,-1)=$E3),"M","I")),Règles!$A$1:$A$4,0)),0) -> 0 | Y3: =RANDBETWEEN(0,4) -> 0 | Z3: =RANDBETWEEN(0,4) -> 4 | AA3: =IF(AND(OFFSET(AA3,0,-2)<>"",OFFSET(AA3,0,-1)<>""),INDEX(Règles!$C$1:$C$4,MATCH(IF(IF($D3>$E3,"Gd",IF($D3=$E3,"N","Pd"))=IF(OFFSET(AA3,0,-2)>OFFSET(AA3,0,-1),"Gd",IF(OFFSET(AA3,0,-2)=OFFSET(AA3,0,-1),"N","Pd")),"R","I"),Règles!$A$1:$A$4,0))+INDEX(Règles!$C$1:$C$4,MATCH(IF(AND(OFFSET(AA3,0,-2)=$D3,OFFSET(AA3,0,-1)=$E3),"S",IF(OR(OFFSET(AA3,0,-2)=$D3,OFFSET(AA3,0,-1)=$E3),"M","I")),Règles!$A$1:$A$4,0)),0) -> 0 | AB3: =RANDBETWEEN(0,4) -> 4 | AC3: =RANDBETWEEN(0,4) -> 4 | AD3: =IF(AND(OFFSET(AD3,0,-2)<>"",OFFSET(AD3,0,-1)<>""),INDEX(Règles!$C$1:$C$4,MATCH(IF(IF($D3>$E3,"Gd",IF($D3=$E3,"N","Pd"))=IF(OFFSET(AD3,0,-2)>OFFSET(AD3,0,-1),"Gd",IF(OFFSET(AD3,0,-2)=OFFSET(AD3,0,-1),"N","Pd")),"R","I"),Règles!$A$1:$A$4,0))+INDEX(Règles!$C$1:$C$4,MATCH(IF(AND(OFFSET(AD3,0,-2)=$D3,OFFSET(AD3,0,-1)=$E3),"S",IF(OR(OFFSET(AD3,0,-2)=$D3,OFFSET(AD3,0,-1)=$E3),"M","I")),Règles!$A$1:$A$4,0)),0) -> 0 | AE3: =RANDBETWEEN(0,4) -> 2 | AF3: =RANDBETWEEN(0,4) -> 4 | AG3: =IF(AND(OFFSET(AG3,0,-2)<>"",OFFSET(AG3,0,-1)<>""),INDEX(Règles!$C$1:$C$4,MATCH(IF(IF($D3>$E3,"Gd",IF($D3=$E3,"N","Pd"))=IF(OFFSET(AG3,0,-2)>OFFSET(AG3,0,-1),"Gd",IF(OFFSET(AG3,0,-2)=OFFSET(AG3,0,-1),"N","Pd")),"R","I"),Règles!$A$1:$A$4,0))+INDEX(Règles!$C$1:$C$4,MATCH(IF(AND(OFFSET(AG3,0,-2)=$D3,OFFSET(AG3,0,-1)=$E3),"S",IF(OR(OFFSET(AG3,0,-2)=$D3,OFFSET(AG3,0,-1)=$E3),"M","I")),Règles!$A$1:$A$4,0)),0) -> 0 | AH3: =RANDBETWEEN(0,4) -> 0 | AI3: =RANDBETWEEN(0,4) -> 0 | AJ3: =IF(AND(OFFSET(AJ3,0,-2)<>"",OFFSET(AJ3,0,-1)<>""),INDEX(Règles!$C$1:$C$4,MATCH(IF(IF($D3>$E3,"Gd",IF($D3=$E3,"N","Pd"))=IF(OFFSET(AJ3,0,-2)>OFFSET(AJ3,0,-1),"Gd",IF(OFFSET(AJ3,0,-2)=OFFSET(AJ3,0,-1),"N","Pd")),"R","I"),Règles!$A$1:$A$4,0))+INDEX(Règles!$C$1:$C$4,MATCH(IF(AND(OFFSET(AJ3,0,-2)=$D3,OFFSET(AJ3,0,-1)=$E3),"S",IF(OR(OFFSET(AJ3,0,-2)=$D3,OFFSET(AJ3,0,-1)=$E3),"M","I")),Règles!$A$1:$A$4,0)),0) -> 1 | AK3: =RANDBETWEEN(0,4) -> 3 | AL3: =RANDBETWEEN(0,4) -> 1 | AM3: =IF(AND(OFFSET(AM3,0,-2)<>"",OFFSET(AM3,0,-1)<>""),INDEX(Règles!$C$1:$C$4,MATCH(IF(IF($D3>$E3,"Gd",IF($D3=$E3,"N","Pd"))=IF(OFFSET(AM3,0,-2)>OFFSET(AM3,0,-1),"Gd",IF(OFFSET(AM3,0,-2)=OFFSET(AM3,0,-1),"N","Pd")),"R","I"),Règles!$A$1:$A$4,0))+INDEX(Règles!$C$1:$C$4,MATCH(IF(AND(OFFSET(AM3,0,-2)=$D3,OFFSET(AM3,0,-1)=$E3),"S",IF(OR(OFFSET(AM3,0,-2)=$D3,OFFSET(AM3,0,-1)=$E3),"M","I")),Règles!$A$1:$A$4,0)),0) -> 5 | AN3: =RANDBETWEEN(0,4) -> 1 | AO3: =RANDBETWEEN(0,4) -> 4 | AP3: =IF(AND(OFFSET(AP3,0,-2)<>"",OFFSET(AP3,0,-1)<>""),INDEX(Règles!$C$1:$C$4,MATCH(IF(IF($D3>$E3,"Gd",IF($D3=$E3,"N","Pd"))=IF(OFFSET(AP3,0,-2)>OFFSET(AP3,0,-1),"Gd",IF(OFFSET(AP3,0,-2)=OFFSET(AP3,0,-1),"N","Pd")),"R","I"),Règles!$A$1:$A$4,0))+INDEX(Règles!$C$1:$C$4,MATCH(IF(AND(OFFSET(AP3,0,-2)=$D3,OFFSET(AP3,0,-1)=$E3),"S",IF(OR(OFFSET(AP3,0,-2)=$D3,OFFSET(AP3,0,-1)=$E3),"M","I")),Règles!$A$1:$A$4,0)),0) -> 1 | AQ3: =RANDBETWEEN(0,4) -> 3 | AR3: =RANDBETWEEN(0,4) -> 3 | AS3: =IF(AND(OFFSET(AS3,0,-2)<>"",OFFSET(AS3,0,-1)<>""),INDEX(Règles!$C$1:$C$4,MATCH(IF(IF($D3>$E3,"Gd",IF($D3=$E3,"N","Pd"))=IF(OFFSET(AS3,0,-2)>OFFSET(AS3,0,-1),"Gd",IF(OFFSET(AS3,0,-2)=OFFSET(AS3,0,-1),"N","Pd")),"R","I"),Règles!$A$1:$A$4,0))+INDEX(Règles!$C$1:$C$4,MATCH(IF(AND(OFFSET(AS3,0,-2)=$D3,OFFSET(AS3,0,-1)=$E3),"S",IF(OR(OFFSET(AS3,0,-2)=$D3,OFFSET(AS3,0,-1)=$E3),"M","I")),Règles!$A$1:$A$4,0)),0) -> 0 | AT3: =RANDBETWEEN(0,4) -> 2 | AU3: =RANDBETWEEN(0,4) -> 2 | AV3: =IF(AND(OFFSET(AV3,0,-2)<>"",OFFSET(AV3,0,-1)<>""),INDEX(Règles!$C$1:$C$4,MATCH(IF(IF($D3>$E3,"Gd",IF($D3=$E3,"N","Pd"))=IF(OFFSET(AV3,0,-2)>OFFSET(AV3,0,-1),"Gd",IF(OFFSET(AV3,0,-2)=OFFSET(AV3,0,-1),"N","Pd")),"R","I"),Règles!$A$1:$A$4,0))+INDEX(Règles!$C$1:$C$4,MATCH(IF(AND(OFFSET(AV3,0,-2)=$D3,OFFSET(AV3,0,-1)=$E3),"S",IF(OR(OFFSET(AV3,0,-2)=$D3,OFFSET(AV3,0,-1)=$E3),"M","I")),Règles!$A$1:$A$4,0)),0) -> 0 | AW3: =RANDBETWEEN(0,4) -> 4 | AX3: =RANDBETWEEN(0,4) -> 3 | AY3: =IF(AND(OFFSET(AY3,0,-2)<>"",OFFSET(AY3,0,-1)<>""),INDEX(Règles!$C$1:$C$4,MATCH(IF(IF($D3>$E3,"Gd",IF($D3=$E3,"N","Pd"))=IF(OFFSET(AY3,0,-2)>OFFSET(AY3,0,-1),"Gd",IF(OFFSET(AY3,0,-2)=OFFSET(AY3,0,-1),"N","Pd")),"R","I"),Règles!$A$1:$A$4,0))+INDEX(Règles!$C$1:$C$4,MATCH(IF(AND(OFFSET(AY3,0,-2)=$D3,OFFSET(AY3,0,-1)=$E3),"S",IF(OR(OFFSET(AY3,0,-2)=$D3,OFFSET(AY3,0,-1)=$E3),"M","I")),Règles!$A$1:$A$4,0)),0) -> 5 | AZ3: =RANDBETWEEN(0,4) -> 2 | BA3: =RANDBETWEEN(0,4) -> 2 | BB3: =IF(AND(OFFSET(BB3,0,-2)<>"",OFFSET(BB3,0,-1)<>""),INDEX(Règles!$C$1:$C$4,MATCH(IF(IF($D3>$E3,"Gd",IF($D3=$E3,"N","Pd"))=IF(OFFSET(BB3,0,-2)>OFFSET(BB3,0,-1),"Gd",IF(OFFSET(BB3,0,-2)=OFFSET(BB3,0,-1),"N","Pd")),"R","I"),Règles!$A$1:$A$4,0))+INDEX(Règles!$C$1:$C$4,MATCH(IF(AND(OFFSET(BB3,0,-2)=$D3,OFFSET(BB3,0,-1)=$E3),"S",IF(OR(OFFSET(BB3,0,-2)=$D3,OFFSET(BB3,0,-1)=$E3),"M","I")),Règles!$A$1:$A$4,0)),0) -> 0 | BC3: =RANDBETWEEN(0,4) -> 0 | BD3: =RANDBETWEEN(0,4) -> 1 | BE3: =IF(AND(OFFSET(BE3,0,-2)<>"",OFFSET(BE3,0,-1)<>""),INDEX(Règles!$C$1:$C$4,MATCH(IF(IF($D3>$E3,"Gd",IF($D3=$E3,"N","Pd"))=IF(OFFSET(BE3,0,-2)>OFFSET(BE3,0,-1),"Gd",IF(OFFSET(BE3,0,-2)=OFFSET(BE3,0,-1),"N","Pd")),"R","I"),Règles!$A$1:$A$4,0))+INDEX(Règles!$C$1:$C$4,MATCH(IF(AND(OFFSET(BE3,0,-2)=$D3,OFFSET(BE3,0,-1)=$E3),"S",IF(OR(OFFSET(BE3,0,-2)=$D3,OFFSET(BE3,0,-1)=$E3),"M","I")),Règles!$A$1:$A$4,0)),0) -> 0 | BF3: =RANDBETWEEN(0,4) -> 4 | BG3: =RANDBETWEEN(0,4) -> 3 | BH3: =IF(AND(OFFSET(BH3,0,-2)<>"",OFFSET(BH3,0,-1)<>""),INDEX(Règles!$C$1:$C$4,MATCH(IF(IF($D3>$E3,"Gd",IF($D3=$E3,"N","Pd"))=IF(OFFSET(BH3,0,-2)>OFFSET(BH3,0,-1),"Gd",IF(OFFSET(BH3,0,-2)=OFFSET(BH3,0,-1),"N","Pd")),"R","I"),Règles!$A$1:$A$4,0))+INDEX(Règles!$C$1:$C$4,MATCH(IF(AND(OFFSET(BH3,0,-2)=$D3,OFFSET(BH3,0,-1)=$E3),"S",IF(OR(OFFSET(BH3,0,-2)=$D3,OFFSET(BH3,0,-1)=$E3),"M","I")),Règles!$A$1:$A$4,0)),0) -> 5 | BI3: =RANDBETWEEN(0,4) -> 4 | BJ3: =RANDBETWEEN(0,4) -> 0 | BK3: =IF(AND(OFFSET(BK3,0,-2)<>"",OFFSET(BK3,0,-1)<>""),INDEX(Règles!$C$1:$C$4,MATCH(IF(IF($D3>$E3,"Gd",IF($D3=$E3,"N","Pd"))=IF(OFFSET(BK3,0,-2)>OFFSET(BK3,0,-1),"Gd",IF(OFFSET(BK3,0,-2)=OFFSET(BK3,0,-1),"N","Pd")),"R","I"),Règles!$A$1:$A$4,0))+INDEX(Règles!$C$1:$C$4,MATCH(IF(AND(OFFSET(BK3,0,-2)=$D3,OFFSET(BK3,0,-1)=$E3),"S",IF(OR(OFFSET(BK3,0,-2)=$D3,OFFSET(BK3,0,-1)=$E3),"M","I")),Règles!$A$1:$A$4,0)),0) -> 6 | BL3: =RANDBETWEEN(0,4) -> 1 | BM3: =RANDBETWEEN(0,4) -> 3 | BN3: =IF(AND(OFFSET(BN3,0,-2)<>"",OFFSET(BN3,0,-1)<>""),INDEX(Règles!$C$1:$C$4,MATCH(IF(IF($D3>$E3,"Gd",IF($D3=$E3,"N","Pd"))=IF(OFFSET(BN3,0,-2)>OFFSET(BN3,0,-1),"Gd",IF(OFFSET(BN3,0,-2)=OFFSET(BN3,0,-1),"N","Pd")),"R","I"),Règles!$A$1:$A$4,0))+INDEX(Règles!$C$1:$C$4,MATCH(IF(AND(OFFSET(BN3,0,-2)=$D3,OFFSET(BN3,0,-1)=$E3),"S",IF(OR(OFFSET(BN3,0,-2)=$D3,OFFSET(BN3,0,-1)=$E3),"M","I")),Règles!$A$1:$A$4,0)),0) -> 1 | BO3: =RANDBETWEEN(0,4) -> 1 | BP3: =RANDBETWEEN(0,4) -> 0 | BQ3: =IF(AND(OFFSET(BQ3,0,-2)<>"",OFFSET(BQ3,0,-1)<>""),INDEX(Règles!$C$1:$C$4,MATCH(IF(IF($D3>$E3,"Gd",IF($D3=$E3,"N","Pd"))=IF(OFFSET(BQ3,0,-2)>OFFSET(BQ3,0,-1),"Gd",IF(OFFSET(BQ3,0,-2)=OFFSET(BQ3,0,-1),"N","Pd")),"R","I"),Règles!$A$1:$A$4,0))+INDEX(Règles!$C$1:$C$4,MATCH(IF(AND(OFFSET(BQ3,0,-2)=$D3,OFFSET(BQ3,0,-1)=$E3),"S",IF(OR(OFFSET(BQ3,0,-2)=$D3,OFFSET(BQ3,0,-1)=$E3),"M","I")),Règles!$A$1:$A$4,0)),0) -> 10 | BR3: =RANDBETWEEN(0,4) -> 2 | BS3: =RANDBETWEEN(0,4) -> 2 | BT3: =IF(AND(OFFSET(BT3,0,-2)<>"",OFFSET(BT3,0,-1)<>""),INDEX(Règles!$C$1:$C$4,MATCH(IF(IF($D3>$E3,"Gd",IF($D3=$E3,"N","Pd"))=IF(OFFSET(BT3,0,-2)>OFFSET(BT3,0,-1),"Gd",IF(OFFSET(BT3,0,-2)=OFFSET(BT3,0,-1),"N","Pd")),"R","I"),Règles!$A$1:$A$4,0))+INDEX(Règles!$C$1:$C$4,MATCH(IF(AND(OFFSET(BT3,0,-2)=$D3,OFFSET(BT3,0,-1)=$E3),"S",IF(OR(OFFSET(BT3,0,-2)=$D3,OFFSET(BT3,0,-1)=$E3),"M","I")),Règles!$A$1:$A$4,0)),0) -> 0 | BU3: =RANDBETWEEN(0,4) -> 4 | BV3: =RANDBETWEEN(0,4) -> 2 | BW3: =IF(AND(OFFSET(BW3,0,-2)<>"",OFFSET(BW3,0,-1)<>""),INDEX(Règles!$C$1:$C$4,MATCH(IF(IF($D3>$E3,"Gd",IF($D3=$E3,"N","Pd"))=IF(OFFSET(BW3,0,-2)>OFFSET(BW3,0,-1),"Gd",IF(OFFSET(BW3,0,-2)=OFFSET(BW3,0,-1),"N","Pd")),"R","I"),Règles!$A$1:$A$4,0))+INDEX(Règles!$C$1:$C$4,MATCH(IF(AND(OFFSET(BW3,0,-2)=$D3,OFFSET(BW3,0,-1)=$E3),"S",IF(OR(OFFSET(BW3,0,-2)=$D3,OFFSET(BW3,0,-1)=$E3),"M","I")),Règles!$A$1:$A$4,0)),0) -> 5 | BX3: =RANDBETWEEN(0,4) -> 1 | BY3: =RANDBETWEEN(0,4) -> 0 | BZ3: =IF(AND(OFFSET(BZ3,0,-2)<>"",OFFSET(BZ3,0,-1)<>""),INDEX(Règles!$C$1:$C$4,MATCH(IF(IF($D3>$E3,"Gd",IF($D3=$E3,"N","Pd"))=IF(OFFSET(BZ3,0,-2)>OFFSET(BZ3,0,-1),"Gd",IF(OFFSET(BZ3,0,-2)=OFFSET(BZ3,0,-1),"N","Pd")),"R","I"),Règles!$A$1:$A$4,0))+INDEX(Règles!$C$1:$C$4,MATCH(IF(AND(OFFSET(BZ3,0,-2)=$D3,OFFSET(BZ3,0,-1)=$E3),"S",IF(OR(OFFSET(BZ3,0,-2)=$D3,OFFSET(BZ3,0,-1)=$E3),"M","I")),Règles!$A$1:$A$4,0)),0) -> 10
A4: Match 2 | B4: Nice | C4: Paris | D4: 1 | E4: 3 | G4: =RANDBETWEEN(0,4) -> 3 | H4: =RANDBETWEEN(0,4) -> 2 | I4: =IF(AND(OFFSET(I4,0,-2)<>"",OFFSET(I4,0,-1)<>""),INDEX(Règles!$C$1:$C$4,MATCH(IF(IF($D4>$E4,"Gd",IF($D4=$E4,"N","Pd"))=IF(OFFSET(I4,0,-2)>OFFSET(I4,0,-1),"Gd",IF(OFFSET(I4,0,-2)=OFFSET(I4,0,-1),"N","Pd")),"R","I"),Règles!$A$1:$A$4,0))+INDEX(Règles!$C$1:$C$4,MATCH(IF(AND(OFFSET(I4,0,-2)=$D4,OFFSET(I4,0,-1)=$E4),"S",IF(OR(OFFSET(I4,0,-2)=$D4,OFFSET(I4,0,-1)=$E4),"M","I")),Règles!$A$1:$A$4,0)),0) -> 0 | J4: =RANDBETWEEN(0,4) -> 4 | K4: =RANDBETWEEN(0,4) -> 2 | L4: =IF(AND(OFFSET(L4,0,-2)<>"",OFFSET(L4,0,-1)<>""),INDEX(Règles!$C$1:$C$4,MATCH(IF(IF($D4>$E4,"Gd",IF($D4=$E4,"N","Pd"))=IF(OFFSET(L4,0,-2)>OFFSET(L4,0,-1),"Gd",IF(OFFSET(L4,0,-2)=OFFSET(L4,0,-1),"N","Pd")),"R","I"),Règles!$A$1:$A$4,0))+INDEX(Règles!$C$1:$C$4,MATCH(IF(AND(OFFSET(L4,0,-2)=$D4,OFFSET(L4,0,-1)=$E4),"S",IF(OR(OFFSET(L4,0,-2)=$D4,OFFSET(L4,0,-1)=$E4),"M","I")),Règles!$A$1:$A$4,0)),0) -> 0 | M4: =RANDBETWEEN(0,4) -> 3 | N4: =RANDBETWEEN(0,4) -> 4 | O4: =IF(AND(OFFSET(O4,0,-2)<>"",OFFSET(O4,0,-1)<>""),INDEX(Règles!$C$1:$C$4,MATCH(IF(IF($D4>$E4,"Gd",IF($D4=$E4,"N","Pd"))=IF(OFFSET(O4,0,-2)>OFFSET(O4,0,-1),"Gd",IF(OFFSET(O4,0,-2)=OFFSET(O4,0,-1),"N","Pd")),"R","I"),Règles!$A$1:$A$4,0))+INDEX(Règles!$C$1:$C$4,MATCH(IF(AND(OFFSET(O4,0,-2)=$D4,OFFSET(O4,0,-1)=$E4),"S",IF(OR(OFFSET(O4,0,-2)=$D4,OFFSET(O4,0,-1)=$E4),"M","I")),Règles!$A$1:$A$4,0)),0) -> 5 | P4: =RANDBETWEEN(0,4) -> 2 | Q4: =RANDBETWEEN(0,4) -> 0 | R4: =IF(AND(OFFSET(R4,0,-2)<>"",OFFSET(R4,0,-1)<>""),INDEX(Règles!$C$1:$C$4,MATCH(IF(IF($D4>$E4,"Gd",IF($D4=$E4,"N","Pd"))=IF(OFFSET(R4,0,-2)>OFFSET(R4,0,-1),"Gd",IF(OFFSET(R4,0,-2)=OFFSET(R4,0,-1),"N","Pd")),"R","I"),Règles!$A$1:$A$4,0))+INDEX(Règles!$C$1:$C$4,MATCH(IF(AND(OFFSET(R4,0,-2)=$D4,OFFSET(R4,0,-1)=$E4),"S",IF(OR(OFFSET(R4,0,-2)=$D4,OFFSET(R4,0,-1)=$E4),"M","I")),Règles!$A$1:$A$4,0)),0) -> 0 | S4: =RANDBETWEEN(0,4) -> 0 | T4: =RANDBETWEEN(0,4) -> 1 | U4: =IF(AND(OFFSET(U4,0,-2)<>"",OFFSET(U4,0,-1)<>""),INDEX(Règles!$C$1:$C$4,MATCH(IF(IF($D4>$E4,"Gd",IF($D4=$E4,"N","Pd"))=IF(OFFSET(U4,0,-2)>OFFSET(U4,0,-1),"Gd",IF(OFFSET(U4,0,-2)=OFFSET(U4,0,-1),"N","Pd")),"R","I"),Règles!$A$1:$A$4,0))+INDEX(Règles!$C$1:$C$4,MATCH(IF(AND(OFFSET(U4,0,-2)=$D4,OFFSET(U4,0,-1)=$E4),"S",IF(OR(OFFSET(U4,0,-2)=$D4,OFFSET(U4,0,-1)=$E4),"M","I")),Règles!$A$1:$A$4,0)),0) -> 5 | V4: =RANDBETWEEN(0,4) -> 0 | W4: =RANDBETWEEN(0,4) -> 4 | X4: =IF(AND(OFFSET(X4,0,-2)<>"",OFFSET(X4,0,-1)<>""),INDEX(Règles!$C$1:$C$4,MATCH(IF(IF($D4>$E4,"Gd",IF($D4=$E4,"N","Pd"))=IF(OFFSET(X4,0,-2)>OFFSET(X4,0,-1),"Gd",IF(OFFSET(X4,0,-2)=OFFSET(X4,0,-1),"N","Pd")),"R","I"),Règles!$A$1:$A$4,0))+INDEX(Règles!$C$1:$C$4,MATCH(IF(AND(OFFSET(X4,0,-2)=$D4,OFFSET(X4,0,-1)=$E4),"S",IF(OR(OFFSET(X4,0,-2)=$D4,OFFSET(X4,0,-1)=$E4),"M","I")),Règles!$A$1:$A$4,0)),0) -> 5 | Y4: =RANDBETWEEN(0,4) -> 1 | Z4: =RANDBETWEEN(0,4) -> 4 | AA4: =IF(AND(OFFSET(AA4,0,-2)<>"",OFFSET(AA4,0,-1)<>""),INDEX(Règles!$C$1:$C$4,MATCH(IF(IF($D4>$E4,"Gd",IF($D4=$E4,"N","Pd"))=IF(OFFSET(AA4,0,-2)>OFFSET(AA4,0,-1),"Gd",IF(OFFSET(AA4,0,-2)=OFFSET(AA4,0,-1),"N","Pd")),"R","I"),Règles!$A$1:$A$4,0))+INDEX(Règles!$C$1:$C$4,MATCH(IF(AND(OFFSET(AA4,0,-2)=$D4,OFFSET(AA4,0,-1)=$E4),"S",IF(OR(OFFSET(AA4,0,-2)=$D4,OFFSET(AA4,0,-1)=$E4),"M","I")),Règles!$A$1:$A$4,0)),0) -> 6 | AB4: =RANDBETWEEN(0,4) -> 0 | AC4: =RANDBETWEEN(0,4) -> 4 | AD4: =IF(AND(OFFSET(AD4,0,-2)<>"",OFFSET(AD4,0,-1)<>""),INDEX(Règles!$C$1:$C$4,MATCH(IF(IF($D4>$E4,"Gd",IF($D4=$E4,"N","Pd"))=IF(OFFSET(AD4,0,-2)>OFFSET(AD4,0,-1),"Gd",IF(OFFSET(AD4,0,-2)=OFFSET(AD4,0,-1),"N","Pd")),"R","I"),Règles!$A$1:$A$4,0))+INDEX(Règles!$C$1:$C$4,MATCH(IF(AND(OFFSET(AD4,0,-2)=$D4,OFFSET(AD4,0,-1)=$E4),"S",IF(OR(OFFSET(AD4,0,-2)=$D4,OFFSET(AD4,0,-1)=$E4),"M","I")),Règles!$A$1:$A$4,0)),0) -> 5 | AE4: =RANDBETWEEN(0,4) -> 0 | AF4: =RANDBETWEEN(0,4) -> 3 | AG4: =IF(AND(OFFSET(AG4,0,-2)<>"",OFFSET(AG4,0,-1)<>""),INDEX(Règles!$C$1:$C$4,MATCH(IF(IF($D4>$E4,"Gd",IF($D4=$E4,"N","Pd"))=IF(OFFSET(AG4,0,-2)>OFFSET(AG4,0,-1),"Gd",IF(OFFSET(AG4,0,-2)=OFFSET(AG4,0,-1),"N","Pd")),"R","I"),Règles!$A$1:$A$4,0))+INDEX(Règles!$C$1:$C$4,MATCH(IF(AND(OFFSET(AG4,0,-2)=$D4,OFFSET(AG4,0,-1)=$E4),"S",IF(OR(OFFSET(AG4,0,-2)=$D4,OFFSET(AG4,0,-1)=$E4),"M","I")),Règles!$A$1:$A$4,0)),0) -> 6 | AH4: =RANDBETWEEN(0,4) -> 2 | AI4: =RANDBETWEEN(0,4) -> 0 | AJ4: =IF(AND(OFFSET(AJ4,0,-2)<>"",OFFSET(AJ4,0,-1)<>""),INDEX(Règles!$C$1:$C$4,MATCH(IF(IF($D4>$E4,"Gd",IF($D4=$E4,"N","Pd"))=IF(OFFSET(AJ4,0,-2)>OFFSET(AJ4,0,-1),"Gd",IF(OFFSET(AJ4,0,-2)=OFFSET(AJ4,0,-1),"N","Pd")),"R","I"),Règles!$A$1:$A$4,0))+INDEX(Règles!$C$1:$C$4,MATCH(IF(AND(OFFSET(AJ4,0,-2)=$D4,OFFSET(AJ4,0,-1)=$E4),"S",IF(OR(OFFSET(AJ4,0,-2)=$D4,OFFSET(AJ4,0,-1)=$E4),"M","I")),Règles!$A$1:$A$4,0)),0) -> 0 | AK4: =RANDBETWEEN(0,4) -> 1 | AL4: =RANDBETWEEN(0,4) -> 1 | AM4: =IF(AND(OFFSET(AM4,0,-2)<>"",OFFSET(AM4,0,-1)<>""),INDEX(Règles!$C$1:$C$4,MATCH(IF(IF($D4>$E4,"Gd",IF($D4=$E4,"N","Pd"))=IF(OFFSET(AM4,0,-2)>OFFSET(AM4,0,-1),"Gd",IF(OFFSET(AM4,0,-2)=OFFSET(AM4,0,-1),"N","Pd")),"R","I"),Règles!$A$1:$A$4,0))+INDEX(Règles!$C$1:$C$4,MATCH(IF(AND(OFFSET(AM4,0,-2)=$D4,OFFSET(AM4,0,-1)=$E4),"S",IF(OR(OFFSET(AM4,0,-2)=$D4,OFFSET(AM4,0,-1)=$E4),"M","I")),Règles!$A$1:$A$4,0)),0) -> 1 | AN4: =RANDBETWEEN(0,4) -> 0 | AO4: =RANDBETWEEN(0,4) -> 3 | AP4: =IF(AND(OFFSET(AP4,0,-2)<>"",OFFSET(AP4,0,-1)<>""),INDEX(Règles!$C$1:$C$4,MATCH(IF(IF($D4>$E4,"Gd",IF($D4=$E4,"N","Pd"))=IF(OFFSET(AP4,0,-2)>OFFSET(AP4,0,-1),"Gd",IF(OFFSET(AP4,0,-2)=OFFSET(AP4,0,-1),"N","Pd")),"R","I"),Règles!$A$1:$A$4,0))+INDEX(Règles!$C$1:$C$4,MATCH(IF(AND(OFFSET(AP4,0,-2)=$D4,OFFSET(AP4,0,-1)=$E4),"S",IF(OR(OFFSET(AP4,0,-2)=$D4,OFFSET(AP4,0,-1)=$E4),"M","I")),Règles!$A$1:$A$4,0)),0) -> 6 | AQ4: =RANDBETWEEN(0,4) -> 2 | AR4: =RANDBETWEEN(0,4) -> 0 | AS4: =IF(AND(OFFSET(AS4,0,-2)<>"",OFFSET(AS4,0,-1)<>""),INDEX(Règles!$C$1:$C$4,MATCH(IF(IF($D4>$E4,"Gd",IF($D4=$E4,"N","Pd"))=IF(OFFSET(AS4,0,-2)>OFFSET(AS4,0,-1),"Gd",IF(OFFSET(AS4,0,-2)=OFFSET(AS4,0,-1),"N","Pd")),"R","I"),Règles!$A$1:$A$4,0))+INDEX(Règles!$C$1:$C$4,MATCH(IF(AND(OFFSET(AS4,0,-2)=$D4,OFFSET(AS4,0,-1)=$E4),"S",IF(OR(OFFSET(AS4,0,-2)=$D4,OFFSET(AS4,0,-1)=$E4),"M","I")),Règles!$A$1:$A$4,0)),0) -> 0 | AT4: =RANDBETWEEN(0,4) -> 2 | AU4: =RANDBETWEEN(0,4) -> 0 | AV4: =IF(AND(OFFSET(AV4,0,-2)<>"",OFFSET(AV4,0,-1)<>""),INDEX(Règles!$C$1:$C$4,MATCH(IF(IF($D4>$E4,"Gd",IF($D4=$E4,"N","Pd"))=IF(OFFSET(AV4,0,-2)>OFFSET(AV4,0,-1),"Gd",IF(OFFSET(AV4,0,-2)=OFFSET(AV4,0,-1),"N","Pd")),"R","I"),Règles!$A$1:$A$4,0))+INDEX(Règles!$C$1:$C$4,MATCH(IF(AND(OFFSET(AV4,0,-2)=$D4,OFFSET(AV4,0,-1)=$E4),"S",IF(OR(OFFSET(AV4,0,-2)=$D4,OFFSET(AV4,0,-1)=$E4),"M","I")),Règles!$A$1:$A$4,0)),0) -> 0 | AW4: =RANDBETWEEN(0,4) -> 4 | AX4: =RANDBETWEEN(0,4) -> 0 | AY4: =IF(AND(OFFSET(AY4,0,-2)<>"",OFFSET(AY4,0,-1)<>""),INDEX(Règles!$C$1:$C$4,MATCH(IF(IF($D4>$E4,"Gd",IF($D4=$E4,"N","Pd"))=IF(OFFSET(AY4,0,-2)>OFFSET(AY4,0,-1),"Gd",IF(OFFSET(AY4,0,-2)=OFFSET(AY4,0,-1),"N","Pd")),"R","I"),Règles!$A$1:$A$4,0))+INDEX(Règles!$C$1:$C$4,MATCH(IF(AND(OFFSET(AY4,0,-2)=$D4,OFFSET(AY4,0,-1)=$E4),"S",IF(OR(OFFSET(AY4,0,-2)=$D4,OFFSET(AY4,0,-1)=$E4),"M","I")),Règles!$A$1:$A$4,0)),0) -> 0 | AZ4: =RANDBETWEEN(0,4) -> 3 | BA4: =RANDBETWEEN(0,4) -> 4 | BB4: =IF(AND(OFFSET(BB4,0,-2)<>"",OFFSET(BB4,0,-1)<>""),INDEX(Règles!$C$1:$C$4,MATCH(IF(IF($D4>$E4,"Gd",IF($D4=$E4,"N","Pd"))=IF(OFFSET(BB4,0,-2)>OFFSET(BB4,0,-1),"Gd",IF(OFFSET(BB4,0,-2)=OFFSET(BB4,0,-1),"N","Pd")),"R","I"),Règles!$A$1:$A$4,0))+INDEX(Règles!$C$1:$C$4,MATCH(IF(AND(OFFSET(BB4,0,-2)=$D4,OFFSET(BB4,0,-1)=$E4),"S",IF(OR(OFFSET(BB4,0,-2)=$D4,OFFSET(BB4,0,-1)=$E4),"M","I")),Règles!$A$1:$A$4,0)),0) -> 5 | BC4: =RANDBETWEEN(0,4) -> 4 | BD4: =RANDBETWEEN(0,4) -> 1 | BE4: =IF(AND(OFFSET(BE4,0,-2)<>"",OFFSET(BE4,0,-1)<>""),INDEX(Règles!$C$1:$C$4,MATCH(IF(IF($D4>$E4,"Gd",IF($D4=$E4,"N","Pd"))=IF(OFFSET(BE4,0,-2)>OFFSET(BE4,0,-1),"Gd",IF(OFFSET(BE4,0,-2)=OFFSET(BE4,0,-1),"N","Pd")),"R","I"),Règles!$A$1:$A$4,0))+INDEX(Règles!$C$1:$C$4,MATCH(IF(AND(OFFSET(BE4,0,-2)=$D4,OFFSET(BE4,0,-1)=$E4),"S",IF(OR(OFFSET(BE4,0,-2)=$D4,OFFSET(BE4,0,-1)=$E4),"M","I")),Règles!$A$1:$A$4,0)),0) -> 0 | BF4: =RANDBETWEEN(0,4) -> 1 | BG4: =RANDBETWEEN(0,4) -> 0 | BH4: =IF(AND(OFFSET(BH4,0,-2)<>"",OFFSET(BH4,0,-1)<>""),INDEX(Règles!$C$1:$C$4,MATCH(IF(IF($D4>$E4,"Gd",IF($D4=$E4,"N","Pd"))=IF(OFFSET(BH4,0,-2)>OFFSET(BH4,0,-1),"Gd",IF(OFFSET(BH4,0,-2)=OFFSET(BH4,0,-1),"N","Pd")),"R","I"),Règles!$A$1:$A$4,0))+INDEX(Règles!$C$1:$C$4,MATCH(IF(AND(OFFSET(BH4,0,-2)=$D4,OFFSET(BH4,0,-1)=$E4),"S",IF(OR(OFFSET(BH4,0,-2)=$D4,OFFSET(BH4,0,-1)=$E4),"M","I")),Règles!$A$1:$A$4,0)),0) -> 1 | BI4: =RANDBETWEEN(0,4) -> 2 | BJ4: =RANDBETWEEN(0,4) -> 3 | BK4: =IF(AND(OFFSET(BK4,0,-2)<>"",OFFSET(BK4,0,-1)<>""),INDEX(Règles!$C$1:$C$4,MATCH(IF(IF($D4>$E4,"Gd",IF($D4=$E4,"N","Pd"))=IF(OFFSET(BK4,0,-2)>OFFSET(BK4,0,-1),"Gd",IF(OFFSET(BK4,0,-2)=OFFSET(BK4,0,-1),"N","Pd")),"R","I"),Règles!$A$1:$A$4,0))+INDEX(Règles!$C$1:$C$4,MATCH(IF(AND(OFFSET(BK4,0,-2)=$D4,OFFSET(BK4,0,-1)=$E4),"S",IF(OR(OFFSET(BK4,0,-2)=$D4,OFFSET(BK4,0,-1)=$E4),"M","I")),Règles!$A$1:$A$4,0)),0) -> 6 | BL4: =RANDBETWEEN(0,4) -> 2 | BM4: =RANDBETWEEN(0,4) -> 1 | BN4: =IF(AND(OFFSET(BN4,0,-2)<>"",OFFSET(BN4,0,-1)<>""),INDEX(Règles!$C$1:$C$4,MATCH(IF(IF($D4>$E4,"Gd",IF($D4=$E4,"N","Pd"))=IF(OFFSET(BN4,0,-2)>OFFSET(BN4,0,-1),"Gd",IF(OFFSET(BN4,0,-2)=OFFSET(BN4,0,-1),"N","Pd")),"R","I"),Règles!$A$1:$A$4,0))+INDEX(Règles!$C$1:$C$4,MATCH(IF(AND(OFFSET(BN4,0,-2)=$D4,OFFSET(BN4,0,-1)=$E4),"S",IF(OR(OFFSET(BN4,0,-2)=$D4,OFFSET(BN4,0,-1)=$E4),"M","I")),Règles!$A$1:$A$4,0)),0) -> 0 | BO4: =RANDBETWEEN(0,4) -> 3 | BP4: =RANDBETWEEN(0,4) -> 1 | BQ4: =IF(AND(OFFSET(BQ4,0,-2)<>"",OFFSET(BQ4,0,-1)<>""),INDEX(Règles!$C$1:$C$4,MATCH(IF(IF($D4>$E4,"Gd",IF($D4=$E4,"N","Pd"))=IF(OFFSET(BQ4,0,-2)>OFFSET(BQ4,0,-1),"Gd",IF(OFFSET(BQ4,0,-2)=OFFSET(BQ4,0,-1),"N","Pd")),"R","I"),Règles!$A$1:$A$4,0))+INDEX(Règles!$C$1:$C$4,MATCH(IF(AND(OFFSET(BQ4,0,-2)=$D4,OFFSET(BQ4,0,-1)=$E4),"S",IF(OR(OFFSET(BQ4,0,-2)=$D4,OFFSET(BQ4,0,-1)=$E4),"M","I")),Règles!$A$1:$A$4,0)),0) -> 0 | BR4: =RANDBETWEEN(0,4) -> 0 | BS4: =RANDBETWEEN(0,4) -> 4 | BT4: =IF(AND(OFFSET(BT4,0,-2)<>"",OFFSET(BT4,0,-1)<>""),INDEX(Règles!$C$1:$C$4,MATCH(IF(IF($D4>$E4,"Gd",IF($D4=$E4,"N","Pd"))=IF(OFFSET(BT4,0,-2)>OFFSET(BT4,0,-1),"Gd",IF(OFFSET(BT4,0,-2)=OFFSET(BT4,0,-1),"N","Pd")),"R","I"),Règles!$A$1:$A$4,0))+INDEX(Règles!$C$1:$C$4,MATCH(IF(AND(OFFSET(BT4,0,-2)=$D4,OFFSET(BT4,0,-1)=$E4),"S",IF(OR(OFFSET(BT4,0,-2)=$D4,OFFSET(BT4,0,-1)=$E4),"M","I")),Règles!$A$1:$A$4,0)),0) -> 5 | BU4: =RANDBETWEEN(0,4) -> 3 | BV4: =RANDBETWEEN(0,4) -> 4 | BW4: =IF(AND(OFFSET(BW4,0,-2)<>"",OFFSET(BW4,0,-1)<>""),INDEX(Règles!$C$1:$C$4,MATCH(IF(IF($D4>$E4,"Gd",IF($D4=$E4,"N","Pd"))=IF(OFFSET(BW4,0,-2)>OFFSET(BW4,0,-1),"Gd",IF(OFFSET(BW4,0,-2)=OFFSET(BW4,0,-1),"N","Pd")),"R","I"),Règles!$A$1:$A$4,0))+INDEX(Règles!$C$1:$C$4,MATCH(IF(AND(OFFSET(BW4,0,-2)=$D4,OFFSET(BW4,0,-1)=$E4),"S",IF(OR(OFFSET(BW4,0,-2)=$D4,OFFSET(BW4,0,-1)=$E4),"M","I")),Règles!$A$1:$A$4,0)),0) -> 5 | BX4: =RANDBETWEEN(0,4) -> 0 | BY4: =RANDBETWEEN(0,4) -> 1 | BZ4: =IF(AND(OFFSET(BZ4,0,-2)<>"",OFFSET(BZ4,0,-1)<>""),INDEX(Règles!$C$1:$C$4,MATCH(IF(IF($D4>$E4,"Gd",IF($D4=$E4,"N","Pd"))=IF(OFFSET(BZ4,0,-2)>OFFSET(BZ4,0,-1),"Gd",IF(OFFSET(BZ4,0,-2)=OFFSET(BZ4,0,-1),"N","Pd")),"R","I"),Règles!$A$1:$A$4,0))+INDEX(Règles!$C$1:$C$4,MATCH(IF(AND(OFFSET(BZ4,0,-2)=$D4,OFFSET(BZ4,0,-1)=$E4),"S",IF(OR(OFFSET(BZ4,0,-2)=$D4,OFFSET(BZ4,0,-1)=$E4),"M","I")),Règles!$A$1:$A$4,0)),0) -> 5
A5: Match 3 | B5: Bastia | C5: Reims | D5: 1 | E5: 2 | G5: =RANDBETWEEN(0,4) -> 4 | H5: =RANDBETWEEN(0,4) -> 0 | I5: =IF(AND(OFFSET(I5,0,-2)<>"",OFFSET(I5,0,-1)<>""),INDEX(Règles!$C$1:$C$4,MATCH(IF(IF($D5>$E5,"Gd",IF($D5=$E5,"N","Pd"))=IF(OFFSET(I5,0,-2)>OFFSET(I5,0,-1),"Gd",IF(OFFSET(I5,0,-2)=OFFSET(I5,0,-1),"N","Pd")),"R","I"),Règles!$A$1:$A$4,0))+INDEX(Règles!$C$1:$C$4,MATCH(IF(AND(OFFSET(I5,0,-2)=$D5,OFFSET(I5,0,-1)=$E5),"S",IF(OR(OFFSET(I5,0,-2)=$D5,OFFSET(I5,0,-1)=$E5),"M","I")),Règles!$A$1:$A$4,0)),0) -> 0 | J5: =RANDBETWEEN(0,4) -> 1 | K5: =RANDBETWEEN(0,4) -> 2 | L5: =IF(AND(OFFSET(L5,0,-2)<>"",OFFSET(L5,0,-1)<>""),INDEX(Règles!$C$1:$C$4,MATCH(IF(IF($D5>$E5,"Gd",IF($D5=$E5,"N","Pd"))=IF(OFFSET(L5,0,-2)>OFFSET(L5,0,-1),"Gd",IF(OFFSET(L5,0,-2)=OFFSET(L5,0,-1),"N","Pd")),"R","I"),Règles!$A$1:$A$4,0))+INDEX(Règles!$C$1:$C$4,MATCH(IF(AND(OFFSET(L5,0,-2)=$D5,OFFSET(L5,0,-1)=$E5),"S",IF(OR(OFFSET(L5,0,-2)=$D5,OFFSET(L5,0,-1)=$E5),"M","I")),Règles!$A$1:$A$4,0)),0) -> 10 | M5: =RANDBETWEEN(0,4) -> 3 | N5: =RANDBETWEEN(0,4) -> 1 | O5: =IF(AND(OFFSET(O5,0,-2)<>"",OFFSET(O5,0,-1)<>""),INDEX(Règles!$C$1:$C$4,MATCH(IF(IF($D5>$E5,"Gd",IF($D5=$E5,"N","Pd"))=IF(OFFSET(O5,0,-2)>OFFSET(O5,0,-1),"Gd",IF(OFFSET(O5,0,-2)=OFFSET(O5,0,-1),"N","Pd")),"R","I"),Règles!$A$1:$A$4,0))+INDEX(Règles!$C$1:$C$4,MATCH(IF(AND(OFFSET(O5,0,-2)=$D5,OFFSET(O5,0,-1)=$E5),"S",IF(OR(OFFSET(O5,0,-2)=$D5,OFFSET(O5,0,-1)=$E5),"M","I")),Règles!$A$1:$A$4,0)),0) -> 0 | P5: =RANDBETWEEN(0,4) -> 3 | Q5: =RANDBETWEEN(0,4) -> 1 | R5: =IF(AND(OFFSET(R5,0,-2)<>"",OFFSET(R5,0,-1)<>""),INDEX(Règles!$C$1:$C$4,MATCH(IF(IF($D5>$E5,"Gd",IF($D5=$E5,"N","Pd"))=IF(OFFSET(R5,0,-2)>OFFSET(R5,0,-1),"Gd",IF(OFFSET(R5,0,-2)=OFFSET(R5,0,-1),"N","Pd")),"R","I"),Règles!$A$1:$A$4,0))+INDEX(Règles!$C$1:$C$4,MATCH(IF(AND(OFFSET(R5,0,-2)=$D5,OFFSET(R5,0,-1)=$E5),"S",IF(OR(OFFSET(R5,0,-2)=$D5,OFFSET(R5,0,-1)=$E5),"M","I")),Règles!$A$1:$A$4,0)),0) -> 0 | S5: =RANDBETWEEN(0,4) -> 1 | T5: =RANDBETWEEN(0,4) -> 4 | U5: =IF(AND(OFFSET(U5,0,-2)<>"",OFFSET(U5,0,-1)<>""),INDEX(Règles!$C$1:$C$4,MATCH(IF(IF($D5>$E5,"Gd",IF($D5=$E5,"N","Pd"))=IF(OFFSET(U5,0,-2)>OFFSET(U5,0,-1),"Gd",IF(OFFSET(U5,0,-2)=OFFSET(U5,0,-1),"N","Pd")),"R","I"),Règles!$A$1:$A$4,0))+INDEX(Règles!$C$1:$C$4,MATCH(IF(AND(OFFSET(U5,0,-2)=$D5,OFFSET(U5,0,-1)=$E5),"S",IF(OR(OFFSET(U5,0,-2)=$D5,OFFSET(U5,0,-1)=$E5),"M","I")),Règles!$A$1:$A$4,0)),0) -> 6 | V5: =RANDBETWEEN(0,4) -> 1 | W5: =RANDBETWEEN(0,4) -> 1 | X5: =IF(AND(OFFSET(X5,0,-2)<>"",OFFSET(X5,0,-1)<>""),INDEX(Règles!$C$1:$C$4,MATCH(IF(IF($D5>$E5,"Gd",IF($D5=$E5,"N","Pd"))=IF(OFFSET(X5,0,-2)>OFFSET(X5,0,-1),"Gd",IF(OFFSET(X5,0,-2)=OFFSET(X5,0,-1),"N","Pd")),"R","I"),Règles!$A$1:$A$4,0))+INDEX(Règles!$C$1:$C$4,MATCH(IF(AND(OFFSET(X5,0,-2)=$D5,OFFSET(X5,0,-1)=$E5),"S",IF(OR(OFFSET(X5,0,-2)=$D5,OFFSET(X5,0,-1)=$E5),"M","I")),Règles!$A$1:$A$4,0)),0) -> 1 | Y5: =RANDBETWEEN(0,4) -> 2 | Z5: =RANDBETWEEN(0,4) -> 2 | AA5: =IF(AND(OFFSET(AA5,0,-2)<>"",OFFSET(AA5,0,-1)<>""),INDEX(Règles!$C$1:$C$4,MATCH(IF(IF($D5>$E5,"Gd",IF($D5=$E5,"N","Pd"))=IF(OFFSET(AA5,0,-2)>OFFSET(AA5,0,-1),"Gd",IF(OFFSET(AA5,0,-2)=OFFSET(AA5,0,-1),"N","Pd")),"R","I"),Règles!$A$1:$A$4,0))+INDEX(Règles!$C$1:$C$4,MATCH(IF(AND(OFFSET(AA5,0,-2)=$D5,OFFSET(AA5,0,-1)=$E5),"S",IF(OR(OFFSET(AA5,0,-2)=$D5,OFFSET(AA5,0,-1)=$E5),"M","I")),Règles!$A$1:$A$4,0)),0) -> 1 | AB5: =RANDBETWEEN(0,4) -> 1 | AC5: =RANDBETWEEN(0,4) -> 0 | AD5: =IF(AND(OFFSET(AD5,0,-2)<>"",OFFSET(AD5,0,-1)<>""),INDEX(Règles!$C$1:$C$4,MATCH(IF(IF($D5>$E5,"Gd",IF($D5=$E5,"N","Pd"))=IF(OFFSET(AD5,0,-2)>OFFSET(AD5,0,-1),"Gd",IF(OFFSET(AD5,0,-2)=OFFSET(AD5,0,-1),"N","Pd")),"R","I"),Règles!$A$1:$A$4,0))+INDEX(Règles!$C$1:$C$4,MATCH(IF(AND(OFFSET(AD5,0,-2)=$D5,OFFSET(AD5,0,-1)=$E5),"S",IF(OR(OFFSET(AD5,0,-2)=$D5,OFFSET(AD5,0,-1)=$E5),"M","I")),Règles!$A$1:$A$4,0)),0) -> 1 | AE5: =RANDBETWEEN(0,4) -> 3 | AF5: =RANDBETWEEN(0,4) -> 4 | AG5: =IF(AND(OFFSET(AG5,0,-2)<>"",OFFSET(AG5,0,-1)<>""),INDEX(Règles!$C$1:$C$4,MATCH(IF(IF($D5>$E5,"Gd",IF($D5=$E5,"N","Pd"))=IF(OFFSET(AG5,0,-2)>OFFSET(AG5,0,-1),"Gd",IF(OFFSET(AG5,0,-2)=OFFSET(AG5,0,-1),"N","Pd")),"R","I"),Règles!$A$1:$A$4,0))+INDEX(Règles!$C$1:$C$4,MATCH(IF(AND(OFFSET(AG5,0,-2)=$D5,OFFSET(AG5,0,-1)=$E5),"S",IF(OR(OFFSET(AG5,0,-2)=$D5,OFFSET(AG5,0,-1)=$E5),"M","I")),Règles!$A$1:$A$4,0)),0) -> 5 | AH5: =RANDBETWEEN(0,4) -> 1 | AI5: =RANDBETWEEN(0,4) -> 2 | AJ5: =IF(AND(OFFSET(AJ5,0,-2)<>"",OFFSET(AJ5,0,-1)<>""),INDEX(Règles!$C$1:$C$4,MATCH(IF(IF($D5>$E5,"Gd",IF($D5=$E5,"N","Pd"))=IF(OFFSET(AJ5,0,-2)>OFFSET(AJ5,0,-1),"Gd",IF(OFFSET(AJ5,0,-2)=OFFSET(AJ5,0,-1),"N","Pd")),"R","I"),Règles!$A$1:$A$4,0))+INDEX(Règles!$C$1:$C$4,MATCH(IF(AND(OFFSET(AJ5,0,-2)=$D5,OFFSET(AJ5,0,-1)=$E5),"S",IF(OR(OFFSET(AJ5,0,-2)=$D5,OFFSET(AJ5,0,-1)=$E5),"M","I")),Règles!$A$1:$A$4,0)),0) -> 10 | AK5: =RANDBETWEEN(0,4) -> 4 | AL5: =RANDBETWEEN(0,4) -> 0 | AM5: =IF(AND(OFFSET(AM5,0,-2)<>"",OFFSET(AM5,0,-1)<>""),INDEX(Règles!$C$1:$C$4,MATCH(IF(IF($D5>$E5,"Gd",IF($D5=$E5,"N","Pd"))=IF(OFFSET(AM5,0,-2)>OFFSET(AM5,0,-1),"Gd",IF(OFFSET(AM5,0,-2)=OFFSET(AM5,0,-1),"N","Pd")),"R","I"),Règles!$A$1:$A$4,0))+INDEX(Règles!$C$1:$C$4,MATCH(IF(AND(OFFSET(AM5,0,-2)=$D5,OFFSET(AM5,0,-1)=$E5),"S",IF(OR(OFFSET(AM5,0,-2)=$D5,OFFSET(AM5,0,-1)=$E5),"M","I")),Règles!$A$1:$A$4,0)),0) -> 0 | AN5: =RANDBETWEEN(0,4) -> 2 | AO5: =RANDBETWEEN(0,4) -> 4 | AP5: =IF(AND(OFFSET(AP5,0,-2)<>"",OFFSET(AP5,0,-1)<>""),INDEX(Règles!$C$1:$C$4,MATCH(IF(IF($D5>$E5,"Gd",IF($D5=$E5,"N","Pd"))=IF(OFFSET(AP5,0,-2)>OFFSET(AP5,0,-1),"Gd",IF(OFFSET(AP5,0,-2)=OFFSET(AP5,0,-1),"N","Pd")),"R","I"),Règles!$A$1:$A$4,0))+INDEX(Règles!$C$1:$C$4,MATCH(IF(AND(OFFSET(AP5,0,-2)=$D5,OFFSET(AP5,0,-1)=$E5),"S",IF(OR(OFFSET(AP5,0,-2)=$D5,OFFSET(AP5,0,-1)=$E5),"M","I")),Règles!$A$1:$A$4,0)),0) -> 5 | AQ5: =RANDBETWEEN(0,4) -> 4 | AR5: =RANDBETWEEN(0,4) -> 4 | AS5: =IF(AND(OFFSET(AS5,0,-2)<>"",OFFSET(AS5,0,-1)<>""),INDEX(Règles!$C$1:$C$4,MATCH(IF(IF($D5>$E5,"Gd",IF($D5=$E5,"N","Pd"))=IF(OFFSET(AS5,0,-2)>OFFSET(AS5,0,-1),"Gd",IF(OFFSET(AS5,0,-2)=OFFSET(AS5,0,-1),"N","Pd")),"R","I"),Règles!$A$1:$A$4,0))+INDEX(Règles!$C$1:$C$4,MATCH(IF(AND(OFFSET(AS5,0,-2)=$D5,OFFSET(AS5,0,-1)=$E5),"S",IF(OR(OFFSET(AS5,0,-2)=$D5,OFFSET(AS5,0,-1)=$E5),"M","I")),Règles!$A$1:$A$4,0)),0) -> 0 | AT5: =RANDBETWEEN(0,4) -> 1 | AU5: =RANDBETWEEN(0,4) -> 0 | AV5: =IF(AND(OFFSET(AV5,0,-2)<>"",OFFSET(AV5,0,-1)<>""),INDEX(Règles!$C$1:$C$4,MATCH(IF(IF($D5>$E5,"Gd",IF($D5=$E5,"N","Pd"))=IF(OFFSET(AV5,0,-2)>OFFSET(AV5,0,-1),"Gd",IF(OFFSET(AV5,0,-2)=OFFSET(AV5,0,-1),"N","Pd")),"R","I"),Règles!$A$1:$A$4,0))+INDEX(Règles!$C$1:$C$4,MATCH(IF(AND(OFFSET(AV5,0,-2)=$D5,OFFSET(AV5,0,-1)=$E5),"S",IF(OR(OFFSET(AV5,0,-2)=$D5,OFFSET(AV5,0,-1)=$E5),"M","I")),Règles!$A$1:$A$4,0)),0) -> 1 | AW5: =RANDBETWEEN(0,4) -> 4 | AX5: =RANDBETWEEN(0,4) -> 1 | AY5: =IF(AND(OFFSET(AY5,0,-2)<>"",OFFSET(AY5,0,-1)<>""),INDEX(Règles!$C$1:$C$4,MATCH(IF(IF($D5>$E5,"Gd",IF($D5=$E5,"N","Pd"))=IF(OFFSET(AY5,0,-2)>OFFSET(AY5,0,-1),"Gd",IF(OFFSET(AY5,0,-2)=OFFSET(AY5,0,-1),"N","Pd")),"R","I"),Règles!$A$1:$A$4,0))+INDEX(Règles!$C$1:$C$4,MATCH(IF(AND(OFFSET(AY5,0,-2)=$D5,OFFSET(AY5,0,-1)=$E5),"S",IF(OR(OFFSET(AY5,0,-2)=$D5,OFFSET(AY5,0,-1)=$E5),"M","I")),Règles!$A$1:$A$4,0)),0) -> 0 | AZ5: =RANDBETWEEN(0,4) -> 2 | BA5: =RANDBETWEEN(0,4) -> 3 | BB5: =IF(AND(OFFSET(BB5,0,-2)<>"",OFFSET(BB5,0,-1)<>""),INDEX(Règles!$C$1:$C$4,MATCH(IF(IF($D5>$E5,"Gd",IF($D5=$E5,"N","Pd"))=IF(OFFSET(BB5,0,-2)>OFFSET(BB5,0,-1),"Gd",IF(OFFSET(BB5,0,-2)=OFFSET(BB5,0,-1),"N","Pd")),"R","I"),Règles!$A$1:$A$4,0))+INDEX(Règles!$C$1:$C$4,MATCH(IF(AND(OFFSET(BB5,0,-2)=$D5,OFFSET(BB5,0,-1)=$E5),"S",IF(OR(OFFSET(BB5,0,-2)=$D5,OFFSET(BB5,0,-1)=$E5),"M","I")),Règles!$A$1:$A$4,0)),0) -> 5 | BC5: =RANDBETWEEN(0,4) -> 4 | BD5: =RANDBETWEEN(0,4) -> 1 | BE5: =IF(AND(OFFSET(BE5,0,-2)<>"",OFFSET(BE5,0,-1)<>""),INDEX(Règles!$C$1:$C$4,MATCH(IF(IF($D5>$E5,"Gd",IF($D5=$E5,"N","Pd"))=IF(OFFSET(BE5,0,-2)>OFFSET(BE5,0,-1),"Gd",IF(OFFSET(BE5,0,-2)=OFFSET(BE5,0,-1),"N","Pd")),"R","I"),Règles!$A$1:$A$4,0))+INDEX(Règles!$C$1:$C$4,MATCH(IF(AND(OFFSET(BE5,0,-2)=$D5,OFFSET(BE5,0,-1)=$E5),"S",IF(OR(OFFSET(BE5,0,-2)=$D5,OFFSET(BE5,0,-1)=$E5),"M","I")),Règles!$A$1:$A$4,0)),0) -> 0 | BF5: =RANDBETWEEN(0,4) -> 1 | BG5: =RANDBETWEEN(0,4) -> 3 | BH5: =IF(AND(OFFSET(BH5,0,-2)<>"",OFFSET(BH5,0,-1)<>""),INDEX(Règles!$C$1:$C$4,MATCH(IF(IF($D5>$E5,"Gd",IF($D5=$E5,"N","Pd"))=IF(OFFSET(BH5,0,-2)>OFFSET(BH5,0,-1),"Gd",IF(OFFSET(BH5,0,-2)=OFFSET(BH5,0,-1),"N","Pd")),"R","I"),Règles!$A$1:$A$4,0))+INDEX(Règles!$C$1:$C$4,MATCH(IF(AND(OFFSET(BH5,0,-2)=$D5,OFFSET(BH5,0,-1)=$E5),"S",IF(OR(OFFSET(BH5,0,-2)=$D5,OFFSET(BH5,0,-1)=$E5),"M","I")),Règles!$A$1:$A$4,0)),0) -> 6 | BI5: =RANDBETWEEN(0,4) -> 1 | BJ5: =RANDBETWEEN(0,4) -> 3 | BK5: =IF(AND(OFFSET(BK5,0,-2)<>"",OFFSET(BK5,0,-1)<>""),INDEX(Règles!$C$1:$C$4,MATCH(IF(IF($D5>$E5,"Gd",IF($D5=$E5,"N","Pd"))=IF(OFFSET(BK5,0,-2)>OFFSET(BK5,0,-1),"Gd",IF(OFFSET(BK5,0,-2)=OFFSET(BK5,0,-1),"N","Pd")),"R","I"),Règles!$A$1:$A$4,0))+INDEX(Règles!$C$1:$C$4,MATCH(IF(AND(OFFSET(BK5,0,-2)=$D5,OFFSET(BK5,0,-1)=$E5),"S",IF(OR(OFFSET(BK5,0,-2)=$D5,OFFSET(BK5,0,-1)=$E5),"M","I")),Règles!$A$1:$A$4,0)),0) -> 6 | BL5: =RANDBETWEEN(0,4) -> 1 | BM5: =RANDBETWEEN(0,4) -> 0 | BN5: =IF(AND(OFFSET(BN5,0,-2)<>"",OFFSET(BN5,0,-1)<>""),INDEX(Règles!$C$1:$C$4,MATCH(IF(IF($D5>$E5,"Gd",IF($D5=$E5,"N","Pd"))=IF(OFFSET(BN5,0,-2)>OFFSET(BN5,0,-1),"Gd",IF(OFFSET(BN5,0,-2)=OFFSET(BN5,0,-1),"N","Pd")),"R","I"),Règles!$A$1:$A$4,0))+INDEX(Règles!$C$1:$C$4,MATCH(IF(AND(OFFSET(BN5,0,-2)=$D5,OFFSET(BN5,0,-1)=$E5),"S",IF(OR(OFFSET(BN5,0,-2)=$D5,OFFSET(BN5,0,-1)=$E5),"M","I")),Règles!$A$1:$A$4,0)),0) -> 1 | BO5: =RANDBETWEEN(0,4) -> 0 | BP5: =RANDBETWEEN(0,4) -> 3 | BQ5: =IF(AND(OFFSET(BQ5,0,-2)<>"",OFFSET(BQ5,0,-1)<>""),INDEX(Règles!$C$1:$C$4,MATCH(IF(IF($D5>$E5,"Gd",IF($D5=$E5,"N","Pd"))=IF(OFFSET(BQ5,0,-2)>OFFSET(BQ5,0,-1),"Gd",IF(OFFSET(BQ5,0,-2)=OFFSET(BQ5,0,-1),"N","Pd")),"R","I"),Règles!$A$1:$A$4,0))+INDEX(Règles!$C$1:$C$4,MATCH(IF(AND(OFFSET(BQ5,0,-2)=$D5,OFFSET(BQ5,0,-1)=$E5),"S",IF(OR(OFFSET(BQ5,0,-2)=$D5,OFFSET(BQ5,0,-1)=$E5),"M","I")),Règles!$A$1:$A$4,0)),0) -> 5 | BR5: =RANDBETWEEN(0,4) -> 1 | BS5: =RANDBETWEEN(0,4) -> 4 | BT5: =IF(AND(OFFSET(BT5,0,-2)<>"",OFFSET(BT5,0,-1)<>""),INDEX(Règles!$C$1:$C$4,MATCH(IF(IF($D5>$E5,"Gd",IF($D5=$E5,"N","Pd"))=IF(OFFSET(BT5,0,-2)>OFFSET(BT5,0,-1),"Gd",IF(OFFSET(BT5,0,-2)=OFFSET(BT5,0,-1),"N","Pd")),"R","I"),Règles!$A$1:$A$4,0))+INDEX(Règles!$C$1:$C$4,MATCH(IF(AND(OFFSET(BT5,0,-2)=$D5,OFFSET(BT5,0,-1)=$E5),"S",IF(OR(OFFSET(BT5,0,-2)=$D5,OFFSET(BT5,0,-1)=$E5),"M","I")),Règles!$A$1:$A$4,0)),0) -> 6 | BU5: =RANDBETWEEN(0,4) -> 0 | BV5: =RANDBETWEEN(0,4) -> 2 | BW5: =IF(AND(OFFSET(BW5,0,-2)<>"",OFFSET(BW5,0,-1)<>""),INDEX(Règles!$C$1:$C$4,MATCH(IF(IF($D5>$E5,"Gd",IF($D5=$E5,"N","Pd"))=IF(OFFSET(BW5,0,-2)>OFFSET(BW5,0,-1),"Gd",IF(OFFSET(BW5,0,-2)=OFFSET(BW5,0,-1),"N","Pd")),"R","I"),Règles!$A$1:$A$4,0))+INDEX(Règles!$C$1:$C$4,MATCH(IF(AND(OFFSET(BW5,0,-2)=$D5,OFFSET(BW5,0,-1)=$E5),"S",IF(OR(OFFSET(BW5,0,-2)=$D5,OFFSET(BW5,0,-1)=$E5),"M","I")),Règles!$A$1:$A$4,0)),0) -> 6 | BX5: =RANDBETWEEN(0,4) -> 4 | BY5: =RANDBETWEEN(0,4) -> 1 | BZ5: =IF(AND(OFFSET(BZ5,0,-2)<>"",OFFSET(BZ5,0,-1)<>""),INDEX(Règles!$C$1:$C$4,MATCH(IF(IF($D5>$E5,"Gd",IF($D5=$E5,"N","Pd"))=IF(OFFSET(BZ5,0,-2)>OFFSET(BZ5,0,-1),"Gd",IF(OFFSET(BZ5,0,-2)=OFFSET(BZ5,0,-1),"N","Pd")),"R","I"),Règles!$A$1:$A$4,0))+INDEX(Règles!$C$1:$C$4,MATCH(IF(AND(OFFSET(BZ5,0,-2)=$D5,OFFSET(BZ5,0,-1)=$E5),"S",IF(OR(OFFSET(BZ5,0,-2)=$D5,OFFSET(BZ5,0,-1)=$E5),"M","I")),Règles!$A$1:$A$4,0)),0) -> 0
A6: Match 4 | B6: Guigamp | C6: Evian | D6: 1 | E6: 1 | G6: =RANDBETWEEN(0,4) -> 4 | H6: =RANDBETWEEN(0,4) -> 0 | I6: =IF(AND(OFFSET(I6,0,-2)<>"",OFFSET(I6,0,-1)<>""),INDEX(Règles!$C$1:$C$4,MATCH(IF(IF($D6>$E6,"Gd",IF($D6=$E6,"N","Pd"))=IF(OFFSET(I6,0,-2)>OFFSET(I6,0,-1),"Gd",IF(OFFSET(I6,0,-2)=OFFSET(I6,0,-1),"N","Pd")),"R","I"),Règles!$A$1:$A$4,0))+INDEX(Règles!$C$1:$C$4,MATCH(IF(AND(OFFSET(I6,0,-2)=$D6,OFFSET(I6,0,-1)=$E6),"S",IF(OR(OFFSET(I6,0,-2)=$D6,OFFSET(I6,0,-1)=$E6),"M","I")),Règles!$A$1:$A$4,0)),0) -> 0 | J6: =RANDBETWEEN(0,4) -> 0 | K6: =RANDBETWEEN(0,4) -> 3 | L6: =IF(AND(OFFSET(L6,0,-2)<>"",OFFSET(L6,0,-1)<>""),INDEX(Règles!$C$1:$C$4,MATCH(IF(IF($D6>$E6,"Gd",IF($D6=$E6,"N","Pd"))=IF(OFFSET(L6,0,-2)>OFFSET(L6,0,-1),"Gd",IF(OFFSET(L6,0,-2)=OFFSET(L6,0,-1),"N","Pd")),"R","I"),Règles!$A$1:$A$4,0))+INDEX(Règles!$C$1:$C$4,MATCH(IF(AND(OFFSET(L6,0,-2)=$D6,OFFSET(L6,0,-1)=$E6),"S",IF(OR(OFFSET(L6,0,-2)=$D6,OFFSET(L6,0,-1)=$E6),"M","I")),Règles!$A$1:$A$4,0)),0) -> 0 | M6: =RANDBETWEEN(0,4) -> 4 | N6: =RANDBETWEEN(0,4) -> 1 | O6: =IF(AND(OFFSET(O6,0,-2)<>"",OFFSET(O6,0,-1)<>""),INDEX(Règles!$C$1:$C$4,MATCH(IF(IF($D6>$E6,"Gd",IF($D6=$E6,"N","Pd"))=IF(OFFSET(O6,0,-2)>OFFSET(O6,0,-1),"Gd",IF(OFFSET(O6,0,-2)=OFFSET(O6,0,-1),"N","Pd")),"R","I"),Règles!$A$1:$A$4,0))+INDEX(Règles!$C$1:$C$4,MATCH(IF(AND(OFFSET(O6,0,-2)=$D6,OFFSET(O6,0,-1)=$E6),"S",IF(OR(OFFSET(O6,0,-2)=$D6,OFFSET(O6,0,-1)=$E6),"M","I")),Règles!$A$1:$A$4,0)),0) -> 1 | P6: =RANDBETWEEN(0,4) -> 4 | Q6: =RANDBETWEEN(0,4) -> 3 | R6: =IF(AND(OFFSET(R6,0,-2)<>"",OFFSET(R6,0,-1)<>""),INDEX(Règles!$C$1:$C$4,MATCH(IF(IF($D6>$E6,"Gd",IF($D6=$E6,"N","Pd"))=IF(OFFSET(R6,0,-2)>OFFSET(R6,0,-1),"Gd",IF(OFFSET(R6,0,-2)=OFFSET(R6,0,-1),"N","Pd")),"R","I"),Règles!$A$1:$A$4,0))+INDEX(Règles!$C$1:$C$4,MATCH(IF(AND(OFFSET(R6,0,-2)=$D6,OFFSET(R6,0,-1)=$E6),"S",IF(OR(OFFSET(R6,0,-2)=$D6,OFFSET(R6,0,-1)=$E6),"M","I")),Règles!$A$1:$A$4,0)),0) -> 0 | S6: =RANDBETWEEN(0,4) -> 3 | T6: =RANDBETWEEN(0,4) -> 4 | U6: =IF(AND(OFFSET(U6,0,-2)<>"",OFFSET(U6,0,-1)<>""),INDEX(Règles!$C$1:$C$4,MATCH(IF(IF($D6>$E6,"Gd",IF($D6=$E6,"N","Pd"))=IF(OFFSET(U6,0,-2)>OFFSET(U6,0,-1),"Gd",IF(OFFSET(U6,0,-2)=OFFSET(U6,0,-1),"N","Pd")),"R","I"),Règles!$A$1:$A$4,0))+INDEX(Règles!$C$1:$C$4,MATCH(IF(AND(OFFSET(U6,0,-2)=$D6,OFFSET(U6,0,-1)=$E6),"S",IF(OR(OFFSET(U6,0,-2)=$D6,OFFSET(U6,0,-1)=$E6),"M","I")),Règles!$A$1:$A$4,0)),0) -> 0 | V6: =RANDBETWEEN(0,4) -> 1 | W6: =RANDBETWEEN(0,4) -> 0 | X6: =IF(AND(OFFSET(X6,0,-2)<>"",OFFSET(X6,0,-1)<>""),INDEX(Règles!$C$1:$C$4,MATCH(IF(IF($D6>$E6,"Gd",IF($D6=$E6,"N","Pd"))=IF(OFFSET(X6,0,-2)>OFFSET(X6,0,-1),"Gd",IF(OFFSET(X6,0,-2)=OFFSET(X6,0,-1),"N","Pd")),"R","I"),Règles!$A$1:$A$4,0))+INDEX(Règles!$C$1:$C$4,MATCH(IF(AND(OFFSET(X6,0,-2)=$D6,OFFSET(X6,0,-1)=$E6),"S",IF(OR(OFFSET(X6,0,-2)=$D6,OFFSET(X6,0,-1)=$E6),"M","I")),Règles!$A$1:$A$4,0)),0) -> 1 | Y6: =RANDBETWEEN(0,4) -> 1 | Z6: =RANDBETWEEN(0,4) -> 1 | AA6: =IF(AND(OFFSET(AA6,0,-2)<>"",OFFSET(AA6,0,-1)<>""),INDEX(Règles!$C$1:$C$4,MATCH(IF(IF($D6>$E6,"Gd",IF($D6=$E6,"N","Pd"))=IF(OFFSET(AA6,0,-2)>OFFSET(AA6,0,-1),"Gd",IF(OFFSET(AA6,0,-2)=OFFSET(AA6,0,-1),"N","Pd")),"R","I"),Règles!$A$1:$A$4,0))+INDEX(Règles!$C$1:$C$4,MATCH(IF(AND(OFFSET(AA6,0,-2)=$D6,OFFSET(AA6,0,-1)=$E6),"S",IF(OR(OFFSET(AA6,0,-2)=$D6,OFFSET(AA6,0,-1)=$E6),"M","I")),Règles!$A$1:$A$4,0)),0) -> 10 | AB6: =RANDBETWEEN(0,4) -> 4 | AC6: =RANDBETWEEN(0,4) -> 0 | AD6: =IF(AND(OFFSET(AD6,0,-2)<>"",OFFSET(AD6,0,-1)<>""),INDEX(Règles!$C$1:$C$4,MATCH(IF(IF($D6>$E6,"Gd",IF($D6=$E6,"N","Pd"))=IF(OFFSET(AD6,0,-2)>OFFSET(AD6,0,-1),"Gd",IF(OFFSET(AD6,0,-2)=OFFSET(AD6,0,-1),"N","Pd")),"R","I"),Règles!$A$1:$A$4,0))+INDEX(Règles!$C$1:$C$4,MATCH(IF(AND(OFFSET(AD6,0,-2)=$D6,OFFSET(AD6,0,-1)=$E6),"S",IF(OR(OFFSET(AD6,0,-2)=$D6,OFFSET(AD6,0,-1)=$E6),"M","I")),Règles!$A$1:$A$4,0)),0) -> 0 | AE6: =RANDBETWEEN(0,4) -> 2 | AF6: =RANDBETWEEN(0,4) -> 1 | AG6: =IF(AND(OFFSET(AG6,0,-2)<>"",OFFSET(AG6,0,-1)<>""),INDEX(Règles!$C$1:$C$4,MATCH(IF(IF($D6>$E6,"Gd",IF($D6=$E6,"N","Pd"))=IF(OFFSET(AG6,0,-2)>OFFSET(AG6,0,-1),"Gd",IF(OFFSET(AG6,0,-2)=OFFSET(AG6,0,-1),"N","Pd")),"R","I"),Règles!$A$1:$A$4,0))+INDEX(Règles!$C$1:$C$4,MATCH(IF(AND(OFFSET(AG6,0,-2)=$D6,OFFSET(AG6,0,-1)=$E6),"S",IF(OR(OFFSET(AG6,0,-2)=$D6,OFFSET(AG6,0,-1)=$E6),"M","I")),Règles!$A$1:$A$4,0)),0) -> 1 | AH6: =RANDBETWEEN(0,4) -> 1 | AI6: =RANDBETWEEN(0,4) -> 4 | AJ6: =IF(AND(OFFSET(AJ6,0,-2)<>"",OFFSET(AJ6,0,-1)<>""),INDEX(Règles!$C$1:$C$4,MATCH(IF(IF($D6>$E6,"Gd",IF($D6=$E6,"N","Pd"))=IF(OFFSET(AJ6,0,-2)>OFFSET(AJ6,0,-1),"Gd",IF(OFFSET(AJ6,0,-2)=OFFSET(AJ6,0,-1),"N","Pd")),"R","I"),Règles!$A$1:$A$4,0))+INDEX(Règles!$C$1:$C$4,MATCH(IF(AND(OFFSET(AJ6,0,-2)=$D6,OFFSET(AJ6,0,-1)=$E6),"S",IF(OR(OFFSET(AJ6,0,-2)=$D6,OFFSET(AJ6,0,-1)=$E6),"M","I")),Règles!$A$1:$A$4,0)),0) -> 1 | AK6: =RANDBETWEEN(0,4) -> 2 | AL6: =RANDBETWEEN(0,4) -> 4 | AM6: =IF(AND(OFFSET(AM6,0,-2)<>"",OFFSET(AM6,0,-1)<>""),INDEX(Règles!$C$1:$C$4,MATCH(IF(IF($D6>$E6,"Gd",IF($D6=$E6,"N","Pd"))=IF(OFFSET(AM6,0,-2)>OFFSET(AM6,0,-1),"Gd",IF(OFFSET(AM6,0,-2)=OFFSET(AM6,0,-1),"N","Pd")),"R","I"),Règles!$A$1:$A$4,0))+INDEX(Règles!$C$1:$C$4,MATCH(IF(AND(OFFSET(AM6,0,-2)=$D6,OFFSET(AM6,0,-1)=$E6),"S",IF(OR(OFFSET(AM6,0,-2)=$D6,OFFSET(AM6,0,-1)=$E6),"M","I")),Règles!$A$1:$A$4,0)),0) -> 0 | AN6: =RANDBETWEEN(0,4) -> 2 | AO6: =RANDBETWEEN(0,4) -> 0 | AP6: =IF(AND(OFFSET(AP6,0,-2)<>"",OFFSET(AP6,0,-1)<>""),INDEX(Règles!$C$1:$C$4,MATCH(IF(IF($D6>$E6,"Gd",IF($D6=$E6,"N","Pd"))=IF(OFFSET(AP6,0,-2)>OFFSET(AP6,0,-1),"Gd",IF(OFFSET(AP6,0,-2)=OFFSET(AP6,0,-1),"N","Pd")),"R","I"),Règles!$A$1:$A$4,0))+INDEX(Règles!$C$1:$C$4,MATCH(IF(AND(OFFSET(AP6,0,-2)=$D6,OFFSET(AP6,0,-1)=$E6),"S",IF(OR(OFFSET(AP6,0,-2)=$D6,OFFSET(AP6,0,-1)=$E6),"M","I")),Règles!$A$1:$A$4,0)),0) -> 0 | AQ6: =RANDBETWEEN(0,4) -> 2 | AR6: =RANDBETWEEN(0,4) -> 3 | AS6: =IF(AND(OFFSET(AS6,0,-2)<>"",OFFSET(AS6,0,-1)<>""),INDEX(Règles!$C$1:$C$4,MATCH(IF(IF($D6>$E6,"Gd",IF($D6=$E6,"N","Pd"))=IF(OFFSET(AS6,0,-2)>OFFSET(AS6,0,-1),"Gd",IF(OFFSET(AS6,0,-2)=OFFSET(AS6,0,-1),"N","Pd")),"R","I"),Règles!$A$1:$A$4,0))+INDEX(Règles!$C$1:$C$4,MATCH(IF(AND(OFFSET(AS6,0,-2)=$D6,OFFSET(AS6,0,-1)=$E6),"S",IF(OR(OFFSET(AS6,0,-2)=$D6,OFFSET(AS6,0,-1)=$E6),"M","I")),Règles!$A$1:$A$4,0)),0) -> 0 | AT6: =RANDBETWEEN(0,4) -> 4 | AU6: =RANDBETWEEN(0,4) -> 4 | AV6: =IF(AND(OFFSET(AV6,0,-2)<>"",OFFSET(AV6,0,-1)<>""),INDEX(Règles!$C$1:$C$4,MATCH(IF(IF($D6>$E6,"Gd",IF($D6=$E6,"N","Pd"))=IF(OFFSET(AV6,0,-2)>OFFSET(AV6,0,-1),"Gd",IF(OFFSET(AV6,0,-2)=OFFSET(AV6,0,-1),"N","Pd")),"R","I"),Règles!$A$1:$A$4,0))+INDEX(Règles!$C$1:$C$4,MATCH(IF(AND(OFFSET(AV6,0,-2)=$D6,OFFSET(AV6,0,-1)=$E6),"S",IF(OR(OFFSET(AV6,0,-2)=$D6,OFFSET(AV6,0,-1)=$E6),"M","I")),Règles!$A$1:$A$4,0)),0) -> 5 | AW6: =RANDBETWEEN(0,4) -> 2 | AX6: =RANDBETWEEN(0,4) -> 3 | AY6: =IF(AND(OFFSET(AY6,0,-2)<>"",OFFSET(AY6,0,-1)<>""),INDEX(Règles!$C$1:$C$4,MATCH(IF(IF($D6>$E6,"Gd",IF($D6=$E6,"N","Pd"))=IF(OFFSET(AY6,0,-2)>OFFSET(AY6,0,-1),"Gd",IF(OFFSET(AY6,0,-2)=OFFSET(AY6,0,-1),"N","Pd")),"R","I"),Règles!$A$1:$A$4,0))+INDEX(Règles!$C$1:$C$4,MATCH(IF(AND(OFFSET(AY6,0,-2)=$D6,OFFSET(AY6,0,-1)=$E6),"S",IF(OR(OFFSET(AY6,0,-2)=$D6,OFFSET(AY6,0,-1)=$E6),"M","I")),Règles!$A$1:$A$4,0)),0) -> 0 | AZ6: =RANDBETWEEN(0,4) -> 1 | BA6: =RANDBETWEEN(0,4) -> 1 | BB6: =IF(AND(OFFSET(BB6,0,-2)<>"",OFFSET(BB6,0,-1)<>""),INDEX(Règles!$C$1:$C$4,MATCH(IF(IF($D6>$E6,"Gd",IF($D6=$E6,"N","Pd"))=IF(OFFSET(BB6,0,-2)>OFFSET(BB6,0,-1),"Gd",IF(OFFSET(BB6,0,-2)=OFFSET(BB6,0,-1),"N","Pd")),"R","I"),Règles!$A$1:$A$4,0))+INDEX(Règles!$C$1:$C$4,MATCH(IF(AND(OFFSET(BB6,0,-2)=$D6,OFFSET(BB6,0,-1)=$E6),"S",IF(OR(OFFSET(BB6,0,-2)=$D6,OFFSET(BB6,0,-1)=$E6),"M","I")),Règles!$A$1:$A$4,0)),0) -> 10 | BC6: =RANDBETWEEN(0,4) -> 1 | BD6: =RANDBETWEEN(0,4) -> 1 | BE6: =IF(AND(OFFSET(BE6,0,-2)<>"",OFFSET(BE6,0,-1)<>""),INDEX(Règles!$C$1:$C$4,MATCH(IF(IF($D6>$E6,"Gd",IF($D6=$E6,"N","Pd"))=IF(OFFSET(BE6,0,-2)>OFFSET(BE6,0,-1),"Gd",IF(OFFSET(BE6,0,-2)=OFFSET(BE6,0,-1),"N","Pd")),"R","I"),Règles!$A$1:$A$4,0))+INDEX(Règles!$C$1:$C$4,MATCH(IF(AND(OFFSET(BE6,0,-2)=$D6,OFFSET(BE6,0,-1)=$E6),"S",IF(OR(OFFSET(BE6,0,-2)=$D6,OFFSET(BE6,0,-1)=$E6),"M","I")),Règles!$A$1:$A$4,0)),0) -> 10 | BF6: =RANDBETWEEN(0,4) -> 1 | BG6: =RANDBETWEEN(0,4) -> 4 | BH6: =IF(AND(OFFSET(BH6,0,-2)<>"",OFFSET(BH6,0,-1)<>""),INDEX(Règles!$C$1:$C$4,MATCH(IF(IF($D6>$E6,"Gd",IF($D6=$E6,"N","Pd"))=IF(OFFSET(BH6,0,-2)>OFFSET(BH6,0,-1),"Gd",IF(OFFSET(BH6,0,-2)=OFFSET(BH6,0,-1),"N","Pd")),"R","I"),Règles!$A$1:$A$4,0))+INDEX(Règles!$C$1:$C$4,MATCH(IF(AND(OFFSET(BH6,0,-2)=$D6,OFFSET(BH6,0,-1)=$E6),"S",IF(OR(OFFSET(BH6,0,-2)=$D6,OFFSET(BH6,0,-1)=$E6),"M","I")),Règles!$A$1:$A$4,0)),0) -> 1 | BI6: =RANDBETWEEN(0,4) -> 2 | BJ6: =RANDBETWEEN(0,4) -> 1 | BK6: =IF(AND(OFFSET(BK6,0,-2)<>"",OFFSET(BK6,0,-1)<>""),INDEX(Règles!$C$1:$C$4,MATCH(IF(IF($D6>$E6,"Gd",IF($D6=$E6,"N","Pd"))=IF(OFFSET(BK6,0,-2)>OFFSET(BK6,0,-1),"Gd",IF(OFFSET(BK6,0,-2)=OFFSET(BK6,0,-1),"N","Pd")),"R","I"),Règles!$A$1:$A$4,0))+INDEX(Règles!$C$1:$C$4,MATCH(IF(AND(OFFSET(BK6,0,-2)=$D6,OFFSET(BK6,0,-1)=$E6),"S",IF(OR(OFFSET(BK6,0,-2)=$D6,OFFSET(BK6,0,-1)=$E6),"M","I")),Règles!$A$1:$A$4,0)),0) -> 1 | BL6: =RANDBETWEEN(0,4) -> 4 | BM6: =RANDBETWEEN(0,4) -> 2 | BN6: =IF(AND(OFFSET(BN6,0,-2)<>"",OFFSET(BN6,0,-1)<>""),INDEX(Règles!$C$1:$C$4,MATCH(IF(IF($D6>$E6,"Gd",IF($D6=$E6,"N","Pd"))=IF(OFFSET(BN6,0,-2)>OFFSET(BN6,0,-1),"Gd",IF(OFFSET(BN6,0,-2)=OFFSET(BN6,0,-1),"N","Pd")),"R","I"),Règles!$A$1:$A$4,0))+INDEX(Règles!$C$1:$C$4,MATCH(IF(AND(OFFSET(BN6,0,-2)=$D6,OFFSET(BN6,0,-1)=$E6),"S",IF(OR(OFFSET(BN6,0,-2)=$D6,OFFSET(BN6,0,-1)=$E6),"M","I")),Règles!$A$1:$A$4,0)),0) -> 0 | BO6: =RANDBETWEEN(0,4) -> 3 | BP6: =RANDBETWEEN(0,4) -> 3 | BQ6: =IF(AND(OFFSET(BQ6,0,-2)<>"",OFFSET(BQ6,0,-1)<>""),INDEX(Règles!$C$1:$C$4,MATCH(IF(IF($D6>$E6,"Gd",IF($D6=$E6,"N","Pd"))=IF(OFFSET(BQ6,0,-2)>OFFSET(BQ6,0,-1),"Gd",IF(OFFSET(BQ6,0,-2)=OFFSET(BQ6,0,-1),"N","Pd")),"R","I"),Règles!$A$1:$A$4,0))+INDEX(Règles!$C$1:$C$4,MATCH(IF(AND(OFFSET(BQ6,0,-2)=$D6,OFFSET(BQ6,0,-1)=$E6),"S",IF(OR(OFFSET(BQ6,0,-2)=$D6,OFFSET(BQ6,0,-1)=$E6),"M","I")),Règles!$A$1:$A$4,0)),0) -> 5 | BR6: =RANDBETWEEN(0,4) -> 0 | BS6: =RANDBETWEEN(0,4) -> 2 | BT6: =IF(AND(OFFSET(BT6,0,-2)<>"",OFFSET(BT6,0,-1)<>""),INDEX(Règles!$C$1:$C$4,MATCH(IF(IF($D6>$E6,"Gd",IF($D6=$E6,"N","Pd"))=IF(OFFSET(BT6,0,-2)>OFFSET(BT6,0,-1),"Gd",IF(OFFSET(BT6,0,-2)=OFFSET(BT6,0,-1),"N","Pd")),"R","I"),Règles!$A$1:$A$4,0))+INDEX(Règles!$C$1:$C$4,MATCH(IF(AND(OFFSET(BT6,0,-2)=$D6,OFFSET(BT6,0,-1)=$E6),"S",IF(OR(OFFSET(BT6,0,-2)=$D6,OFFSET(BT6,0,-1)=$E6),"M","I")),Règles!$A$1:$A$4,0)),0) -> 0 | BU6: =RANDBETWEEN(0,4) -> 3 | BV6: =RANDBETWEEN(0,4) -> 2 | BW6: =IF(AND(OFFSET(BW6,0,-2)<>"",OFFSET(BW6,0,-1)<>""),INDEX(Règles!$C$1:$C$4,MATCH(IF(IF($D6>$E6,"Gd",IF($D6=$E6,"N","Pd"))=IF(OFFSET(BW6,0,-2)>OFFSET(BW6,0,-1),"Gd",IF(OFFSET(BW6,0,-2)=OFFSET(BW6,0,-1),"N","Pd")),"R","I"),Règles!$A$1:$A$4,0))+INDEX(Règles!$C$1:$C$4,MATCH(IF(AND(OFFSET(BW6,0,-2)=$D6,OFFSET(BW6,0,-1)=$E6),"S",IF(OR(OFFSET(BW6,0,-2)=$D6,OFFSET(BW6,0,-1)=$E6),"M","I")),Règles!$A$1:$A$4,0)),0) -> 0 | BX6: =RANDBETWEEN(0,4) -> 0 | BY6: =RANDBETWEEN(0,4) -> 3 | BZ6: =IF(AND(OFFSET(BZ6,0,-2)<>"",OFFSET(BZ6,0,-1)<>""),INDEX(Règles!$C$1:$C$4,MATCH(IF(IF($D6>$E6,"Gd",IF($D6=$E6,"N","Pd"))=IF(OFFSET(BZ6,0,-2)>OFFSET(BZ6,0,-1),"Gd",IF(OFFSET(BZ6,0,-2)=OFFSET(BZ6,0,-1),"N","Pd")),"R","I"),Règles!$A$1:$A$4,0))+INDEX(Règles!$C$1:$C$4,MATCH(IF(AND(OFFSET(BZ6,0,-2)=$D6,OFFSET(BZ6,0,-1)=$E6),"S",IF(OR(OFFSET(BZ6,0,-2)=$D6,OFFSET(BZ6,0,-1)=$E6),"M","I")),Règles!$A$1:$A$4,0)),0) -> 0
A7: Match 5 | B7: Lorient | C7: Toulouse | D7: 0 | E7: 1 | G7: =RANDBETWEEN(0,4) -> 1 | H7: =RANDBETWEEN(0,4) -> 1 | I7: =IF(AND(OFFSET(I7,0,-2)<>"",OFFSET(I7,0,-1)<>""),INDEX(Règles!$C$1:$C$4,MATCH(IF(IF($D7>$E7,"Gd",IF($D7=$E7,"N","Pd"))=IF(OFFSET(I7,0,-2)>OFFSET(I7,0,-1),"Gd",IF(OFFSET(I7,0,-2)=OFFSET(I7,0,-1),"N","Pd")),"R","I"),Règles!$A$1:$A$4,0))+INDEX(Règles!$C$1:$C$4,MATCH(IF(AND(OFFSET(I7,0,-2)=$D7,OFFSET(I7,0,-1)=$E7),"S",IF(OR(OFFSET(I7,0,-2)=$D7,OFFSET(I7,0,-1)=$E7),"M","I")),Règles!$A$1:$A$4,0)),0) -> 1 | J7: =RANDBETWEEN(0,4) -> 0 | K7: =RANDBETWEEN(0,4) -> 4 | L7: =IF(AND(OFFSET(L7,0,-2)<>"",OFFSET(L7,0,-1)<>""),INDEX(Règles!$C$1:$C$4,MATCH(IF(IF($D7>$E7,"Gd",IF($D7=$E7,"N","Pd"))=IF(OFFSET(L7,0,-2)>OFFSET(L7,0,-1),"Gd",IF(OFFSET(L7,0,-2)=OFFSET(L7,0,-1),"N","Pd")),"R","I"),Règles!$A$1:$A$4,0))+INDEX(Règles!$C$1:$C$4,MATCH(IF(AND(OFFSET(L7,0,-2)=$D7,OFFSET(L7,0,-1)=$E7),"S",IF(OR(OFFSET(L7,0,-2)=$D7,OFFSET(L7,0,-1)=$E7),"M","I")),Règles!$A$1:$A$4,0)),0) -> 6 | M7: =RANDBETWEEN(0,4) -> 0 | N7: =RANDBETWEEN(0,4) -> 3 | O7: =IF(AND(OFFSET(O7,0,-2)<>"",OFFSET(O7,0,-1)<>""),INDEX(Règles!$C$1:$C$4,MATCH(IF(IF($D7>$E7,"Gd",IF($D7=$E7,"N","Pd"))=IF(OFFSET(O7,0,-2)>OFFSET(O7,0,-1),"Gd",IF(OFFSET(O7,0,-2)=OFFSET(O7,0,-1),"N","Pd")),"R","I"),Règles!$A$1:$A$4,0))+INDEX(Règles!$C$1:$C$4,MATCH(IF(AND(OFFSET(O7,0,-2)=$D7,OFFSET(O7,0,-1)=$E7),"S",IF(OR(OFFSET(O7,0,-2)=$D7,OFFSET(O7,0,-1)=$E7),"M","I")),Règles!$A$1:$A$4,0)),0) -> 6 | P7: =RANDBETWEEN(0,4) -> 4 | Q7: =RANDBETWEEN(0,4) -> 1 | R7: =IF(AND(OFFSET(R7,0,-2)<>"",OFFSET(R7,0,-1)<>""),INDEX(Règles!$C$1:$C$4,MATCH(IF(IF($D7>$E7,"Gd",IF($D7=$E7,"N","Pd"))=IF(OFFSET(R7,0,-2)>OFFSET(R7,0,-1),"Gd",IF(OFFSET(R7,0,-2)=OFFSET(R7,0,-1),"N","Pd")),"R","I"),Règles!$A$1:$A$4,0))+INDEX(Règles!$C$1:$C$4,MATCH(IF(AND(OFFSET(R7,0,-2)=$D7,OFFSET(R7,0,-1)=$E7),"S",IF(OR(OFFSET(R7,0,-2)=$D7,OFFSET(R7,0,-1)=$E7),"M","I")),Règles!$A$1:$A$4,0)),0) -> 1 | S7: =RANDBETWEEN(0,4) -> 2 | T7: =RANDBETWEEN(0,4) -> 0 | U7: =IF(AND(OFFSET(U7,0,-2)<>"",OFFSET(U7,0,-1)<>""),INDEX(Règles!$C$1:$C$4,MATCH(IF(IF($D7>$E7,"Gd",IF($D7=$E7,"N","Pd"))=IF(OFFSET(U7,0,-2)>OFFSET(U7,0,-1),"Gd",IF(OFFSET(U7,0,-2)=OFFSET(U7,0,-1),"N","Pd")),"R","I"),Règles!$A$1:$A$4,0))+INDEX(Règles!$C$1:$C$4,MATCH(IF(AND(OFFSET(U7,0,-2)=$D7,OFFSET(U7,0,-1)=$E7),"S",IF(OR(OFFSET(U7,0,-2)=$D7,OFFSET(U7,0,-1)=$E7),"M","I")),Règles!$A$1:$A$4,0)),0) -> 0 | V7: =RANDBETWEEN(0,4) -> 0 | W7: =RANDBETWEEN(0,4) -> 4 | X7: =IF(AND(OFFSET(X7,0,-2)<>"",OFFSET(X7,0,-1)<>""),INDEX(Règles!$C$1:$C$4,MATCH(IF(IF($D7>$E7,"Gd",IF($D7=$E7,"N","Pd"))=IF(OFFSET(X7,0,-2)>OFFSET(X7,0,-1),"Gd",IF(OFFSET(X7,0,-2)=OFFSET(X7,0,-1),"N","Pd")),"R","I"),Règles!$A$1:$A$4,0))+INDEX(Règles!$C$1:$C$4,MATCH(IF(AND(OFFSET(X7,0,-2)=$D7,OFFSET(X7,0,-1)=$E7),"S",IF(OR(OFFSET(X7,0,-2)=$D7,OFFSET(X7,0,-1)=$E7),"M","I")),Règles!$A$1:$A$4,0)),0) -> 6 | Y7: =RANDBETWEEN(0,4) -> 2 | Z7: =RANDBETWEEN(0,4) -> 3 | AA7: =IF(AND(OFFSET(AA7,0,-2)<>"",OFFSET(AA7,0,-1)<>""),INDEX(Règles!$C$1:$C$4,MATCH(IF(IF($D7>$E7,"Gd",IF($D7=$E7,"N","Pd"))=IF(OFFSET(AA7,0,-2)>OFFSET(AA7,0,-1),"Gd",IF(OFFSET(AA7,0,-2)=OFFSET(AA7,0,-1),"N","Pd")),"R","I"),Règles!$A$1:$A$4,0))+INDEX(Règles!$C$1:$C$4,MATCH(IF(AND(OFFSET(AA7,0,-2)=$D7,OFFSET(AA7,0,-1)=$E7),"S",IF(OR(OFFSET(AA7,0,-2)=$D7,OFFSET(AA7,0,-1)=$E7),"M","I")),Règles!$A$1:$A$4,0)),0) -> 5 | AB7: =RANDBETWEEN(0,4) -> 3 | AC7: =RANDBETWEEN(0,4) -> 2 | AD7: =IF(AND(OFFSET(AD7,0,-2)<>"",OFFSET(AD7,0,-1)<>""),INDEX(Règles!$C$1:$C$4,MATCH(IF(IF($D7>$E7,"Gd",IF($D7=$E7,"N","Pd"))=IF(OFFSET(AD7,0,-2)>OFFSET(AD7,0,-1),"Gd",IF(OFFSET(AD7,0,-2)=OFFSET(AD7,0,-1),"N","Pd")),"R","I"),Règles!$A$1:$A$4,0))+INDEX(Règles!$C$1:$C$4,MATCH(IF(AND(OFFSET(AD7,0,-2)=$D7,OFFSET(AD7,0,-1)=$E7),"S",IF(OR(OFFSET(AD7,0,-2)=$D7,OFFSET(AD7,0,-1)=$E7),"M","I")),Règles!$A$1:$A$4,0)),0) -> 0 | AE7: =RANDBETWEEN(0,4) -> 0 | AF7: =RANDBETWEEN(0,4) -> 4 | AG7: =IF(AND(OFFSET(AG7,0,-2)<>"",OFFSET(AG7,0,-1)<>""),INDEX(Règles!$C$1:$C$4,MATCH(IF(IF($D7>$E7,"Gd",IF($D7=$E7,"N","Pd"))=IF(OFFSET(AG7,0,-2)>OFFSET(AG7,0,-1),"Gd",IF(OFFSET(AG7,0,-2)=OFFSET(AG7,0,-1),"N","Pd")),"R","I"),Règles!$A$1:$A$4,0))+INDEX(Règles!$C$1:$C$4,MATCH(IF(AND(OFFSET(AG7,0,-2)=$D7,OFFSET(AG7,0,-1)=$E7),"S",IF(OR(OFFSET(AG7,0,-2)=$D7,OFFSET(AG7,0,-1)=$E7),"M","I")),Règles!$A$1:$A$4,0)),0) -> 6 | AH7: =RANDBETWEEN(0,4) -> 1 | AI7: =RANDBETWEEN(0,4) -> 3 | AJ7: =IF(AND(OFFSET(AJ7,0,-2)<>"",OFFSET(AJ7,0,-1)<>""),INDEX(Règles!$C$1:$C$4,MATCH(IF(IF($D7>$E7,"Gd",IF($D7=$E7,"N","Pd"))=IF(OFFSET(AJ7,0,-2)>OFFSET(AJ7,0,-1),"Gd",IF(OFFSET(AJ7,0,-2)=OFFSET(AJ7,0,-1),"N","Pd")),"R","I"),Règles!$A$1:$A$4,0))+INDEX(Règles!$C$1:$C$4,MATCH(IF(AND(OFFSET(AJ7,0,-2)=$D7,OFFSET(AJ7,0,-1)=$E7),"S",IF(OR(OFFSET(AJ7,0,-2)=$D7,OFFSET(AJ7,0,-1)=$E7),"M","I")),Règles!$A$1:$A$4,0)),0) -> 5 | AK7: =RANDBETWEEN(0,4) -> 0 | AL7: =RANDBETWEEN(0,4) -> 3 | AM7: =IF(AND(OFFSET(AM7,0,-2)<>"",OFFSET(AM7,0,-1)<>""),INDEX(Règles!$C$1:$C$4,MATCH(IF(IF($D7>$E7,"Gd",IF($D7=$E7,"N","Pd"))=IF(OFFSET(AM7,0,-2)>OFFSET(AM7,0,-1),"Gd",IF(OFFSET(AM7,0,-2)=OFFSET(AM7,0,-1),"N","Pd")),"R","I"),Règles!$A$1:$A$4,0))+INDEX(Règles!$C$1:$C$4,MATCH(IF(AND(OFFSET(AM7,0,-2)=$D7,OFFSET(AM7,0,-1)=$E7),"S",IF(OR(OFFSET(AM7,0,-2)=$D7,OFFSET(AM7,0,-1)=$E7),"M","I")),Règles!$A$1:$A$4,0)),0) -> 6 | AN7: =RANDBETWEEN(0,4) -> 1 | AO7: =RANDBETWEEN(0,4) -> 4 | AP7: =IF(AND(OFFSET(AP7,0,-2)<>"",OFFSET(AP7,0,-1)<>""),INDEX(Règles!$C$1:$C$4,MATCH(IF(IF($D7>$E7,"Gd",IF($D7=$E7,"N","Pd"))=IF(OFFSET(AP7,0,-2)>OFFSET(AP7,0,-1),"Gd",IF(OFFSET(AP7,0,-2)=OFFSET(AP7,0,-1),"N","Pd")),"R","I"),Règles!$A$1:$A$4,0))+INDEX(Règles!$C$1:$C$4,MATCH(IF(AND(OFFSET(AP7,0,-2)=$D7,OFFSET(AP7,0,-1)=$E7),"S",IF(OR(OFFSET(AP7,0,-2)=$D7,OFFSET(AP7,0,-1)=$E7),"M","I")),Règles!$A$1:$A$4,0)),0) -> 5 | AQ7: =RANDBETWEEN(0,4) -> 1 | AR7: =RANDBETWEEN(0,4) -> 1 | AS7: =IF(AND(OFFSET(AS7,0,-2)<>"",OFFSET(AS7,0,-1)<>""),INDEX(Règles!$C$1:$C$4,MATCH(IF(IF($D7>$E7,"Gd",IF($D7=$E7,"N","Pd"))=IF(OFFSET(AS7,0,-2)>OFFSET(AS7,0,-1),"Gd",IF(OFFSET(AS7,0,-2)=OFFSET(AS7,0,-1),"N","Pd")),"R","I"),Règles!$A$1:$A$4,0))+INDEX(Règles!$C$1:$C$4,MATCH(IF(AND(OFFSET(AS7,0,-2)=$D7,OFFSET(AS7,0,-1)=$E7),"S",IF(OR(OFFSET(AS7,0,-2)=$D7,OFFSET(AS7,0,-1)=$E7),"M","I")),Règles!$A$1:$A$4,0)),0) -> 1 | AT7: =RANDBETWEEN(0,4) -> 1 | AU7: =RANDBETWEEN(0,4) -> 3 | AV7: =IF(AND(OFFSET(AV7,0,-2)<>"",OFFSET(AV7,0,-1)<>""),INDEX(Règles!$C$1:$C$4,MATCH(IF(IF($D7>$E7,"Gd",IF($D7=$E7,"N","Pd"))=IF(OFFSET(AV7,0,-2)>OFFSET(AV7,0,-1),"Gd",IF(OFFSET(AV7,0,-2)=OFFSET(AV7,0,-1),"N","Pd")),"R","I"),Règles!$A$1:$A$4,0))+INDEX(Règles!$C$1:$C$4,MATCH(IF(AND(OFFSET(AV7,0,-2)=$D7,OFFSET(AV7,0,-1)=$E7),"S",IF(OR(OFFSET(AV7,0,-2)=$D7,OFFSET(AV7,0,-1)=$E7),"M","I")),Règles!$A$1:$A$4,0)),0) -> 5 | AW7: =RANDBETWEEN(0,4) -> 3 | AX7: =RANDBETWEEN(0,4) -> 2 | AY7: =IF(AND(OFFSET(AY7,0,-2)<>"",OFFSET(AY7,0,-1)<>""),INDEX(Règles!$C$1:$C$4,MATCH(IF(IF($D7>$E7,"Gd",IF($D7=$E7,"N","Pd"))=IF(OFFSET(AY7,0,-2)>OFFSET(AY7,0,-1),"Gd",IF(OFFSET(AY7,0,-2)=OFFSET(AY7,0,-1),"N","Pd")),"R","I"),Règles!$A$1:$A$4,0))+INDEX(Règles!$C$1:$C$4,MATCH(IF(AND(OFFSET(AY7,0,-2)=$D7,OFFSET(AY7,0,-1)=$E7),"S",IF(OR(OFFSET(AY7,0,-2)=$D7,OFFSET(AY7,0,-1)=$E7),"M","I")),Règles!$A$1:$A$4,0)),0) -> 0 | AZ7: =RANDBETWEEN(0,4) -> 0 | BA7: =RANDBETWEEN(0,4) -> 2 | BB7: =IF(AND(OFFSET(BB7,0,-2)<>"",OFFSET(BB7,0,-1)<>""),INDEX(Règles!$C$1:$C$4,MATCH(IF(IF($D7>$E7,"Gd",IF($D7=$E7,"N","Pd"))=IF(OFFSET(BB7,0,-2)>OFFSET(BB7,0,-1),"Gd",IF(OFFSET(BB7,0,-2)=OFFSET(BB7,0,-1),"N","Pd")),"R","I"),Règles!$A$1:$A$4,0))+INDEX(Règles!$C$1:$C$4,MATCH(IF(AND(OFFSET(BB7,0,-2)=$D7,OFFSET(BB7,0,-1)=$E7),"S",IF(OR(OFFSET(BB7,0,-2)=$D7,OFFSET(BB7,0,-1)=$E7),"M","I")),Règles!$A$1:$A$4,0)),0) -> 6 | BC7: =RANDBETWEEN(0,4) -> 4 | BD7: =RANDBETWEEN(0,4) -> 1 | BE7: =IF(AND(OFFSET(BE7,0,-2)<>"",OFFSET(BE7,0,-1)<>""),INDEX(Règles!$C$1:$C$4,MATCH(IF(IF($D7>$E7,"Gd",IF($D7=$E7,"N","Pd"))=IF(OFFSET(BE7,0,-2)>OFFSET(BE7,0,-1),"Gd",IF(OFFSET(BE7,0,-2)=OFFSET(BE7,0,-1),"N","Pd")),"R","I"),Règles!$A$1:$A$4,0))+INDEX(Règles!$C$1:$C$4,MATCH(IF(AND(OFFSET(BE7,0,-2)=$D7,OFFSET(BE7,0,-1)=$E7),"S",IF(OR(OFFSET(BE7,0,-2)=$D7,OFFSET(BE7,0,-1)=$E7),"M","I")),Règles!$A$1:$A$4,0)),0) -> 1 | BF7: =RANDBETWEEN(0,4) -> 4 | BG7: =RANDBETWEEN(0,4) -> 4 | BH7: =IF(AND(OFFSET(BH7,0,-2)<>"",OFFSET(BH7,0,-1)<>""),INDEX(Règles!$C$1:$C$4,MATCH(IF(IF($D7>$E7,"Gd",IF($D7=$E7,"N","Pd"))=IF(OFFSET(BH7,0,-2)>OFFSET(BH7,0,-1),"Gd",IF(OFFSET(BH7,0,-2)=OFFSET(BH7,0,-1),"N","Pd")),"R","I"),Règles!$A$1:$A$4,0))+INDEX(Règles!$C$1:$C$4,MATCH(IF(AND(OFFSET(BH7,0,-2)=$D7,OFFSET(BH7,0,-1)=$E7),"S",IF(OR(OFFSET(BH7,0,-2)=$D7,OFFSET(BH7,0,-1)=$E7),"M","I")),Règles!$A$1:$A$4,0)),0) -> 0 | BI7: =RANDBETWEEN(0,4) -> 4 | BJ7: =RANDBETWEEN(0,4) -> 3 | BK7: =IF(AND(OFFSET(BK7,0,-2)<>"",OFFSET(BK7,0,-1)<>""),INDEX(Règles!$C$1:$C$4,MATCH(IF(IF($D7>$E7,"Gd",IF($D7=$E7,"N","Pd"))=IF(OFFSET(BK7,0,-2)>OFFSET(BK7,0,-1),"Gd",IF(OFFSET(BK7,0,-2)=OFFSET(BK7,0,-1),"N","Pd")),"R","I"),Règles!$A$1:$A$4,0))+INDEX(Règles!$C$1:$C$4,MATCH(IF(AND(OFFSET(BK7,0,-2)=$D7,OFFSET(BK7,0,-1)=$E7),"S",IF(OR(OFFSET(BK7,0,-2)=$D7,OFFSET(BK7,0,-1)=$E7),"M","I")),Règles!$A$1:$A$4,0)),0) -> 0 | BL7: =RANDBETWEEN(0,4) -> 4 | BM7: =RANDBETWEEN(0,4) -> 4 | BN7: =IF(AND(OFFSET(BN7,0,-2)<>"",OFFSET(BN7,0,-1)<>""),INDEX(Règles!$C$1:$C$4,MATCH(IF(IF($D7>$E7,"Gd",IF($D7=$E7,"N","Pd"))=IF(OFFSET(BN7,0,-2)>OFFSET(BN7,0,-1),"Gd",IF(OFFSET(BN7,0,-2)=OFFSET(BN7,0,-1),"N","Pd")),"R","I"),Règles!$A$1:$A$4,0))+INDEX(Règles!$C$1:$C$4,MATCH(IF(AND(OFFSET(BN7,0,-2)=$D7,OFFSET(BN7,0,-1)=$E7),"S",IF(OR(OFFSET(BN7,0,-2)=$D7,OFFSET(BN7,0,-1)=$E7),"M","I")),Règles!$A$1:$A$4,0)),0) -> 0 | BO7: =RANDBETWEEN(0,4) -> 1 | BP7: =RANDBETWEEN(0,4) -> 0 | BQ7: =IF(AND(OFFSET(BQ7,0,-2)<>"",OFFSET(BQ7,0,-1)<>""),INDEX(Règles!$C$1:$C$4,MATCH(IF(IF($D7>$E7,"Gd",IF($D7=$E7,"N","Pd"))=IF(OFFSET(BQ7,0,-2)>OFFSET(BQ7,0,-1),"Gd",IF(OFFSET(BQ7,0,-2)=OFFSET(BQ7,0,-1),"N","Pd")),"R","I"),Règles!$A$1:$A$4,0))+INDEX(Règles!$C$1:$C$4,MATCH(IF(AND(OFFSET(BQ7,0,-2)=$D7,OFFSET(BQ7,0,-1)=$E7),"S",IF(OR(OFFSET(BQ7,0,-2)=$D7,OFFSET(BQ7,0,-1)=$E7),"M","I")),Règles!$A$1:$A$4,0)),0) -> 0 | BR7: =RANDBETWEEN(0,4) -> 0 | BS7: =RANDBETWEEN(0,4) -> 1 | BT7: =IF(AND(OFFSET(BT7,0,-2)<>"",OFFSET(BT7,0,-1)<>""),INDEX(Règles!$C$1:$C$4,MATCH(IF(IF($D7>$E7,"Gd",IF($D7=$E7,"N","Pd"))=IF(OFFSET(BT7,0,-2)>OFFSET(BT7,0,-1),"Gd",IF(OFFSET(BT7,0,-2)=OFFSET(BT7,0,-1),"N","Pd")),"R","I"),Règles!$A$1:$A$4,0))+INDEX(Règles!$C$1:$C$4,MATCH(IF(AND(OFFSET(BT7,0,-2)=$D7,OFFSET(BT7,0,-1)=$E7),"S",IF(OR(OFFSET(BT7,0,-2)=$D7,OFFSET(BT7,0,-1)=$E7),"M","I")),Règles!$A$1:$A$4,0)),0) -> 10 | BU7: =RANDBETWEEN(0,4) -> 2 | BV7: =RANDBETWEEN(0,4) -> 4 | BW7: =IF(AND(OFFSET(BW7,0,-2)<>"",OFFSET(BW7,0,-1)<>""),INDEX(Règles!$C$1:$C$4,MATCH(IF(IF($D7>$E7,"Gd",IF($D7=$E7,"N","Pd"))=IF(OFFSET(BW7,0,-2)>OFFSET(BW7,0,-1),"Gd",IF(OFFSET(BW7,0,-2)=OFFSET(BW7,0,-1),"N","Pd")),"R","I"),Règles!$A$1:$A$4,0))+INDEX(Règles!$C$1:$C$4,MATCH(IF(AND(OFFSET(BW7,0,-2)=$D7,OFFSET(BW7,0,-1)=$E7),"S",IF(OR(OFFSET(BW7,0,-2)=$D7,OFFSET(BW7,0,-1)=$E7),"M","I")),Règles!$A$1:$A$4,0)),0) -> 5 | BX7: =RANDBETWEEN(0,4) -> 1 | BY7: =RANDBETWEEN(0,4) -> 4 | BZ7: =IF(AND(OFFSET(BZ7,0,-2)<>"",OFFSET(BZ7,0,-1)<>""),INDEX(Règles!$C$1:$C$4,MATCH(IF(IF($D7>$E7,"Gd",IF($D7=$E7,"N","Pd"))=IF(OFFSET(BZ7,0,-2)>OFFSET(BZ7,0,-1),"Gd",IF(OFFSET(BZ7,0,-2)=OFFSET(BZ7,0,-1),"N","Pd")),"R","I"),Règles!$A$1:$A$4,0))+INDEX(Règles!$C$1:$C$4,MATCH(IF(AND(OFFSET(BZ7,0,-2)=$D7,OFFSET(BZ7,0,-1)=$E7),"S",IF(OR(OFFSET(BZ7,0,-2)=$D7,OFFSET(BZ7,0,-1)=$E7),"M","I")),Règles!$A$1:$A$4,0)),0) -> 5
