Workbook
Name Param1: [1]Param!$A$3:$A$11
Name Param2: [1]Param!$A$14:$A$40

Sheet Mois de gestion (2)
A1: CODE APPARTEMENT | G1: 2016 | N1: 2017
B2: JANVIER | C2: FEVRIER | D2: MARS | E2: AVRIL | F2: MAI | G2: JUIN | H2: JUILLET | I2: AOUT | J2: SEPTEMBRE | K2: OCTOBRE | L2: NOVEMBRE | M2: DECEMBRE | N2: JANVIER | O2: FEVRIER | P2: MARS | Q2: AVRIL | R2: MAI | S2: JUIN | T2: JUILLET | U2: AOUT | V2: SEPTEMBRE | W2: OCTOBRE | X2: NOVEMBRE | Y2: DECEMBRE
A3: Total par mois | B3: =SUM(B4:B68) -> 1350 | C3: =SUM(C4:C68) -> 0 | D3: =SUM(D4:D68) -> 1283 | E3: =SUM(E4:E68) -> 3845 | F3: =SUM(F4:F68) -> 10196 | G3: =SUM(G4:G68) -> 14064.4 | H3: =SUM(H4:H68) -> 13842 | I3: =SUM(I4:I68) -> 18596.09 | ... M3: =SUM(M4:M68) -> 25515
A4: PYRAMIDE | E4: =0.63*900 -> 567 | F4: 900 | G4: 900 | H4: 900 | I4: 900 | J4: 900 | K4: 900 | L4: 900 | M4: 900
A5: PYRAMIDE 2 | I5: 900 | J5: 850 | K5: 1100 | L5: 850 | M5: 800
A6: ORSAY | F6: 407 | G6: 407 | H6: 407 | I6: 407
A7: ECOLES | E7: 1500 | F7: 1500 | G7: 1500 | H7: 1500 | I7: 1500 | J7: 1800 | K7: 900 | M7: 1800
A8: MONTMARTRE | F8: =0.67*1800 -> 1206 | G8: 1800 | H8: 1800 | I8: 1800 | J8: 1800 | K8: 1800 | L8: 1800 | M8: 1800
A9: BATIGNOLLES | G9: 950 | H9: 950 | I9: 950
A10: BEAUMARCHAIS | E10: =0.33*1500 -> 495 | F10: 1500 | G10: 1500 | H10: 1500 | I10: 1500 | J10: 1500 | K10: 1500
A11: SAINT LOUIS | F11: 1400 | G11: 1400 | H11: 1400 | I11: 1400
A12: ROOFTOP | G12: =0.8*800 -> 640 | H12: 800 | I12: 800 | J12: 800 | K12: =0.2*800 -> 160
A13: TOUR EIFFEL | G13: 900 | H13: 900 | I13: 900
A14: NICOLE | F14: 2000 | G14: 2000 | H14: 2000 | I14: 2000 | J14: 1800 | K14: 1800 | L14: 1800 | M14: 1800
A15: ARSENAL GUY | I15: =0.67*960 -> 643.2 | J15: 960 | K15: 960
A16: RICHARD LENOIR | I16: =0.67*987 -> 661.29
A17: CANAL ST MARTIN | H17: 625 | I17: 625
A18: CHAMP DE MARS | G18: =0.74*1060 -> 784.4 | H18: 1060 | I18: 1060 | J18: 1060 | K18: 1060 | L18: 1060 | M18: 1060
A19: NERVIL | I19: =0.3*1500 -> 450 | J19: 1500 | K19: 1500 | L19: 1500 | M19: 1500
A20: POISSONNIERE | I20: =0.67*1380 -> 924.6 | J20: 1380 | K20: 1380 | L20: 1380 | M20: 1380
A21: TEMPLE | I21: 967 | J21: 967 | K21: 967 | L21: 967 | M21: 967
A22: ALESIA | I22: =0.26*800 -> 208 | J22: 800 | K22: 800 | L22: 800 | M22: 800
A23: CONSTANCE | J23: 627
A24: MONTMARTRE 2 | J24: 600 | K24: 1200 | L24: 1200 | M24: 1200
A25: MARIQUE | K25: 900 | L25: 900 | M25: 900
A26: ODEON | K26: 1600 | L26: =0.67*1400 -> 938 | M26: 613
A27: BRUNEL
A28: COLISEE | L28: =0.67*4800 -> 3216 | M28: 4800
A29: LABORDE | L29: 1900 | M29: 3800
A30: EVA | B30: 1350
A31: VOLTAIRE | D31: 765 | E31: 765 | F31: 765 | G31: 765
A32: THURIES | D32: 518 | E32: 518 | F32: 518 | G32: 518
A33: VAUGIRARD | M33: 1195 | N33: 956
A34: PORTE D'ORLEANS | M34: 200

Sheet Récaptitulatif Loyer Paris
C1: 2018
A2: Code appartement | B2: Jour de paiement | C2: JANVIER | E2: FEVRIER | G2: MARS | I2: AVRIL | K2: MAI | M2: JUIN | O2: JUILLET | Q2: AOUT | S2: SEPTEMBRE | U2: OCTOBRE | W2: NOVEMBRE | Y2: DECEMBRE
C3: Nombre de nuits possibles | D3: Loyer | E3: Nombre de nuits possibles | F3: Loyer | G3: Nombre de nuits possibles | H3: Loyer | I3: Nombre de nuits possibles | J3: Loyer | K3: Nombre de nuits possibles | L3: Loyer | M3: Nombre de nuits possibles | N3: Loyer | O3: Nombre de nuits possibles | P3: Loyer | Q3: Nombre de nuits possibles | R3: Loyer | S3: Nombre de nuits possibles | T3: Loyer | U3: Nombre de nuits possibles | V3: Loyer | W3: Nombre de nuits possibles | X3: Loyer | Y3: Nombre de nuits possibles | Z3: Loyer
A4: ORFILA | B4: 1 | C4: 31 | D4: 1250
A5: CONVENTION | B5: 1 | C5: 31 | D5: 1600
A6: D'ORSEL | B6: 1 | C6: 27 | D6: =1350*27/31 -> 1175.8065
A7: DAMES | B7: 1 | C7: 6 | D7: 287.42
A8: FELICITE | B8: 1 | C8: 31 | D8: 1031.99
A9: BOILEAU | B9: 1 | C9: 23 | D9: 864.36
A10: BRUNE | B10: 1 | C10: 0
A11: DUNOIS | B11: 1 | C11: 0
A12: Quai de la marne | B12: 1 | C12: 23 | D12: =1150*23/31 -> 853.22581
A13: Ordener(2) | B13: 1 | C13: 23 | D13: 630.65
A14: D'ORSEL 2 | B14: 1 | C14: 31 | D14: 1294
A15: Villafranca | B15: 1
A16: LEDRU ROLLIN | B16: 2 | C16: 31 | D16: 750.01
A17: LAFAYETTE | B17: 3 | C17: 31 | D17: 944
A18: LABROUSTE | B18: 3 | C18: 31 | D18: 615.97
A19: RUHMKORFF | B19: 3
A20: MAINE | B20: 3 | C20: 28 | D20: =1350*28/31 -> 1219.3548
A21: VAUGIRARD | B21: 5 | C21: 24 | D21: =1195*24/31 -> 925.16129
A22: SUFFREN | B22: 5 | C22: 31 | D22: 4800
A23: BERNARDINS | B23: 5 | C23: 31 | D23: 1400
A24: LERICHE 2 | B24: 5 | C24: 12 | D24: =1030*12/31 -> 398.70968
A25: CARDINAL LEMOINE | B25: 5 | C25: 27 | D25: 773.86
A26: LOBLIGEOIS | B26: 5 | C26: 31 | D26: =1300-730 -> 570
A27: CHAMPIONNET | B27: 5 | C27: 26 | D27: =1700*26/31 -> 1425.8065
A28: INVALIDES | B28: 15
A29: LEPIC | B29: 15 | C29: 31 | D29: 1500
A30: BEAUBOURG | B30: 15 | C30: 31 | D30: 1380
A31: MONCEAU | B31: 15 | C31: 31 | D31: 1200
A32: JUGE | B32: 15 | C32: 31 | D32: 1200
A33: CHABANAIS | B33: 15 | C33: 31 | D33: 1005
A34: FRIEDLAND | B34: 20 | C34: 31 | D34: 2050
A35: SAINT SAUVEUR | B35: 25
A36: MOUFFETARD | B36: 25 | C36: 31 | D36: 1200
A37: VICTOR HUGO 2 | B37: 25 | C37: 31 | D37: 616
A38: NAVARIN | B38: 25 | C38: 23 | D38: =1050*23/31 -> 779.03226
A39: MONTMARTRE 2 | B39: 30
A40: POINCARE | B40: 30 | C40: 2
...

Sheet Récaptitulatif Resa PARIS 2018
A1: Code appartement | B1: Type | C1: Plateforme | D1: Nom Touriste | E1: Mois | F1: Date d'arrivée | G1: Date de départ | H1: Nombre de nuits | I1: Montant de la réservation net
A2: AMSTERDAM | B2: Réservation | D2: Alex Annesley | E2: =CHOOSE(MONTH(G2),"Janvier","Février","Mars","Avril","Mai","Juin","Juillet","Aout","Septembre","Octobre","Novembre","Décembre") -> Décembre | F2: 43084 | G2: 43087 | H2: =G2-F2 -> 3 | I2: 529.62
A3: AMSTERDAM | B3: Caution | D3: Arnaud Forest | E3: =CHOOSE(MONTH(G3),"Janvier","Février","Mars","Avril","Mai","Juin","Juillet","Aout","Septembre","Octobre","Novembre","Décembre") -> Décembre | F3: 43072 | G3: 43077 | H3: =G3-F3 -> 5 | I3: 743.99
A4: AMSTERDAM | B4: Prestations services | D4: Renaud Vincent | E4: =CHOOSE(MONTH(G4),"Janvier","Février","Mars","Avril","Mai","Juin","Juillet","Aout","Septembre","Octobre","Novembre","Décembre") -> Décembre | F4: 43096 | G4: 43100 | H4: =G4-F4 -> 4 | I4: 796.37
A5: AMSTERDAM | B5: Remboursement | D5: Pablo Fonseca | E5: =CHOOSE(MONTH(G5),"Janvier","Février","Mars","Avril","Mai","Juin","Juillet","Aout","Septembre","Octobre","Novembre","Décembre") -> Décembre | F5: 43063 | G5: 43072 | H5: =G5-F5 -> 9 | I5: 1318.23
A6: ASILE | B6: Annulation | D6: Yuan Xu | E6: =CHOOSE(MONTH(G6),"Janvier","Février","Mars","Avril","Mai","Juin","Juillet","Aout","Septembre","Octobre","Novembre","Décembre") -> Décembre | F6: 43084 | G6: 43087 | H6: =G6-F6 -> 3 | I6: 261.9
A7: ASILE | D7: Romain Huck | E7: =CHOOSE(MONTH(G7),"Janvier","Février","Mars","Avril","Mai","Juin","Juillet","Aout","Septembre","Octobre","Novembre","Décembre") -> Décembre | F7: 43087 | G7: 43090 | H7: =G7-F7 -> 3 | I7: 276.45

Sheet Comptabilité PARIS 2018
A1: Code appartement | B1: Type | C1: Plateforme | D1: Nom Touriste | E1: Mois | F1: Date d'arrivée | G1: Date de départ | H1: Nombre de nuits | I1: Coût / nuit | J1: Prix / nuit | K1: Loyer / nuit | L1: Prestations de services | M1: Montant de la réservation net
A2: AMSTERDAM | B2: Réservation | D2: Alex Annesley | E2: =CHOOSE(MONTH(G2),"Janvier","Février","Mars","Avril","Mai","Juin","Juillet","Aout","Septembre","Octobre","Novembre","Décembre") -> Décembre | F2: 43084 | G2: 43087 | H2: =G2-F2 -> 3 | I2: =IFERROR(INDEX('Récaptitulatif Loyer Paris'!D:D,MATCH(A2,'Récaptitulatif Loyer Paris'!A:A,0))/INDEX('Récaptitulatif Loyer Paris'!B:B,MATCH(A2,'Récaptitulatif Loyer Paris'!A:A,0)),0) -> 0 | J2: =M2/H2 -> 176.54 | K2: =I2*H2 -> 0 | L2: =M2-K2 -> 529.62 | M2: 529.62
A3: AMSTERDAM | D3: Arnaud Forest | E3: =CHOOSE(MONTH(G3),"Janvier","Février","Mars","Avril","Mai","Juin","Juillet","Aout","Septembre","Octobre","Novembre","Décembre") -> Décembre | F3: 43072 | G3: 43077 | H3: =G3-F3 -> 5 | I3: =IFERROR(INDEX('Récaptitulatif Loyer Paris'!D:D,MATCH(A3,'Récaptitulatif Loyer Paris'!A:A,0))/INDEX('Récaptitulatif Loyer Paris'!B:B,MATCH(A3,'Récaptitulatif Loyer Paris'!A:A,0)),0) -> 0 | J3: =M3/H3 -> 148.798 | K3: =I3*H3 -> 0 | L3: =M3-K3 -> 743.99 | M3: 743.99
A4: AMSTERDAM | D4: Renaud Vincent | E4: =CHOOSE(MONTH(G4),"Janvier","Février","Mars","Avril","Mai","Juin","Juillet","Aout","Septembre","Octobre","Novembre","Décembre") -> Décembre | F4: 43096 | G4: 43100 | H4: =G4-F4 -> 4 | I4: =IFERROR(INDEX('Récaptitulatif Loyer Paris'!D:D,MATCH(A4,'Récaptitulatif Loyer Paris'!A:A,0))/INDEX('Récaptitulatif Loyer Paris'!B:B,MATCH(A4,'Récaptitulatif Loyer Paris'!A:A,0)),0) -> 0 | J4: =M4/H4 -> 199.0925 | K4: =I4*H4 -> 0 | L4: =M4-K4 -> 796.37 | M4: 796.37
A5: AMSTERDAM | D5: Pablo Fonseca | E5: =CHOOSE(MONTH(G5),"Janvier","Février","Mars","Avril","Mai","Juin","Juillet","Aout","Septembre","Octobre","Novembre","Décembre") -> Décembre | F5: 43063 | G5: 43072 | H5: =G5-F5 -> 9 | I5: =IFERROR(INDEX('Récaptitulatif Loyer Paris'!D:D,MATCH(A5,'Récaptitulatif Loyer Paris'!A:A,0))/INDEX('Récaptitulatif Loyer Paris'!B:B,MATCH(A5,'Récaptitulatif Loyer Paris'!A:A,0)),0) -> 0 | J5: =M5/H5 -> 146.47 | K5: =I5*H5 -> 0 | L5: =M5-K5 -> 1318.23 | M5: 1318.23
A6: ASILE | D6: Yuan Xu | E6: =CHOOSE(MONTH(G6),"Janvier","Février","Mars","Avril","Mai","Juin","Juillet","Aout","Septembre","Octobre","Novembre","Décembre") -> Décembre | F6: 43084 | G6: 43087 | H6: =G6-F6 -> 3 | I6: =IFERROR(INDEX('Récaptitulatif Loyer Paris'!D:D,MATCH(A6,'Récaptitulatif Loyer Paris'!A:A,0))/INDEX('Récaptitulatif Loyer Paris'!B:B,MATCH(A6,'Récaptitulatif Loyer Paris'!A:A,0)),0) -> 5 | J6: =M6/H6 -> 87.3 | K6: =I6*H6 -> 15 | L6: =M6-K6 -> 246.9 | M6: 261.9
A7: ASILE | D7: Romain Huck | E7: =CHOOSE(MONTH(G7),"Janvier","Février","Mars","Avril","Mai","Juin","Juillet","Aout","Septembre","Octobre","Novembre","Décembre") -> Décembre | F7: 43087 | G7: 43090 | H7: =G7-F7 -> 3 | I7: =IFERROR(INDEX('Récaptitulatif Loyer Paris'!D:D,MATCH(A7,'Récaptitulatif Loyer Paris'!A:A,0))/INDEX('Récaptitulatif Loyer Paris'!B:B,MATCH(A7,'Récaptitulatif Loyer Paris'!A:A,0)),0) -> 5 | J7: =M7/H7 -> 92.15 | K7: =I7*H7 -> 15 | L7: =M7-K7 -> 261.45 | M7: 276.45
