Workbook

Sheet fichier liste
A1: N° Facture | B1: date | C1: CLIENT | D1: Montant HT | E1: TVA | F1: TTC
A2: 1 | B2: 42747 | C2: A | D2: =+RANDBETWEEN(1,100) -> 53 | E2: =+D2*20% -> 10.6 | F2: =+E2+D2 -> 63.6
A3: 2 | B3: 42750 | C3: B | D3: =+RANDBETWEEN(1,100) -> 85 | E3: =+D3*20% -> 17 | F3: =+E3+D3 -> 102
A4: 3 | B4: 42755 | C4: C | D4: =+RANDBETWEEN(1,100) -> 60 | E4: =+D4*20% -> 12 | F4: =+E4+D4 -> 72
A5: 4 | B5: 42786 | C5: A | D5: =+RANDBETWEEN(1,100) -> 78 | E5: =+D5*20% -> 15.6 | F5: =+E5+D5 -> 93.6
A6: 5 | B6: 42814 | C6: B | D6: =+RANDBETWEEN(1,100) -> 89 | E6: =+D6*20% -> 17.8 | F6: =+E6+D6 -> 106.8
A7: 6 | B7: 42819 | C7: C | D7: =+RANDBETWEEN(1,100) -> 3 | E7: =+D7*20% -> 0.6 | F7: =+E7+D7 -> 3.6
A8: 7 | B8: 42824 | C8: A | D8: =+RANDBETWEEN(1,100) -> 84 | E8: =+D8*20% -> 16.8 | F8: =+E8+D8 -> 100.8
A9: 8 | B9: 42829 | C9: B | D9: =+RANDBETWEEN(1,100) -> 82 | E9: =+D9*20% -> 16.4 | F9: =+E9+D9 -> 98.4
A10: 9 | B10: 42834 | C10: C | D10: =+RANDBETWEEN(1,100) -> 67 | E10: =+D10*20% -> 13.4 | F10: =+E10+D10 -> 80.4
A11: 10 | B11: 42839 | C11: A | D11: =+RANDBETWEEN(1,100) -> 93 | E11: =+D11*20% -> 18.6 | F11: =+E11+D11 -> 111.6
A12: 11 | B12: 42844 | C12: B | D12: =+RANDBETWEEN(1,100) -> 73 | E12: =+D12*20% -> 14.6 | F12: =+E12+D12 -> 87.6
A13: 12 | B13: 42849 | C13: C | D13: =+RANDBETWEEN(1,100) -> 57 | E13: =+D13*20% -> 11.4 | F13: =+E13+D13 -> 68.4

Sheet fichier facture
B1: mois recherché | C1: 1 | F1: liste déroulante avec toutes les factures faites par rapport au mois selectionné en C1 | M1: {=IFERROR(INDEX('fichier liste'!$A$2:$A$13,SMALL(IF(MONTH('fichier liste'!$B$2:$B$13)=$C$1,ROW('fichier liste'!$A$2:$A$13)-ROW('fichier liste'!A$2)+1),ROWS(M$1:M1))),"")} -> 1
M2: {=IFERROR(INDEX('fichier liste'!$A$2:$A$13,SMALL(IF(MONTH('fichier liste'!$B$2:$B$13)=$C$1,ROW('fichier liste'!$A$2:$A$13)-ROW('fichier liste'!A$2)+1),ROWS(M$1:M2))),"")} -> 2
M3: {=IFERROR(INDEX('fichier liste'!$A$2:$A$13,SMALL(IF(MONTH('fichier liste'!$B$2:$B$13)=$C$1,ROW('fichier liste'!$A$2:$A$13)-ROW('fichier liste'!A$2)+1),ROWS(M$1:M3))),"")} -> 3
M4: {=IFERROR(INDEX('fichier liste'!$A$2:$A$13,SMALL(IF(MONTH('fichier liste'!$B$2:$B$13)=$C$1,ROW('fichier liste'!$A$2:$A$13)-ROW('fichier liste'!A$2)+1),ROWS(M$1:M4))),"")}
M5: {=IFERROR(INDEX('fichier liste'!$A$2:$A$13,SMALL(IF(MONTH('fichier liste'!$B$2:$B$13)=$C$1,ROW('fichier liste'!$A$2:$A$13)-ROW('fichier liste'!A$2)+1),ROWS(M$1:M5))),"")}
E6: Il suffit de modifier le Mois …
