Workbook

Sheet Expedition Janvier
A1: Code Commanditaire | B1: Nom Commanditaire | C1: Nom Transporteur | D1: Nom Service | E1: Nb UM | F1: Poids Total Expedition | G1: Code Tiers | H1: Nom Tiers | I1: Adresse 1 Tiers | J1: Adresse 2 Tiers | K1: Adresse 3 Tiers | L1: Code Postal Tiers | M1: Nom Commune Tiers | N1: Tel Tiers | O1: Date Creation Expedition | P1: Date Remise Chauffeur | Q1: No UM (No Tracking Transporteur) | R1: Statut Expedition | S1: Anomalie transport | T1: retard transport | U1: Type Réclamation | V1: Traité par
A2: DLI | B2: EXADIS LESQUIN | C2: ILLICO DLI | D2: MESSAGERIE | E2: 1 | F2: .4440 | G2: 03350572F572 | H2: FLANDRES SERVICES AUTO -F572- | I2: MIDAS | J2: RUE JACQUEMINEMARS | L2: 59940 | M2: ESTAIRES | O2: 2018-01-02 07:55:17.000 | P2: 2018-01-02 11:40:29.357 | Q2: 454493 | R2: *5994099999920007500454493001300 | S2: RAC | T2: =IFERROR(AND(MATCH(R2,'Anomalies C'!C:C,0),MATCH(R2,'Anomalies T'!C:C,0)),"")
A3: DLI | B3: EXADIS LESQUIN | C3: ILLICO DLI | D3: MESSAGERIE | E3: 2 | F3: 1.0630 | G3: 03350989F487 | H3: MOBICAR'S | I3: MIDAS | J3: 2 RUE DE LILLE | L3: 59480 | M3: LA BASSEE | O3: 2018-01-02 07:56:45.000 | P3: 2018-01-02 11:40:29.357 | Q3: 454494 | R3: *5948099999920007500454494001300 | S3: RAC | T3: =IFERROR(AND(MATCH(R3,'Anomalies C'!C:C,0),MATCH(R3,'Anomalies T'!C:C,0)),"")
A4: DLI | B4: EXADIS LESQUIN | C4: ILLICO DLI | D4: MESSAGERIE | E4: 2 | F4: 1.0630 | G4: 03350989F487 | H4: MOBICAR'S | I4: MIDAS | J4: 2 RUE DE LILLE | L4: 59480 | M4: LA BASSEE | O4: 2018-01-02 07:56:45.000 | P4: 2018-01-02 11:40:29.357 | Q4: 454494 | R4: *5948099999920007500454494002300 | S4: RAC | T4: =IFERROR(AND(MATCH(R4,'Anomalies C'!C:C,0),MATCH(R4,'Anomalies T'!C:C,0)),"")
A5: DLI | B5: EXADIS LESQUIN | C5: ILLICO DLI | D5: MESSAGERIE | E5: 2 | F5: .1840 | G5: 03350123F123 | H5: MIDAS -F123- | I5: WEPPE DOUAI CENTRE AUTO | J5: ZAC DU LUC | L5: 59187 | M5: DECHY | O5: 2018-01-02 07:57:35.000 | P5: 2018-01-02 11:40:29.357 | Q5: 454495 | R5: *5918799999920007500454495001300 | S5: RAC | T5: =IFERROR(AND(MATCH(R5,'Anomalies C'!C:C,0),MATCH(R5,'Anomalies T'!C:C,0)),"")
A6: DLI | B6: EXADIS LESQUIN | C6: ILLICO DLI | D6: MESSAGERIE | E6: 2 | F6: .1840 | G6: 03350123F123 | H6: MIDAS -F123- | I6: WEPPE DOUAI CENTRE AUTO | J6: ZAC DU LUC | L6: 59187 | M6: DECHY | O6: 2018-01-02 07:57:35.000 | P6: 2018-01-02 11:40:29.357 | Q6: 454495 | R6: *5918799999920007500454495002300 | S6: RAC | T6: =IFERROR(AND(MATCH(R6,'Anomalies C'!C:C,0),MATCH(R6,'Anomalies T'!C:C,0)),"")
A7: DSP | B7: EXADIS ST PRIEST | C7: WARNING SA | D7: WARNING | E7: 2 | F7: 3.2880 | G7: 03863134000001 | H7: TG DIFFUSION | I7: 18 AVENUE DE L INDUSTRIE | L7: 69960 | M7: CORBAS | O7: 2018-01-02 08:00:19.000 | P7: 2018-01-02 11:34:02.880 | Q7: 454496 | R7: 00149737045-1 | S7: RAC | T7: =IFERROR(AND(MATCH(R7,'Anomalies C'!C:C,0),MATCH(R7,'Anomalies T'!C:C,0)),"")
A8: DSP | B8: EXADIS ST PRIEST | C8: WARNING SA | D8: WARNING | E8: 2 | F8: 3.2880 | G8: 03863134000001 | H8: TG DIFFUSION | I8: 18 AVENUE DE L INDUSTRIE | L8: 69960 | M8: CORBAS | O8: 2018-01-02 08:00:19.000 | P8: 2018-01-02 11:34:02.880 | Q8: 454496 | R8: 00149739748-1 | S8: RAC | T8: =IFERROR(AND(MATCH(R8,'Anomalies C'!C:C,0),MATCH(R8,'Anomalies T'!C:C,0)),"")
A9: DSP | B9: EXADIS ST PRIEST | C9: TNT NATIONAL | D9: EXPRESS | E9: 2 | F9: 2.1320 | G9: 03428205STOCK | H9: ROADY - 01096 - | I9: CHADRAUTO | J9: AVENUE DES CHAMPS ELYSEES | L9: 43770 | M9: CHADRAC | O9: 2018-01-02 08:01:56.000 | P9: 2018-01-02 21:16:08.927 | Q9: 454497 | R9: 8046392325097167 | S9: OK-DELIVERED | T9: =IFERROR(AND(MATCH(R9,'Anomalies C'!C:C,0),MATCH(R9,'Anomalies T'!C:C,0)),"") -> TRUE
A10: DSP | B10: EXADIS ST PRIEST | C10: TNT NATIONAL | D10: EXPRESS | E10: 2 | F10: 2.1320 | G10: 03428205STOCK | H10: ROADY - 01096 - | I10: CHADRAUTO | J10: AVENUE DES CHAMPS ELYSEES | L10: 43770 | M10: CHADRAC | O10: 2018-01-02 08:01:56.000 | P10: 2018-01-02 21:16:08.927 | Q10: 454497 | R10: 4346393064149370 | S10: OK-DELIVERED | T10: =IFERROR(AND(MATCH(R10,'Anomalies C'!C:C,0),MATCH(R10,'Anomalies T'!C:C,0)),"")
A11: DSP | B11: EXADIS ST PRIEST | C11: TNT NATIONAL | D11: EXPRESS | E11: 1 | F11: 1.4740 | G11: 03869504000001 | H11: FIRST STOP | I11: ARDECHE PNEUS SERVICES | J11: 732 RUE DE LA REPUBLIQUE | L11: 07430 | M11: DAVEZIEUX | O11: 2018-01-02 08:03:47.000 | P11: 2018-01-02 21:16:08.927 | Q11: 454498 | R11: 0746393064148302 | S11: OK-DELIVERED | T11: =IFERROR(AND(MATCH(R11,'Anomalies C'!C:C,0),MATCH(R11,'Anomalies T'!C:C,0)),"")
A12: DLI | B12: EXADIS LESQUIN | C12: ILLICO DLI | D12: MESSAGERIE | E12: 4 | F12: 17.7590 | G12: 03350486F486 | H12: MIDAS - ZA DE L EPINETTE | I12: SOMECAR | J12: 205 RUE DE L INDUSTRIE | L12: 59113 | M12: SECLIN | O12: 2018-01-02 08:03:52.000 | P12: 2018-01-02 11:40:29.357 | Q12: 454499 | R12: *5911399999920007500454499001300 | S12: RAC | T12: =IFERROR(AND(MATCH(R12,'Anomalies C'!C:C,0),MATCH(R12,'Anomalies T'!C:C,0)),"")
A13: DLI | B13: EXADIS LESQUIN | C13: ILLICO DLI | D13: MESSAGERIE | E13: 4 | F13: 17.7590 | G13: 03350486F486 | H13: MIDAS - ZA DE L EPINETTE | I13: SOMECAR | J13: 205 RUE DE L INDUSTRIE | L13: 59113 | M13: SECLIN | O13: 2018-01-02 08:03:52.000 | P13: 2018-01-02 11:40:29.357 | Q13: 454499 | R13: *5911399999920007500454499002300 | S13: RAC | T13: =IFERROR(AND(MATCH(R13,'Anomalies C'!C:C,0),MATCH(R13,'Anomalies T'!C:C,0)),"")
A14: DLI | B14: EXADIS LESQUIN | C14: ILLICO DLI | D14: MESSAGERIE | E14: 4 | F14: 17.7590 | G14: 03350486F486 | H14: MIDAS - ZA DE L EPINETTE | I14: SOMECAR | J14: 205 RUE DE L INDUSTRIE | L14: 59113 | M14: SECLIN | O14: 2018-01-02 08:03:52.000 | P14: 2018-01-02 11:40:29.357 | Q14: 454499 | R14: *5911399999920007500454499003300 | S14: RAC | T14: =IFERROR(AND(MATCH(R14,'Anomalies C'!C:C,0),MATCH(R14,'Anomalies T'!C:C,0)),"")
A15: DLI | B15: EXADIS LESQUIN | C15: ILLICO DLI | D15: MESSAGERIE | E15: 4 | F15: 17.7590 | G15: 03350486F486 | H15: MIDAS - ZA DE L EPINETTE | I15: SOMECAR | J15: 205 RUE DE L INDUSTRIE | L15: 59113 | M15: SECLIN | O15: 2018-01-02 08:03:52.000 | P15: 2018-01-02 11:40:29.357 | Q15: 454499 | R15: *5911399999920007500454499004300 | S15: RAC | T15: =IFERROR(AND(MATCH(R15,'Anomalies C'!C:C,0),MATCH(R15,'Anomalies T'!C:C,0)),"")
A16: DLI | B16: EXADIS LESQUIN | C16: ILLICO DLI | D16: MESSAGERIE | E16: 1 | F16: 18.4100 | G16: 03422149217 | H16: MIDAS VALENCIENNES | I16: 2 AVENUE DU SERGENT CAIRNS | L16: 59300 | M16: VALENCIENNES | O16: 2018-01-02 08:05:11.000 | P16: 2018-01-02 11:40:29.357 | Q16: 454500 | R16: *5930099999920007500454500001300 | S16: RAC | T16: =IFERROR(AND(MATCH(R16,'Anomalies C'!C:C,0),MATCH(R16,'Anomalies T'!C:C,0)),"")
A17: DSP | B17: EXADIS ST PRIEST | C17: TNT NATIONAL | D17: EXPRESS | E17: 5 | F17: 17.3760 | G17: 0342713235 | H17: AYME PNEUS MONTELIMAR 35 | I17: 18 AVENUE DE GOURNIER - ZI SUD | L17: 26200 | M17: MONTELIMAR | O17: 2018-01-02 08:06:00.000 | P17: 2018-01-02 21:16:08.927 | Q17: 454501 | R17: 2646393064148312 | S17: DN-NC-DELIV | T17: =IFERROR(AND(MATCH(R17,'Anomalies C'!C:C,0),MATCH(R17,'Anomalies T'!C:C,0)),"")
A18: DSP | B18: EXADIS ST PRIEST | C18: TNT NATIONAL | D18: EXPRESS | E18: 5 | F18: 17.3760 | G18: 0342713235 | H18: AYME PNEUS MONTELIMAR 35 | I18: 18 AVENUE DE GOURNIER - ZI SUD | L18: 26200 | M18: MONTELIMAR | O18: 2018-01-02 08:06:00.000 | P18: 2018-01-02 21:16:08.927 | Q18: 454501 | R18: 2646393064153239 | S18: DN-NC-DELIV | T18: =IFERROR(AND(MATCH(R18,'Anomalies C'!C:C,0),MATCH(R18,'Anomalies T'!C:C,0)),"")
A19: DSP | B19: EXADIS ST PRIEST | C19: TNT NATIONAL | D19: EXPRESS | E19: 5 | F19: 17.3760 | G19: 0342713235 | H19: AYME PNEUS MONTELIMAR 35 | I19: 18 AVENUE DE GOURNIER - ZI SUD | L19: 26200 | M19: MONTELIMAR | O19: 2018-01-02 08:06:00.000 | P19: 2018-01-02 21:16:08.927 | Q19: 454501 | R19: 2646393064153245 | S19: DN-NC-DELIV | T19: =IFERROR(AND(MATCH(R19,'Anomalies C'!C:C,0),MATCH(R19,'Anomalies T'!C:C,0)),"")
A20: DSP | B20: EXADIS ST PRIEST | C20: TNT NATIONAL | D20: EXPRESS | E20: 5 | F20: 17.3760 | G20: 0342713235 | H20: AYME PNEUS MONTELIMAR 35 | I20: 18 AVENUE DE GOURNIER - ZI SUD | L20: 26200 | M20: MONTELIMAR | O20: 2018-01-02 08:06:00.000 | P20: 2018-01-02 21:16:08.927 | Q20: 454501 | R20: 2646393064153251 | S20: DN-NC-DELIV | T20: =IFERROR(AND(MATCH(R20,'Anomalies C'!C:C,0),MATCH(R20,'Anomalies T'!C:C,0)),"")
A21: DSP | B21: EXADIS ST PRIEST | C21: TNT NATIONAL | D21: EXPRESS | E21: 5 | F21: 17.3760 | G21: 0342713235 | H21: AYME PNEUS MONTELIMAR 35 | I21: 18 AVENUE DE GOURNIER - ZI SUD | L21: 26200 | M21: MONTELIMAR | O21: 2018-01-02 08:06:00.000 | P21: 2018-01-02 21:16:08.927 | Q21: 454501 | R21: 2646393064153268 | S21: DN-NC-DELIV | T21: =IFERROR(AND(MATCH(R21,'Anomalies C'!C:C,0),MATCH(R21,'Anomalies T'!C:C,0)),"")
A22: DLI | B22: EXADIS LESQUIN | C22: FRANCE EXPRESS DLI | D22: CXI | E22: 4 | F22: 25.3240 | G22: 03350502F502 | H22: MIDAS -F502- | I22: LOISINORD AUTO | J22: ZI LOISINORD-146 BIS RUE LEON BLUM | L22: 62290 | M22: NOEUX LES MINES | O22: 2018-01-02 08:07:05.000 | P22: 2018-01-02 11:08:28.563 | Q22: 454502 | R22: 12040593253000027004545020011623 | S22: OK-DELIVERED | T22: =IFERROR(AND(MATCH(R22,'Anomalies C'!C:C,0),MATCH(R22,'Anomalies T'!C:C,0)),"")
A23: DLI | B23: EXADIS LESQUIN | C23: FRANCE EXPRESS DLI | D23: CXI | E23: 4 | F23: 25.3240 | G23: 03350502F502 | H23: MIDAS -F502- | I23: LOISINORD AUTO | J23: ZI LOISINORD-146 BIS RUE LEON BLUM | L23: 62290 | M23: NOEUX LES MINES | O23: 2018-01-02 08:07:05.000 | P23: 2018-01-02 11:08:28.563 | Q23: 454502 | R23: 12040593253000027004545020021622 | S23: OK-DELIVERED | T23: =IFERROR(AND(MATCH(R23,'Anomalies C'!C:C,0),MATCH(R23,'Anomalies T'!C:C,0)),"")
A24: DLI | B24: EXADIS LESQUIN | C24: FRANCE EXPRESS DLI | D24: CXI | E24: 4 | F24: 25.3240 | G24: 03350502F502 | H24: MIDAS -F502- | I24: LOISINORD AUTO | J24: ZI LOISINORD-146 BIS RUE LEON BLUM | L24: 62290 | M24: NOEUX LES MINES | O24: 2018-01-02 08:07:05.000 | P24: 2018-01-02 11:08:28.563 | Q24: 454502 | R24: 12040593253000027004545020031621 | S24: OK-DELIVERED | T24: =IFERROR(AND(MATCH(R24,'Anomalies C'!C:C,0),MATCH(R24,'Anomalies T'!C:C,0)),"")
A25: DLI | B25: EXADIS LESQUIN | C25: FRANCE EXPRESS DLI | D25: CXI | E25: 4 | F25: 25.3240 | G25: 03350502F502 | H25: MIDAS -F502- | I25: LOISINORD AUTO | J25: ZI LOISINORD-146 BIS RUE LEON BLUM | L25: 62290 | M25: NOEUX LES MINES | O25: 2018-01-02 08:07:05.000 | P25: 2018-01-02 11:08:28.563 | Q25: 454502 | R25: 12040593253000027004545020041620 | S25: OK-DELIVERED | T25: =IFERROR(AND(MATCH(R25,'Anomalies C'!C:C,0),MATCH(R25,'Anomalies T'!C:C,0)),"")
A26: DSP | B26: EXADIS ST PRIEST | C26: FRANCE EXPRESS | D26: CXI | E26: 1 | F26: 1.9120 | G26: 03350542F542 | H26: MIDAS - F542 - | I26: AXENT LES ARAVIS | J26: ROUTE D'ANNECY | L26: 74230 | M26: THONES | O26: 2018-01-02 08:07:33.000 | P26: 2018-01-02 09:57:09.660 | Q26: 454503 | R26: 12040692338800027100019060011749 | S26: OK-DELIVERED | T26: =IFERROR(AND(MATCH(R26,'Anomalies C'!C:C,0),MATCH(R26,'Anomalies T'!C:C,0)),"")
A27: DSPOA | B27: ORIGIN AUTO ST PRIEST | C27: TNT NATIONAL DSP AM | D27: EXPRESS J | E27: 1 | F27: .1060 | G27: 03875882000761 | H27: SARL SMVO-PRIOULT | I27: RUE DU PRESIDENT JOHN KENNEDY LE DO | L27: 50720 | M27: BARENTON | O27: 2018-01-02 08:08:51.000 | P27: 2018-01-04 14:58:56.957 | Q27: 454504 | R27: 5046393135001909 | S27: RAC | T27: =IFERROR(AND(MATCH(R27,'Anomalies C'!C:C,0),MATCH(R27,'Anomalies T'!C:C,0)),"")
A28: DSP | B28: EXADIS ST PRIEST | C28: TNT NATIONAL | D28: EXPRESS | E28: 1 | F28: 6.8070 | G28: 03422149385 | H28: MIDAS GRENOBLE GRAND PLACE | I28: 53 GRAN PLACE | L28: 38000 | M28: GRENOBLE | O28: 2018-01-02 08:09:43.000 | P28: 2018-01-02 21:16:08.927 | Q28: 454505 | R28: 3846393064148329 | S28: OK-DELIVERED | T28: =IFERROR(AND(MATCH(R28,'Anomalies C'!C:C,0),MATCH(R28,'Anomalies T'!C:C,0)),"")
A29: DGN | B29: EXADIS GENNEVILLIERS | C29: AMEX GEM DGN | D29: STANDARD | E29: 2 | F29: 15.7290 | G29: 03422149286 | H29: MIDAS CHAMBOURCY | I29: 7 RUE DU MUR DU PARC | L29: 78240 | M29: CHAMBOURCY | O29: 2018-01-02 08:11:19.000 | P29: 2018-01-02 09:43:17.747 | Q29: 454506 | R29: *7824099999912346500059998001300 | S29: RAC | T29: =IFERROR(AND(MATCH(R29,'Anomalies C'!C:C,0),MATCH(R29,'Anomalies T'!C:C,0)),"")
A30: DGN | B30: EXADIS GENNEVILLIERS | C30: AMEX GEM DGN | D30: STANDARD | E30: 2 | F30: 15.7290 | G30: 03422149286 | H30: MIDAS CHAMBOURCY | I30: 7 RUE DU MUR DU PARC | L30: 78240 | M30: CHAMBOURCY | O30: 2018-01-02 08:11:19.000 | P30: 2018-01-02 09:43:17.747 | Q30: 454506 | R30: *7824099999912346500059998002300 | S30: RAC | T30: =IFERROR(AND(MATCH(R30,'Anomalies C'!C:C,0),MATCH(R30,'Anomalies T'!C:C,0)),"")
A31: DSP | B31: EXADIS ST PRIEST | C31: TNT NATIONAL | D31: EXPRESS | E31: 5 | F31: 18.2660 | G31: 03879867000001 | H31: SYTING | I31: ROADY -07896- | J31: 66 AVENUE GEORGES CLEMENCEAU | L31: 69230 | M31: ST GENIS LAVAL | O31: 2018-01-02 08:12:03.000 | P31: 2018-01-02 21:16:08.927 | Q31: 454508 | R31: 6946393064148339 | S31: DN-NC-DELIV | T31: =IFERROR(AND(MATCH(R31,'Anomalies C'!C:C,0),MATCH(R31,'Anomalies T'!C:C,0)),"")
A32: DSP | B32: EXADIS ST PRIEST | C32: TNT NATIONAL | D32: EXPRESS | E32: 5 | F32: 18.2660 | G32: 03879867000001 | H32: SYTING | I32: ROADY -07896- | J32: 66 AVENUE GEORGES CLEMENCEAU | L32: 69230 | M32: ST GENIS LAVAL | O32: 2018-01-02 08:12:03.000 | P32: 2018-01-02 21:16:08.927 | Q32: 454508 | R32: 6946393064149161 | S32: DN-NC-DELIV | T32: =IFERROR(AND(MATCH(R32,'Anomalies C'!C:C,0),MATCH(R32,'Anomalies T'!C:C,0)),"")
A33: DSP | B33: EXADIS ST PRIEST | C33: TNT NATIONAL | D33: EXPRESS | E33: 5 | F33: 18.2660 | G33: 03879867000001 | H33: SYTING | I33: ROADY -07896- | J33: 66 AVENUE GEORGES CLEMENCEAU | L33: 69230 | M33: ST GENIS LAVAL | O33: 2018-01-02 08:12:03.000 | P33: 2018-01-02 21:16:08.927 | Q33: 454508 | R33: 6946393064149178 | S33: DN-NC-DELIV | T33: =IFERROR(AND(MATCH(R33,'Anomalies C'!C:C,0),MATCH(R33,'Anomalies T'!C:C,0)),"")
A34: DSP | B34: EXADIS ST PRIEST | C34: TNT NATIONAL | D34: EXPRESS | E34: 5 | F34: 18.2660 | G34: 03879867000001 | H34: SYTING | I34: ROADY -07896- | J34: 66 AVENUE GEORGES CLEMENCEAU | L34: 69230 | M34: ST GENIS LAVAL | O34: 2018-01-02 08:12:03.000 | P34: 2018-01-02 21:16:08.927 | Q34: 454508 | R34: 6946393064149184 | S34: DN-NC-DELIV | T34: =IFERROR(AND(MATCH(R34,'Anomalies C'!C:C,0),MATCH(R34,'Anomalies T'!C:C,0)),"")
A35: DSP | B35: EXADIS ST PRIEST | C35: TNT NATIONAL | D35: EXPRESS | E35: 5 | F35: 18.2660 | G35: 03879867000001 | H35: SYTING | I35: ROADY -07896- | J35: 66 AVENUE GEORGES CLEMENCEAU | L35: 69230 | M35: ST GENIS LAVAL | O35: 2018-01-02 08:12:03.000 | P35: 2018-01-02 21:16:08.927 | Q35: 454508 | R35: 6946393064149300 | S35: DN-NC-DELIV | T35: =IFERROR(AND(MATCH(R35,'Anomalies C'!C:C,0),MATCH(R35,'Anomalies T'!C:C,0)),"")
A36: DGN | B36: EXADIS GENNEVILLIERS | C36: AMEX GEM DGN | D36: STANDARD | E36: 3 | F36: 15.7700 | G36: 03350587F587 | H36: DIAB - F587 - | I36: MIDAS | J36: STATION ESSO SERVICE | K36: 27-29 BOULEVARD CLEMENCEAU | L36: 95240 | M36: CORMEILLES EN PARISIS | O36: 2018-01-02 08:13:36.000 | P36: 2018-01-02 09:43:17.747 | Q36: 454509 | R36: *9524099999912346500059999001300 | S36: RAC | T36: =IFERROR(AND(MATCH(R36,'Anomalies C'!C:C,0),MATCH(R36,'Anomalies T'!C:C,0)),"")
A37: DGN | B37: EXADIS GENNEVILLIERS | C37: AMEX GEM DGN | D37: STANDARD | E37: 3 | F37: 15.7700 | G37: 03350587F587 | H37: DIAB - F587 - | I37: MIDAS | J37: STATION ESSO SERVICE | K37: 27-29 BOULEVARD CLEMENCEAU | L37: 95240 | M37: CORMEILLES EN PARISIS | O37: 2018-01-02 08:13:36.000 | P37: 2018-01-02 09:43:17.747 | Q37: 454509 | R37: *9524099999912346500059999002300 | S37: RAC | T37: =IFERROR(AND(MATCH(R37,'Anomalies C'!C:C,0),MATCH(R37,'Anomalies T'!C:C,0)),"")
A38: DGN | B38: EXADIS GENNEVILLIERS | C38: AMEX GEM DGN | D38: STANDARD | E38: 3 | F38: 15.7700 | G38: 03350587F587 | H38: DIAB - F587 - | I38: MIDAS | J38: STATION ESSO SERVICE | K38: 27-29 BOULEVARD CLEMENCEAU | L38: 95240 | M38: CORMEILLES EN PARISIS | O38: 2018-01-02 08:13:36.000 | P38: 2018-01-02 09:43:17.747 | Q38: 454509 | R38: *9524099999912346500059999003300 | S38: RAC | T38: =IFERROR(AND(MATCH(R38,'Anomalies C'!C:C,0),MATCH(R38,'Anomalies T'!C:C,0)),"")
A39: DSP | B39: EXADIS ST PRIEST | C39: TNT NATIONAL | D39: EXPRESS | E39: 7 | F39: 21.3270 | G39: 03856272013464 | H39: SORECA AUTOMOBILES - LONS | I39: LONS - GROUPE DEFFEUILLE | J39: 47 AVENUE CAMILLE PROST | L39: 39000 | M39: LONS LE SAUNIER | O39: 2018-01-02 08:14:53.000 | P39: 2018-01-02 21:16:08.927 | Q39: 454510 | R39: 3946393064148349 | S39: DN-NC-DELIV | T39: =IFERROR(AND(MATCH(R39,'Anomalies C'!C:C,0),MATCH(R39,'Anomalies T'!C:C,0)),"")
A40: DSP | B40: EXADIS ST PRIEST | C40: TNT NATIONAL | D40: EXPRESS | E40: 7 | F40: 21.3270 | G40: 03856272013464 | H40: SORECA AUTOMOBILES - LONS | I40: LONS - GROUPE DEFFEUILLE | J40: 47 AVENUE CAMILLE PROST | L40: 39000 | M40: LONS LE SAUNIER | O40: 2018-01-02 08:14:53.000 | P40: 2018-01-02 21:16:08.927 | Q40: 454510 | R40: 3946393064150196 | S40: DN-NC-DELIV | T40: =IFERROR(AND(MATCH(R40,'Anomalies C'!C:C,0),MATCH(R40,'Anomalies T'!C:C,0)),"")
...

Sheet Anomalies C
A1: Date | B1: depot | C1: BT | D1: DESTINATAIRE | E1: DEPARTEMENT | F1: VILLE | G1: INDEX | H1: PRESTATION
B2: 02449 | C2: 2449000053324 | D2: AYME ET FILS SA | E2: 3500 | F2: ST POURCAIN SUR SIOULE | G2: 455158 | H2: 1 | I2: =MATCH(C2,'Expedition Janvier'!R:R,0) -> #N/A
B3: 48487 | C3: 48487000031414 | D3: FMC BYMYCAR LYON | E3: 69200 | F3: VENISSIEUX | G3: 455118 | H3: 1 | I3: =MATCH(C3,'Expedition Janvier'!R:R,0) -> #N/A
B4: 48487 | C4: 48487000031455 | D4: ETS CHENOT | E4: 11100 | F4: NARBONNE | G4: 455722 | H4: 1 | I4: =MATCH(C4,'Expedition Janvier'!R:R,0) -> #N/A
B5: 48487 | C5: 48487000031475 | D5: .SEGALAUTO | E5: 7300 | F5: ST JEAN DE MUZOLS | G5: 456013 | H5: 1 | I5: =MATCH(C5,'Expedition Janvier'!R:R,0) -> #N/A
B6: 48487 | C6: 48487000031505 | D6: ROADY - 06798 - | E6: 64121 | F6: SERRES CASTET | G6: 456233 | H6: 1 | I6: =MATCH(C6,'Expedition Janvier'!R:R,0) -> #N/A
B7: 2449 | C7: 2449000053499 | D7: COACH CAR SERVICES | E7: 67200 | F7: STRASBOURG | G7: 40790639 | H7: 1 | I7: =MATCH(C7,'Expedition Janvier'!R:R,0) -> #N/A
B8: 48487 | C8: 48487000031547 | D8: ETS CHENOT | E8: 11100 | F8: NARBONNE | G8: 457451 | H8: 1 | I8: =MATCH(C8,'Expedition Janvier'!R:R,0) -> #N/A
B9: 48488 | C9: 48488000003251 | D9: ROSETTA | E9: 40100 | F9: DAX | G9: 457296 | H9: 1 | I9: =MATCH(C9,'Expedition Janvier'!R:R,0) -> #N/A
B10: 48488 | C10: 8046392325097167 | D10: CENTRE D AGOSTINO FUSIER -F378- | E10: 25300 | F10: PONTARLIER | G10: 457563 | H10: 1 | I10: =MATCH(C10,'Expedition Janvier'!R:R,0) -> 9
B11: 48490 | C11: 48490000008128 | D11: FRANCE DEPANNAGE AUTO | E11: 77500 | F11: CHELLES | G11: 457369 | H11: 1 | I11: =MATCH(C11,'Expedition Janvier'!R:R,0) -> #N/A
B12: 48491 | C12: 48491000004007 | D12: BAUDRY AUTOMOBILES | E12: 85000 | F12: LA ROCHE SUR YON | G12: 40792193 | H12: 1 | I12: =MATCH(C12,'Expedition Janvier'!R:R,0) -> #N/A
B13: 2449 | C13: 2449000053619 | D13: BOURGOIN PIECES AUTO | E13: 38300 | F13: BOURGOIN JALLIEU | G13: 458833 | H13: 110 | I13: =MATCH(C13,'Expedition Janvier'!R:R,0) -> #N/A
B14: 2449 | C14: 2449000053702 | D14: BOURGOIN PIECES AUTO | E14: 38300 | F14: BOURGOIN JALLIEU | G14: 0040788261/2 | H14: 110 | I14: =MATCH(C14,'Expedition Janvier'!R:R,0) -> #N/A
B15: 48487 | C15: 48487000031636 | D15: E.F. PIECES AUTO MONTELIMAR | E15: 26200 | F15: MONTELIMAR | G15: 458971 | H15: 1 | I15: =MATCH(C15,'Expedition Janvier'!R:R,0) -> #N/A
B16: 48487 | C16: 48487000031684 | D16: TELOO | E16: 89300 | F16: JOIGNY | G16: 458831 | H16: 1 | I16: =MATCH(C16,'Expedition Janvier'!R:R,0) -> #N/A
B17: 48488 | C17: 48488000003264 | D17: CENTRE D AGOSTINO FUSIER -F378- | E17: 25300 | F17: PONTARLIER | G17: 457563 | H17: 1 | I17: =MATCH(C17,'Expedition Janvier'!R:R,0) -> #N/A
B18: 48489 | C18: 48489000005808 | D18: MOBICAR'S | E18: 59480 | F18: LA BASSEE | G18: 459004 | H18: 1 | I18: =MATCH(C18,'Expedition Janvier'!R:R,0) -> #N/A
B19: 48489 | C19: 48489000005826 | D19: ETS DELESCLUSE | E19: 59300 | F19: VALENCIENNES | G19: 459618 | H19: 1 | I19: =MATCH(C19,'Expedition Janvier'!R:R,0) -> #N/A
B20: 48489 | C20: 48489000005829 | D20: CAROMAR SA | E20: 29300 | F20: MELLAC | G20: 459667 | H20: 1 | I20: =MATCH(C20,'Expedition Janvier'!R:R,0) -> #N/A
B21: 49242 | C21: 49242000001754 | D21: LOUTOM | E21: 86000 | F21: POITIERS | G21: 459931 | H21: 1 | I21: =MATCH(C21,'Expedition Janvier'!R:R,0) -> #N/A
B22: 49242 | C22: 49242000001757 | D22: SPEEDY FRANCE SAS | E22: 59500 | F22: DOUAI | G22: 460980 | H22: 1 | I22: =MATCH(C22,'Expedition Janvier'!R:R,0) -> #N/A
B23: 49242 | C23: 49242000001761 | D23: FUSION CINQ -F073- | E23: 45000 | F23: ORLEANS | G23: 461156 | H23: 109 | I23: =MATCH(C23,'Expedition Janvier'!R:R,0) -> #N/A
B24: 48487 | C24: 48487000031941 | D24: TELOO | E24: 89300 | F24: JOIGNY | G24: 463577 | H24: 1 | I24: =MATCH(C24,'Expedition Janvier'!R:R,0) -> #N/A
B25: 48487 | C25: 48487000031947 | D25: TROYES AUBE SERVICE SARL -F088- | E25: 10000 | F25: TROYES | G25: 463620 | H25: 1 | I25: =MATCH(C25,'Expedition Janvier'!R:R,0) -> #N/A
B26: 48488 | C26: 48488000003299 | D26: APLPB AUTO PIECES LYON PAUL BERT | E26: 69003 | F26: LYON 03 | G26: 462978 | H26: 1 | I26: =MATCH(C26,'Expedition Janvier'!R:R,0) -> #N/A
... B61: 2449 | C61: 2449000054728 | D61: CHALON PIECES AUTO | E61: 71100 | F61: CHALON SUR SAONE | G61: 469596 | H61: 1 | I61: =MATCH(C61,'Expedition Janvier'!R:R,0) -> #N/A
A62: 43116 | B62: 02237 | C62: 2237000013319 | D62: EURL BEDIGIAN ANTRANIG | E62: 25700 | F62: VALENTIGNEY | G62: 471811 | H62: 1 | I62: =MATCH(C62,'Expedition Janvier'!R:R,0) -> #N/A
A63: 43116 | B63: 2449 | C63: 2449000054930 | D63: AUTOMOBILES PALAU 24000 | E63: 33520 | F63: BRUGES | G63: 471579 | H63: 109 | I63: =MATCH(C63,'Expedition Janvier'!R:R,0) -> #N/A
A64: 43116 | B64: 2449 | C64: 2449000055008 | D64: AB AUTO SERVICES | E64: 66200 | F64: ELNE | G64: 472381 | H64: 109 | I64: =MATCH(C64,'Expedition Janvier'!R:R,0) -> #N/A
A65: 43116 | B65: 2449 | C65: 2449000055093 | D65: CONTACT AUTOPIECES | E65: 59570 | F65: LA LONGUEVILLE | G65: 472583 | H65: 1 | I65: =MATCH(C65,'Expedition Janvier'!R:R,0) -> #N/A
A66: 43116 | B66: 48488 | C66: 48488000003378 | D66: MICEJE | E66: 8140 | F66: BAZEILLES | G66: 471594 | H66: 110 | I66: =MATCH(C66,'Expedition Janvier'!R:R,0) -> #N/A
A67: 43116 | B67: 48488 | C67: 48488000003391 | D67: MICEJE | E67: 8140 | F67: BAZEILLES | G67: 471594 | H67: 110 | I67: =MATCH(C67,'Expedition Janvier'!R:R,0) -> #N/A
A68: 43116 | B68: 48488 | C68: 48488000003392 | D68: MICEJE | E68: 8140 | F68: BAZEILLES | G68: 471594 | H68: 110 | I68: =MATCH(C68,'Expedition Janvier'!R:R,0) -> #N/A
A69: 43116 | B69: 48489 | C69: 48489000006032 | D69: PIECES AUTO CENTER | E69: 59280 | F69: ARMENTIERES | G69: 471183 | H69: 1 | I69: =MATCH(C69,'Expedition Janvier'!R:R,0) -> #N/A
A70: 43116 | B70: 48489 | C70: 48489000006034 | D70: LE REMPART SARL -F446- | E70: 59163 | F70: CONDE SUR L ESCAUT | G70: 471193 | H70: 1 | I70: =MATCH(C70,'Expedition Janvier'!R:R,0) -> #N/A
A71: 43116 | B71: 48489 | C71: 48489000006058 | D71: PIECES AUTO 44 | E71: 44320 | F71: ST PERE EN RETZ | G71: 471673 | H71: 1 | I71: =MATCH(C71,'Expedition Janvier'!R:R,0) -> #N/A
A72: 43116 | B72: 48489 | C72: 48489000006062 | D72: ROADY - 01419 - | E72: 61300 | F72: L AIGLE | G72: 471768 | H72: 1 | I72: =MATCH(C72,'Expedition Janvier'!R:R,0) -> #N/A
A73: 43116 | B73: 48489 | C73: 48489000006064 | D73: ROADY - 01419 - | E73: 61300 | F73: L AIGLE | G73: 471768 | H73: 1 | I73: =MATCH(C73,'Expedition Janvier'!R:R,0) -> #N/A
A74: 43116 | B74: 48489 | C74: 48489000006066 | D74: AUTO CONTACT | E74: 59162 | F74: OSTRICOURT | G74: 472129 | H74: 1 | I74: =MATCH(C74,'Expedition Janvier'!R:R,0) -> #N/A
...

Sheet Anomalies T
A1: Date PEC (YYYY-MM-DD) | B1: No client | C1: BT Origine | D1: Ref. client | E1: Nom dest. | F1: Addr. 1 dest. | G1: Addr. 2 dest. | H1: C.Postal dest. | I1: Ville dest. | J1: Code Produit | K1: Status | L1: Motif Instance | M1: Descr.Motif | N1: Actions menée par TNT
A2: 2018-01-02 | B2: 06304103 | C2: 0646304103875968 | D2: 40779790 | E2: FEU VERT | F2: CENTRE AUTO DE VILLENEUVE LOUB | G2: AV DES ANCIENS COMBATTANTS | H2: 06270 | I2: VILLENEUVE LOUBET | J2: J | K2: Non mis en distr. | L2: - | M2: - | N2: -
A3: 2018-01-02 | B3: 06304103 | C3: 0646304103876064 | D3: 40781128 | E3: NORAUTO | F3: NORAUTO NICE -106- | G3: 590 RTE GRENOBLE CC FORUM LING | H3: 06200 | I3: NICE | J3: J | K3: Non mis en distr. | L3: - | M3: - | N3: -
A4: 2018-01-02 | B4: 06304103 | C4: 2946304103876228 | D4: 40780225 | E4: NORAUTO | F4: NORAUTO BREST -112- | G4: AVENUE DE TALLINN LA CAVALE BL | H4: 29200 | I4: BREST | J4: J | K4: En Cours | L4: - | M4: - | N4: livraison le 04/01
A5: 2018-01-02 | B5: 06304103 | C5: 2946304103876424 | D5: 40782907 | E5: STE PRAT PNEUS | F5: ROUTE DE CHATEAULIN | G5: - | H5: 29160 | I5: CROZON | J5: J | K5: En Cours | L5: - | M5: - | N5: livraison le 04/01
A6: 2018-01-02 | B6: 06304103 | C6: 2946304103876435 | D6: 40782907 | E6: STE PRAT PNEUS | F6: ROUTE DE CHATEAULIN | G6: - | H6: 29160 | I6: CROZON | J6: J | K6: En Cours | L6: - | M6: - | N6: livraison le 04/01
A7: 2018-01-02 | B7: 06304103 | C7: 2946304103876447 | D7: 40782907 | E7: STE PRAT PNEUS | F7: ROUTE DE CHATEAULIN | G7: - | H7: 29160 | I7: CROZON | J7: J | K7: En Cours | L7: - | M7: - | N7: livraison le 04/01
A8: 2018-01-02 | B8: 06304103 | C8: 2946304103876453 | D8: 40782907 | E8: STE PRAT PNEUS | F8: ROUTE DE CHATEAULIN | G8: - | H8: 29160 | I8: CROZON | J8: J | K8: En Cours | L8: - | M8: - | N8: livraison le 04/01
A9: 2018-01-02 | B9: 06304103 | C9: 2946304103876919 | D9: 40786195 | E9: NORAUTO FRANCE | F9: ZAC DE TY MENEZ | G9: - | H9: 29470 | I9: PLOUGASTEL DAOULAS | J9: J | K9: En Cours | L9: - | M9: - | N9: livraison le 04/01
A10: 2018-01-02 | B10: 06304103 | C10: 7446304103876235 | D10: 40780266 | E10: FASTAUTO 74 | F10: NORAUTO LA ROCHE SUR FORON-023 | G10: ZA DU QUARRE | H10: 74800 | I10: LA ROCHE SUR FORON | J10: J | K10: Non mis en distr. | L10: - | M10: - | N10: -
A11: 2018-01-02 | B11: 06304103 | C11: 9546304103876072 | D11: 40781151 | E11: NORAUTO | F11: NORAUTO OSNY -111- | G11: PARC D ACTIVITE L OSERAIE | H11: 95520 | I11: OSNY | J11: J | K11: Non mis en distr. | L11: V | M11: RV NECESSAIRE | N11: livraison le 04/01
A12: 2018-01-02 | B12: 06392325 | C12: 8046392325097167 | D12: 455479 | E12: ENTRETIEN AUTOMOBILE MANSART -F3 | F12: MIDAS | G12: 69 RUE DU CHATEAU MILAN | H12: 80000 | I12: AMIENS | J12: J | K12: Non Connu | L12: E | M12: PB ETIQUETAG | N12: non lu, non remis à TNT | O12: =MATCH(C12,'Expedition Janvier'!R:R,0) -> 9
A13: 2018-01-02 | B13: 06392325 | C13: 8346392325097198 | D13: 455883 | E13: NORAUTO FRANCE | F13: NORAUTO CALLIAN | G13: PLAN DE LA GRANDE VIGNE | H13: 83440 | I13: CALLIAN | J13: J | K13: Non mis en distr. | L13: - | M13: - | N13: - | O13: =MATCH(C13,'Expedition Janvier'!R:R,0) -> 2296
A14: 2018-01-02 | B14: 06392326 | C14: 0146392326767379 | D14: 456048 | E14: KPX PARTS | F14: PEPINIERE ENTREPRISE | G14: 1066 ROUTE DE VAUX | H14: 01380 | I14: BAGE LA VILLE | J14: J | K14: Non mis en distr. | L14: J | M14: EMBAL. ENDOMMAG | N14: livraison le 04/01 | O14: =MATCH(C14,'Expedition Janvier'!R:R,0) -> 2522
A15: 2018-01-02 | B15: 06392326 | C15: 0646392326765939 | D15: - | E15: - | F15: - | G15: - | H15: - | I15: - | J15: J | K15: Non mis en distr. | L15: - | M15: - | N15: -
A16: 2018-01-02 | B16: 06392326 | C16: 0946392326766763 | D16: 455787 | E16: AUTO SERVICES MURET | F16: VILLAGE AUTOMOBILE | G16: LES CANOUNGES | H16: 09100 | I16: PAMIERS | J16: J | K16: En Cours | L16: - | M16: - | N16: livraison le 04/01 | O16: =MATCH(C16,'Expedition Janvier'!R:R,0) -> 2167
A17: 2018-01-02 | B17: 06392326 | C17: 1746392326765827 | D17: 455314 | E17: GARAGE DE LA MARINE -F425- | F17: MIDAS -F425- | G17: RUE VILLENEUVE MONTIGNY | H17: 17300 | I17: ROCHEFORT | J17: J | K17: Non mis en distr. | L17: - | M17: - | N17: - | O17: =MATCH(C17,'Expedition Janvier'!R:R,0) -> 1396
A18: 2018-01-02 | B18: 06392326 | C18: 2946392326765418 | D18: 455169 | E18: WEST ALBATROS - F566 - | F18: MIDAS | G18: ZA DE KEROUANT | H18: 29120 | I18: PONT L ABBE | J18: J | K18: Non mis en distr. | L18: - | M18: - | N18: - | O18: =MATCH(C18,'Expedition Janvier'!R:R,0) -> 1140
A19: 2018-01-02 | B19: 06392326 | C19: 2946392326765424 | D19: 455169 | E19: WEST ALBATROS - F566 - | F19: MIDAS | G19: ZA DE KEROUANT | H19: 29120 | I19: PONT L ABBE | J19: J | K19: Non mis en distr. | L19: - | M19: - | N19: - | O19: =MATCH(C19,'Expedition Janvier'!R:R,0) -> 1141
A20: 2018-01-02 | B20: 06392326 | C20: 2946392326765689 | D20: 455169 | E20: WEST ALBATROS - F566 - | F20: MIDAS | G20: ZA DE KEROUANT | H20: 29120 | I20: PONT L ABBE | J20: J | K20: Non mis en distr. | L20: - | M20: - | N20: - | O20: =MATCH(C20,'Expedition Janvier'!R:R,0) -> 1142
A21: 2018-01-02 | B21: 06392326 | C21: 2946392326767021 | D21: 455877 | E21: NORAUTO FRANCE | F21: NORAUTO BREST -112- | G21: AVENUE DE TALLINN LA CAVALE BL | H21: 29200 | I21: BREST | J21: J | K21: En Cours | L21: - | M21: - | N21: livraison le 04/01 | O21: =MATCH(C21,'Expedition Janvier'!R:R,0) -> 2289
A22: 2018-01-02 | B22: 06392326 | C22: 3046392326765637 | D22: 455206 | E22: LAURENT ALES | F22: 456 CHEMIN DE LA TOURTUGUE | G22: - | H22: 30100 | I22: ALES | J22: J | K22: Non mis en distr. | L22: T | M22: ERREUR DE TRI | N22: livraison le 04/01 | O22: =MATCH(C22,'Expedition Janvier'!R:R,0) -> 1198
A23: 2018-01-02 | B23: 06392326 | C23: 3546392326767662 | D23: 456119 | E23: CONTACTS AUTOMOBILES | F23: 65 AVENUE GENERAL DE GAULLE | G23: - | H23: 35400 | I23: ST MALO | J23: J | K23: Non mis en distr. | L23: - | M23: - | N23: - | O23: =MATCH(C23,'Expedition Janvier'!R:R,0) -> 2592
A24: 2018-01-02 | B24: 06392326 | C24: 4546392326765743 | D24: 455225 | E24: ELUSA - F591 - | F24: MIDAS | G24: 20 RUE GUSTAVE EIFFEL | H24: 45430 | I24: CHECY | J24: J | K24: Non mis en distr. | L24: - | M24: - | N24: - | O24: =MATCH(C24,'Expedition Janvier'!R:R,0) -> 1239
A25: 2018-01-02 | B25: 06392326 | C25: 6046392326767300 | D25: 456035 | E25: AUTO FLEX | F25: PIECES AUTO FLEX | G25: 4 RUE BLAISE PASCAL | H25: 60100 | I25: CREIL | J25: J | K25: Non mis en distr. | L25: - | M25: - | N25: - | O25: =MATCH(C25,'Expedition Janvier'!R:R,0) -> 2503
A26: 2018-01-02 | B26: 06392326 | C26: 6046392326767316 | D26: 456035 | E26: AUTO FLEX | F26: PIECES AUTO FLEX | G26: 4 RUE BLAISE PASCAL | H26: 60100 | I26: CREIL | J26: J | K26: Non Connu | L26: - | M26: - | N26: non lu, non remis à TNT | O26: =MATCH(C26,'Expedition Janvier'!R:R,0) -> 2504
A27: 2018-01-02 | B27: 06392326 | C27: 6246392326766137 | D27: 455536 | E27: WEPPE SERVICES AUTOMOBILES -F136 | F27: MIDAS -F136- | G27: 75 RUE RENE LANOY | H27: 62300 | I27: LENS | J27: J | K27: Non mis en distr. | L27: - | M27: - | N27: - | O27: =MATCH(C27,'Expedition Janvier'!R:R,0) -> 1753
A28: 2018-01-02 | B28: 06392326 | C28: 6646392326006320 | D28: C000019162 | E28: GAUBERT GEORGES JACQUES | F28: 19 CHEMIN DE LA POUDRIERE | G28: - | H28: 66380 | I28: PIA | J28: J | K28: Non mis en distr. | L28: - | M28: - | N28: -
A29: 2018-01-02 | B29: 06392326 | C29: 6846392326765078 | D29: 455074 | E29: 2 J C -F439- | F29: MIDAS -F439- | G29: 10 ROUTE DE THANN | H29: 68130 | I29: ALTKIRCH | J29: T | K29: Non mis en distr. | L29: - | M29: - | N29: - | O29: =MATCH(C29,'Expedition Janvier'!R:R,0) -> 975
A30: 2018-01-02 | B30: 06392326 | C30: 7546392326766819 | D30: 455799 | E30: DOM AUTO -F289- | F30: MIDAS -F289- | G30: 24 QUAI DES CELESTINS | H30: 75004 | I30: PARIS 04 | J30: J | K30: Non mis en distr. | L30: - | M30: - | N30: - | O30: =MATCH(C30,'Expedition Janvier'!R:R,0) -> 2182
A31: 2018-01-02 | B31: 06392326 | C31: 7546392326767255 | D31: 455799 | E31: DOM AUTO -F289- | F31: MIDAS -F289- | G31: 24 QUAI DES CELESTINS | H31: 75004 | I31: PARIS 04 | J31: J | K31: Non mis en distr. | L31: - | M31: - | N31: - | O31: =MATCH(C31,'Expedition Janvier'!R:R,0) -> 2183
A32: 2018-01-02 | B32: 06392326 | C32: 7546392326767382 | D32: 455799 | E32: DOM AUTO -F289- | F32: MIDAS -F289- | G32: 24 QUAI DES CELESTINS | H32: 75004 | I32: PARIS 04 | J32: J | K32: Non mis en distr. | L32: - | M32: - | N32: - | O32: =MATCH(C32,'Expedition Janvier'!R:R,0) -> 2184
A33: 2018-01-02 | B33: 06392326 | C33: 7546392326767550 | D33: 455799 | E33: DOM AUTO -F289- | F33: MIDAS -F289- | G33: 24 QUAI DES CELESTINS | H33: 75004 | I33: PARIS 04 | J33: J | K33: Non mis en distr. | L33: - | M33: - | N33: - | O33: =MATCH(C33,'Expedition Janvier'!R:R,0) -> 2185
A34: 2018-01-02 | B34: 06392326 | C34: 7646392326766102 | D34: 455391 | E34: NORAUTO FRANCE | F34: NORAUTO MONTIVILLIERS -28- | G34: CC DE LA LEZARDE AUCHAN | H34: 76290 | I34: MONTIVILLIERS | J34: J | K34: Non mis en distr. | L34: - | M34: - | N34: - | O34: =MATCH(C34,'Expedition Janvier'!R:R,0) -> 1522
A35: 2018-01-02 | B35: 06392326 | C35: 7846392326766879 | D35: 455825 | E35: TNT ELANCOURT POUR DISTRIPARTS I | F35: 10RUE MARECHAL DE LATTRE DE TA | G35: - | H35: 78990 | I35: ELANCOURT | J35: J | K35: Non mis en distr. | L35: - | M35: - | N35: - | O35: =MATCH(C35,'Expedition Janvier'!R:R,0) -> 2223
A36: 2018-01-02 | B36: 06392326 | C36: 9146392326767171 | D36: 455688 | E36: ECO PIECES AUTO | F36: EPA | G36: 45 RUE DE L ESSONNE | H36: 91720 | I36: PRUNAY SUR ESSONNE | J36: J | K36: Non Connu | L36: - | M36: - | N36: non lu, non remis à TNT | O36: =MATCH(C36,'Expedition Janvier'!R:R,0) -> 2022
A37: 2018-01-02 | B37: 06392326 | C37: 9146392326767188 | D37: 455688 | E37: ECO PIECES AUTO | F37: EPA | G37: 45 RUE DE L ESSONNE | H37: 91720 | I37: PRUNAY SUR ESSONNE | J37: J | K37: Non Connu | L37: - | M37: - | N37: non lu, non remis à TNT | O37: =MATCH(C37,'Expedition Janvier'!R:R,0) -> 2023
A38: 2018-01-02 | B38: 06392327 | C38: 2946392327188156 | D38: 455389 | E38: AUTO REPAR ROSPORDEN | F38: POINT S | G38: ZA DE DIOULAN | H38: 29140 | I38: ROSPORDEN | J38: J | K38: Non mis en distr. | L38: - | M38: - | N38: - | O38: =MATCH(C38,'Expedition Janvier'!R:R,0) -> 1519
A39: 2018-01-02 | B39: 06392327 | C39: 2946392327188248 | D39: 455456 | E39: WEST ALBATROS - F566 - | F39: MIDAS | G39: ZA DE KEROUANT | H39: 29120 | I39: PONT L ABBE | J39: J | K39: Non mis en distr. | L39: - | M39: - | N39: - | O39: =MATCH(C39,'Expedition Janvier'!R:R,0) -> 1608
A40: 2018-01-02 | B40: 06392327 | C40: 2946392327188594 | D40: 455456 | E40: WEST ALBATROS - F566 - | F40: MIDAS | G40: ZA DE KEROUANT | H40: 29120 | I40: PONT L ABBE | J40: J | K40: Non mis en distr. | L40: - | M40: - | N40: - | O40: =MATCH(C40,'Expedition Janvier'!R:R,0) -> 1609
...
