Workbook
Name rng: Données!$A$1:'Données'!$A$520

Sheet Données
A1: Colonne "A" remplacer "Client" Par 100000 et Supprimer 'Total général' | C1: Données
A2: 500000 | B2: NAF | C2: Facturé | D2: M.P. | E2: Fourn. | F2: STR Méca | G2: STR Laser | H2: STR Peint. | I2: STR Trait. | J2: STR Autres | K2: Transp. | L2: ACHATS | M2: MO Réelle | N2: MO Réelle + Achats | O2: MO Facturable | P2: Marge / Fact.
A3: ALTERVAL | B3: 500 053 | C3: 1485.3 | D3: 305.26 | F3: 133.9 | H3: 83.42 | K3: 21.63 | L3: 544.21 | M3: 1181.98 | N3: 1726.19 | O3: 941.09 | P3: -240.89
B4: 500 112 | C4: 1876.6 | D4: 545 | E4: 17.24 | H4: 259.97 | L4: 822.21 | M4: 1055.08 | N4: 1877.29 | O4: 1054.39 | P4: -0.69
B5: 500 115 | C5: 4227.7 | D5: 1098.6 | H5: 540.54 | L5: 1639.14 | M5: 2071.17 | N5: 3710.31 | O5: 2588.56 | P5: 517.39
B6: 500 117 | C6: 1050 | L6: 0 | M6: 1158.66 | N6: 1158.66 | O6: 1050 | P6: -108.66
B7: 500 118 | C7: 3186.45 | D7: 411.18 | E7: 12.95 | H7: 189.96 | I7: 75.4 | J7: 481.11 | L7: 1170.6 | M7: 1521.16 | N7: 2691.76 | O7: 2015.85 | P7: 494.69
B8: 500 120 | C8: 471.9 | D8: 218.22 | L8: 218.22 | M8: 230.33 | N8: 448.55 | O8: 253.68 | P8: 23.35
B9: 500 121 | C9: 7978 | D9: 2541.92 | H9: 1001.26 | I9: 257.5 | K9: 17.58 | L9: 3818.26 | M9: 4325.5 | N9: 8143.76 | O9: 4159.74 | P9: -165.76
B10: 500 126 | C10: 225 | D10: 12.85 | L10: 12.85 | M10: 180.91 | N10: 193.76 | O10: 212.15 | P10: 31.24
B11: 500 128 | C11: 650 | K11: 234.84 | L11: 234.84 | M11: 483.92 | N11: 718.76 | O11: 415.16 | P11: -68.76
A12: Total ALTERVAL | C12: 21150.95 | D12: 5133.03 | E12: 30.19 | F12: 133.9 | H12: 2075.15 | I12: 332.9 | J12: 481.11 | K12: 274.05 | L12: 8460.33 | M12: 12208.71 | N12: 20669.04 | O12: 12690.62 | P12: 481.91
C13: 21150.95 | D13: 5133.03 | E13: 30.19 | F13: 133.9 | H13: 2075.15 | I13: 332.9 | J13: 481.11 | K13: 274.05 | L13: 8460.33 | M13: 12208.71 | N13: 20669.04 | O13: 12690.62 | P13: 481.91
A14: 300000 | B14: NAF | C14: Facturé | D14: M.P. | E14: Fourn. | F14: STR Méca | G14: STR Laser | H14: STR Peint. | I14: STR Trait. | J14: STR Autres | K14: Transp. | L14: ACHATS | M14: MO Réelle | N14: MO Réelle + Achats | O14: MO Facturable | P14: Marge / Fact.
A15: BDSG SAS | B15: 303 871 | C15: 650 | L15: 0 | M15: 609.75 | N15: 609.75 | O15: 650 | P15: 40.25
A16: Total BDSG SAS | C16: 650 | L16: 0 | M16: 609.75 | N16: 609.75 | O16: 650 | P16: 40.25
A17: ESTEVE SAS | B17: 304 101 | C17: -120 | L17: 0 | M17: -120 | N17: -120 | O17: -120 | P17: 0
B18: 304 103 | C18: -180 | L18: 0 | M18: -180 | N18: -180 | O18: -180 | P18: 0
B19: 304 154 | C19: -355 | L19: 0 | M19: -355 | N19: -355 | O19: -355 | P19: 0
B20: 304 155 | C20: 1912 | G20: 978.79 | I20: 322.52 | K20: 140.08 | L20: 1441.39 | M20: 195.25 | N20: 1636.64 | O20: 470.61 | P20: 275.36
B21: 304 257 | C21: 1513 | D21: 494.69 | L21: 494.69 | M21: 953.84 | N21: 1448.53 | O21: 1018.31 | P21: 64.47
B22: 304 259 | C22: 2635 | D22: 835.56 | E22: 6.26 | K22: 188.49 | L22: 1030.31 | M22: 1824.33 | N22: 2854.64 | O22: 1604.69 | P22: -219.64
A23: Total ESTEVE SAS | C23: 5405 | D23: 1330.25 | E23: 6.26 | G23: 978.79 | I23: 322.52 | K23: 328.57 | L23: 2966.39 | M23: 2318.42 | N23: 5284.81 | O23: 2438.61 | P23: 120.19
A24: FEMAAG | B24: 304 245 | C24: 3075 | D24: 87.33 | E24: 5.8 | G24: 732.04 | H24: 772.5 | L24: 1597.67 | M24: 1270.16 | N24: 2867.83 | O24: 1477.33 | P24: 207.17
B25: 304 265 | C25: 526.72 | D25: 73.79 | L25: 73.79 | M25: 511.08 | N25: 584.87 | O25: 452.93 | P25: -58.15
B26: 304 266 | C26: 724.32 | D26: 42.64 | L26: 42.64 | M26: 259.58 | N26: 302.22 | O26: 681.68 | P26: 422.1
B27: 304 308 | C27: 460 | D27: 95.35 | H27: 15.97 | L27: 111.32 | M27: 220.75 | N27: 332.07 | O27: 348.68 | P27: 127.93
B28: 304 309 | C28: 424.56 | D28: 22.14 | L28: 22.14 | M28: 212.33 | N28: 234.47 | O28: 402.42 | P28: 190.09
B29: 304 310 | C29: 418.25 | D29: 69.35 | L29: 69.35 | M29: 264.1 | N29: 333.45 | O29: 348.9 | P29: 84.8
A30: Total FEMAAG | C30: 5628.85 | D30: 390.6 | E30: 5.8 | G30: 732.04 | H30: 788.47 | L30: 1916.91 | M30: 2738 | N30: 4654.91 | O30: 3711.94 | P30: 973.94
A31: FILMAG | B31: 304 218 | C31: 494.25 | D31: 222.89 | L31: 222.89 | M31: 181.83 | N31: 404.72 | O31: 271.36 | P31: 89.53
B32: 304 269 | C32: 195.86 | D32: 151.31 | L32: 151.31 | M32: 84.67 | N32: 235.98 | O32: 44.55 | P32: -40.12
B33: 304 270 | C33: 219.29 | D33: 63.62 | L33: 63.62 | M33: 101.83 | N33: 165.45 | O33: 155.67 | P33: 53.84
B34: 304 271 | C34: 39.29 | D34: 18.95 | L34: 18.95 | M34: 44.33 | N34: 63.28 | O34: 20.34 | P34: -23.99
B35: 304 272 | C35: 1788 | D35: 455.3 | L35: 455.3 | M35: 752.17 | N35: 1207.47 | O35: 1332.7 | P35: 580.53
B36: 304 273 | C36: 224.9 | D36: 114.3 | L36: 114.3 | M36: 293.92 | N36: 408.22 | O36: 110.6 | P36: -183.32
B37: 304 280 | C37: 219.54 | D37: 43.66 | L37: 43.66 | M37: 253.91 | N37: 297.57 | O37: 175.88 | P37: -78.03
B38: 304 281 | C38: 4142.6 | D38: 2418 | L38: 2418 | M38: 917.08 | N38: 3335.08 | O38: 1724.6 | P38: 807.52
B39: 304 282 | C39: 47.44 | D39: 22.25 | L39: 22.25 | M39: 122.75 | N39: 145 | O39: 25.19 | P39: -97.56
B40: 304 330 | C40: 298.82 | D40: 73.35 | L40: 73.35 | M40: 384.33 | N40: 457.68 | O40: 225.47 | P40: -158.86
B41: 304 331 | C41: 106.62 | D41: 71.86 | L41: 71.86 | M41: 130.5 | N41: 202.36 | O41: 34.76 | P41: -95.74
B42: 304 332 | C42: 307.35 | D42: 103.88 | L42: 103.88 | M42: 334.92 | N42: 438.8 | O42: 203.47 | P42: -131.45
B43: 304 333 | C43: 220.9 | D43: 78.22 | L43: 78.22 | M43: 254.83 | N43: 333.05 | O43: 142.68 | P43: -112.15
... B47: 304 348 | C47: 69.3 | D47: 41.2 | L47: 41.2 | M47: 70.59 | N47: 111.79 | O47: 28.1 | P47: -42.49
A48: Total FILMAG | C48: 8744.2 | D48: 3992.05 | L48: 3992.05 | M48: 4460.08 | N48: 8452.13 | O48: 4752.15 | P48: 292.07
A49: GETELEC | B49: 304 235 | C49: 99.5 | D49: 5.81 | K49: 22.51 | L49: 28.32 | M49: 45.5 | N49: 73.82 | O49: 71.18 | P49: 25.68
A50: Total GETELEC | C50: 99.5 | D50: 5.81 | K50: 22.51 | L50: 28.32 | M50: 45.5 | N50: 73.82 | O50: 71.18 | P50: 25.68
A51: GYRDIS | B51: 303 876 | C51: 23675 | D51: 4440.49 | E51: 3072.11 | F51: 304.51 | H51: 1038.28 | K51: 170.23 | L51: 9025.62 | M51: 16832.26 | N51: 25857.88 | O51: 14649.38 | P51: -2182.88
B52: 304 267 | C52: 2000 | D52: 472.26 | K52: 161.71 | L52: 633.97 | M52: 801.75 | N52: 1435.72 | O52: 1366.03 | P52: 564.28
A53: Total GYRDIS | C53: 25675 | D53: 4912.75 | E53: 3072.11 | F53: 304.51 | H53: 1038.28 | K53: 331.94 | L53: 9659.59 | M53: 17634.01 | N53: 27293.6 | O53: 16015.41 | P53: -1618.6
A54: LE CAILLEBOTIS DIAMOND | B54: 304 246 | C54: 2250 | L54: 0 | M54: 1480.6 | N54: 1480.6 | O54: 2250 | P54: 769.4
B55: 304 247 | C55: 160 | D55: 27.88 | L55: 27.88 | M55: 67.42 | N55: 95.3 | O55: 132.12 | P55: 64.7
A56: Total LE CAILLEBOTIS DIAMOND | C56: 2410 | D56: 27.88 | L56: 27.88 | M56: 1548.02 | N56: 1575.9 | O56: 2382.12 | P56: 834.1
A57: MECA + SERVICES | B57: 304 229 | C57: 4020 | D57: 2319.66 | K57: 87.88 | L57: 2407.54 | M57: 2215.43 | N57: 4622.97 | O57: 1612.46 | P57: -602.97
B58: 304 231 | C58: 2505 | D58: 1183.79 | L58: 1183.79 | M58: 1066.08 | N58: 2249.87 | O58: 1321.21 | P58: 255.13
A59: Total MECA + SERVICES | C59: 6525 | D59: 3503.45 | K59: 87.88 | L59: 3591.33 | M59: 3281.51 | N59: 6872.84 | O59: 2933.67 | P59: -347.84
A60: METALU-PLAST | B60: 304 225 | C60: 2401.5 | D60: 806.73 | I60: 849.75 | L60: 1656.48 | M60: 394.13 | N60: 2050.61 | O60: 745.02 | P60: 350.89
B61: 304 228 | C61: 322.55 | D61: 25.44 | K61: 12.41 | L61: 37.85 | M61: 90.92 | N61: 128.77 | O61: 284.7 | P61: 193.78
B62: 304 297 | C62: 540 | D62: 170.08 | L62: 170.08 | M62: 213.59 | N62: 383.67 | O62: 369.92 | P62: 156.33
B63: 304 298 | C63: 290 | D63: 81.17 | L63: 81.17 | M63: 280 | N63: 361.17 | O63: 208.83 | P63: -71.17
B64: 304 299 | C64: 245 | D64: 124.22 | L64: 124.22 | M64: 116.5 | N64: 240.72 | O64: 120.78 | P64: 4.28
B65: 304 311 | C65: 360 | D65: 113.69 | L65: 113.69 | M65: 154 | N65: 267.69 | O65: 246.31 | P65: 92.31
B66: 304 312 | C66: 1305 | D66: 551.38 | L66: 551.38 | M66: 772.34 | N66: 1323.72 | O66: 753.62 | P66: -18.72
B67: 304 314 | C67: 670 | D67: 166.86 | I67: 247.2 | L67: 414.06 | M67: 310.42 | N67: 724.48 | O67: 255.94 | P67: -54.48
B68: 304 315 | C68: 2056.34 | D68: 381.81 | I68: 19.47 | L68: 401.28 | M68: 1678.58 | N68: 2079.86 | O68: 1655.06 | P68: -23.52
B69: 304 316 | C69: 45 | D69: 1.74 | L69: 1.74 | M69: 39.17 | N69: 40.91 | O69: 43.26 | P69: 4.09
B70: 304 317 | C70: 729 | D70: 225.12 | L70: 225.12 | M70: 463.25 | N70: 688.37 | O70: 503.88 | P70: 40.63
B71: 304 318 | C71: 504.46 | D71: 42.1 | L71: 42.1 | M71: 222.5 | N71: 264.6 | O71: 462.36 | P71: 239.86
B72: 304 319 | C72: 130 | D72: 12.55 | L72: 12.55 | M72: 52.58 | N72: 65.13 | O72: 117.45 | P72: 64.87
B73: 304 320 | C73: 253 | D73: 41.33 | L73: 41.33 | M73: 156.34 | N73: 197.67 | O73: 211.67 | P73: 55.33
A74: Total METALU-PLAST | C74: 9851.85 | D74: 2744.22 | I74: 1116.42 | K74: 12.41 | L74: 3873.05 | M74: 4944.32 | N74: 8817.37 | O74: 5978.8 | P74: 1034.48
A75: PROPALUM SARL | B75: 304 284 | C75: 714.5 | D75: 57.48 | E75: 5.27 | L75: 62.75 | M75: 316.75 | N75: 379.5 | O75: 651.75 | P75: 335
A76: Total PROPALUM SARL | C76: 714.5 | D76: 57.48 | E76: 5.27 | L76: 62.75 | M76: 316.75 | N76: 379.5 | O76: 651.75 | P76: 335
A77: SAS LEDIA | B77: 304 200 | C77: 4200 | D77: 376.98 | E77: 3.43 | H77: 605.64 | L77: 986.05 | M77: 1118.16 | N77: 2104.21 | O77: 3213.95 | P77: 2095.79
B78: 304 276 | C78: 297.24 | D78: 5.11 | L78: 5.11 | M78: 118.5 | N78: 123.61 | O78: 292.13 | P78: 173.63
B79: 304 277 | C79: 72 | D79: 24.78 | L79: 24.78 | M79: 33.17 | N79: 57.95 | O79: 47.22 | P79: 14.05
B80: 304 278 | C80: 538.08 | D80: 230.87 | L80: 230.87 | M80: 100.25 | N80: 331.12 | O80: 307.21 | P80: 206.96
B81: 304 300 | C81: 296.2 | D81: 6.97 | L81: 6.97 | M81: 64.17 | N81: 71.14 | O81: 289.23 | P81: 225.06
B82: 304 301 | C82: 134.96 | D82: 60.23 | L82: 60.23 | M82: 104.75 | N82: 164.98 | O82: 74.73 | P82: -30.02
B83: 304 302 | C83: 321.3 | D83: 71.3 | L83: 71.3 | M83: 121.33 | N83: 192.63 | O83: 250 | P83: 128.67
B84: 304 191 | C84: 120 | D84: 8.79 | L84: 8.79 | M84: 16.16 | N84: 24.95 | O84: 111.21 | P84: 95.05
B85: 304 303 | C85: 175 | D85: 59.33 | L85: 59.33 | M85: 55.75 | N85: 115.08 | O85: 115.67 | P85: 59.92
B86: 304 304 | C86: 305 | D86: 111.19 | L86: 111.19 | M86: 121.34 | N86: 232.53 | O86: 193.81 | P86: 72.47
B87: 304 335 | C87: 49.6 | D87: 2.59 | L87: 2.59 | M87: 28.92 | N87: 31.51 | O87: 47.01 | P87: 18.09
B88: 304 336 | C88: 186 | D88: 14.44 | L88: 14.44 | M88: 130.83 | N88: 145.27 | O88: 171.56 | P88: 40.73
B89: 304 337 | C89: 145 | L89: 0 | M89: 18.33 | N89: 18.33 | O89: 145 | P89: 126.67
B90: 304 338 | C90: 74.16 | D90: 7.54 | L90: 7.54 | M90: 50.09 | N90: 57.63 | O90: 66.62 | P90: 16.53
B91: 304 339 | C91: 120 | D91: 54.47 | L91: 54.47 | M91: 59.25 | N91: 113.72 | O91: 65.53 | P91: 6.28
B92: 304 353 | C92: 25 | D92: 0.33 | L92: 0.33 | M92: 9.16 | N92: 9.49 | O92: 24.67 | P92: 15.51
B93: 304 354 | C93: 272 | D93: 6.27 | L93: 6.27 | M93: 110.42 | N93: 116.69 | O93: 265.73 | P93: 155.31
B94: 304 355 | C94: 121.07 | D94: 11.16 | L94: 11.16 | M94: 104.16 | N94: 115.32 | O94: 109.91 | P94: 5.75
B95: 304 356 | C95: 317.51 | D95: 31.93 | L95: 31.93 | M95: 154.5 | N95: 186.43 | O95: 285.58 | P95: 131.08
A96: Total SAS LEDIA | C96: 7770.12 | D96: 1084.28 | E96: 3.43 | H96: 605.64 | L96: 1693.35 | M96: 2519.24 | N96: 4212.59 | O96: 6076.77 | P96: 3557.53
A97: SEPRA AUTOMATISATION | B97: 304 204 | C97: 261 | D97: 14.64 | K97: 42.1 | L97: 56.74 | M97: 107.16 | N97: 163.9 | O97: 204.26 | P97: 97.1
B98: 304 205 | C98: 1700 | D98: 143.64 | I98: 136.73 | K98: 46.39 | L98: 326.76 | M98: 1182.67 | N98: 1509.43 | O98: 1373.24 | P98: 190.57
B99: 304 294 | C99: 1583.61 | D99: 79.19 | H99: 16.38 | I99: 86.01 | L99: 181.58 | M99: 1016.67 | N99: 1198.25 | O99: 1402.03 | P99: 385.36
B100: 304 305 | C100: 274.75 | D100: 28.01 | H100: 12.36 | I100: 8.24 | L100: 48.61 | M100: 399.33 | N100: 447.94 | O100: 226.14 | P100: -173.19
B101: 304 326 | C101: 417.36 | D101: 5.27 | I101: 21.84 | K101: 17.58 | L101: 44.69 | M101: 191.16 | N101: 235.85 | O101: 372.67 | P101: 181.51
B102: 304 342 | C102: 125.18 | D102: 3.67 | I102: 5.15 | K102: 36.37 | L102: 45.19 | M102: 95.92 | N102: 141.11 | O102: 79.99 | P102: -15.93
A103: Total SEPRA AUTOMATISATION | C103: 4361.9 | D103: 274.42 | H103: 28.74 | I103: 257.97 | K103: 142.44 | L103: 703.57 | M103: 2992.91 | N103: 3696.48 | O103: 3658.33 | P103: 665.42
...

Sheet CA MB MO Du Mois
B1: Classement Client En Fonction Du Chiffre d'Affaires Facturé
B2: OCTOBRE 2017
A4: CLIENTS | B4: CA CLIENT | C4: % CA CLIENT | D4: MARGE BRUTE | E4: % MB/CA | F4: MO reelle | G4: % MO | H4: %MO/CA | I4: NAF | J4: Lignes
A5: {=IF(ROWS($5:5)<=COUNTA(rng),INDEX(rng,SMALL(IF(LEFT(rng,5)="Total",ROW(rng)-MIN(ROW(rng))+1),ROWS($5:5))),"")} -> Total ALTERVAL | B5: =INDIRECT("Données!C"&$J5) -> 21150.95 | C5: =B5/$B$70 -> 0.037899607 | D5: =INDIRECT("Données!P"&$J5) -> 481.91 | E5: =D5/B5 -> 0.022784319 | F5: =INDIRECT("Données!M"&$J5) -> 12208.71 | G5: =F5/$F$70 -> 0.03944026 | H5: =F5/B5 -> 0.57721804 | I5: =VLOOKUP(9.99999999999999E+307,INDIRECT("Données!A1"&":A"&J5),1) -> 500000 | J5: {=IF(ROWS($5:5)<=COUNTA(rng),SMALL(IF(LEFT(rng,5)="Total",ROW(rng)-MIN(ROW(rng))+1),ROWS($5:5)),"")+1} -> 13
A6: {=IF(ROWS($5:6)<=COUNTA(rng),INDEX(rng,SMALL(IF(LEFT(rng,5)="Total",ROW(rng)-MIN(ROW(rng))+1),ROWS($5:6))),"")} -> Total BDSG SAS | B6: =INDIRECT("Données!C"&$J6) -> -120 | C6: =B6/$B$70 -> -0.00021502358 | D6: =INDIRECT("Données!P"&$J6) -> 0 | E6: =D6/B6 -> 0 | F6: =INDIRECT("Données!M"&$J6) -> -120 | G6: =F6/$F$70 -> -0.00038766022 | H6: =F6/B6 -> 1 | I6: =VLOOKUP(9.99999999999999E+307,INDIRECT("Données!A1"&":A"&J6),1) -> 300000 | J6: {=IF(ROWS($5:6)<=COUNTA(rng),SMALL(IF(LEFT(rng,5)="Total",ROW(rng)-MIN(ROW(rng))+1),ROWS($5:6)),"")+1} -> 17
A7: {=IF(ROWS($5:7)<=COUNTA(rng),INDEX(rng,SMALL(IF(LEFT(rng,5)="Total",ROW(rng)-MIN(ROW(rng))+1),ROWS($5:7))),"")} -> Total ESTEVE SAS | B7: =INDIRECT("Données!C"&$J7) -> 3075 | C7: =B7/$B$70 -> 0.0055099791 | D7: =INDIRECT("Données!P"&$J7) -> 207.17 | E7: =D7/B7 -> 0.067372358 | F7: =INDIRECT("Données!M"&$J7) -> 1270.16 | G7: =F7/$F$70 -> 0.0041032542 | H7: =F7/B7 -> 0.41306016 | I7: =VLOOKUP(9.99999999999999E+307,INDIRECT("Données!A1"&":A"&J7),1) -> 300000 | J7: {=IF(ROWS($5:7)<=COUNTA(rng),SMALL(IF(LEFT(rng,5)="Total",ROW(rng)-MIN(ROW(rng))+1),ROWS($5:7)),"")+1} -> 24
A8: {=IF(ROWS($5:8)<=COUNTA(rng),INDEX(rng,SMALL(IF(LEFT(rng,5)="Total",ROW(rng)-MIN(ROW(rng))+1),ROWS($5:8))),"")} -> Total FEMAAG | B8: =INDIRECT("Données!C"&$J8) -> 494.25 | C8: =B8/$B$70 -> 0.00088562835 | D8: =INDIRECT("Données!P"&$J8) -> 89.53 | E8: =D8/B8 -> 0.18114315 | F8: =INDIRECT("Données!M"&$J8) -> 181.83 | G8: =F8/$F$70 -> 0.00058740215 | H8: =F8/B8 -> 0.36789074 | I8: =VLOOKUP(9.99999999999999E+307,INDIRECT("Données!A1"&":A"&J8),1) -> 300000 | J8: {=IF(ROWS($5:8)<=COUNTA(rng),SMALL(IF(LEFT(rng,5)="Total",ROW(rng)-MIN(ROW(rng))+1),ROWS($5:8)),"")+1} -> 31
A9: {=IF(ROWS($5:9)<=COUNTA(rng),INDEX(rng,SMALL(IF(LEFT(rng,5)="Total",ROW(rng)-MIN(ROW(rng))+1),ROWS($5:9))),"")} -> Total FILMAG | B9: =INDIRECT("Données!C"&$J9) -> 99.5 | C9: =B9/$B$70 -> 0.00017829038 | D9: =INDIRECT("Données!P"&$J9) -> 25.68 | E9: =D9/B9 -> 0.25809045 | F9: =INDIRECT("Données!M"&$J9) -> 45.5 | G9: =F9/$F$70 -> 0.00014698783 | H9: =F9/B9 -> 0.45728643 | I9: =VLOOKUP(9.99999999999999E+307,INDIRECT("Données!A1"&":A"&J9),1) -> 300000 | J9: {=IF(ROWS($5:9)<=COUNTA(rng),SMALL(IF(LEFT(rng,5)="Total",ROW(rng)-MIN(ROW(rng))+1),ROWS($5:9)),"")+1} -> 49
A10: {=IF(ROWS($5:10)<=COUNTA(rng),INDEX(rng,SMALL(IF(LEFT(rng,5)="Total",ROW(rng)-MIN(ROW(rng))+1),ROWS($5:10))),"")} -> Total GETELEC | B10: =INDIRECT("Données!C"&$J10) -> 23675 | C10: =B10/$B$70 -> 0.04242236 | D10: =INDIRECT("Données!P"&$J10) -> -2182.88 | E10: =D10/B10 -> -0.092201901 | F10: =INDIRECT("Données!M"&$J10) -> 16832.26 | G10: =F10/$F$70 -> 0.054376647 | H10: =F10/B10 -> 0.71097191 | I10: =VLOOKUP(9.99999999999999E+307,INDIRECT("Données!A1"&":A"&J10),1) -> 300000 | J10: {=IF(ROWS($5:10)<=COUNTA(rng),SMALL(IF(LEFT(rng,5)="Total",ROW(rng)-MIN(ROW(rng))+1),ROWS($5:10)),"")+1} -> 51
A11: {=IF(ROWS($5:11)<=COUNTA(rng),INDEX(rng,SMALL(IF(LEFT(rng,5)="Total",ROW(rng)-MIN(ROW(rng))+1),ROWS($5:11))),"")} -> Total GYRDIS | B11: =INDIRECT("Données!C"&$J11) -> 2250 | C11: =B11/$B$70 -> 0.004031692 | D11: =INDIRECT("Données!P"&$J11) -> 769.4 | E11: =D11/B11 -> 0.34195556 | F11: =INDIRECT("Données!M"&$J11) -> 1480.6 | G11: =F11/$F$70 -> 0.004783081 | H11: =F11/B11 -> 0.65804444 | I11: =VLOOKUP(9.99999999999999E+307,INDIRECT("Données!A1"&":A"&J11),1) -> 300000 | J11: {=IF(ROWS($5:11)<=COUNTA(rng),SMALL(IF(LEFT(rng,5)="Total",ROW(rng)-MIN(ROW(rng))+1),ROWS($5:11)),"")+1} -> 54
A12: {=IF(ROWS($5:12)<=COUNTA(rng),INDEX(rng,SMALL(IF(LEFT(rng,5)="Total",ROW(rng)-MIN(ROW(rng))+1),ROWS($5:12))),"")} -> Total LE CAILLEBOTIS DIAMOND | B12: =INDIRECT("Données!C"&$J12) -> 4020 | C12: =B12/$B$70 -> 0.0072032898 | D12: =INDIRECT("Données!P"&$J12) -> -602.97 | E12: =D12/B12 -> -0.14999254 | F12: =INDIRECT("Données!M"&$J12) -> 2215.43 | G12: =F12/$F$70 -> 0.0071569507 | H12: =F12/B12 -> 0.55110199 | I12: =VLOOKUP(9.99999999999999E+307,INDIRECT("Données!A1"&":A"&J12),1) -> 300000 | J12: {=IF(ROWS($5:12)<=COUNTA(rng),SMALL(IF(LEFT(rng,5)="Total",ROW(rng)-MIN(ROW(rng))+1),ROWS($5:12)),"")+1} -> 57
A13: {=IF(ROWS($5:13)<=COUNTA(rng),INDEX(rng,SMALL(IF(LEFT(rng,5)="Total",ROW(rng)-MIN(ROW(rng))+1),ROWS($5:13))),"")} -> Total MECA + SERVICES | B13: =INDIRECT("Données!C"&$J13) -> 2401.5 | C13: =B13/$B$70 -> 0.0043031593 | D13: =INDIRECT("Données!P"&$J13) -> 350.89 | E13: =D13/B13 -> 0.14611285 | F13: =INDIRECT("Données!M"&$J13) -> 394.13 | G13: =F13/$F$70 -> 0.0012732377 | H13: =F13/B13 -> 0.16411826 | I13: =VLOOKUP(9.99999999999999E+307,INDIRECT("Données!A1"&":A"&J13),1) -> 300000 | J13: {=IF(ROWS($5:13)<=COUNTA(rng),SMALL(IF(LEFT(rng,5)="Total",ROW(rng)-MIN(ROW(rng))+1),ROWS($5:13)),"")+1} -> 60
A14: {=IF(ROWS($5:14)<=COUNTA(rng),INDEX(rng,SMALL(IF(LEFT(rng,5)="Total",ROW(rng)-MIN(ROW(rng))+1),ROWS($5:14))),"")} -> Total METALU-PLAST | B14: =INDIRECT("Données!C"&$J14) -> 714.5 | C14: =B14/$B$70 -> 0.0012802862 | D14: =INDIRECT("Données!P"&$J14) -> 335 | E14: =D14/B14 -> 0.46885934 | F14: =INDIRECT("Données!M"&$J14) -> 316.75 | G14: =F14/$F$70 -> 0.0010232615 | H14: =F14/B14 -> 0.443317 | I14: =VLOOKUP(9.99999999999999E+307,INDIRECT("Données!A1"&":A"&J14),1) -> 300000 | J14: {=IF(ROWS($5:14)<=COUNTA(rng),SMALL(IF(LEFT(rng,5)="Total",ROW(rng)-MIN(ROW(rng))+1),ROWS($5:14)),"")+1} -> 75
A15: {=IF(ROWS($5:15)<=COUNTA(rng),INDEX(rng,SMALL(IF(LEFT(rng,5)="Total",ROW(rng)-MIN(ROW(rng))+1),ROWS($5:15))),"")} -> Total PROPALUM SARL | B15: =INDIRECT("Données!C"&$J15) -> 4200 | C15: =B15/$B$70 -> 0.0075258251 | D15: =INDIRECT("Données!P"&$J15) -> 2095.79 | E15: =D15/B15 -> 0.49899762 | F15: =INDIRECT("Données!M"&$J15) -> 1118.16 | G15: =F15/$F$70 -> 0.0036122179 | H15: =F15/B15 -> 0.26622857 | I15: =VLOOKUP(9.99999999999999E+307,INDIRECT("Données!A1"&":A"&J15),1) -> 300000 | J15: {=IF(ROWS($5:15)<=COUNTA(rng),SMALL(IF(LEFT(rng,5)="Total",ROW(rng)-MIN(ROW(rng))+1),ROWS($5:15)),"")+1} -> 77
A16: {=IF(ROWS($5:16)<=COUNTA(rng),INDEX(rng,SMALL(IF(LEFT(rng,5)="Total",ROW(rng)-MIN(ROW(rng))+1),ROWS($5:16))),"")} -> Total SAS LEDIA | B16: =INDIRECT("Données!C"&$J16) -> 261 | C16: =B16/$B$70 -> 0.00046767628 | D16: =INDIRECT("Données!P"&$J16) -> 97.1 | E16: =D16/B16 -> 0.37203065 | F16: =INDIRECT("Données!M"&$J16) -> 107.16 | G16: =F16/$F$70 -> 0.00034618058 | H16: =F16/B16 -> 0.41057471 | I16: =VLOOKUP(9.99999999999999E+307,INDIRECT("Données!A1"&":A"&J16),1) -> 300000 | J16: {=IF(ROWS($5:16)<=COUNTA(rng),SMALL(IF(LEFT(rng,5)="Total",ROW(rng)-MIN(ROW(rng))+1),ROWS($5:16)),"")+1} -> 97
A17: {=IF(ROWS($5:17)<=COUNTA(rng),INDEX(rng,SMALL(IF(LEFT(rng,5)="Total",ROW(rng)-MIN(ROW(rng))+1),ROWS($5:17))),"")} -> Total SEPRA AUTOMATISATION | B17: =INDIRECT("Données!C"&$J17) -> -489 | C17: =B17/$B$70 -> -0.00087622107 | D17: =INDIRECT("Données!P"&$J17) -> -489 | E17: =D17/B17 -> 1 | F17: =INDIRECT("Données!M"&$J17) -> 0 | G17: =F17/$F$70 -> 0 | H17: =F17/B17 -> 0 | I17: =VLOOKUP(9.99999999999999E+307,INDIRECT("Données!A1"&":A"&J17),1) -> 300000 | J17: {=IF(ROWS($5:17)<=COUNTA(rng),SMALL(IF(LEFT(rng,5)="Total",ROW(rng)-MIN(ROW(rng))+1),ROWS($5:17)),"")+1} -> 104
A18: {=IF(ROWS($5:18)<=COUNTA(rng),INDEX(rng,SMALL(IF(LEFT(rng,5)="Total",ROW(rng)-MIN(ROW(rng))+1),ROWS($5:18))),"")} -> Total VAN'S BARBOT | B18: =INDIRECT("Données!C"&$J18) -> 330 | C18: =B18/$B$70 -> 0.00059131483 | D18: =INDIRECT("Données!P"&$J18) -> 10.84 | E18: =D18/B18 -> 0.032848485 | F18: =INDIRECT("Données!M"&$J18) -> 263.75 | G18: =F18/$F$70 -> 0.00085204486 | H18: =F18/B18 -> 0.79924242 | I18: =VLOOKUP(9.99999999999999E+307,INDIRECT("Données!A1"&":A"&J18),1) -> 300000 | J18: {=IF(ROWS($5:18)<=COUNTA(rng),SMALL(IF(LEFT(rng,5)="Total",ROW(rng)-MIN(ROW(rng))+1),ROWS($5:18)),"")+1} -> 106
A19: {=IF(ROWS($5:19)<=COUNTA(rng),INDEX(rng,SMALL(IF(LEFT(rng,5)="Total",ROW(rng)-MIN(ROW(rng))+1),ROWS($5:19))),"")} -> Total DIVERS | B19: =INDIRECT("Données!C"&$J19) -> 675 | C19: =B19/$B$70 -> 0.0012095076 | D19: =INDIRECT("Données!P"&$J19) -> -198.34 | E19: =D19/B19 -> -0.29383704 | F19: =INDIRECT("Données!M"&$J19) -> 832.51 | G19: =F19/$F$70 -> 0.0026894251 | H19: =F19/B19 -> 1.2333481 | I19: =VLOOKUP(9.99999999999999E+307,INDIRECT("Données!A1"&":A"&J19),1) -> 300000 | J19: {=IF(ROWS($5:19)<=COUNTA(rng),SMALL(IF(LEFT(rng,5)="Total",ROW(rng)-MIN(ROW(rng))+1),ROWS($5:19)),"")+1} -> 108
A20: {=IF(ROWS($5:20)<=COUNTA(rng),INDEX(rng,SMALL(IF(LEFT(rng,5)="Total",ROW(rng)-MIN(ROW(rng))+1),ROWS($5:20))),"")} -> Total TOUCH INNOVATION | B20: =INDIRECT("Données!C"&$J20) -> 510 | C20: =B20/$B$70 -> 0.0009138502 | D20: =INDIRECT("Données!P"&$J20) -> 29.17 | E20: =D20/B20 -> 0.057196078 | F20: =INDIRECT("Données!M"&$J20) -> 460.25 | G20: =F20/$F$70 -> 0.0014868385 | H20: =F20/B20 -> 0.90245098 | I20: =VLOOKUP(9.99999999999999E+307,INDIRECT("Données!A1"&":A"&J20),1) -> 300000 | J20: {=IF(ROWS($5:20)<=COUNTA(rng),SMALL(IF(LEFT(rng,5)="Total",ROW(rng)-MIN(ROW(rng))+1),ROWS($5:20)),"")+1} -> 110
A21: {=IF(ROWS($5:21)<=COUNTA(rng),INDEX(rng,SMALL(IF(LEFT(rng,5)="Total",ROW(rng)-MIN(ROW(rng))+1),ROWS($5:21))),"")} -> Total ROUSSEAU SAS | B21: =INDIRECT("Données!C"&$J21) -> 634 | C21: =B21/$B$70 -> 0.0011360412 | D21: =INDIRECT("Données!P"&$J21) -> 110.23 | E21: =D21/B21 -> 0.17386435 | F21: =INDIRECT("Données!M"&$J21) -> 209.08 | G21: =F21/$F$70 -> 0.00067543332 | H21: =F21/B21 -> 0.32977918 | I21: =VLOOKUP(9.99999999999999E+307,INDIRECT("Données!A1"&":A"&J21),1) -> 300000 | J21: {=IF(ROWS($5:21)<=COUNTA(rng),SMALL(IF(LEFT(rng,5)="Total",ROW(rng)-MIN(ROW(rng))+1),ROWS($5:21)),"")+1} -> 112
A22: {=IF(ROWS($5:22)<=COUNTA(rng),INDEX(rng,SMALL(IF(LEFT(rng,5)="Total",ROW(rng)-MIN(ROW(rng))+1),ROWS($5:22))),"")} -> Total NAITE | B22: =INDIRECT("Données!C"&$J22) -> 3601.05 | C22: =B22/$B$70 -> 0.0064525887 | D22: =INDIRECT("Données!P"&$J22) -> 372.45 | E22: =D22/B22 -> 0.10342817 | F22: =INDIRECT("Données!M"&$J22) -> 2322.17 | G22: =F22/$F$70 -> 0.0075017744 | H22: =F22/B22 -> 0.64485914 | I22: =VLOOKUP(9.99999999999999E+307,INDIRECT("Données!A1"&":A"&J22),1) -> 300000 | J22: {=IF(ROWS($5:22)<=COUNTA(rng),SMALL(IF(LEFT(rng,5)="Total",ROW(rng)-MIN(ROW(rng))+1),ROWS($5:22)),"")+1} -> 117
A23: {=IF(ROWS($5:23)<=COUNTA(rng),INDEX(rng,SMALL(IF(LEFT(rng,5)="Total",ROW(rng)-MIN(ROW(rng))+1),ROWS($5:23))),"")} -> Total THIBAUT | B23: =INDIRECT("Données!C"&$J23) -> 1755 | C23: =B23/$B$70 -> 0.0031447198 | D23: =INDIRECT("Données!P"&$J23) -> 327 | E23: =D23/B23 -> 0.18632479 | F23: =INDIRECT("Données!M"&$J23) -> 1066.64 | G23: =F23/$F$70 -> 0.0034457825 | H23: =F23/B23 -> 0.60777208 | I23: =VLOOKUP(9.99999999999999E+307,INDIRECT("Données!A1"&":A"&J23),1) -> 300000 | J23: {=IF(ROWS($5:23)<=COUNTA(rng),SMALL(IF(LEFT(rng,5)="Total",ROW(rng)-MIN(ROW(rng))+1),ROWS($5:23)),"")+1} -> 122
A24: {=IF(ROWS($5:24)<=COUNTA(rng),INDEX(rng,SMALL(IF(LEFT(rng,5)="Total",ROW(rng)-MIN(ROW(rng))+1),ROWS($5:24))),"")} -> Total GSC VANS THEAULT | B24: =INDIRECT("Données!C"&$J24) -> 6391.1 | C24: =B24/$B$70 -> 0.011451976 | D24: =INDIRECT("Données!P"&$J24) -> -158.08 | E24: =D24/B24 -> -0.024734396 | F24: =INDIRECT("Données!M"&$J24) -> 1923.59 | G24: =F24/$F$70 -> 0.006214161 | H24: =F24/B24 -> 0.30097949 | I24: =VLOOKUP(9.99999999999999E+307,INDIRECT("Données!A1"&":A"&J24),1) -> 300000 | J24: {=IF(ROWS($5:24)<=COUNTA(rng),SMALL(IF(LEFT(rng,5)="Total",ROW(rng)-MIN(ROW(rng))+1),ROWS($5:24)),"")+1} -> 125
A25: {=IF(ROWS($5:25)<=COUNTA(rng),INDEX(rng,SMALL(IF(LEFT(rng,5)="Total",ROW(rng)-MIN(ROW(rng))+1),ROWS($5:25))),"")} -> Total DENIOS | B25: =INDIRECT("Données!C"&$J25) -> 234 | C25: =B25/$B$70 -> 0.00041929597 | D25: =INDIRECT("Données!P"&$J25) -> -7.88 | E25: =D25/B25 -> -0.033675214 | F25: =INDIRECT("Données!M"&$J25) -> 135.5 | G25: =F25/$F$70 -> 0.000437733 | H25: =F25/B25 -> 0.57905983 | I25: =VLOOKUP(9.99999999999999E+307,INDIRECT("Données!A1"&":A"&J25),1) -> 300000 | J25: {=IF(ROWS($5:25)<=COUNTA(rng),SMALL(IF(LEFT(rng,5)="Total",ROW(rng)-MIN(ROW(rng))+1),ROWS($5:25)),"")+1} -> 132
A26: {=IF(ROWS($5:26)<=COUNTA(rng),INDEX(rng,SMALL(IF(LEFT(rng,5)="Total",ROW(rng)-MIN(ROW(rng))+1),ROWS($5:26))),"")} -> Total FIAV | B26: =INDIRECT("Données!C"&$J26) -> 2160 | C26: =B26/$B$70 -> 0.0038704244 | D26: =INDIRECT("Données!P"&$J26) -> 2066.43 | E26: =D26/B26 -> 0.95668056 | F26: =INDIRECT("Données!M"&$J26) -> 4.58 | G26: =F26/$F$70 -> 1.4795698e-05 | H26: =F26/B26 -> 0.0021203704 | I26: =VLOOKUP(9.99999999999999E+307,INDIRECT("Données!A1"&":A"&J26),1) -> 300000 | J26: {=IF(ROWS($5:26)<=COUNTA(rng),SMALL(IF(LEFT(rng,5)="Total",ROW(rng)-MIN(ROW(rng))+1),ROWS($5:26)),"")+1} -> 136
A27: {=IF(ROWS($5:27)<=COUNTA(rng),INDEX(rng,SMALL(IF(LEFT(rng,5)="Total",ROW(rng)-MIN(ROW(rng))+1),ROWS($5:27))),"")} -> Total CADECAP SAS | B27: =INDIRECT("Données!C"&$J27) -> 823 | C27: =B27/$B$70 -> 0.0014747034 | D27: =INDIRECT("Données!P"&$J27) -> 38.54 | E27: =D27/B27 -> 0.046828676 | F27: =INDIRECT("Données!M"&$J27) -> 467.67 | G27: =F27/$F$70 -> 0.0015108088 | H27: =F27/B27 -> 0.5682503 | I27: =VLOOKUP(9.99999999999999E+307,INDIRECT("Données!A1"&":A"&J27),1) -> 300000 | J27: {=IF(ROWS($5:27)<=COUNTA(rng),SMALL(IF(LEFT(rng,5)="Total",ROW(rng)-MIN(ROW(rng))+1),ROWS($5:27)),"")+1} -> 138
A28: {=IF(ROWS($5:28)<=COUNTA(rng),INDEX(rng,SMALL(IF(LEFT(rng,5)="Total",ROW(rng)-MIN(ROW(rng))+1),ROWS($5:28))),"")} -> Total LEGENDRE OUEST | B28: =INDIRECT("Données!C"&$J28) -> 121630.7 | C28: =B28/$B$70 -> 0.21794557 | D28: =INDIRECT("Données!P"&$J28) -> 12347.33 | E28: =D28/B28 -> 0.10151491 | F28: =INDIRECT("Données!M"&$J28) -> 66151.36 | G28: =F28/$F$70 -> 0.21370209 | H28: =F28/B28 -> 0.54387059 | I28: =VLOOKUP(9.99999999999999E+307,INDIRECT("Données!A1"&":A"&J28),1) -> 300000 | J28: {=IF(ROWS($5:28)<=COUNTA(rng),SMALL(IF(LEFT(rng,5)="Total",ROW(rng)-MIN(ROW(rng))+1),ROWS($5:28)),"")+1} -> 140
A29: {=IF(ROWS($5:29)<=COUNTA(rng),INDEX(rng,SMALL(IF(LEFT(rng,5)="Total",ROW(rng)-MIN(ROW(rng))+1),ROWS($5:29))),"")} -> Total MAINSSURES HANDI MOVE | B29: =INDIRECT("Données!C"&$J29) -> 30.65 | C29: =B29/$B$70 -> 5.4920605e-05 | D29: =INDIRECT("Données!P"&$J29) -> 13.47 | E29: =D29/B29 -> 0.43947798 | F29: =INDIRECT("Données!M"&$J29) -> 13.75 | G29: =F29/$F$70 -> 4.44194e-05 | H29: =F29/B29 -> 0.44861338 | I29: =VLOOKUP(9.99999999999999E+307,INDIRECT("Données!A1"&":A"&J29),1) -> 100000 | J29: {=IF(ROWS($5:29)<=COUNTA(rng),SMALL(IF(LEFT(rng,5)="Total",ROW(rng)-MIN(ROW(rng))+1),ROWS($5:29)),"")+1} -> 144
A30: {=IF(ROWS($5:30)<=COUNTA(rng),INDEX(rng,SMALL(IF(LEFT(rng,5)="Total",ROW(rng)-MIN(ROW(rng))+1),ROWS($5:30))),"")} -> Total ROSELIER AGENCEMENT | B30: =INDIRECT("Données!C"&$J30) -> 823.88 | C30: =B30/$B$70 -> 0.0014762802 | D30: =INDIRECT("Données!P"&$J30) -> -161.87 | E30: =D30/B30 -> -0.19647279 | F30: =INDIRECT("Données!M"&$J30) -> 369.42 | G30: =F30/$F$70 -> 0.001193412 | H30: =F30/B30 -> 0.44839054 | I30: =VLOOKUP(9.99999999999999E+307,INDIRECT("Données!A1"&":A"&J30),1) -> 100000 | J30: {=IF(ROWS($5:30)<=COUNTA(rng),SMALL(IF(LEFT(rng,5)="Total",ROW(rng)-MIN(ROW(rng))+1),ROWS($5:30)),"")+1} -> 147
A31: {=IF(ROWS($5:31)<=COUNTA(rng),INDEX(rng,SMALL(IF(LEFT(rng,5)="Total",ROW(rng)-MIN(ROW(rng))+1),ROWS($5:31))),"")} -> Total CERMEX SAS - SITE DE LISIEUX | B31: =INDIRECT("Données!C"&$J31) -> 201 | C31: =B31/$B$70 -> 0.00036016449 | D31: =INDIRECT("Données!P"&$J31) -> 84.48 | E31: =D31/B31 -> 0.42029851 | F31: =INDIRECT("Données!M"&$J31) -> 110.42 | G31: =F31/$F$70 -> 0.00035671201 | H31: =F31/B31 -> 0.54935323 | I31: =VLOOKUP(9.99999999999999E+307,INDIRECT("Données!A1"&":A"&J31),1) -> 100000 | J31: {=IF(ROWS($5:31)<=COUNTA(rng),SMALL(IF(LEFT(rng,5)="Total",ROW(rng)-MIN(ROW(rng))+1),ROWS($5:31)),"")+1} -> 161
A32: {=IF(ROWS($5:32)<=COUNTA(rng),INDEX(rng,SMALL(IF(LEFT(rng,5)="Total",ROW(rng)-MIN(ROW(rng))+1),ROWS($5:32))),"")} -> Total KNORR BREMSE SYSTEME PR VEHICULES FRANCE | B32: =INDIRECT("Données!C"&$J32) -> 658.2 | C32: =B32/$B$70 -> 0.0011794043 | D32: =INDIRECT("Données!P"&$J32) -> 311.23 | E32: =D32/B32 -> 0.4728502 | F32: =INDIRECT("Données!M"&$J32) -> 235.91 | G32: =F32/$F$70 -> 0.00076210769 | H32: =F32/B32 -> 0.35841689 | I32: =VLOOKUP(9.99999999999999E+307,INDIRECT("Données!A1"&":A"&J32),1) -> 100000 | J32: {=IF(ROWS($5:32)<=COUNTA(rng),SMALL(IF(LEFT(rng,5)="Total",ROW(rng)-MIN(ROW(rng))+1),ROWS($5:32)),"")+1} -> 166
A33: {=IF(ROWS($5:33)<=COUNTA(rng),INDEX(rng,SMALL(IF(LEFT(rng,5)="Total",ROW(rng)-MIN(ROW(rng))+1),ROWS($5:33))),"")} -> Total MC BRIDE | B33: =INDIRECT("Données!C"&$J33) -> 170.8 | C33: =B33/$B$70 -> 0.00030605022 | D33: =INDIRECT("Données!P"&$J33) -> 48.16 | E33: =D33/B33 -> 0.28196721 | F33: =INDIRECT("Données!M"&$J33) -> 110 | G33: =F33/$F$70 -> 0.0003553552 | H33: =F33/B33 -> 0.6440281 | I33: =VLOOKUP(9.99999999999999E+307,INDIRECT("Données!A1"&":A"&J33),1) -> 100000 | J33: {=IF(ROWS($5:33)<=COUNTA(rng),SMALL(IF(LEFT(rng,5)="Total",ROW(rng)-MIN(ROW(rng))+1),ROWS($5:33)),"")+1} -> 170
A34: {=IF(ROWS($5:34)<=COUNTA(rng),INDEX(rng,SMALL(IF(LEFT(rng,5)="Total",ROW(rng)-MIN(ROW(rng))+1),ROWS($5:34))),"")} -> Total PLANQUE | B34: =INDIRECT("Données!C"&$J34) -> 1242 | C34: =B34/$B$70 -> 0.002225494 | D34: =INDIRECT("Données!P"&$J34) -> 577.56 | E34: =D34/B34 -> 0.46502415 | F34: =INDIRECT("Données!M"&$J34) -> 471.17 | G34: =F34/$F$70 -> 0.0015221155 | H34: =F34/B34 -> 0.37936393 | I34: =VLOOKUP(9.99999999999999E+307,INDIRECT("Données!A1"&":A"&J34),1) -> 100000 | J34: {=IF(ROWS($5:34)<=COUNTA(rng),SMALL(IF(LEFT(rng,5)="Total",ROW(rng)-MIN(ROW(rng))+1),ROWS($5:34)),"")+1} -> 177
A35: {=IF(ROWS($5:35)<=COUNTA(rng),INDEX(rng,SMALL(IF(LEFT(rng,5)="Total",ROW(rng)-MIN(ROW(rng))+1),ROWS($5:35))),"")} -> Total GAUDFRIN | B35: =INDIRECT("Données!C"&$J35) -> 983.4 | C35: =B35/$B$70 -> 0.0017621182 | D35: =INDIRECT("Données!P"&$J35) -> 257.01 | E35: =D35/B35 -> 0.26134838 | F35: =INDIRECT("Données!M"&$J35) -> 505.17 | G35: =F35/$F$70 -> 0.0016319526 | H35: =F35/B35 -> 0.51369738 | I35: =VLOOKUP(9.99999999999999E+307,INDIRECT("Données!A1"&":A"&J35),1) -> 100000 | J35: {=IF(ROWS($5:35)<=COUNTA(rng),SMALL(IF(LEFT(rng,5)="Total",ROW(rng)-MIN(ROW(rng))+1),ROWS($5:35)),"")+1} -> 180
A36: {=IF(ROWS($5:36)<=COUNTA(rng),INDEX(rng,SMALL(IF(LEFT(rng,5)="Total",ROW(rng)-MIN(ROW(rng))+1),ROWS($5:36))),"")} -> Total LA FRATERNELLE | B36: =INDIRECT("Données!C"&$J36) -> 130 | C36: =B36/$B$70 -> 0.00023294221 | D36: =INDIRECT("Données!P"&$J36) -> 41.19 | E36: =D36/B36 -> 0.31684615 | F36: =INDIRECT("Données!M"&$J36) -> 57.83 | G36: =F36/$F$70 -> 0.00018681992 | H36: =F36/B36 -> 0.44484615 | I36: =VLOOKUP(9.99999999999999E+307,INDIRECT("Données!A1"&":A"&J36),1) -> 100000 | J36: {=IF(ROWS($5:36)<=COUNTA(rng),SMALL(IF(LEFT(rng,5)="Total",ROW(rng)-MIN(ROW(rng))+1),ROWS($5:36)),"")+1} -> 184
A37: {=IF(ROWS($5:37)<=COUNTA(rng),INDEX(rng,SMALL(IF(LEFT(rng,5)="Total",ROW(rng)-MIN(ROW(rng))+1),ROWS($5:37))),"")} -> Total PKB | B37: =INDIRECT("Données!C"&$J37) -> 633.6 | C37: =B37/$B$70 -> 0.0011353245 | D37: =INDIRECT("Données!P"&$J37) -> 197.56 | E37: =D37/B37 -> 0.31180556 | F37: =INDIRECT("Données!M"&$J37) -> 252.16 | G37: =F37/$F$70 -> 0.00081460334 | H37: =F37/B37 -> 0.3979798 | I37: =VLOOKUP(9.99999999999999E+307,INDIRECT("Données!A1"&":A"&J37),1) -> 100000 | J37: {=IF(ROWS($5:37)<=COUNTA(rng),SMALL(IF(LEFT(rng,5)="Total",ROW(rng)-MIN(ROW(rng))+1),ROWS($5:37)),"")+1} -> 190
A38: {=IF(ROWS($5:38)<=COUNTA(rng),INDEX(rng,SMALL(IF(LEFT(rng,5)="Total",ROW(rng)-MIN(ROW(rng))+1),ROWS($5:38))),"")} -> Total CADECAP SAS | B38: =INDIRECT("Données!C"&$J38) -> 5632.25 | C38: =B38/$B$70 -> 0.010092221 | D38: =INDIRECT("Données!P"&$J38) -> -48.39 | E38: =D38/B38 -> -0.0085915931 | F38: =INDIRECT("Données!M"&$J38) -> 3826.92 | G38: =F38/$F$70 -> 0.012362872 | H38: =F38/B38 -> 0.67946558 | I38: =VLOOKUP(9.99999999999999E+307,INDIRECT("Données!A1"&":A"&J38),1) -> 100000 | J38: {=IF(ROWS($5:38)<=COUNTA(rng),SMALL(IF(LEFT(rng,5)="Total",ROW(rng)-MIN(ROW(rng))+1),ROWS($5:38)),"")+1} -> 192
A39: {=IF(ROWS($5:39)<=COUNTA(rng),INDEX(rng,SMALL(IF(LEFT(rng,5)="Total",ROW(rng)-MIN(ROW(rng))+1),ROWS($5:39))),"")} -> Total HEURTAUX SAS | B39: =INDIRECT("Données!C"&$J39) -> 925 | C39: =B39/$B$70 -> 0.0016574734 | D39: =INDIRECT("Données!P"&$J39) -> 293.4 | E39: =D39/B39 -> 0.31718919 | F39: =INDIRECT("Données!M"&$J39) -> 341.91 | G39: =F39/$F$70 -> 0.0011045409 | H39: =F39/B39 -> 0.36963243 | I39: =VLOOKUP(9.99999999999999E+307,INDIRECT("Données!A1"&":A"&J39),1) -> 100000 | J39: {=IF(ROWS($5:39)<=COUNTA(rng),SMALL(IF(LEFT(rng,5)="Total",ROW(rng)-MIN(ROW(rng))+1),ROWS($5:39)),"")+1} -> 202
A40: {=IF(ROWS($5:40)<=COUNTA(rng),INDEX(rng,SMALL(IF(LEFT(rng,5)="Total",ROW(rng)-MIN(ROW(rng))+1),ROWS($5:40))),"")} -> Total LOXOS | B40: =INDIRECT("Données!C"&$J40) -> 203.8 | C40: =B40/$B$70 -> 0.00036518171 | D40: =INDIRECT("Données!P"&$J40) -> 1.82 | E40: =D40/B40 -> 0.0089303238 | F40: =INDIRECT("Données!M"&$J40) -> 170.67 | G40: =F40/$F$70 -> 0.00055134975 | H40: =F40/B40 -> 0.83743867 | I40: =VLOOKUP(9.99999999999999E+307,INDIRECT("Données!A1"&":A"&J40),1) -> 100000 | J40: {=IF(ROWS($5:40)<=COUNTA(rng),SMALL(IF(LEFT(rng,5)="Total",ROW(rng)-MIN(ROW(rng))+1),ROWS($5:40)),"")+1} -> 204
A41: {=IF(ROWS($5:41)<=COUNTA(rng),INDEX(rng,SMALL(IF(LEFT(rng,5)="Total",ROW(rng)-MIN(ROW(rng))+1),ROWS($5:41))),"")} -> Total MERAND MECAPATE | B41: =INDIRECT("Données!C"&$J41) -> 351.55 | C41: =B41/$B$70 -> 0.00062992948 | D41: =INDIRECT("Données!P"&$J41) -> 72.79 | E41: =D41/B41 -> 0.20705447 | F41: =INDIRECT("Données!M"&$J41) -> 224.92 | G41: =F41/$F$70 -> 0.00072660447 | H41: =F41/B41 -> 0.63979519 | I41: =VLOOKUP(9.99999999999999E+307,INDIRECT("Données!A1"&":A"&J41),1) -> 100000 | J41: {=IF(ROWS($5:41)<=COUNTA(rng),SMALL(IF(LEFT(rng,5)="Total",ROW(rng)-MIN(ROW(rng))+1),ROWS($5:41)),"")+1} -> 209
A42: {=IF(ROWS($5:42)<=COUNTA(rng),INDEX(rng,SMALL(IF(LEFT(rng,5)="Total",ROW(rng)-MIN(ROW(rng))+1),ROWS($5:42))),"")} -> Total SARGI | B42: =INDIRECT("Données!C"&$J42) -> 178 | C42: =B42/$B$70 -> 0.00031895164 | D42: =INDIRECT("Données!P"&$J42) -> -55.54 | E42: =D42/B42 -> -0.31202247 | F42: =INDIRECT("Données!M"&$J42) -> 117.34 | G42: =F42/$F$70 -> 0.00037906708 | H42: =F42/B42 -> 0.65921348 | I42: =VLOOKUP(9.99999999999999E+307,INDIRECT("Données!A1"&":A"&J42),1) -> 100000 | J42: {=IF(ROWS($5:42)<=COUNTA(rng),SMALL(IF(LEFT(rng,5)="Total",ROW(rng)-MIN(ROW(rng))+1),ROWS($5:42)),"")+1} -> 211
A43: {=IF(ROWS($5:43)<=COUNTA(rng),INDEX(rng,SMALL(IF(LEFT(rng,5)="Total",ROW(rng)-MIN(ROW(rng))+1),ROWS($5:43))),"")} -> Total POULINGUE SAS | B43: =INDIRECT("Données!C"&$J43) -> 351.5 | C43: =B43/$B$70 -> 0.00062983989 | D43: =INDIRECT("Données!P"&$J43) -> 8.57 | E43: =D43/B43 -> 0.024381223 | F43: =INDIRECT("Données!M"&$J43) -> 256.42 | G43: =F43/$F$70 -> 0.00082836528 | H43: =F43/B43 -> 0.72950213 | I43: =VLOOKUP(9.99999999999999E+307,INDIRECT("Données!A1"&":A"&J43),1) -> 100000 | J43: {=IF(ROWS($5:43)<=COUNTA(rng),SMALL(IF(LEFT(rng,5)="Total",ROW(rng)-MIN(ROW(rng))+1),ROWS($5:43)),"")+1} -> 213
A44: {=IF(ROWS($5:44)<=COUNTA(rng),INDEX(rng,SMALL(IF(LEFT(rng,5)="Total",ROW(rng)-MIN(ROW(rng))+1),ROWS($5:44))),"")} -> Total TECADIS SYSTEMS | B44: =INDIRECT("Données!C"&$J44) -> 35471.99 | C44: =B44/$B$70 -> 0.063560951 | D44: =INDIRECT("Données!P"&$J44) -> 4099.2572 | E44: =D44/B44 -> 0.11556321 | F44: =INDIRECT("Données!M"&$J44) -> 21066.03 | G44: =F44/$F$70 -> 0.068053848 | H44: =F44/B44 -> 0.59387787 | I44: =VLOOKUP(9.99999999999999E+307,INDIRECT("Données!A1"&":A"&J44),1) -> 100000 | J44: {=IF(ROWS($5:44)<=COUNTA(rng),SMALL(IF(LEFT(rng,5)="Total",ROW(rng)-MIN(ROW(rng))+1),ROWS($5:44)),"")+1} -> 215
A45: {=IF(ROWS($5:45)<=COUNTA(rng),INDEX(rng,SMALL(IF(LEFT(rng,5)="Total",ROW(rng)-MIN(ROW(rng))+1),ROWS($5:45))),"")} -> Total C-TECHNOLOGIES | B45: =INDIRECT("Données!C"&$J45) -> 232 | C45: =B45/$B$70 -> 0.00041571225 | D45: =INDIRECT("Données!P"&$J45) -> 14.19 | E45: =D45/B45 -> 0.061163793 | F45: =INDIRECT("Données!M"&$J45) -> 151.58 | G45: =F45/$F$70 -> 0.00048967947 | H45: =F45/B45 -> 0.65336207 | I45: =VLOOKUP(9.99999999999999E+307,INDIRECT("Données!A1"&":A"&J45),1) -> 400000 | J45: {=IF(ROWS($5:45)<=COUNTA(rng),SMALL(IF(LEFT(rng,5)="Total",ROW(rng)-MIN(ROW(rng))+1),ROWS($5:45)),"")+1} -> 219
A46: {=IF(ROWS($5:46)<=COUNTA(rng),INDEX(rng,SMALL(IF(LEFT(rng,5)="Total",ROW(rng)-MIN(ROW(rng))+1),ROWS($5:46))),"")} -> Total IDPACK | B46: =INDIRECT("Données!C"&$J46) -> 2010 | C46: =B46/$B$70 -> 0.0036016449 | D46: =INDIRECT("Données!P"&$J46) -> 844.64 | E46: =D46/B46 -> 0.42021891 | F46: =INDIRECT("Données!M"&$J46) -> 767.07 | G46: =F46/$F$70 -> 0.002478021 | H46: =F46/B46 -> 0.38162687 | I46: =VLOOKUP(9.99999999999999E+307,INDIRECT("Données!A1"&":A"&J46),1) -> 400000 | J46: {=IF(ROWS($5:46)<=COUNTA(rng),SMALL(IF(LEFT(rng,5)="Total",ROW(rng)-MIN(ROW(rng))+1),ROWS($5:46)),"")+1} -> 278
A47: {=IF(ROWS($5:47)<=COUNTA(rng),INDEX(rng,SMALL(IF(LEFT(rng,5)="Total",ROW(rng)-MIN(ROW(rng))+1),ROWS($5:47))),"")} -> Total NSE BU INTEGRATIONS | B47: =INDIRECT("Données!C"&$J47) -> 4215 | C47: =B47/$B$70 -> 0.0075527031 | D47: =INDIRECT("Données!P"&$J47) -> 782.93 | E47: =D47/B47 -> 0.18574852 | F47: =INDIRECT("Données!M"&$J47) -> 1727.12 | G47: =F47/$F$70 -> 0.0055794643 | H47: =F47/B47 -> 0.40975563 | I47: =VLOOKUP(9.99999999999999E+307,INDIRECT("Données!A1"&":A"&J47),1) -> 400000 | J47: {=IF(ROWS($5:47)<=COUNTA(rng),SMALL(IF(LEFT(rng,5)="Total",ROW(rng)-MIN(ROW(rng))+1),ROWS($5:47)),"")+1} -> 280
A48: {=IF(ROWS($5:48)<=COUNTA(rng),INDEX(rng,SMALL(IF(LEFT(rng,5)="Total",ROW(rng)-MIN(ROW(rng))+1),ROWS($5:48))),"")} -> Total TIAMA | B48: =INDIRECT("Données!C"&$J48) -> 120 | C48: =B48/$B$70 -> 0.00021502358 | D48: =INDIRECT("Données!P"&$J48) -> 35.23 | E48: =D48/B48 -> 0.29358333 | F48: =INDIRECT("Données!M"&$J48) -> 77.92 | G48: =F48/$F$70 -> 0.0002517207 | H48: =F48/B48 -> 0.64933333 | I48: =VLOOKUP(9.99999999999999E+307,INDIRECT("Données!A1"&":A"&J48),1) -> 400000 | J48: {=IF(ROWS($5:48)<=COUNTA(rng),SMALL(IF(LEFT(rng,5)="Total",ROW(rng)-MIN(ROW(rng))+1),ROWS($5:48)),"")+1} -> 299
A49: {=IF(ROWS($5:49)<=COUNTA(rng),INDEX(rng,SMALL(IF(LEFT(rng,5)="Total",ROW(rng)-MIN(ROW(rng))+1),ROWS($5:49))),"")} -> Total TOKHEIM FRANCE SAS | B49: =INDIRECT("Données!C"&$J49) -> 157.5 | C49: =B49/$B$70 -> 0.00028221844 | D49: =INDIRECT("Données!P"&$J49) -> 20.16 | E49: =D49/B49 -> 0.128 | F49: =INDIRECT("Données!M"&$J49) -> 127.67 | G49: =F49/$F$70 -> 0.00041243817 | H49: =F49/B49 -> 0.81060317 | I49: =VLOOKUP(9.99999999999999E+307,INDIRECT("Données!A1"&":A"&J49),1) -> 400000 | J49: {=IF(ROWS($5:49)<=COUNTA(rng),SMALL(IF(LEFT(rng,5)="Total",ROW(rng)-MIN(ROW(rng))+1),ROWS($5:49)),"")+1} -> 318
A50: {=IF(ROWS($5:50)<=COUNTA(rng),INDEX(rng,SMALL(IF(LEFT(rng,5)="Total",ROW(rng)-MIN(ROW(rng))+1),ROWS($5:50))),"")} -> Total TOKHEIM SOFITAM APPLICATIONS | B50: =INDIRECT("Données!C"&$J50) -> 128817.69 | C50: =B50/$B$70 -> 0.23082367 | D50: =INDIRECT("Données!P"&$J50) -> 14240.78 | E50: =D50/B50 -> 0.11054988 | F50: =INDIRECT("Données!M"&$J50) -> 72997.83 | G50: =F50/$F$70 -> 0.23581962 | H50: =F50/B50 -> 0.56667551 | I50: =VLOOKUP(9.99999999999999E+307,INDIRECT("Données!A1"&":A"&J50),1) -> 400000 | J50: {=IF(ROWS($5:50)<=COUNTA(rng),SMALL(IF(LEFT(rng,5)="Total",ROW(rng)-MIN(ROW(rng))+1),ROWS($5:50)),"")+1} -> 321
A51: {=IF(ROWS($5:51)<=COUNTA(rng),INDEX(rng,SMALL(IF(LEFT(rng,5)="Total",ROW(rng)-MIN(ROW(rng))+1),ROWS($5:51))),"")} -> Total AMC | B51: =INDIRECT("Données!C"&$J51) -> 2086.27 | C51: =B51/$B$70 -> 0.0037383103 | D51: =INDIRECT("Données!P"&$J51) -> -227.81 | E51: =D51/B51 -> -0.10919488 | F51: =INDIRECT("Données!M"&$J51) -> 1982.17 | G51: =F51/$F$70 -> 0.0064034038 | H51: =F51/B51 -> 0.95010234 | I51: =VLOOKUP(9.99999999999999E+307,INDIRECT("Données!A1"&":A"&J51),1) -> 200000 | J51: {=IF(ROWS($5:51)<=COUNTA(rng),SMALL(IF(LEFT(rng,5)="Total",ROW(rng)-MIN(ROW(rng))+1),ROWS($5:51)),"")+1} -> 334
A52: {=IF(ROWS($5:52)<=COUNTA(rng),INDEX(rng,SMALL(IF(LEFT(rng,5)="Total",ROW(rng)-MIN(ROW(rng))+1),ROWS($5:52))),"")} -> Total BERNAY AUTOMATION | B52: =INDIRECT("Données!C"&$J52) -> 1381 | C52: =B52/$B$70 -> 0.002474563 | D52: =INDIRECT("Données!P"&$J52) -> -72.93 | E52: =D52/B52 -> -0.052809558 | F52: =INDIRECT("Données!M"&$J52) -> 1224.58 | G52: =F52/$F$70 -> 0.0039560079 | H52: =F52/B52 -> 0.88673425 | I52: =VLOOKUP(9.99999999999999E+307,INDIRECT("Données!A1"&":A"&J52),1) -> 200000 | J52: {=IF(ROWS($5:52)<=COUNTA(rng),SMALL(IF(LEFT(rng,5)="Total",ROW(rng)-MIN(ROW(rng))+1),ROWS($5:52)),"")+1} -> 345
A53: {=IF(ROWS($5:53)<=COUNTA(rng),INDEX(rng,SMALL(IF(LEFT(rng,5)="Total",ROW(rng)-MIN(ROW(rng))+1),ROWS($5:53))),"")} -> Total DBS | B53: =INDIRECT("Données!C"&$J53) -> 1541.07 | C53: =B53/$B$70 -> 0.0027613865 | D53: =INDIRECT("Données!P"&$J53) -> 549.19 | E53: =D53/B53 -> 0.35636928 | F53: =INDIRECT("Données!M"&$J53) -> 743.33 | G53: =F53/$F$70 -> 0.0024013289 | H53: =F53/B53 -> 0.48234668 | I53: =VLOOKUP(9.99999999999999E+307,INDIRECT("Données!A1"&":A"&J53),1) -> 200000 | J53: {=IF(ROWS($5:53)<=COUNTA(rng),SMALL(IF(LEFT(rng,5)="Total",ROW(rng)-MIN(ROW(rng))+1),ROWS($5:53)),"")+1} -> 359
A54: {=IF(ROWS($5:54)<=COUNTA(rng),INDEX(rng,SMALL(IF(LEFT(rng,5)="Total",ROW(rng)-MIN(ROW(rng))+1),ROWS($5:54))),"")} -> Total SAM LABIGNE EQUIPEMENT | B54: =INDIRECT("Données!C"&$J54) -> 220 | C54: =B54/$B$70 -> 0.00039420989 | D54: =INDIRECT("Données!P"&$J54) -> 69.94 | E54: =D54/B54 -> 0.31790909 | F54: =INDIRECT("Données!M"&$J54) -> 118.42 | G54: =F54/$F$70 -> 0.00038255603 | H54: =F54/B54 -> 0.53827273 | I54: =VLOOKUP(9.99999999999999E+307,INDIRECT("Données!A1"&":A"&J54),1) -> 200000 | J54: {=IF(ROWS($5:54)<=COUNTA(rng),SMALL(IF(LEFT(rng,5)="Total",ROW(rng)-MIN(ROW(rng))+1),ROWS($5:54)),"")+1} -> 393
A55: {=IF(ROWS($5:55)<=COUNTA(rng),INDEX(rng,SMALL(IF(LEFT(rng,5)="Total",ROW(rng)-MIN(ROW(rng))+1),ROWS($5:55))),"")} -> Total SANCHEZ S.A.S | B55: =INDIRECT("Données!C"&$J55) -> 945 | C55: =B55/$B$70 -> 0.0016933107 | D55: =INDIRECT("Données!P"&$J55) -> 259.41 | E55: =D55/B55 -> 0.27450794 | F55: =INDIRECT("Données!M"&$J55) -> 342.42 | G55: =F55/$F$70 -> 0.0011061884 | H55: =F55/B55 -> 0.36234921 | I55: =VLOOKUP(9.99999999999999E+307,INDIRECT("Données!A1"&":A"&J55),1) -> 200000 | J55: {=IF(ROWS($5:55)<=COUNTA(rng),SMALL(IF(LEFT(rng,5)="Total",ROW(rng)-MIN(ROW(rng))+1),ROWS($5:55)),"")+1} -> 401
A56: {=IF(ROWS($5:56)<=COUNTA(rng),INDEX(rng,SMALL(IF(LEFT(rng,5)="Total",ROW(rng)-MIN(ROW(rng))+1),ROWS($5:56))),"")} -> Total SEP-RIEP | B56: =INDIRECT("Données!C"&$J56) -> 650 | C56: =B56/$B$70 -> 0.001164711 | D56: =INDIRECT("Données!P"&$J56) -> 138.27 | E56: =D56/B56 -> 0.21272308 | F56: =INDIRECT("Données!M"&$J56) -> 506.17 | G56: =F56/$F$70 -> 0.0016351831 | H56: =F56/B56 -> 0.77872308 | I56: =VLOOKUP(9.99999999999999E+307,INDIRECT("Données!A1"&":A"&J56),1) -> 200000 | J56: {=IF(ROWS($5:56)<=COUNTA(rng),SMALL(IF(LEFT(rng,5)="Total",ROW(rng)-MIN(ROW(rng))+1),ROWS($5:56)),"")+1} -> 403
A57: {=IF(ROWS($5:57)<=COUNTA(rng),INDEX(rng,SMALL(IF(LEFT(rng,5)="Total",ROW(rng)-MIN(ROW(rng))+1),ROWS($5:57))),"")} -> Total SOMAC | B57: =INDIRECT("Données!C"&$J57) -> 116.7 | C57: =B57/$B$70 -> 0.00020911043 | D57: =INDIRECT("Données!P"&$J57) -> 42.6 | E57: =D57/B57 -> 0.36503856 | F57: =INDIRECT("Données!M"&$J57) -> 49.75 | G57: =F57/$F$70 -> 0.00016071747 | H57: =F57/B57 -> 0.42630677 | I57: =VLOOKUP(9.99999999999999E+307,INDIRECT("Données!A1"&":A"&J57),1) -> 200000 | J57: {=IF(ROWS($5:57)<=COUNTA(rng),SMALL(IF(LEFT(rng,5)="Total",ROW(rng)-MIN(ROW(rng))+1),ROWS($5:57)),"")+1} -> 405
A58: {=IF(ROWS($5:58)<=COUNTA(rng),INDEX(rng,SMALL(IF(LEFT(rng,5)="Total",ROW(rng)-MIN(ROW(rng))+1),ROWS($5:58))),"")} -> Total ZALKIN ANDRE | B58: =INDIRECT("Données!C"&$J58) -> 480.76 | C58: =B58/$B$70 -> 0.00086145612 | D58: =INDIRECT("Données!P"&$J58) -> 189.16 | E58: =D58/B58 -> 0.39346035 | F58: =INDIRECT("Données!M"&$J58) -> 166.17 | G58: =F58/$F$70 -> 0.00053681249 | H58: =F58/B58 -> 0.34564024 | I58: =VLOOKUP(9.99999999999999E+307,INDIRECT("Données!A1"&":A"&J58),1) -> 200000 | J58: {=IF(ROWS($5:58)<=COUNTA(rng),SMALL(IF(LEFT(rng,5)="Total",ROW(rng)-MIN(ROW(rng))+1),ROWS($5:58)),"")+1} -> 433
A59: {=IF(ROWS($5:59)<=COUNTA(rng),INDEX(rng,SMALL(IF(LEFT(rng,5)="Total",ROW(rng)-MIN(ROW(rng))+1),ROWS($5:59))),"")} -> Total ASCA | B59: =INDIRECT("Données!C"&$J59) -> 259.65 | C59: =B59/$B$70 -> 0.00046525726 | D59: =INDIRECT("Données!P"&$J59) -> 221.9 | E59: =D59/B59 -> 0.85461198 | F59: =INDIRECT("Données!M"&$J59) -> 37.75 | G59: =F59/$F$70 -> 0.00012195144 | H59: =F59/B59 -> 0.14538802 | I59: =VLOOKUP(9.99999999999999E+307,INDIRECT("Données!A1"&":A"&J59),1) -> 200000 | J59: {=IF(ROWS($5:59)<=COUNTA(rng),SMALL(IF(LEFT(rng,5)="Total",ROW(rng)-MIN(ROW(rng))+1),ROWS($5:59)),"")+1} -> 437
A60: {=IF(ROWS($5:60)<=COUNTA(rng),INDEX(rng,SMALL(IF(LEFT(rng,5)="Total",ROW(rng)-MIN(ROW(rng))+1),ROWS($5:60))),"")} -> Total BRUNO JEAN EURL | B60: =INDIRECT("Données!C"&$J60) -> 481.9 | C60: =B60/$B$70 -> 0.00086349884 | D60: =INDIRECT("Données!P"&$J60) -> 149.77 | E60: =D60/B60 -> 0.31079062 | F60: =INDIRECT("Données!M"&$J60) -> 278.5 | G60: =F60/$F$70 -> 0.00089969476 | H60: =F60/B60 -> 0.57792073 | I60: =VLOOKUP(9.99999999999999E+307,INDIRECT("Données!A1"&":A"&J60),1) -> 200000 | J60: {=IF(ROWS($5:60)<=COUNTA(rng),SMALL(IF(LEFT(rng,5)="Total",ROW(rng)-MIN(ROW(rng))+1),ROWS($5:60)),"")+1} -> 440
A61: {=IF(ROWS($5:61)<=COUNTA(rng),INDEX(rng,SMALL(IF(LEFT(rng,5)="Total",ROW(rng)-MIN(ROW(rng))+1),ROWS($5:61))),"")} -> Total CEGELEC | B61: =INDIRECT("Données!C"&$J61) -> 616.39 | C61: =B61/$B$70 -> 0.0011044865 | D61: =INDIRECT("Données!P"&$J61) -> 209.78 | E61: =D61/B61 -> 0.34033648 | F61: =INDIRECT("Données!M"&$J61) -> 326.91 | G61: =F61/$F$70 -> 0.0010560834 | H61: =F61/B61 -> 0.53036227 | I61: =VLOOKUP(9.99999999999999E+307,INDIRECT("Données!A1"&":A"&J61),1) -> 200000 | J61: {=IF(ROWS($5:61)<=COUNTA(rng),SMALL(IF(LEFT(rng,5)="Total",ROW(rng)-MIN(ROW(rng))+1),ROWS($5:61)),"")+1} -> 442
A62: {=IF(ROWS($5:62)<=COUNTA(rng),INDEX(rng,SMALL(IF(LEFT(rng,5)="Total",ROW(rng)-MIN(ROW(rng))+1),ROWS($5:62))),"")} -> Total CMAT | B62: =INDIRECT("Données!C"&$J62) -> 156.54 | C62: =B62/$B$70 -> 0.00028049825 | D62: =INDIRECT("Données!P"&$J62) -> 59.25 | E62: =D62/B62 -> 0.37849751 | F62: =INDIRECT("Données!M"&$J62) -> 64.83 | G62: =F62/$F$70 -> 0.00020943343 | H62: =F62/B62 -> 0.41414335 | I62: =VLOOKUP(9.99999999999999E+307,INDIRECT("Données!A1"&":A"&J62),1) -> 200000 | J62: {=IF(ROWS($5:62)<=COUNTA(rng),SMALL(IF(LEFT(rng,5)="Total",ROW(rng)-MIN(ROW(rng))+1),ROWS($5:62)),"")+1} -> 446
A63: {=IF(ROWS($5:63)<=COUNTA(rng),INDEX(rng,SMALL(IF(LEFT(rng,5)="Total",ROW(rng)-MIN(ROW(rng))+1),ROWS($5:63))),"")} -> Total ERPI | B63: =INDIRECT("Données!C"&$J63) -> 1668.43 | C63: =B63/$B$70 -> 0.0029895982 | D63: =INDIRECT("Données!P"&$J63) -> 474.64 | E63: =D63/B63 -> 0.28448302 | F63: =INDIRECT("Données!M"&$J63) -> 605.67 | G63: =F63/$F$70 -> 0.001956618 | H63: =F63/B63 -> 0.36301793 | I63: =VLOOKUP(9.99999999999999E+307,INDIRECT("Données!A1"&":A"&J63),1) -> 200000 | J63: {=IF(ROWS($5:63)<=COUNTA(rng),SMALL(IF(LEFT(rng,5)="Total",ROW(rng)-MIN(ROW(rng))+1),ROWS($5:63)),"")+1} -> 469
A64: {=IF(ROWS($5:64)<=COUNTA(rng),INDEX(rng,SMALL(IF(LEFT(rng,5)="Total",ROW(rng)-MIN(ROW(rng))+1),ROWS($5:64))),"")} -> Total MANUVIT | B64: =INDIRECT("Données!C"&$J64) -> 336.35 | C64: =B64/$B$70 -> 0.00060269316 | D64: =INDIRECT("Données!P"&$J64) -> -8.74 | E64: =D64/B64 -> -0.025984837 | F64: =INDIRECT("Données!M"&$J64) -> 280 | G64: =F64/$F$70 -> 0.00090454051 | H64: =F64/B64 -> 0.83246618 | I64: =VLOOKUP(9.99999999999999E+307,INDIRECT("Données!A1"&":A"&J64),1) -> 200000 | J64: {=IF(ROWS($5:64)<=COUNTA(rng),SMALL(IF(LEFT(rng,5)="Total",ROW(rng)-MIN(ROW(rng))+1),ROWS($5:64)),"")+1} -> 476
A65: {=IF(ROWS($5:65)<=COUNTA(rng),INDEX(rng,SMALL(IF(LEFT(rng,5)="Total",ROW(rng)-MIN(ROW(rng))+1),ROWS($5:65))),"")} -> Total OCTE | B65: =INDIRECT("Données!C"&$J65) -> 238.92 | C65: =B65/$B$70 -> 0.00042811194 | D65: =INDIRECT("Données!P"&$J65) -> 30.32 | E65: =D65/B65 -> 0.1269044 | F65: =INDIRECT("Données!M"&$J65) -> 171.08 | G65: =F65/$F$70 -> 0.00055267425 | H65: =F65/B65 -> 0.71605558 | I65: =VLOOKUP(9.99999999999999E+307,INDIRECT("Données!A1"&":A"&J65),1) -> 200000 | J65: {=IF(ROWS($5:65)<=COUNTA(rng),SMALL(IF(LEFT(rng,5)="Total",ROW(rng)-MIN(ROW(rng))+1),ROWS($5:65)),"")+1} -> 480
A66: {=IF(ROWS($5:66)<=COUNTA(rng),INDEX(rng,SMALL(IF(LEFT(rng,5)="Total",ROW(rng)-MIN(ROW(rng))+1),ROWS($5:66))),"")} -> Total PROCYS | B66: =INDIRECT("Données!C"&$J66) -> 7800 | C66: =B66/$B$70 -> 0.013976532 | D66: =INDIRECT("Données!P"&$J66) -> 500.29 | E66: =D66/B66 -> 0.064139744 | F66: =INDIRECT("Données!M"&$J66) -> 2922.33 | G66: =F66/$F$70 -> 0.0094405924 | H66: =F66/B66 -> 0.37465769 | I66: =VLOOKUP(9.99999999999999E+307,INDIRECT("Données!A1"&":A"&J66),1) -> 200000 | J66: {=IF(ROWS($5:66)<=COUNTA(rng),SMALL(IF(LEFT(rng,5)="Total",ROW(rng)-MIN(ROW(rng))+1),ROWS($5:66)),"")+1} -> 482
A67: {=IF(ROWS($5:67)<=COUNTA(rng),INDEX(rng,SMALL(IF(LEFT(rng,5)="Total",ROW(rng)-MIN(ROW(rng))+1),ROWS($5:67))),"")} -> Total SHOP CONCEPT & SERVICES | B67: =INDIRECT("Données!C"&$J67) -> 134524.26 | C67: =B67/$B$70 -> 0.24104906 | D67: =INDIRECT("Données!P"&$J67) -> 18623.37 | E67: =D67/B67 -> 0.13843875 | F67: =INDIRECT("Données!M"&$J67) -> 71105.74 | G67: =F67/$F$70 -> 0.22970722 | H67: =F67/B67 -> 0.52857187 | I67: =VLOOKUP(9.99999999999999E+307,INDIRECT("Données!A1"&":A"&J67),1) -> 200000 | J67: {=IF(ROWS($5:67)<=COUNTA(rng),SMALL(IF(LEFT(rng,5)="Total",ROW(rng)-MIN(ROW(rng))+1),ROWS($5:67)),"")+1} -> 500
A68: {=IF(ROWS($5:68)<=COUNTA(rng),INDEX(rng,SMALL(IF(LEFT(rng,5)="Total",ROW(rng)-MIN(ROW(rng))+1),ROWS($5:68))),"")} -> Total IMETAL | B68: =INDIRECT("Données!C"&$J68) -> 20558.74 | C68: =B68/$B$70 -> 0.036838448 | D68: =INDIRECT("Données!P"&$J68) -> 3026.51 | E68: =D68/B68 -> 0.14721282 | F68: =INDIRECT("Données!M"&$J68) -> 14756.59 | G68: =F68/$F$70 -> 0.047671191 | H68: =F68/B68 -> 0.71777696 | I68: =VLOOKUP(9.99999999999999E+307,INDIRECT("Données!A1"&":A"&J68),1) -> 600000 | J68: {=IF(ROWS($5:68)<=COUNTA(rng),SMALL(IF(LEFT(rng,5)="Total",ROW(rng)-MIN(ROW(rng))+1),ROWS($5:68)),"")+1} -> 521
B70: =SUBTOTAL(9,B5:B68) -> 558078.34 | C70: =SUBTOTAL(9,C5:C68) -> 1 | D70: =SUBTOTAL(9,D5:D68) -> 62028.857 | E70: =D70/B70 -> 0.11114722 | F70: =SUBTOTAL(9,F5:F68) -> 309549.43 | G70: =SUBTOTAL(9,G5:G68) -> 1 | H70: =F70/B70 -> 0.55467021
A73: REMARQUES : | B73: Colonne "A" remplacer "Client" Par 100000 et Supprimer 'Total général'
B75: Faire Ctrl F3 … pour adapter la plage rng =Données!$A$1:Données!$A$520
B77: Dans cette feuille, tu dois copier normalement la formule depuis A5 vers le bas

Sheet Ventilation Totale Du Mois
C1: FACTURATION OCTOBRE 2017
A3: Chargés Affaires | B3: NAF | C3: Données Facturé | D3: M.P. | E3: Fourn. | F3: STR Méca | G3: STR Laser | H3: STR Peint. | I3: STR Trait. | J3: STR Autres | K3: Transp. | L3: ACHATS | M3: MO Réelle | N3: MO Réelle + Achats | O3: MO Facturable | P3: Marge / Fact.
A4: Bruno | B4: 500000 | C4: =SUMIFS(Données!C:C,Données!B:B,"5*") -> 21150.95 | D4: =SUMIFS(Données!D:D,Données!B:B,"5*") -> 5133.03 | E4: =SUMIFS(Données!E:E,Données!B:B,"3*") -> 3103.8 | F4: =SUMIFS(Données!F:F,Données!B:B,"5*") -> 133.9 | G4: =SUMIFS(Données!G:G,Données!B:B,"5*") -> 0 | H4: =SUMIFS(Données!H:H,Données!B:B,"5*") -> 2075.15 | I4: =SUMIFS(Données!I:I,Données!B:B,"5*") -> 332.9 | J4: =SUMIFS(Données!J:J,Données!B:B,"5*") -> 481.11 | K4: =SUMIFS(Données!K:K,Données!B:B,"5*") -> 274.05 | L4: =SUM(D4:K4) -> 11533.94 | M4: =SUMIFS(Données!M:M,Données!B:B,"5*") -> 12208.71 | N4: =SUM(L4:M4) -> 23742.65 | O4: =SUMIFS(Données!O:O,Données!B:B,"5*") -> 12690.62 | P4: =O4-M4 -> 481.91
A5: Pauline | B5: 300000 | C5: =SUMIFS(Données!C:C,Données!B:B,"3*") -> 121630.7 | D5: =SUMIFS(Données!D:D,Données!B:B,"3*") -> 28253.84 | E5: =SUMIFS(Données!E:E,Données!B:B,"5*") -> 30.19 | F5: =SUMIFS(Données!F:F,Données!B:B,"3*") -> 735.43 | G5: =SUMIFS(Données!G:G,Données!B:B,"3*") -> 1710.83 | H5: =SUMIFS(Données!H:H,Données!B:B,"3*") -> 2977.73 | I5: =SUMIFS(Données!I:I,Données!B:B,"3*") -> 4349.49 | J5: =SUMIFS(Données!J:J,Données!B:B,"3*") -> 0 | K5: =SUMIFS(Données!K:K,Données!B:B,"3*") -> 2000.89 | L5: =SUM(D5:K5) -> 40058.4 | M5: =SUMIFS(Données!M:M,Données!B:B,"3*") -> 66151.36 | N5: =SUM(L5:M5) -> 106209.76 | O5: =SUMIFS(Données!O:O,Données!B:B,"3*") -> 78498.69 | P5: =O5-M5 -> 12347.33
A6: Gérard | B6: 100000 | C6: =SUMIFS(Données!C:C,Données!B:B,"1*") -> 35471.99 | D6: =SUMIFS(Données!D:D,Données!B:B,"1*") -> 5033.47 | E6: =SUMIFS(Données!E:E,Données!B:B,"1*") -> 536.51 | F6: =SUMIFS(Données!F:F,Données!B:B,"1*") -> 1549.6728 | G6: =SUMIFS(Données!G:G,Données!B:B,"1*") -> 1136.98 | H6: =SUMIFS(Données!H:H,Données!B:B,"1*") -> 837.82 | I6: =SUMIFS(Données!I:I,Données!B:B,"1*") -> 174.75 | J6: =SUMIFS(Données!J:J,Données!B:B,"1*") -> 206 | K6: =SUMIFS(Données!K:K,Données!B:B,"1*") -> 831.5 | L6: =SUM(D6:K6) -> 10306.703 | M6: =SUMIFS(Données!M:M,Données!B:B,"1*") -> 21066.03 | N6: =SUM(L6:M6) -> 31372.733 | O6: =SUMIFS(Données!O:O,Données!B:B,"1*") -> 25165.287 | P6: =O6-M6 -> 4099.2572
A7: Gregory | B7: 400000 | C7: =SUMIFS(Données!C:C,Données!B:B,"4*") -> 128817.69 | D7: =SUMIFS(Données!D:D,Données!B:B,"4*") -> 13933.37 | E7: =SUMIFS(Données!E:E,Données!B:B,"4*") -> 7911.74 | F7: =SUMIFS(Données!F:F,Données!B:B,"4*") -> 4609.2 | G7: =SUMIFS(Données!G:G,Données!B:B,"4*") -> 2323.82 | H7: =SUMIFS(Données!H:H,Données!B:B,"4*") -> 8122.67 | I7: =SUMIFS(Données!I:I,Données!B:B,"4*") -> 213.32 | J7: =SUMIFS(Données!J:J,Données!B:B,"4*") -> 0 | K7: =SUMIFS(Données!K:K,Données!B:B,"4*") -> 4464.96 | L7: =SUM(D7:K7) -> 41579.08 | M7: =SUMIFS(Données!M:M,Données!B:B,"4*") -> 72997.83 | N7: =SUM(L7:M7) -> 114576.91 | O7: =SUMIFS(Données!O:O,Données!B:B,"4*") -> 87238.61 | P7: =O7-M7 -> 14240.78
A8: Jérome | B8: 200000 | C8: =SUMIFS(Données!C:C,Données!B:B,"2*") -> 134524.26 | D8: =SUMIFS(Données!D:D,Données!B:B,"2*") -> 23736.64 | E8: =SUMIFS(Données!E:E,Données!B:B,"2*") -> 814.9 | F8: =SUMIFS(Données!F:F,Données!B:B,"2*") -> 2128.17 | G8: =SUMIFS(Données!G:G,Données!B:B,"2*") -> 5924.97 | H8: =SUMIFS(Données!H:H,Données!B:B,"2*") -> 7963.17 | I8: =SUMIFS(Données!I:I,Données!B:B,"2*") -> 1720.83 | J8: =SUMIFS(Données!J:J,Données!B:B,"2*") -> 213.13 | K8: =SUMIFS(Données!K:K,Données!B:B,"2*") -> 2293.34 | L8: =SUM(D8:K8) -> 44795.15 | M8: =SUMIFS(Données!M:M,Données!B:B,"2*") -> 71105.74 | N8: =SUM(L8:M8) -> 115900.89 | O8: =SUMIFS(Données!O:O,Données!B:B,"2*") -> 89729.11 | P8: =O8-M8 -> 18623.37
A9: Eric IMETAL | B9: 600000 | C9: =SUMIFS(Données!C:C,Données!B:B,"6*") -> 20558.74 | D9: =SUMIFS(Données!D:D,Données!B:B,"6*") -> 1339.45 | E9: =SUMIFS(Données!E:E,Données!B:B,"6*") -> 16.62 | F9: =SUMIFS(Données!F:F,Données!B:B,"6*") -> 0 | G9: =SUMIFS(Données!G:G,Données!B:B,"6*") -> 0 | H9: =SUMIFS(Données!H:H,Données!B:B,"6*") -> 41.41 | I9: =SUMIFS(Données!I:I,Données!B:B,"6*") -> 0 | J9: =SUMIFS(Données!J:J,Données!B:B,"6*") -> 1336.96 | K9: =SUMIFS(Données!K:K,Données!B:B,"6*") -> 41.2 | L9: =SUM(D9:K9) -> 2775.64 | M9: =SUMIFS(Données!M:M,Données!B:B,"6*") -> 14756.59 | N9: =SUM(L9:M9) -> 17532.23 | O9: =SUMIFS(Données!O:O,Données!B:B,"6*") -> 17783.1 | P9: =O9-M9 -> 3026.51
C10: =SUM(C4:C9) -> 462154.33 | D10: =SUM(D4:D9) -> 77429.8 | E10: =SUM(E4:E9) -> 12413.76 | F10: =SUM(F4:F9) -> 9156.3728 | G10: =SUM(G4:G9) -> 11096.6 | H10: =SUM(H4:H9) -> 22017.95 | I10: =SUM(I4:I9) -> 6791.29 | J10: =SUM(J4:J9) -> 2237.2 | ... P10: =SUM(P4:P9) -> 52819.157
D11: =D10/$C$10 -> 0.167541 | E11: =E10/$C$10 -> 0.026860638 | F11: =F10/$C$10 -> 0.01981237 | G11: =G10/$C$10 -> 0.024010594 | H11: =H10/$C$10 -> 0.047641986 | I11: =I10/$C$10 -> 0.014694853 | J11: =J10/$C$10 -> 0.0048408072 | K11: =K10/$C$10 -> 0.021434269 | ... P11: =P10/$C$10 -> 0.114289
N12: Réelle | O12: =+P10/M10 -> 0.20449852 | P12: =P11 -> 0.114289
N13: Objectif | O13: 0.1017 | P13: 0.06
N14: Ecart | O14: =+O12-O13 -> 0.10279852 | P14: =+P12-P13 -> 0.054289002
