Workbook
Name rng: Données!$A$1:'Données'!$A$520

Sheet Données
A1: Colonne "A" remplacer "Client" Par 100000 et Supprimer 'Total général' | C1: Données
A2: 500000 | B2: NAF | C2: Facturé | D2: M.P. | E2: Fourn. | F2: STR Méca | G2: STR Laser | H2: STR Peint. | I2: STR Trait. | J2: STR Autres | K2: Transp. | L2: ACHATS | M2: MO Réelle | N2: MO Réelle + Achats | O2: MO Facturable | P2: Marge / Fact.
A3: ALTERVAL | B3: 500 053 | C3: 1485.3 | D3: 305.26 | F3: 133.9 | H3: 83.42 | K3: 21.63 | L3: 544.21 | M3: 1181.98 | N3: 1726.19 | O3: 941.09 | P3: -240.89
B4: 500 112 | C4: 1876.6 | D4: 545 | E4: 17.24 | H4: 259.97 | L4: 822.21 | M4: 1055.08 | N4: 1877.29 | O4: 1054.39 | P4: -0.69
B5: 500 115 | C5: 4227.7 | D5: 1098.6 | H5: 540.54 | L5: 1639.14 | M5: 2071.17 | N5: 3710.31 | O5: 2588.56 | P5: 517.39
B6: 500 117 | C6: 1050 | L6: 0 | M6: 1158.66 | N6: 1158.66 | O6: 1050 | P6: -108.66
B7: 500 118 | C7: 3186.45 | D7: 411.18 | E7: 12.95 | H7: 189.96 | I7: 75.4 | J7: 481.11 | L7: 1170.6 | M7: 1521.16 | N7: 2691.76 | O7: 2015.85 | P7: 494.69
B8: 500 120 | C8: 471.9 | D8: 218.22 | L8: 218.22 | M8: 230.33 | N8: 448.55 | O8: 253.68 | P8: 23.35
B9: 500 121 | C9: 7978 | D9: 2541.92 | H9: 1001.26 | I9: 257.5 | K9: 17.58 | L9: 3818.26 | M9: 4325.5 | N9: 8143.76 | O9: 4159.74 | P9: -165.76
B10: 500 126 | C10: 225 | D10: 12.85 | L10: 12.85 | M10: 180.91 | N10: 193.76 | O10: 212.15 | P10: 31.24
B11: 500 128 | C11: 650 | K11: 234.84 | L11: 234.84 | M11: 483.92 | N11: 718.76 | O11: 415.16 | P11: -68.76
A12: Total ALTERVAL | C12: 21150.95 | D12: 5133.03 | E12: 30.19 | F12: 133.9 | H12: 2075.15 | I12: 332.9 | J12: 481.11 | K12: 274.05 | L12: 8460.33 | M12: 12208.71 | N12: 20669.04 | O12: 12690.62 | P12: 481.91
C13: 21150.95 | D13: 5133.03 | E13: 30.19 | F13: 133.9 | H13: 2075.15 | I13: 332.9 | J13: 481.11 | K13: 274.05 | L13: 8460.33 | M13: 12208.71 | N13: 20669.04 | O13: 12690.62 | P13: 481.91
A14: 300000 | B14: NAF | C14: Facturé | D14: M.P. | E14: Fourn. | F14: STR Méca | G14: STR Laser | H14: STR Peint. | I14: STR Trait. | J14: STR Autres | K14: Transp. | L14: ACHATS | M14: MO Réelle | N14: MO Réelle + Achats | O14: MO Facturable | P14: Marge / Fact.
A15: BDSG SAS | B15: 303 871 | C15: 650 | L15: 0 | M15: 609.75 | N15: 609.75 | O15: 650 | P15: 40.25
A16: Total BDSG SAS | C16: 650 | L16: 0 | M16: 609.75 | N16: 609.75 | O16: 650 | P16: 40.25
A17: ESTEVE SAS | B17: 304 101 | C17: -120 | L17: 0 | M17: -120 | N17: -120 | O17: -120 | P17: 0
B18: 304 103 | C18: -180 | L18: 0 | M18: -180 | N18: -180 | O18: -180 | P18: 0
B19: 304 154 | C19: -355 | L19: 0 | M19: -355 | N19: -355 | O19: -355 | P19: 0
B20: 304 155 | C20: 1912 | G20: 978.79 | I20: 322.52 | K20: 140.08 | L20: 1441.39 | M20: 195.25 | N20: 1636.64 | O20: 470.61 | P20: 275.36
B21: 304 257 | C21: 1513 | D21: 494.69 | L21: 494.69 | M21: 953.84 | N21: 1448.53 | O21: 1018.31 | P21: 64.47
B22: 304 259 | C22: 2635 | D22: 835.56 | E22: 6.26 | K22: 188.49 | L22: 1030.31 | M22: 1824.33 | N22: 2854.64 | O22: 1604.69 | P22: -219.64
A23: Total ESTEVE SAS | C23: 5405 | D23: 1330.25 | E23: 6.26 | G23: 978.79 | I23: 322.52 | K23: 328.57 | L23: 2966.39 | M23: 2318.42 | N23: 5284.81 | O23: 2438.61 | P23: 120.19
A24: FEMAAG | B24: 304 245 | C24: 3075 | D24: 87.33 | E24: 5.8 | G24: 732.04 | H24: 772.5 | L24: 1597.67 | M24: 1270.16 | N24: 2867.83 | O24: 1477.33 | P24: 207.17
B25: 304 265 | C25: 526.72 | D25: 73.79 | L25: 73.79 | M25: 511.08 | N25: 584.87 | O25: 452.93 | P25: -58.15
B26: 304 266 | C26: 724.32 | D26: 42.64 | L26: 42.64 | M26: 259.58 | N26: 302.22 | O26: 681.68 | P26: 422.1
B27: 304 308 | C27: 460 | D27: 95.35 | H27: 15.97 | L27: 111.32 | M27: 220.75 | N27: 332.07 | O27: 348.68 | P27: 127.93
B28: 304 309 | C28: 424.56 | D28: 22.14 | L28: 22.14 | M28: 212.33 | N28: 234.47 | O28: 402.42 | P28: 190.09
B29: 304 310 | C29: 418.25 | D29: 69.35 | L29: 69.35 | M29: 264.1 | N29: 333.45 | O29: 348.9 | P29: 84.8
A30: Total FEMAAG | C30: 5628.85 | D30: 390.6 | E30: 5.8 | G30: 732.04 | H30: 788.47 | L30: 1916.91 | M30: 2738 | N30: 4654.91 | O30: 3711.94 | P30: 973.94
A31: FILMAG | B31: 304 218 | C31: 494.25 | D31: 222.89 | L31: 222.89 | M31: 181.83 | N31: 404.72 | O31: 271.36 | P31: 89.53
B32: 304 269 | C32: 195.86 | D32: 151.31 | L32: 151.31 | M32: 84.67 | N32: 235.98 | O32: 44.55 | P32: -40.12
B33: 304 270 | C33: 219.29 | D33: 63.62 | L33: 63.62 | M33: 101.83 | N33: 165.45 | O33: 155.67 | P33: 53.84
B34: 304 271 | C34: 39.29 | D34: 18.95 | L34: 18.95 | M34: 44.33 | N34: 63.28 | O34: 20.34 | P34: -23.99
B35: 304 272 | C35: 1788 | D35: 455.3 | L35: 455.3 | M35: 752.17 | N35: 1207.47 | O35: 1332.7 | P35: 580.53
B36: 304 273 | C36: 224.9 | D36: 114.3 | L36: 114.3 | M36: 293.92 | N36: 408.22 | O36: 110.6 | P36: -183.32
B37: 304 280 | C37: 219.54 | D37: 43.66 | L37: 43.66 | M37: 253.91 | N37: 297.57 | O37: 175.88 | P37: -78.03
B38: 304 281 | C38: 4142.6 | D38: 2418 | L38: 2418 | M38: 917.08 | N38: 3335.08 | O38: 1724.6 | P38: 807.52
B39: 304 282 | C39: 47.44 | D39: 22.25 | L39: 22.25 | M39: 122.75 | N39: 145 | O39: 25.19 | P39: -97.56
B40: 304 330 | C40: 298.82 | D40: 73.35 | L40: 73.35 | M40: 384.33 | N40: 457.68 | O40: 225.47 | P40: -158.86
...

Sheet CA MB MO Du Mois
B1: Classement Client En Fonction Du Chiffre d'Affaires Facturé
B2: OCTOBRE 2017
A4: CLIENTS | B4: CA CLIENT | C4: % CA CLIENT | D4: MARGE BRUTE | E4: % MB/CA | F4: MO reelle | G4: % MO | H4: %MO/CA | I4: NAF | J4: Lignes
A5: {=IF(ROWS($5:5)<=COUNTA(rng),INDEX(rng,SMALL(IF(LEFT(rng,5)="Total",ROW(rng)-MIN(ROW(rng))+1),ROWS($5:5))),"")} -> Total ALTERVAL | B5: =INDIRECT("Données!C"&$J5) -> 21150.95 | C5: =B5/$B$70 -> 0.037899607 | D5: =INDIRECT("Données!P"&$J5) -> 481.91 | E5: =D5/B5 -> 0.022784319 | F5: =INDIRECT("Données!M"&$J5) -> 12208.71 | G5: =F5/$F$70 -> 0.03944026 | H5: =F5/B5 -> 0.57721804 | I5: =VLOOKUP(9.99999999999999E+307,INDIRECT("Données!A1"&":A"&J5),1) -> 500000 | J5: {=IF(ROWS($5:5)<=COUNTA(rng),SMALL(IF(LEFT(rng,5)="Total",ROW(rng)-MIN(ROW(rng))+1),ROWS($5:5)),"")+1} -> 13
A6: {=IF(ROWS($5:6)<=COUNTA(rng),INDEX(rng,SMALL(IF(LEFT(rng,5)="Total",ROW(rng)-MIN(ROW(rng))+1),ROWS($5:6))),"")} -> Total BDSG SAS | B6: =INDIRECT("Données!C"&$J6) -> -120 | C6: =B6/$B$70 -> -0.00021502358 | D6: =INDIRECT("Données!P"&$J6) -> 0 | E6: =D6/B6 -> 0 | F6: =INDIRECT("Données!M"&$J6) -> -120 | G6: =F6/$F$70 -> -0.00038766022 | H6: =F6/B6 -> 1 | I6: =VLOOKUP(9.99999999999999E+307,INDIRECT("Données!A1"&":A"&J6),1) -> 300000 | J6: {=IF(ROWS($5:6)<=COUNTA(rng),SMALL(IF(LEFT(rng,5)="Total",ROW(rng)-MIN(ROW(rng))+1),ROWS($5:6)),"")+1} -> 17
A7: {=IF(ROWS($5:7)<=COUNTA(rng),INDEX(rng,SMALL(IF(LEFT(rng,5)="Total",ROW(rng)-MIN(ROW(rng))+1),ROWS($5:7))),"")} -> Total ESTEVE SAS | B7: =INDIRECT("Données!C"&$J7) -> 3075 | C7: =B7/$B$70 -> 0.0055099791 | D7: =INDIRECT("Données!P"&$J7) -> 207.17 | E7: =D7/B7 -> 0.067372358 | F7: =INDIRECT("Données!M"&$J7) -> 1270.16 | G7: =F7/$F$70 -> 0.0041032542 | H7: =F7/B7 -> 0.41306016 | I7: =VLOOKUP(9.99999999999999E+307,INDIRECT("Données!A1"&":A"&J7),1) -> 300000 | J7: {=IF(ROWS($5:7)<=COUNTA(rng),SMALL(IF(LEFT(rng,5)="Total",ROW(rng)-MIN(ROW(rng))+1),ROWS($5:7)),"")+1} -> 24
A8: {=IF(ROWS($5:8)<=COUNTA(rng),INDEX(rng,SMALL(IF(LEFT(rng,5)="Total",ROW(rng)-MIN(ROW(rng))+1),ROWS($5:8))),"")} -> Total FEMAAG | B8: =INDIRECT("Données!C"&$J8) -> 494.25 | C8: =B8/$B$70 -> 0.00088562835 | D8: =INDIRECT("Données!P"&$J8) -> 89.53 | E8: =D8/B8 -> 0.18114315 | F8: =INDIRECT("Données!M"&$J8) -> 181.83 | G8: =F8/$F$70 -> 0.00058740215 | H8: =F8/B8 -> 0.36789074 | I8: =VLOOKUP(9.99999999999999E+307,INDIRECT("Données!A1"&":A"&J8),1) -> 300000 | J8: {=IF(ROWS($5:8)<=COUNTA(rng),SMALL(IF(LEFT(rng,5)="Total",ROW(rng)-MIN(ROW(rng))+1),ROWS($5:8)),"")+1} -> 31
A9: {=IF(ROWS($5:9)<=COUNTA(rng),INDEX(rng,SMALL(IF(LEFT(rng,5)="Total",ROW(rng)-MIN(ROW(rng))+1),ROWS($5:9))),"")} -> Total FILMAG | B9: =INDIRECT("Données!C"&$J9) -> 99.5 | C9: =B9/$B$70 -> 0.00017829038 | D9: =INDIRECT("Données!P"&$J9) -> 25.68 | E9: =D9/B9 -> 0.25809045 | F9: =INDIRECT("Données!M"&$J9) -> 45.5 | G9: =F9/$F$70 -> 0.00014698783 | H9: =F9/B9 -> 0.45728643 | I9: =VLOOKUP(9.99999999999999E+307,INDIRECT("Données!A1"&":A"&J9),1) -> 300000 | J9: {=IF(ROWS($5:9)<=COUNTA(rng),SMALL(IF(LEFT(rng,5)="Total",ROW(rng)-MIN(ROW(rng))+1),ROWS($5:9)),"")+1} -> 49
A10: {=IF(ROWS($5:10)<=COUNTA(rng),INDEX(rng,SMALL(IF(LEFT(rng,5)="Total",ROW(rng)-MIN(ROW(rng))+1),ROWS($5:10))),"")} -> Total GETELEC | B10: =INDIRECT("Données!C"&$J10) -> 23675 | C10: =B10/$B$70 -> 0.04242236 | D10: =INDIRECT("Données!P"&$J10) -> -2182.88 | E10: =D10/B10 -> -0.092201901 | F10: =INDIRECT("Données!M"&$J10) -> 16832.26 | G10: =F10/$F$70 -> 0.054376647 | H10: =F10/B10 -> 0.71097191 | I10: =VLOOKUP(9.99999999999999E+307,INDIRECT("Données!A1"&":A"&J10),1) -> 300000 | J10: {=IF(ROWS($5:10)<=COUNTA(rng),SMALL(IF(LEFT(rng,5)="Total",ROW(rng)-MIN(ROW(rng))+1),ROWS($5:10)),"")+1} -> 51
A11: {=IF(ROWS($5:11)<=COUNTA(rng),INDEX(rng,SMALL(IF(LEFT(rng,5)="Total",ROW(rng)-MIN(ROW(rng))+1),ROWS($5:11))),"")} -> Total GYRDIS | B11: =INDIRECT("Données!C"&$J11) -> 2250 | C11: =B11/$B$70 -> 0.004031692 | D11: =INDIRECT("Données!P"&$J11) -> 769.4 | E11: =D11/B11 -> 0.34195556 | F11: =INDIRECT("Données!M"&$J11) -> 1480.6 | G11: =F11/$F$70 -> 0.004783081 | H11: =F11/B11 -> 0.65804444 | I11: =VLOOKUP(9.99999999999999E+307,INDIRECT("Données!A1"&":A"&J11),1) -> 300000 | J11: {=IF(ROWS($5:11)<=COUNTA(rng),SMALL(IF(LEFT(rng,5)="Total",ROW(rng)-MIN(ROW(rng))+1),ROWS($5:11)),"")+1} -> 54
A12: {=IF(ROWS($5:12)<=COUNTA(rng),INDEX(rng,SMALL(IF(LEFT(rng,5)="Total",ROW(rng)-MIN(ROW(rng))+1),ROWS($5:12))),"")} -> Total LE CAILLEBOTIS DIAMOND | B12: =INDIRECT("Données!C"&$J12) -> 4020 | C12: =B12/$B$70 -> 0.0072032898 | D12: =INDIRECT("Données!P"&$J12) -> -602.97 | E12: =D12/B12 -> -0.14999254 | F12: =INDIRECT("Données!M"&$J12) -> 2215.43 | G12: =F12/$F$70 -> 0.0071569507 | H12: =F12/B12 -> 0.55110199 | I12: =VLOOKUP(9.99999999999999E+307,INDIRECT("Données!A1"&":A"&J12),1) -> 300000 | J12: {=IF(ROWS($5:12)<=COUNTA(rng),SMALL(IF(LEFT(rng,5)="Total",ROW(rng)-MIN(ROW(rng))+1),ROWS($5:12)),"")+1} -> 57
A13: {=IF(ROWS($5:13)<=COUNTA(rng),INDEX(rng,SMALL(IF(LEFT(rng,5)="Total",ROW(rng)-MIN(ROW(rng))+1),ROWS($5:13))),"")} -> Total MECA + SERVICES | B13: =INDIRECT("Données!C"&$J13) -> 2401.5 | C13: =B13/$B$70 -> 0.0043031593 | D13: =INDIRECT("Données!P"&$J13) -> 350.89 | E13: =D13/B13 -> 0.14611285 | F13: =INDIRECT("Données!M"&$J13) -> 394.13 | G13: =F13/$F$70 -> 0.0012732377 | H13: =F13/B13 -> 0.16411826 | I13: =VLOOKUP(9.99999999999999E+307,INDIRECT("Données!A1"&":A"&J13),1) -> 300000 | J13: {=IF(ROWS($5:13)<=COUNTA(rng),SMALL(IF(LEFT(rng,5)="Total",ROW(rng)-MIN(ROW(rng))+1),ROWS($5:13)),"")+1} -> 60
A14: {=IF(ROWS($5:14)<=COUNTA(rng),INDEX(rng,SMALL(IF(LEFT(rng,5)="Total",ROW(rng)-MIN(ROW(rng))+1),ROWS($5:14))),"")} -> Total METALU-PLAST | B14: =INDIRECT("Données!C"&$J14) -> 714.5 | C14: =B14/$B$70 -> 0.0012802862 | D14: =INDIRECT("Données!P"&$J14) -> 335 | E14: =D14/B14 -> 0.46885934 | F14: =INDIRECT("Données!M"&$J14) -> 316.75 | G14: =F14/$F$70 -> 0.0010232615 | H14: =F14/B14 -> 0.443317 | I14: =VLOOKUP(9.99999999999999E+307,INDIRECT("Données!A1"&":A"&J14),1) -> 300000 | J14: {=IF(ROWS($5:14)<=COUNTA(rng),SMALL(IF(LEFT(rng,5)="Total",ROW(rng)-MIN(ROW(rng))+1),ROWS($5:14)),"")+1} -> 75
A15: {=IF(ROWS($5:15)<=COUNTA(rng),INDEX(rng,SMALL(IF(LEFT(rng,5)="Total",ROW(rng)-MIN(ROW(rng))+1),ROWS($5:15))),"")} -> Total PROPALUM SARL | B15: =INDIRECT("Données!C"&$J15) -> 4200 | C15: =B15/$B$70 -> 0.0075258251 | D15: =INDIRECT("Données!P"&$J15) -> 2095.79 | E15: =D15/B15 -> 0.49899762 | F15: =INDIRECT("Données!M"&$J15) -> 1118.16 | G15: =F15/$F$70 -> 0.0036122179 | H15: =F15/B15 -> 0.26622857 | I15: =VLOOKUP(9.99999999999999E+307,INDIRECT("Données!A1"&":A"&J15),1) -> 300000 | J15: {=IF(ROWS($5:15)<=COUNTA(rng),SMALL(IF(LEFT(rng,5)="Total",ROW(rng)-MIN(ROW(rng))+1),ROWS($5:15)),"")+1} -> 77
A16: {=IF(ROWS($5:16)<=COUNTA(rng),INDEX(rng,SMALL(IF(LEFT(rng,5)="Total",ROW(rng)-MIN(ROW(rng))+1),ROWS($5:16))),"")} -> Total SAS LEDIA | B16: =INDIRECT("Données!C"&$J16) -> 261 | C16: =B16/$B$70 -> 0.00046767628 | D16: =INDIRECT("Données!P"&$J16) -> 97.1 | E16: =D16/B16 -> 0.37203065 | F16: =INDIRECT("Données!M"&$J16) -> 107.16 | G16: =F16/$F$70 -> 0.00034618058 | H16: =F16/B16 -> 0.41057471 | I16: =VLOOKUP(9.99999999999999E+307,INDIRECT("Données!A1"&":A"&J16),1) -> 300000 | J16: {=IF(ROWS($5:16)<=COUNTA(rng),SMALL(IF(LEFT(rng,5)="Total",ROW(rng)-MIN(ROW(rng))+1),ROWS($5:16)),"")+1} -> 97
A17: {=IF(ROWS($5:17)<=COUNTA(rng),INDEX(rng,SMALL(IF(LEFT(rng,5)="Total",ROW(rng)-MIN(ROW(rng))+1),ROWS($5:17))),"")} -> Total SEPRA AUTOMATISATION | B17: =INDIRECT("Données!C"&$J17) -> -489 | C17: =B17/$B$70 -> -0.00087622107 | D17: =INDIRECT("Données!P"&$J17) -> -489 | E17: =D17/B17 -> 1 | F17: =INDIRECT("Données!M"&$J17) -> 0 | G17: =F17/$F$70 -> 0 | H17: =F17/B17 -> 0 | I17: =VLOOKUP(9.99999999999999E+307,INDIRECT("Données!A1"&":A"&J17),1) -> 300000 | J17: {=IF(ROWS($5:17)<=COUNTA(rng),SMALL(IF(LEFT(rng,5)="Total",ROW(rng)-MIN(ROW(rng))+1),ROWS($5:17)),"")+1} -> 104
A18: {=IF(ROWS($5:18)<=COUNTA(rng),INDEX(rng,SMALL(IF(LEFT(rng,5)="Total",ROW(rng)-MIN(ROW(rng))+1),ROWS($5:18))),"")} -> Total VAN'S BARBOT | B18: =INDIRECT("Données!C"&$J18) -> 330 | C18: =B18/$B$70 -> 0.00059131483 | D18: =INDIRECT("Données!P"&$J18) -> 10.84 | E18: =D18/B18 -> 0.032848485 | F18: =INDIRECT("Données!M"&$J18) -> 263.75 | G18: =F18/$F$70 -> 0.00085204486 | H18: =F18/B18 -> 0.79924242 | I18: =VLOOKUP(9.99999999999999E+307,INDIRECT("Données!A1"&":A"&J18),1) -> 300000 | J18: {=IF(ROWS($5:18)<=COUNTA(rng),SMALL(IF(LEFT(rng,5)="Total",ROW(rng)-MIN(ROW(rng))+1),ROWS($5:18)),"")+1} -> 106
A19: {=IF(ROWS($5:19)<=COUNTA(rng),INDEX(rng,SMALL(IF(LEFT(rng,5)="Total",ROW(rng)-MIN(ROW(rng))+1),ROWS($5:19))),"")} -> Total DIVERS | B19: =INDIRECT("Données!C"&$J19) -> 675 | C19: =B19/$B$70 -> 0.0012095076 | D19: =INDIRECT("Données!P"&$J19) -> -198.34 | E19: =D19/B19 -> -0.29383704 | F19: =INDIRECT("Données!M"&$J19) -> 832.51 | G19: =F19/$F$70 -> 0.0026894251 | H19: =F19/B19 -> 1.2333481 | I19: =VLOOKUP(9.99999999999999E+307,INDIRECT("Données!A1"&":A"&J19),1) -> 300000 | J19: {=IF(ROWS($5:19)<=COUNTA(rng),SMALL(IF(LEFT(rng,5)="Total",ROW(rng)-MIN(ROW(rng))+1),ROWS($5:19)),"")+1} -> 108
A20: {=IF(ROWS($5:20)<=COUNTA(rng),INDEX(rng,SMALL(IF(LEFT(rng,5)="Total",ROW(rng)-MIN(ROW(rng))+1),ROWS($5:20))),"")} -> Total TOUCH INNOVATION | B20: =INDIRECT("Données!C"&$J20) -> 510 | C20: =B20/$B$70 -> 0.0009138502 | D20: =INDIRECT("Données!P"&$J20) -> 29.17 | E20: =D20/B20 -> 0.057196078 | F20: =INDIRECT("Données!M"&$J20) -> 460.25 | G20: =F20/$F$70 -> 0.0014868385 | H20: =F20/B20 -> 0.90245098 | I20: =VLOOKUP(9.99999999999999E+307,INDIRECT("Données!A1"&":A"&J20),1) -> 300000 | J20: {=IF(ROWS($5:20)<=COUNTA(rng),SMALL(IF(LEFT(rng,5)="Total",ROW(rng)-MIN(ROW(rng))+1),ROWS($5:20)),"")+1} -> 110
A21: {=IF(ROWS($5:21)<=COUNTA(rng),INDEX(rng,SMALL(IF(LEFT(rng,5)="Total",ROW(rng)-MIN(ROW(rng))+1),ROWS($5:21))),"")} -> Total ROUSSEAU SAS | B21: =INDIRECT("Données!C"&$J21) -> 634 | C21: =B21/$B$70 -> 0.0011360412 | D21: =INDIRECT("Données!P"&$J21) -> 110.23 | E21: =D21/B21 -> 0.17386435 | F21: =INDIRECT("Données!M"&$J21) -> 209.08 | G21: =F21/$F$70 -> 0.00067543332 | H21: =F21/B21 -> 0.32977918 | I21: =VLOOKUP(9.99999999999999E+307,INDIRECT("Données!A1"&":A"&J21),1) -> 300000 | J21: {=IF(ROWS($5:21)<=COUNTA(rng),SMALL(IF(LEFT(rng,5)="Total",ROW(rng)-MIN(ROW(rng))+1),ROWS($5:21)),"")+1} -> 112
A22: {=IF(ROWS($5:22)<=COUNTA(rng),INDEX(rng,SMALL(IF(LEFT(rng,5)="Total",ROW(rng)-MIN(ROW(rng))+1),ROWS($5:22))),"")} -> Total NAITE | B22: =INDIRECT("Données!C"&$J22) -> 3601.05 | C22: =B22/$B$70 -> 0.0064525887 | D22: =INDIRECT("Données!P"&$J22) -> 372.45 | E22: =D22/B22 -> 0.10342817 | F22: =INDIRECT("Données!M"&$J22) -> 2322.17 | G22: =F22/$F$70 -> 0.0075017744 | H22: =F22/B22 -> 0.64485914 | I22: =VLOOKUP(9.99999999999999E+307,INDIRECT("Données!A1"&":A"&J22),1) -> 300000 | J22: {=IF(ROWS($5:22)<=COUNTA(rng),SMALL(IF(LEFT(rng,5)="Total",ROW(rng)-MIN(ROW(rng))+1),ROWS($5:22)),"")+1} -> 117
A23: {=IF(ROWS($5:23)<=COUNTA(rng),INDEX(rng,SMALL(IF(LEFT(rng,5)="Total",ROW(rng)-MIN(ROW(rng))+1),ROWS($5:23))),"")} -> Total THIBAUT | B23: =INDIRECT("Données!C"&$J23) -> 1755 | C23: =B23/$B$70 -> 0.0031447198 | D23: =INDIRECT("Données!P"&$J23) -> 327 | E23: =D23/B23 -> 0.18632479 | F23: =INDIRECT("Données!M"&$J23) -> 1066.64 | G23: =F23/$F$70 -> 0.0034457825 | H23: =F23/B23 -> 0.60777208 | I23: =VLOOKUP(9.99999999999999E+307,INDIRECT("Données!A1"&":A"&J23),1) -> 300000 | J23: {=IF(ROWS($5:23)<=COUNTA(rng),SMALL(IF(LEFT(rng,5)="Total",ROW(rng)-MIN(ROW(rng))+1),ROWS($5:23)),"")+1} -> 122
A24: {=IF(ROWS($5:24)<=COUNTA(rng),INDEX(rng,SMALL(IF(LEFT(rng,5)="Total",ROW(rng)-MIN(ROW(rng))+1),ROWS($5:24))),"")} -> Total GSC VANS THEAULT | B24: =INDIRECT("Données!C"&$J24) -> 6391.1 | C24: =B24/$B$70 -> 0.011451976 | D24: =INDIRECT("Données!P"&$J24) -> -158.08 | E24: =D24/B24 -> -0.024734396 | F24: =INDIRECT("Données!M"&$J24) -> 1923.59 | G24: =F24/$F$70 -> 0.006214161 | H24: =F24/B24 -> 0.30097949 | I24: =VLOOKUP(9.99999999999999E+307,INDIRECT("Données!A1"&":A"&J24),1) -> 300000 | J24: {=IF(ROWS($5:24)<=COUNTA(rng),SMALL(IF(LEFT(rng,5)="Total",ROW(rng)-MIN(ROW(rng))+1),ROWS($5:24)),"")+1} -> 125
A25: {=IF(ROWS($5:25)<=COUNTA(rng),INDEX(rng,SMALL(IF(LEFT(rng,5)="Total",ROW(rng)-MIN(ROW(rng))+1),ROWS($5:25))),"")} -> Total DENIOS | B25: =INDIRECT("Données!C"&$J25) -> 234 | C25: =B25/$B$70 -> 0.00041929597 | D25: =INDIRECT("Données!P"&$J25) -> -7.88 | E25: =D25/B25 -> -0.033675214 | F25: =INDIRECT("Données!M"&$J25) -> 135.5 | G25: =F25/$F$70 -> 0.000437733 | H25: =F25/B25 -> 0.57905983 | I25: =VLOOKUP(9.99999999999999E+307,INDIRECT("Données!A1"&":A"&J25),1) -> 300000 | J25: {=IF(ROWS($5:25)<=COUNTA(rng),SMALL(IF(LEFT(rng,5)="Total",ROW(rng)-MIN(ROW(rng))+1),ROWS($5:25)),"")+1} -> 132
A26: {=IF(ROWS($5:26)<=COUNTA(rng),INDEX(rng,SMALL(IF(LEFT(rng,5)="Total",ROW(rng)-MIN(ROW(rng))+1),ROWS($5:26))),"")} -> Total FIAV | B26: =INDIRECT("Données!C"&$J26) -> 2160 | C26: =B26/$B$70 -> 0.0038704244 | D26: =INDIRECT("Données!P"&$J26) -> 2066.43 | E26: =D26/B26 -> 0.95668056 | F26: =INDIRECT("Données!M"&$J26) -> 4.58 | G26: =F26/$F$70 -> 1.4795698e-05 | H26: =F26/B26 -> 0.0021203704 | I26: =VLOOKUP(9.99999999999999E+307,INDIRECT("Données!A1"&":A"&J26),1) -> 300000 | J26: {=IF(ROWS($5:26)<=COUNTA(rng),SMALL(IF(LEFT(rng,5)="Total",ROW(rng)-MIN(ROW(rng))+1),ROWS($5:26)),"")+1} -> 136
A27: {=IF(ROWS($5:27)<=COUNTA(rng),INDEX(rng,SMALL(IF(LEFT(rng,5)="Total",ROW(rng)-MIN(ROW(rng))+1),ROWS($5:27))),"")} -> Total CADECAP SAS | B27: =INDIRECT("Données!C"&$J27) -> 823 | C27: =B27/$B$70 -> 0.0014747034 | D27: =INDIRECT("Données!P"&$J27) -> 38.54 | E27: =D27/B27 -> 0.046828676 | F27: =INDIRECT("Données!M"&$J27) -> 467.67 | G27: =F27/$F$70 -> 0.0015108088 | H27: =F27/B27 -> 0.5682503 | I27: =VLOOKUP(9.99999999999999E+307,INDIRECT("Données!A1"&":A"&J27),1) -> 300000 | J27: {=IF(ROWS($5:27)<=COUNTA(rng),SMALL(IF(LEFT(rng,5)="Total",ROW(rng)-MIN(ROW(rng))+1),ROWS($5:27)),"")+1} -> 138
A28: {=IF(ROWS($5:28)<=COUNTA(rng),INDEX(rng,SMALL(IF(LEFT(rng,5)="Total",ROW(rng)-MIN(ROW(rng))+1),ROWS($5:28))),"")} -> Total LEGENDRE OUEST | B28: =INDIRECT("Données!C"&$J28) -> 121630.7 | C28: =B28/$B$70 -> 0.21794557 | D28: =INDIRECT("Données!P"&$J28) -> 12347.33 | E28: =D28/B28 -> 0.10151491 | F28: =INDIRECT("Données!M"&$J28) -> 66151.36 | G28: =F28/$F$70 -> 0.21370209 | H28: =F28/B28 -> 0.54387059 | I28: =VLOOKUP(9.99999999999999E+307,INDIRECT("Données!A1"&":A"&J28),1) -> 300000 | J28: {=IF(ROWS($5:28)<=COUNTA(rng),SMALL(IF(LEFT(rng,5)="Total",ROW(rng)-MIN(ROW(rng))+1),ROWS($5:28)),"")+1} -> 140
A29: {=IF(ROWS($5:29)<=COUNTA(rng),INDEX(rng,SMALL(IF(LEFT(rng,5)="Total",ROW(rng)-MIN(ROW(rng))+1),ROWS($5:29))),"")} -> Total MAINSSURES HANDI MOVE | B29: =INDIRECT("Données!C"&$J29) -> 30.65 | C29: =B29/$B$70 -> 5.4920605e-05 | D29: =INDIRECT("Données!P"&$J29) -> 13.47 | E29: =D29/B29 -> 0.43947798 | F29: =INDIRECT("Données!M"&$J29) -> 13.75 | G29: =F29/$F$70 -> 4.44194e-05 | H29: =F29/B29 -> 0.44861338 | I29: =VLOOKUP(9.99999999999999E+307,INDIRECT("Données!A1"&":A"&J29),1) -> 100000 | J29: {=IF(ROWS($5:29)<=COUNTA(rng),SMALL(IF(LEFT(rng,5)="Total",ROW(rng)-MIN(ROW(rng))+1),ROWS($5:29)),"")+1} -> 144
A30: {=IF(ROWS($5:30)<=COUNTA(rng),INDEX(rng,SMALL(IF(LEFT(rng,5)="Total",ROW(rng)-MIN(ROW(rng))+1),ROWS($5:30))),"")} -> Total ROSELIER AGENCEMENT | B30: =INDIRECT("Données!C"&$J30) -> 823.88 | C30: =B30/$B$70 -> 0.0014762802 | D30: =INDIRECT("Données!P"&$J30) -> -161.87 | E30: =D30/B30 -> -0.19647279 | F30: =INDIRECT("Données!M"&$J30) -> 369.42 | G30: =F30/$F$70 -> 0.001193412 | H30: =F30/B30 -> 0.44839054 | I30: =VLOOKUP(9.99999999999999E+307,INDIRECT("Données!A1"&":A"&J30),1) -> 100000 | J30: {=IF(ROWS($5:30)<=COUNTA(rng),SMALL(IF(LEFT(rng,5)="Total",ROW(rng)-MIN(ROW(rng))+1),ROWS($5:30)),"")+1} -> 147
A31: {=IF(ROWS($5:31)<=COUNTA(rng),INDEX(rng,SMALL(IF(LEFT(rng,5)="Total",ROW(rng)-MIN(ROW(rng))+1),ROWS($5:31))),"")} -> Total CERMEX SAS - SITE DE LISIEUX | B31: =INDIRECT("Données!C"&$J31) -> 201 | C31: =B31/$B$70 -> 0.00036016449 | D31: =INDIRECT("Données!P"&$J31) -> 84.48 | E31: =D31/B31 -> 0.42029851 | F31: =INDIRECT("Données!M"&$J31) -> 110.42 | G31: =F31/$F$70 -> 0.00035671201 | H31: =F31/B31 -> 0.54935323 | I31: =VLOOKUP(9.99999999999999E+307,INDIRECT("Données!A1"&":A"&J31),1) -> 100000 | J31: {=IF(ROWS($5:31)<=COUNTA(rng),SMALL(IF(LEFT(rng,5)="Total",ROW(rng)-MIN(ROW(rng))+1),ROWS($5:31)),"")+1} -> 161
A32: {=IF(ROWS($5:32)<=COUNTA(rng),INDEX(rng,SMALL(IF(LEFT(rng,5)="Total",ROW(rng)-MIN(ROW(rng))+1),ROWS($5:32))),"")} -> Total KNORR BREMSE SYSTEME PR VEHICULES FRANCE | B32: =INDIRECT("Données!C"&$J32) -> 658.2 | C32: =B32/$B$70 -> 0.0011794043 | D32: =INDIRECT("Données!P"&$J32) -> 311.23 | E32: =D32/B32 -> 0.4728502 | F32: =INDIRECT("Données!M"&$J32) -> 235.91 | G32: =F32/$F$70 -> 0.00076210769 | H32: =F32/B32 -> 0.35841689 | I32: =VLOOKUP(9.99999999999999E+307,INDIRECT("Données!A1"&":A"&J32),1) -> 100000 | J32: {=IF(ROWS($5:32)<=COUNTA(rng),SMALL(IF(LEFT(rng,5)="Total",ROW(rng)-MIN(ROW(rng))+1),ROWS($5:32)),"")+1} -> 166
A33: {=IF(ROWS($5:33)<=COUNTA(rng),INDEX(rng,SMALL(IF(LEFT(rng,5)="Total",ROW(rng)-MIN(ROW(rng))+1),ROWS($5:33))),"")} -> Total MC BRIDE | B33: =INDIRECT("Données!C"&$J33) -> 170.8 | C33: =B33/$B$70 -> 0.00030605022 | D33: =INDIRECT("Données!P"&$J33) -> 48.16 | E33: =D33/B33 -> 0.28196721 | F33: =INDIRECT("Données!M"&$J33) -> 110 | G33: =F33/$F$70 -> 0.0003553552 | H33: =F33/B33 -> 0.6440281 | I33: =VLOOKUP(9.99999999999999E+307,INDIRECT("Données!A1"&":A"&J33),1) -> 100000 | J33: {=IF(ROWS($5:33)<=COUNTA(rng),SMALL(IF(LEFT(rng,5)="Total",ROW(rng)-MIN(ROW(rng))+1),ROWS($5:33)),"")+1} -> 170
A34: {=IF(ROWS($5:34)<=COUNTA(rng),INDEX(rng,SMALL(IF(LEFT(rng,5)="Total",ROW(rng)-MIN(ROW(rng))+1),ROWS($5:34))),"")} -> Total PLANQUE | B34: =INDIRECT("Données!C"&$J34) -> 1242 | C34: =B34/$B$70 -> 0.002225494 | D34: =INDIRECT("Données!P"&$J34) -> 577.56 | E34: =D34/B34 -> 0.46502415 | F34: =INDIRECT("Données!M"&$J34) -> 471.17 | G34: =F34/$F$70 -> 0.0015221155 | H34: =F34/B34 -> 0.37936393 | I34: =VLOOKUP(9.99999999999999E+307,INDIRECT("Données!A1"&":A"&J34),1) -> 100000 | J34: {=IF(ROWS($5:34)<=COUNTA(rng),SMALL(IF(LEFT(rng,5)="Total",ROW(rng)-MIN(ROW(rng))+1),ROWS($5:34)),"")+1} -> 177
A35: {=IF(ROWS($5:35)<=COUNTA(rng),INDEX(rng,SMALL(IF(LEFT(rng,5)="Total",ROW(rng)-MIN(ROW(rng))+1),ROWS($5:35))),"")} -> Total GAUDFRIN | B35: =INDIRECT("Données!C"&$J35) -> 983.4 | C35: =B35/$B$70 -> 0.0017621182 | D35: =INDIRECT("Données!P"&$J35) -> 257.01 | E35: =D35/B35 -> 0.26134838 | F35: =INDIRECT("Données!M"&$J35) -> 505.17 | G35: =F35/$F$70 -> 0.0016319526 | H35: =F35/B35 -> 0.51369738 | I35: =VLOOKUP(9.99999999999999E+307,INDIRECT("Données!A1"&":A"&J35),1) -> 100000 | J35: {=IF(ROWS($5:35)<=COUNTA(rng),SMALL(IF(LEFT(rng,5)="Total",ROW(rng)-MIN(ROW(rng))+1),ROWS($5:35)),"")+1} -> 180
A36: {=IF(ROWS($5:36)<=COUNTA(rng),INDEX(rng,SMALL(IF(LEFT(rng,5)="Total",ROW(rng)-MIN(ROW(rng))+1),ROWS($5:36))),"")} -> Total LA FRATERNELLE | B36: =INDIRECT("Données!C"&$J36) -> 130 | C36: =B36/$B$70 -> 0.00023294221 | D36: =INDIRECT("Données!P"&$J36) -> 41.19 | E36: =D36/B36 -> 0.31684615 | F36: =INDIRECT("Données!M"&$J36) -> 57.83 | G36: =F36/$F$70 -> 0.00018681992 | H36: =F36/B36 -> 0.44484615 | I36: =VLOOKUP(9.99999999999999E+307,INDIRECT("Données!A1"&":A"&J36),1) -> 100000 | J36: {=IF(ROWS($5:36)<=COUNTA(rng),SMALL(IF(LEFT(rng,5)="Total",ROW(rng)-MIN(ROW(rng))+1),ROWS($5:36)),"")+1} -> 184
A37: {=IF(ROWS($5:37)<=COUNTA(rng),INDEX(rng,SMALL(IF(LEFT(rng,5)="Total",ROW(rng)-MIN(ROW(rng))+1),ROWS($5:37))),"")} -> Total PKB | B37: =INDIRECT("Données!C"&$J37) -> 633.6 | C37: =B37/$B$70 -> 0.0011353245 | D37: =INDIRECT("Données!P"&$J37) -> 197.56 | E37: =D37/B37 -> 0.31180556 | F37: =INDIRECT("Données!M"&$J37) -> 252.16 | G37: =F37/$F$70 -> 0.00081460334 | H37: =F37/B37 -> 0.3979798 | I37: =VLOOKUP(9.99999999999999E+307,INDIRECT("Données!A1"&":A"&J37),1) -> 100000 | J37: {=IF(ROWS($5:37)<=COUNTA(rng),SMALL(IF(LEFT(rng,5)="Total",ROW(rng)-MIN(ROW(rng))+1),ROWS($5:37)),"")+1} -> 190
A38: {=IF(ROWS($5:38)<=COUNTA(rng),INDEX(rng,SMALL(IF(LEFT(rng,5)="Total",ROW(rng)-MIN(ROW(rng))+1),ROWS($5:38))),"")} -> Total CADECAP SAS | B38: =INDIRECT("Données!C"&$J38) -> 5632.25 | C38: =B38/$B$70 -> 0.010092221 | D38: =INDIRECT("Données!P"&$J38) -> -48.39 | E38: =D38/B38 -> -0.0085915931 | F38: =INDIRECT("Données!M"&$J38) -> 3826.92 | G38: =F38/$F$70 -> 0.012362872 | H38: =F38/B38 -> 0.67946558 | I38: =VLOOKUP(9.99999999999999E+307,INDIRECT("Données!A1"&":A"&J38),1) -> 100000 | J38: {=IF(ROWS($5:38)<=COUNTA(rng),SMALL(IF(LEFT(rng,5)="Total",ROW(rng)-MIN(ROW(rng))+1),ROWS($5:38)),"")+1} -> 192
A39: {=IF(ROWS($5:39)<=COUNTA(rng),INDEX(rng,SMALL(IF(LEFT(rng,5)="Total",ROW(rng)-MIN(ROW(rng))+1),ROWS($5:39))),"")} -> Total HEURTAUX SAS | B39: =INDIRECT("Données!C"&$J39) -> 925 | C39: =B39/$B$70 -> 0.0016574734 | D39: =INDIRECT("Données!P"&$J39) -> 293.4 | E39: =D39/B39 -> 0.31718919 | F39: =INDIRECT("Données!M"&$J39) -> 341.91 | G39: =F39/$F$70 -> 0.0011045409 | H39: =F39/B39 -> 0.36963243 | I39: =VLOOKUP(9.99999999999999E+307,INDIRECT("Données!A1"&":A"&J39),1) -> 100000 | J39: {=IF(ROWS($5:39)<=COUNTA(rng),SMALL(IF(LEFT(rng,5)="Total",ROW(rng)-MIN(ROW(rng))+1),ROWS($5:39)),"")+1} -> 202
A40: {=IF(ROWS($5:40)<=COUNTA(rng),INDEX(rng,SMALL(IF(LEFT(rng,5)="Total",ROW(rng)-MIN(ROW(rng))+1),ROWS($5:40))),"")} -> Total LOXOS | B40: =INDIRECT("Données!C"&$J40) -> 203.8 | C40: =B40/$B$70 -> 0.00036518171 | D40: =INDIRECT("Données!P"&$J40) -> 1.82 | E40: =D40/B40 -> 0.0089303238 | F40: =INDIRECT("Données!M"&$J40) -> 170.67 | G40: =F40/$F$70 -> 0.00055134975 | H40: =F40/B40 -> 0.83743867 | I40: =VLOOKUP(9.99999999999999E+307,INDIRECT("Données!A1"&":A"&J40),1) -> 100000 | J40: {=IF(ROWS($5:40)<=COUNTA(rng),SMALL(IF(LEFT(rng,5)="Total",ROW(rng)-MIN(ROW(rng))+1),ROWS($5:40)),"")+1} -> 204
A41: {=IF(ROWS($5:41)<=COUNTA(rng),INDEX(rng,SMALL(IF(LEFT(rng,5)="Total",ROW(rng)-MIN(ROW(rng))+1),ROWS($5:41))),"")} -> Total MERAND MECAPATE | B41: =INDIRECT("Données!C"&$J41) -> 351.55 | C41: =B41/$B$70 -> 0.00062992948 | D41: =INDIRECT("Données!P"&$J41) -> 72.79 | E41: =D41/B41 -> 0.20705447 | F41: =INDIRECT("Données!M"&$J41) -> 224.92 | G41: =F41/$F$70 -> 0.00072660447 | H41: =F41/B41 -> 0.63979519 | I41: =VLOOKUP(9.99999999999999E+307,INDIRECT("Données!A1"&":A"&J41),1) -> 100000 | J41: {=IF(ROWS($5:41)<=COUNTA(rng),SMALL(IF(LEFT(rng,5)="Total",ROW(rng)-MIN(ROW(rng))+1),ROWS($5:41)),"")+1} -> 209
...

Sheet Ventilation Totale Du Mois
C1: FACTURATION OCTOBRE 2017
A3: Chargés Affaires | B3: NAF | C3: Données Facturé | D3: M.P. | E3: Fourn. | F3: STR Méca | G3: STR Laser | H3: STR Peint. | I3: STR Trait. | J3: STR Autres | K3: Transp. | L3: ACHATS | M3: MO Réelle | N3: MO Réelle + Achats | O3: MO Facturable | P3: Marge / Fact.
A4: Bruno | B4: 500000 | C4: =SUMIFS(Données!C:C,Données!B:B,"5*") -> 21150.95 | D4: =SUMIFS(Données!D:D,Données!B:B,"5*") -> 5133.03 | E4: =SUMIFS(Données!E:E,Données!B:B,"3*") -> 3103.8 | F4: =SUMIFS(Données!F:F,Données!B:B,"5*") -> 133.9 | G4: =SUMIFS(Données!G:G,Données!B:B,"5*") -> 0 | H4: =SUMIFS(Données!H:H,Données!B:B,"5*") -> 2075.15 | I4: =SUMIFS(Données!I:I,Données!B:B,"5*") -> 332.9 | J4: =SUMIFS(Données!J:J,Données!B:B,"5*") -> 481.11 | K4: =SUMIFS(Données!K:K,Données!B:B,"5*") -> 274.05 | L4: =SUM(D4:K4) -> 11533.94 | M4: =SUMIFS(Données!M:M,Données!B:B,"5*") -> 12208.71 | N4: =SUM(L4:M4) -> 23742.65 | O4: =SUMIFS(Données!O:O,Données!B:B,"5*") -> 12690.62 | P4: =O4-M4 -> 481.91
A5: Pauline | B5: 300000 | C5: =SUMIFS(Données!C:C,Données!B:B,"3*") -> 121630.7 | D5: =SUMIFS(Données!D:D,Données!B:B,"3*") -> 28253.84 | E5: =SUMIFS(Données!E:E,Données!B:B,"5*") -> 30.19 | F5: =SUMIFS(Données!F:F,Données!B:B,"3*") -> 735.43 | G5: =SUMIFS(Données!G:G,Données!B:B,"3*") -> 1710.83 | H5: =SUMIFS(Données!H:H,Données!B:B,"3*") -> 2977.73 | I5: =SUMIFS(Données!I:I,Données!B:B,"3*") -> 4349.49 | J5: =SUMIFS(Données!J:J,Données!B:B,"3*") -> 0 | K5: =SUMIFS(Données!K:K,Données!B:B,"3*") -> 2000.89 | L5: =SUM(D5:K5) -> 40058.4 | M5: =SUMIFS(Données!M:M,Données!B:B,"3*") -> 66151.36 | N5: =SUM(L5:M5) -> 106209.76 | O5: =SUMIFS(Données!O:O,Données!B:B,"3*") -> 78498.69 | P5: =O5-M5 -> 12347.33
A6: Gérard | B6: 100000 | C6: =SUMIFS(Données!C:C,Données!B:B,"1*") -> 35471.99 | D6: =SUMIFS(Données!D:D,Données!B:B,"1*") -> 5033.47 | E6: =SUMIFS(Données!E:E,Données!B:B,"1*") -> 536.51 | F6: =SUMIFS(Données!F:F,Données!B:B,"1*") -> 1549.6728 | G6: =SUMIFS(Données!G:G,Données!B:B,"1*") -> 1136.98 | H6: =SUMIFS(Données!H:H,Données!B:B,"1*") -> 837.82 | I6: =SUMIFS(Données!I:I,Données!B:B,"1*") -> 174.75 | J6: =SUMIFS(Données!J:J,Données!B:B,"1*") -> 206 | K6: =SUMIFS(Données!K:K,Données!B:B,"1*") -> 831.5 | L6: =SUM(D6:K6) -> 10306.703 | M6: =SUMIFS(Données!M:M,Données!B:B,"1*") -> 21066.03 | N6: =SUM(L6:M6) -> 31372.733 | O6: =SUMIFS(Données!O:O,Données!B:B,"1*") -> 25165.287 | P6: =O6-M6 -> 4099.2572
A7: Gregory | B7: 400000 | C7: =SUMIFS(Données!C:C,Données!B:B,"4*") -> 128817.69 | D7: =SUMIFS(Données!D:D,Données!B:B,"4*") -> 13933.37 | E7: =SUMIFS(Données!E:E,Données!B:B,"4*") -> 7911.74 | F7: =SUMIFS(Données!F:F,Données!B:B,"4*") -> 4609.2 | G7: =SUMIFS(Données!G:G,Données!B:B,"4*") -> 2323.82 | H7: =SUMIFS(Données!H:H,Données!B:B,"4*") -> 8122.67 | I7: =SUMIFS(Données!I:I,Données!B:B,"4*") -> 213.32 | J7: =SUMIFS(Données!J:J,Données!B:B,"4*") -> 0 | K7: =SUMIFS(Données!K:K,Données!B:B,"4*") -> 4464.96 | L7: =SUM(D7:K7) -> 41579.08 | M7: =SUMIFS(Données!M:M,Données!B:B,"4*") -> 72997.83 | N7: =SUM(L7:M7) -> 114576.91 | O7: =SUMIFS(Données!O:O,Données!B:B,"4*") -> 87238.61 | P7: =O7-M7 -> 14240.78
A8: Jérome | B8: 200000 | C8: =SUMIFS(Données!C:C,Données!B:B,"2*") -> 134524.26 | D8: =SUMIFS(Données!D:D,Données!B:B,"2*") -> 23736.64 | E8: =SUMIFS(Données!E:E,Données!B:B,"2*") -> 814.9 | F8: =SUMIFS(Données!F:F,Données!B:B,"2*") -> 2128.17 | G8: =SUMIFS(Données!G:G,Données!B:B,"2*") -> 5924.97 | H8: =SUMIFS(Données!H:H,Données!B:B,"2*") -> 7963.17 | I8: =SUMIFS(Données!I:I,Données!B:B,"2*") -> 1720.83 | J8: =SUMIFS(Données!J:J,Données!B:B,"2*") -> 213.13 | K8: =SUMIFS(Données!K:K,Données!B:B,"2*") -> 2293.34 | L8: =SUM(D8:K8) -> 44795.15 | M8: =SUMIFS(Données!M:M,Données!B:B,"2*") -> 71105.74 | N8: =SUM(L8:M8) -> 115900.89 | O8: =SUMIFS(Données!O:O,Données!B:B,"2*") -> 89729.11 | P8: =O8-M8 -> 18623.37
A9: Eric IMETAL | B9: 600000 | C9: =SUMIFS(Données!C:C,Données!B:B,"6*") -> 20558.74 | D9: =SUMIFS(Données!D:D,Données!B:B,"6*") -> 1339.45 | E9: =SUMIFS(Données!E:E,Données!B:B,"6*") -> 16.62 | F9: =SUMIFS(Données!F:F,Données!B:B,"6*") -> 0 | G9: =SUMIFS(Données!G:G,Données!B:B,"6*") -> 0 | H9: =SUMIFS(Données!H:H,Données!B:B,"6*") -> 41.41 | I9: =SUMIFS(Données!I:I,Données!B:B,"6*") -> 0 | J9: =SUMIFS(Données!J:J,Données!B:B,"6*") -> 1336.96 | K9: =SUMIFS(Données!K:K,Données!B:B,"6*") -> 41.2 | L9: =SUM(D9:K9) -> 2775.64 | M9: =SUMIFS(Données!M:M,Données!B:B,"6*") -> 14756.59 | N9: =SUM(L9:M9) -> 17532.23 | O9: =SUMIFS(Données!O:O,Données!B:B,"6*") -> 17783.1 | P9: =O9-M9 -> 3026.51
C10: =SUM(C4:C9) -> 462154.33 | D10: =SUM(D4:D9) -> 77429.8 | E10: =SUM(E4:E9) -> 12413.76 | F10: =SUM(F4:F9) -> 9156.3728 | G10: =SUM(G4:G9) -> 11096.6 | H10: =SUM(H4:H9) -> 22017.95 | I10: =SUM(I4:I9) -> 6791.29 | J10: =SUM(J4:J9) -> 2237.2 | ... P10: =SUM(P4:P9) -> 52819.157
D11: =D10/$C$10 -> 0.167541 | E11: =E10/$C$10 -> 0.026860638 | F11: =F10/$C$10 -> 0.01981237 | G11: =G10/$C$10 -> 0.024010594 | H11: =H10/$C$10 -> 0.047641986 | I11: =I10/$C$10 -> 0.014694853 | J11: =J10/$C$10 -> 0.0048408072 | K11: =K10/$C$10 -> 0.021434269 | ... P11: =P10/$C$10 -> 0.114289
N12: Réelle | O12: =+P10/M10 -> 0.20449852 | P12: =P11 -> 0.114289
N13: Objectif | O13: 0.1017 | P13: 0.06
N14: Ecart | O14: =+O12-O13 -> 0.10279852 | P14: =+P12-P13 -> 0.054289002
