Workbook

Sheet Stock
A3: Désignation | B3: Stock
A5: ='liste produit'!A5 -> Chaussures Blanches - T37 | B5: =SUMPRODUCT(('Entree - Sortie'!$B$2:$B$9=Stock!A5)*('Entree - Sortie'!$C$2:$C$9="Entrée"),('Entree - Sortie'!$D$2:$D$9))-SUMPRODUCT(('Entree - Sortie'!$B$2:$B$9=Stock!A5)*('Entree - Sortie'!$C$2:$C$9="Sortie"),('Entree - Sortie'!$D$2:$D$9)) -> 8
A6: ='liste produit'!A6 -> Chaussures Blanches - T38 | B6: =SUMPRODUCT(('Entree - Sortie'!$B$2:$B$9=Stock!A6)*('Entree - Sortie'!$C$2:$C$9="Entrée"),('Entree - Sortie'!$D$2:$D$9))-SUMPRODUCT(('Entree - Sortie'!$B$2:$B$9=Stock!A6)*('Entree - Sortie'!$C$2:$C$9="Sortie"),('Entree - Sortie'!$D$2:$D$9)) -> 0
A7: ='liste produit'!A7 -> Chaussures Blanches - T39 | B7: =SUMPRODUCT(('Entree - Sortie'!$B$2:$B$9=Stock!A7)*('Entree - Sortie'!$C$2:$C$9="Entrée"),('Entree - Sortie'!$D$2:$D$9))-SUMPRODUCT(('Entree - Sortie'!$B$2:$B$9=Stock!A7)*('Entree - Sortie'!$C$2:$C$9="Sortie"),('Entree - Sortie'!$D$2:$D$9)) -> 2
A8: ='liste produit'!A8 -> Chaussures noires - T40 | B8: =SUMPRODUCT(('Entree - Sortie'!$B$2:$B$9=Stock!A8)*('Entree - Sortie'!$C$2:$C$9="Entrée"),('Entree - Sortie'!$D$2:$D$9))-SUMPRODUCT(('Entree - Sortie'!$B$2:$B$9=Stock!A8)*('Entree - Sortie'!$C$2:$C$9="Sortie"),('Entree - Sortie'!$D$2:$D$9)) -> 0
A9: ='liste produit'!A9 -> Chaussures noires - T41 | B9: =SUMPRODUCT(('Entree - Sortie'!$B$2:$B$9=Stock!A9)*('Entree - Sortie'!$C$2:$C$9="Entrée"),('Entree - Sortie'!$D$2:$D$9))-SUMPRODUCT(('Entree - Sortie'!$B$2:$B$9=Stock!A9)*('Entree - Sortie'!$C$2:$C$9="Sortie"),('Entree - Sortie'!$D$2:$D$9)) -> 3
A10: ='liste produit'!A10 -> Bottes Blanches - T35 | B10: =SUMPRODUCT(('Entree - Sortie'!$B$2:$B$9=Stock!A10)*('Entree - Sortie'!$C$2:$C$9="Entrée"),('Entree - Sortie'!$D$2:$D$9))-SUMPRODUCT(('Entree - Sortie'!$B$2:$B$9=Stock!A10)*('Entree - Sortie'!$C$2:$C$9="Sortie"),('Entree - Sortie'!$D$2:$D$9)) -> 5
A11: ='liste produit'!A11 -> Bottes Blanches - T36 | B11: =SUMPRODUCT(('Entree - Sortie'!$B$2:$B$9=Stock!A11)*('Entree - Sortie'!$C$2:$C$9="Entrée"),('Entree - Sortie'!$D$2:$D$9))-SUMPRODUCT(('Entree - Sortie'!$B$2:$B$9=Stock!A11)*('Entree - Sortie'!$C$2:$C$9="Sortie"),('Entree - Sortie'!$D$2:$D$9)) -> 0
A12: ='liste produit'!A12 -> Bottes Blanches - T37 | B12: =SUMPRODUCT(('Entree - Sortie'!$B$2:$B$9=Stock!A12)*('Entree - Sortie'!$C$2:$C$9="Entrée"),('Entree - Sortie'!$D$2:$D$9))-SUMPRODUCT(('Entree - Sortie'!$B$2:$B$9=Stock!A12)*('Entree - Sortie'!$C$2:$C$9="Sortie"),('Entree - Sortie'!$D$2:$D$9)) -> 0
A13: ='liste produit'!A13 -> Chaussons - T36 | B13: =SUMPRODUCT(('Entree - Sortie'!$B$2:$B$9=Stock!A13)*('Entree - Sortie'!$C$2:$C$9="Entrée"),('Entree - Sortie'!$D$2:$D$9))-SUMPRODUCT(('Entree - Sortie'!$B$2:$B$9=Stock!A13)*('Entree - Sortie'!$C$2:$C$9="Sortie"),('Entree - Sortie'!$D$2:$D$9)) -> 0
A14: ='liste produit'!A14 -> Chaussons - T37 | B14: =SUMPRODUCT(('Entree - Sortie'!$B$2:$B$9=Stock!A14)*('Entree - Sortie'!$C$2:$C$9="Entrée"),('Entree - Sortie'!$D$2:$D$9))-SUMPRODUCT(('Entree - Sortie'!$B$2:$B$9=Stock!A14)*('Entree - Sortie'!$C$2:$C$9="Sortie"),('Entree - Sortie'!$D$2:$D$9)) -> 0
A15: ='liste produit'!A15 -> Chaussons - T38 | B15: =SUMPRODUCT(('Entree - Sortie'!$B$2:$B$9=Stock!A15)*('Entree - Sortie'!$C$2:$C$9="Entrée"),('Entree - Sortie'!$D$2:$D$9))-SUMPRODUCT(('Entree - Sortie'!$B$2:$B$9=Stock!A15)*('Entree - Sortie'!$C$2:$C$9="Sortie"),('Entree - Sortie'!$D$2:$D$9)) -> 0
A16: ='liste produit'!A16 -> Chaussons - T39 | B16: =SUMPRODUCT(('Entree - Sortie'!$B$2:$B$9=Stock!A16)*('Entree - Sortie'!$C$2:$C$9="Entrée"),('Entree - Sortie'!$D$2:$D$9))-SUMPRODUCT(('Entree - Sortie'!$B$2:$B$9=Stock!A16)*('Entree - Sortie'!$C$2:$C$9="Sortie"),('Entree - Sortie'!$D$2:$D$9)) -> 0
... A214: ='liste produit'!A214 -> 0 | B214: =SUMPRODUCT(('Entree - Sortie'!$B$2:$B$9=Stock!A214)*('Entree - Sortie'!$C$2:$C$9="Entrée"),('Entree - Sortie'!$D$2:$D$9))-SUMPRODUCT(('Entree - Sortie'!$B$2:$B$9=Stock!A214)*('Entree - Sortie'!$C$2:$C$9="Sortie"),('Entree - Sortie'!$D$2:$D$9)) -> 0

Sheet Stat par mois
A2: Récapitulatif Entrées et Sorties par mois | B2: 1 | C2: 1 | D2: 2 | E2: 2 | F2: 3 | G2: 3 | H2: 4 | I2: 4 | J2: 5 | K2: 5 | L2: 6 | M2: 6 | N2: 7 | O2: 7 | P2: 8 | Q2: 8 | R2: 9 | S2: 9 | T2: 10 | U2: 10 | V2: 11 | W2: 11 | X2: 12 | Y2: 12
B3: JANVIER | D3: FEVRIER | F3: MARS | H3: AVRIL | J3: MAI | L3: JUIN | N3: JUILLET | P3: AOUT | R3: SEPTEMBRE | T3: OCTOBRE | V3: NOVEMBRE | X3: DECEMBRE | Z3: TOTAUX
A4: Références produits | B4: Entrée | C4: Sortie | D4: Entrée | E4: Sortie | F4: Entrée | G4: Sortie | H4: Entrée | I4: Sortie | J4: Entrée | K4: Sortie | L4: Entrée | M4: Sortie | N4: Entrée | O4: Sortie | P4: Entrée | Q4: Sortie | R4: Entrée | S4: Sortie | T4: Entrée | U4: Sortie | V4: Entrée | W4: Sortie | X4: Entrée | Y4: Sortie | Z4: Entrée | AA4: Sortie | AB4: RESTE
A5: ='liste produit'!A5 -> Chaussures Blanches - T37 | B5: =SUMPRODUCT(('Entree - Sortie'!$B$2:$B$9=$A5)*('Entree - Sortie'!$C$2:$C$9=B$4)*(MONTH('Entree - Sortie'!$A$2:$A$9)='Stat par mois'!B$2),('Entree - Sortie'!$D$2:$D$9)) -> 5 | C5: =SUMPRODUCT(('Entree - Sortie'!$B$2:$B$9=$A5)*('Entree - Sortie'!$C$2:$C$9=C$4)*(MONTH('Entree - Sortie'!$A$2:$A$9)='Stat par mois'!C$2),('Entree - Sortie'!$D$2:$D$9)) -> 0 | D5: =SUMPRODUCT(('Entree - Sortie'!$B$2:$B$9=$A5)*('Entree - Sortie'!$C$2:$C$9=D$4)*(MONTH('Entree - Sortie'!$A$2:$A$9)='Stat par mois'!D$2),('Entree - Sortie'!$D$2:$D$9)) -> 0 | E5: =SUMPRODUCT(('Entree - Sortie'!$B$2:$B$9=$A5)*('Entree - Sortie'!$C$2:$C$9=E$4)*(MONTH('Entree - Sortie'!$A$2:$A$9)='Stat par mois'!E$2),('Entree - Sortie'!$D$2:$D$9)) -> 0 | F5: =SUMPRODUCT(('Entree - Sortie'!$B$2:$B$9=$A5)*('Entree - Sortie'!$C$2:$C$9=F$4)*(MONTH('Entree - Sortie'!$A$2:$A$9)='Stat par mois'!F$2),('Entree - Sortie'!$D$2:$D$9)) -> 0 | G5: =SUMPRODUCT(('Entree - Sortie'!$B$2:$B$9=$A5)*('Entree - Sortie'!$C$2:$C$9=G$4)*(MONTH('Entree - Sortie'!$A$2:$A$9)='Stat par mois'!G$2),('Entree - Sortie'!$D$2:$D$9)) -> 0 | H5: =SUMPRODUCT(('Entree - Sortie'!$B$2:$B$9=$A5)*('Entree - Sortie'!$C$2:$C$9=H$4)*(MONTH('Entree - Sortie'!$A$2:$A$9)='Stat par mois'!H$2),('Entree - Sortie'!$D$2:$D$9)) -> 0 | I5: =SUMPRODUCT(('Entree - Sortie'!$B$2:$B$9=$A5)*('Entree - Sortie'!$C$2:$C$9=I$4)*(MONTH('Entree - Sortie'!$A$2:$A$9)='Stat par mois'!I$2),('Entree - Sortie'!$D$2:$D$9)) -> 0 | ... Y5: =SUMPRODUCT(('Entree - Sortie'!$B$2:$B$9=$A5)*('Entree - Sortie'!$C$2:$C$9=Y$4)*(MONTH('Entree - Sortie'!$A$2:$A$9)='Stat par mois'!Y$2),('Entree - Sortie'!$D$2:$D$9)) -> 0
A6: ='liste produit'!A6 -> Chaussures Blanches - T38 | B6: =SUMPRODUCT(('Entree - Sortie'!$B$2:$B$9=$A6)*('Entree - Sortie'!$C$2:$C$9=B$4)*(MONTH('Entree - Sortie'!$A$2:$A$9)='Stat par mois'!B$2),('Entree - Sortie'!$D$2:$D$9)) -> 0 | C6: =SUMPRODUCT(('Entree - Sortie'!$B$2:$B$9=$A6)*('Entree - Sortie'!$C$2:$C$9=C$4)*(MONTH('Entree - Sortie'!$A$2:$A$9)='Stat par mois'!C$2),('Entree - Sortie'!$D$2:$D$9)) -> 0 | D6: =SUMPRODUCT(('Entree - Sortie'!$B$2:$B$9=$A6)*('Entree - Sortie'!$C$2:$C$9=D$4)*(MONTH('Entree - Sortie'!$A$2:$A$9)='Stat par mois'!D$2),('Entree - Sortie'!$D$2:$D$9)) -> 0 | E6: =SUMPRODUCT(('Entree - Sortie'!$B$2:$B$9=$A6)*('Entree - Sortie'!$C$2:$C$9=E$4)*(MONTH('Entree - Sortie'!$A$2:$A$9)='Stat par mois'!E$2),('Entree - Sortie'!$D$2:$D$9)) -> 0 | F6: =SUMPRODUCT(('Entree - Sortie'!$B$2:$B$9=$A6)*('Entree - Sortie'!$C$2:$C$9=F$4)*(MONTH('Entree - Sortie'!$A$2:$A$9)='Stat par mois'!F$2),('Entree - Sortie'!$D$2:$D$9)) -> 0 | G6: =SUMPRODUCT(('Entree - Sortie'!$B$2:$B$9=$A6)*('Entree - Sortie'!$C$2:$C$9=G$4)*(MONTH('Entree - Sortie'!$A$2:$A$9)='Stat par mois'!G$2),('Entree - Sortie'!$D$2:$D$9)) -> 0 | H6: =SUMPRODUCT(('Entree - Sortie'!$B$2:$B$9=$A6)*('Entree - Sortie'!$C$2:$C$9=H$4)*(MONTH('Entree - Sortie'!$A$2:$A$9)='Stat par mois'!H$2),('Entree - Sortie'!$D$2:$D$9)) -> 0 | I6: =SUMPRODUCT(('Entree - Sortie'!$B$2:$B$9=$A6)*('Entree - Sortie'!$C$2:$C$9=I$4)*(MONTH('Entree - Sortie'!$A$2:$A$9)='Stat par mois'!I$2),('Entree - Sortie'!$D$2:$D$9)) -> 0 | ... Y6: =SUMPRODUCT(('Entree - Sortie'!$B$2:$B$9=$A6)*('Entree - Sortie'!$C$2:$C$9=Y$4)*(MONTH('Entree - Sortie'!$A$2:$A$9)='Stat par mois'!Y$2),('Entree - Sortie'!$D$2:$D$9)) -> 0
A7: ='liste produit'!A7 -> Chaussures Blanches - T39 | B7: =SUMPRODUCT(('Entree - Sortie'!$B$2:$B$9=$A7)*('Entree - Sortie'!$C$2:$C$9=B$4)*(MONTH('Entree - Sortie'!$A$2:$A$9)='Stat par mois'!B$2),('Entree - Sortie'!$D$2:$D$9)) -> 0 | C7: =SUMPRODUCT(('Entree - Sortie'!$B$2:$B$9=$A7)*('Entree - Sortie'!$C$2:$C$9=C$4)*(MONTH('Entree - Sortie'!$A$2:$A$9)='Stat par mois'!C$2),('Entree - Sortie'!$D$2:$D$9)) -> 0 | D7: =SUMPRODUCT(('Entree - Sortie'!$B$2:$B$9=$A7)*('Entree - Sortie'!$C$2:$C$9=D$4)*(MONTH('Entree - Sortie'!$A$2:$A$9)='Stat par mois'!D$2),('Entree - Sortie'!$D$2:$D$9)) -> 0 | E7: =SUMPRODUCT(('Entree - Sortie'!$B$2:$B$9=$A7)*('Entree - Sortie'!$C$2:$C$9=E$4)*(MONTH('Entree - Sortie'!$A$2:$A$9)='Stat par mois'!E$2),('Entree - Sortie'!$D$2:$D$9)) -> 0 | F7: =SUMPRODUCT(('Entree - Sortie'!$B$2:$B$9=$A7)*('Entree - Sortie'!$C$2:$C$9=F$4)*(MONTH('Entree - Sortie'!$A$2:$A$9)='Stat par mois'!F$2),('Entree - Sortie'!$D$2:$D$9)) -> 0 | G7: =SUMPRODUCT(('Entree - Sortie'!$B$2:$B$9=$A7)*('Entree - Sortie'!$C$2:$C$9=G$4)*(MONTH('Entree - Sortie'!$A$2:$A$9)='Stat par mois'!G$2),('Entree - Sortie'!$D$2:$D$9)) -> 0 | H7: =SUMPRODUCT(('Entree - Sortie'!$B$2:$B$9=$A7)*('Entree - Sortie'!$C$2:$C$9=H$4)*(MONTH('Entree - Sortie'!$A$2:$A$9)='Stat par mois'!H$2),('Entree - Sortie'!$D$2:$D$9)) -> 0 | I7: =SUMPRODUCT(('Entree - Sortie'!$B$2:$B$9=$A7)*('Entree - Sortie'!$C$2:$C$9=I$4)*(MONTH('Entree - Sortie'!$A$2:$A$9)='Stat par mois'!I$2),('Entree - Sortie'!$D$2:$D$9)) -> 0 | ... Y7: =SUMPRODUCT(('Entree - Sortie'!$B$2:$B$9=$A7)*('Entree - Sortie'!$C$2:$C$9=Y$4)*(MONTH('Entree - Sortie'!$A$2:$A$9)='Stat par mois'!Y$2),('Entree - Sortie'!$D$2:$D$9)) -> 0
A8: ='liste produit'!A8 -> Chaussures noires - T40 | B8: =SUMPRODUCT(('Entree - Sortie'!$B$2:$B$9=$A8)*('Entree - Sortie'!$C$2:$C$9=B$4)*(MONTH('Entree - Sortie'!$A$2:$A$9)='Stat par mois'!B$2),('Entree - Sortie'!$D$2:$D$9)) -> 0 | C8: =SUMPRODUCT(('Entree - Sortie'!$B$2:$B$9=$A8)*('Entree - Sortie'!$C$2:$C$9=C$4)*(MONTH('Entree - Sortie'!$A$2:$A$9)='Stat par mois'!C$2),('Entree - Sortie'!$D$2:$D$9)) -> 0 | D8: =SUMPRODUCT(('Entree - Sortie'!$B$2:$B$9=$A8)*('Entree - Sortie'!$C$2:$C$9=D$4)*(MONTH('Entree - Sortie'!$A$2:$A$9)='Stat par mois'!D$2),('Entree - Sortie'!$D$2:$D$9)) -> 0 | E8: =SUMPRODUCT(('Entree - Sortie'!$B$2:$B$9=$A8)*('Entree - Sortie'!$C$2:$C$9=E$4)*(MONTH('Entree - Sortie'!$A$2:$A$9)='Stat par mois'!E$2),('Entree - Sortie'!$D$2:$D$9)) -> 0 | F8: =SUMPRODUCT(('Entree - Sortie'!$B$2:$B$9=$A8)*('Entree - Sortie'!$C$2:$C$9=F$4)*(MONTH('Entree - Sortie'!$A$2:$A$9)='Stat par mois'!F$2),('Entree - Sortie'!$D$2:$D$9)) -> 0 | G8: =SUMPRODUCT(('Entree - Sortie'!$B$2:$B$9=$A8)*('Entree - Sortie'!$C$2:$C$9=G$4)*(MONTH('Entree - Sortie'!$A$2:$A$9)='Stat par mois'!G$2),('Entree - Sortie'!$D$2:$D$9)) -> 0 | H8: =SUMPRODUCT(('Entree - Sortie'!$B$2:$B$9=$A8)*('Entree - Sortie'!$C$2:$C$9=H$4)*(MONTH('Entree - Sortie'!$A$2:$A$9)='Stat par mois'!H$2),('Entree - Sortie'!$D$2:$D$9)) -> 0 | I8: =SUMPRODUCT(('Entree - Sortie'!$B$2:$B$9=$A8)*('Entree - Sortie'!$C$2:$C$9=I$4)*(MONTH('Entree - Sortie'!$A$2:$A$9)='Stat par mois'!I$2),('Entree - Sortie'!$D$2:$D$9)) -> 0 | ... Y8: =SUMPRODUCT(('Entree - Sortie'!$B$2:$B$9=$A8)*('Entree - Sortie'!$C$2:$C$9=Y$4)*(MONTH('Entree - Sortie'!$A$2:$A$9)='Stat par mois'!Y$2),('Entree - Sortie'!$D$2:$D$9)) -> 0
A9: ='liste produit'!A9 -> Chaussures noires - T41 | B9: =SUMPRODUCT(('Entree - Sortie'!$B$2:$B$9=$A9)*('Entree - Sortie'!$C$2:$C$9=B$4)*(MONTH('Entree - Sortie'!$A$2:$A$9)='Stat par mois'!B$2),('Entree - Sortie'!$D$2:$D$9)) -> 0 | C9: =SUMPRODUCT(('Entree - Sortie'!$B$2:$B$9=$A9)*('Entree - Sortie'!$C$2:$C$9=C$4)*(MONTH('Entree - Sortie'!$A$2:$A$9)='Stat par mois'!C$2),('Entree - Sortie'!$D$2:$D$9)) -> 0 | D9: =SUMPRODUCT(('Entree - Sortie'!$B$2:$B$9=$A9)*('Entree - Sortie'!$C$2:$C$9=D$4)*(MONTH('Entree - Sortie'!$A$2:$A$9)='Stat par mois'!D$2),('Entree - Sortie'!$D$2:$D$9)) -> 0 | E9: =SUMPRODUCT(('Entree - Sortie'!$B$2:$B$9=$A9)*('Entree - Sortie'!$C$2:$C$9=E$4)*(MONTH('Entree - Sortie'!$A$2:$A$9)='Stat par mois'!E$2),('Entree - Sortie'!$D$2:$D$9)) -> 0 | F9: =SUMPRODUCT(('Entree - Sortie'!$B$2:$B$9=$A9)*('Entree - Sortie'!$C$2:$C$9=F$4)*(MONTH('Entree - Sortie'!$A$2:$A$9)='Stat par mois'!F$2),('Entree - Sortie'!$D$2:$D$9)) -> 0 | G9: =SUMPRODUCT(('Entree - Sortie'!$B$2:$B$9=$A9)*('Entree - Sortie'!$C$2:$C$9=G$4)*(MONTH('Entree - Sortie'!$A$2:$A$9)='Stat par mois'!G$2),('Entree - Sortie'!$D$2:$D$9)) -> 0 | H9: =SUMPRODUCT(('Entree - Sortie'!$B$2:$B$9=$A9)*('Entree - Sortie'!$C$2:$C$9=H$4)*(MONTH('Entree - Sortie'!$A$2:$A$9)='Stat par mois'!H$2),('Entree - Sortie'!$D$2:$D$9)) -> 0 | I9: =SUMPRODUCT(('Entree - Sortie'!$B$2:$B$9=$A9)*('Entree - Sortie'!$C$2:$C$9=I$4)*(MONTH('Entree - Sortie'!$A$2:$A$9)='Stat par mois'!I$2),('Entree - Sortie'!$D$2:$D$9)) -> 0 | ... Y9: =SUMPRODUCT(('Entree - Sortie'!$B$2:$B$9=$A9)*('Entree - Sortie'!$C$2:$C$9=Y$4)*(MONTH('Entree - Sortie'!$A$2:$A$9)='Stat par mois'!Y$2),('Entree - Sortie'!$D$2:$D$9)) -> 0
A10: ='liste produit'!A10 -> Bottes Blanches - T35 | B10: =SUMPRODUCT(('Entree - Sortie'!$B$2:$B$9=$A10)*('Entree - Sortie'!$C$2:$C$9=B$4)*(MONTH('Entree - Sortie'!$A$2:$A$9)='Stat par mois'!B$2),('Entree - Sortie'!$D$2:$D$9)) -> 0 | C10: =SUMPRODUCT(('Entree - Sortie'!$B$2:$B$9=$A10)*('Entree - Sortie'!$C$2:$C$9=C$4)*(MONTH('Entree - Sortie'!$A$2:$A$9)='Stat par mois'!C$2),('Entree - Sortie'!$D$2:$D$9)) -> 0 | D10: =SUMPRODUCT(('Entree - Sortie'!$B$2:$B$9=$A10)*('Entree - Sortie'!$C$2:$C$9=D$4)*(MONTH('Entree - Sortie'!$A$2:$A$9)='Stat par mois'!D$2),('Entree - Sortie'!$D$2:$D$9)) -> 0 | E10: =SUMPRODUCT(('Entree - Sortie'!$B$2:$B$9=$A10)*('Entree - Sortie'!$C$2:$C$9=E$4)*(MONTH('Entree - Sortie'!$A$2:$A$9)='Stat par mois'!E$2),('Entree - Sortie'!$D$2:$D$9)) -> 0 | F10: =SUMPRODUCT(('Entree - Sortie'!$B$2:$B$9=$A10)*('Entree - Sortie'!$C$2:$C$9=F$4)*(MONTH('Entree - Sortie'!$A$2:$A$9)='Stat par mois'!F$2),('Entree - Sortie'!$D$2:$D$9)) -> 0 | G10: =SUMPRODUCT(('Entree - Sortie'!$B$2:$B$9=$A10)*('Entree - Sortie'!$C$2:$C$9=G$4)*(MONTH('Entree - Sortie'!$A$2:$A$9)='Stat par mois'!G$2),('Entree - Sortie'!$D$2:$D$9)) -> 0 | H10: =SUMPRODUCT(('Entree - Sortie'!$B$2:$B$9=$A10)*('Entree - Sortie'!$C$2:$C$9=H$4)*(MONTH('Entree - Sortie'!$A$2:$A$9)='Stat par mois'!H$2),('Entree - Sortie'!$D$2:$D$9)) -> 0 | I10: =SUMPRODUCT(('Entree - Sortie'!$B$2:$B$9=$A10)*('Entree - Sortie'!$C$2:$C$9=I$4)*(MONTH('Entree - Sortie'!$A$2:$A$9)='Stat par mois'!I$2),('Entree - Sortie'!$D$2:$D$9)) -> 0 | ... Y10: =SUMPRODUCT(('Entree - Sortie'!$B$2:$B$9=$A10)*('Entree - Sortie'!$C$2:$C$9=Y$4)*(MONTH('Entree - Sortie'!$A$2:$A$9)='Stat par mois'!Y$2),('Entree - Sortie'!$D$2:$D$9)) -> 0
A11: ='liste produit'!A11 -> Bottes Blanches - T36 | B11: =SUMPRODUCT(('Entree - Sortie'!$B$2:$B$9=$A11)*('Entree - Sortie'!$C$2:$C$9=B$4)*(MONTH('Entree - Sortie'!$A$2:$A$9)='Stat par mois'!B$2),('Entree - Sortie'!$D$2:$D$9)) -> 0 | C11: =SUMPRODUCT(('Entree - Sortie'!$B$2:$B$9=$A11)*('Entree - Sortie'!$C$2:$C$9=C$4)*(MONTH('Entree - Sortie'!$A$2:$A$9)='Stat par mois'!C$2),('Entree - Sortie'!$D$2:$D$9)) -> 0 | D11: =SUMPRODUCT(('Entree - Sortie'!$B$2:$B$9=$A11)*('Entree - Sortie'!$C$2:$C$9=D$4)*(MONTH('Entree - Sortie'!$A$2:$A$9)='Stat par mois'!D$2),('Entree - Sortie'!$D$2:$D$9)) -> 0 | E11: =SUMPRODUCT(('Entree - Sortie'!$B$2:$B$9=$A11)*('Entree - Sortie'!$C$2:$C$9=E$4)*(MONTH('Entree - Sortie'!$A$2:$A$9)='Stat par mois'!E$2),('Entree - Sortie'!$D$2:$D$9)) -> 0 | F11: =SUMPRODUCT(('Entree - Sortie'!$B$2:$B$9=$A11)*('Entree - Sortie'!$C$2:$C$9=F$4)*(MONTH('Entree - Sortie'!$A$2:$A$9)='Stat par mois'!F$2),('Entree - Sortie'!$D$2:$D$9)) -> 0 | G11: =SUMPRODUCT(('Entree - Sortie'!$B$2:$B$9=$A11)*('Entree - Sortie'!$C$2:$C$9=G$4)*(MONTH('Entree - Sortie'!$A$2:$A$9)='Stat par mois'!G$2),('Entree - Sortie'!$D$2:$D$9)) -> 0 | H11: =SUMPRODUCT(('Entree - Sortie'!$B$2:$B$9=$A11)*('Entree - Sortie'!$C$2:$C$9=H$4)*(MONTH('Entree - Sortie'!$A$2:$A$9)='Stat par mois'!H$2),('Entree - Sortie'!$D$2:$D$9)) -> 0 | I11: =SUMPRODUCT(('Entree - Sortie'!$B$2:$B$9=$A11)*('Entree - Sortie'!$C$2:$C$9=I$4)*(MONTH('Entree - Sortie'!$A$2:$A$9)='Stat par mois'!I$2),('Entree - Sortie'!$D$2:$D$9)) -> 0 | ... Y11: =SUMPRODUCT(('Entree - Sortie'!$B$2:$B$9=$A11)*('Entree - Sortie'!$C$2:$C$9=Y$4)*(MONTH('Entree - Sortie'!$A$2:$A$9)='Stat par mois'!Y$2),('Entree - Sortie'!$D$2:$D$9)) -> 0
A12: ='liste produit'!A12 -> Bottes Blanches - T37 | B12: =SUMPRODUCT(('Entree - Sortie'!$B$2:$B$9=$A12)*('Entree - Sortie'!$C$2:$C$9=B$4)*(MONTH('Entree - Sortie'!$A$2:$A$9)='Stat par mois'!B$2),('Entree - Sortie'!$D$2:$D$9)) -> 0 | C12: =SUMPRODUCT(('Entree - Sortie'!$B$2:$B$9=$A12)*('Entree - Sortie'!$C$2:$C$9=C$4)*(MONTH('Entree - Sortie'!$A$2:$A$9)='Stat par mois'!C$2),('Entree - Sortie'!$D$2:$D$9)) -> 0 | D12: =SUMPRODUCT(('Entree - Sortie'!$B$2:$B$9=$A12)*('Entree - Sortie'!$C$2:$C$9=D$4)*(MONTH('Entree - Sortie'!$A$2:$A$9)='Stat par mois'!D$2),('Entree - Sortie'!$D$2:$D$9)) -> 0 | E12: =SUMPRODUCT(('Entree - Sortie'!$B$2:$B$9=$A12)*('Entree - Sortie'!$C$2:$C$9=E$4)*(MONTH('Entree - Sortie'!$A$2:$A$9)='Stat par mois'!E$2),('Entree - Sortie'!$D$2:$D$9)) -> 0 | F12: =SUMPRODUCT(('Entree - Sortie'!$B$2:$B$9=$A12)*('Entree - Sortie'!$C$2:$C$9=F$4)*(MONTH('Entree - Sortie'!$A$2:$A$9)='Stat par mois'!F$2),('Entree - Sortie'!$D$2:$D$9)) -> 0 | G12: =SUMPRODUCT(('Entree - Sortie'!$B$2:$B$9=$A12)*('Entree - Sortie'!$C$2:$C$9=G$4)*(MONTH('Entree - Sortie'!$A$2:$A$9)='Stat par mois'!G$2),('Entree - Sortie'!$D$2:$D$9)) -> 0 | H12: =SUMPRODUCT(('Entree - Sortie'!$B$2:$B$9=$A12)*('Entree - Sortie'!$C$2:$C$9=H$4)*(MONTH('Entree - Sortie'!$A$2:$A$9)='Stat par mois'!H$2),('Entree - Sortie'!$D$2:$D$9)) -> 0 | I12: =SUMPRODUCT(('Entree - Sortie'!$B$2:$B$9=$A12)*('Entree - Sortie'!$C$2:$C$9=I$4)*(MONTH('Entree - Sortie'!$A$2:$A$9)='Stat par mois'!I$2),('Entree - Sortie'!$D$2:$D$9)) -> 0 | ... Y12: =SUMPRODUCT(('Entree - Sortie'!$B$2:$B$9=$A12)*('Entree - Sortie'!$C$2:$C$9=Y$4)*(MONTH('Entree - Sortie'!$A$2:$A$9)='Stat par mois'!Y$2),('Entree - Sortie'!$D$2:$D$9)) -> 0
A13: ='liste produit'!A13 -> Chaussons - T36 | B13: =SUMPRODUCT(('Entree - Sortie'!$B$2:$B$9=$A13)*('Entree - Sortie'!$C$2:$C$9=B$4)*(MONTH('Entree - Sortie'!$A$2:$A$9)='Stat par mois'!B$2),('Entree - Sortie'!$D$2:$D$9)) -> 0 | C13: =SUMPRODUCT(('Entree - Sortie'!$B$2:$B$9=$A13)*('Entree - Sortie'!$C$2:$C$9=C$4)*(MONTH('Entree - Sortie'!$A$2:$A$9)='Stat par mois'!C$2),('Entree - Sortie'!$D$2:$D$9)) -> 0 | D13: =SUMPRODUCT(('Entree - Sortie'!$B$2:$B$9=$A13)*('Entree - Sortie'!$C$2:$C$9=D$4)*(MONTH('Entree - Sortie'!$A$2:$A$9)='Stat par mois'!D$2),('Entree - Sortie'!$D$2:$D$9)) -> 0 | E13: =SUMPRODUCT(('Entree - Sortie'!$B$2:$B$9=$A13)*('Entree - Sortie'!$C$2:$C$9=E$4)*(MONTH('Entree - Sortie'!$A$2:$A$9)='Stat par mois'!E$2),('Entree - Sortie'!$D$2:$D$9)) -> 0 | F13: =SUMPRODUCT(('Entree - Sortie'!$B$2:$B$9=$A13)*('Entree - Sortie'!$C$2:$C$9=F$4)*(MONTH('Entree - Sortie'!$A$2:$A$9)='Stat par mois'!F$2),('Entree - Sortie'!$D$2:$D$9)) -> 0 | G13: =SUMPRODUCT(('Entree - Sortie'!$B$2:$B$9=$A13)*('Entree - Sortie'!$C$2:$C$9=G$4)*(MONTH('Entree - Sortie'!$A$2:$A$9)='Stat par mois'!G$2),('Entree - Sortie'!$D$2:$D$9)) -> 0 | H13: =SUMPRODUCT(('Entree - Sortie'!$B$2:$B$9=$A13)*('Entree - Sortie'!$C$2:$C$9=H$4)*(MONTH('Entree - Sortie'!$A$2:$A$9)='Stat par mois'!H$2),('Entree - Sortie'!$D$2:$D$9)) -> 0 | I13: =SUMPRODUCT(('Entree - Sortie'!$B$2:$B$9=$A13)*('Entree - Sortie'!$C$2:$C$9=I$4)*(MONTH('Entree - Sortie'!$A$2:$A$9)='Stat par mois'!I$2),('Entree - Sortie'!$D$2:$D$9)) -> 0 | ... Y13: =SUMPRODUCT(('Entree - Sortie'!$B$2:$B$9=$A13)*('Entree - Sortie'!$C$2:$C$9=Y$4)*(MONTH('Entree - Sortie'!$A$2:$A$9)='Stat par mois'!Y$2),('Entree - Sortie'!$D$2:$D$9)) -> 0
A14: ='liste produit'!A14 -> Chaussons - T37 | B14: =SUMPRODUCT(('Entree - Sortie'!$B$2:$B$9=$A14)*('Entree - Sortie'!$C$2:$C$9=B$4)*(MONTH('Entree - Sortie'!$A$2:$A$9)='Stat par mois'!B$2),('Entree - Sortie'!$D$2:$D$9)) -> 0 | C14: =SUMPRODUCT(('Entree - Sortie'!$B$2:$B$9=$A14)*('Entree - Sortie'!$C$2:$C$9=C$4)*(MONTH('Entree - Sortie'!$A$2:$A$9)='Stat par mois'!C$2),('Entree - Sortie'!$D$2:$D$9)) -> 0 | D14: =SUMPRODUCT(('Entree - Sortie'!$B$2:$B$9=$A14)*('Entree - Sortie'!$C$2:$C$9=D$4)*(MONTH('Entree - Sortie'!$A$2:$A$9)='Stat par mois'!D$2),('Entree - Sortie'!$D$2:$D$9)) -> 0 | E14: =SUMPRODUCT(('Entree - Sortie'!$B$2:$B$9=$A14)*('Entree - Sortie'!$C$2:$C$9=E$4)*(MONTH('Entree - Sortie'!$A$2:$A$9)='Stat par mois'!E$2),('Entree - Sortie'!$D$2:$D$9)) -> 0 | F14: =SUMPRODUCT(('Entree - Sortie'!$B$2:$B$9=$A14)*('Entree - Sortie'!$C$2:$C$9=F$4)*(MONTH('Entree - Sortie'!$A$2:$A$9)='Stat par mois'!F$2),('Entree - Sortie'!$D$2:$D$9)) -> 0 | G14: =SUMPRODUCT(('Entree - Sortie'!$B$2:$B$9=$A14)*('Entree - Sortie'!$C$2:$C$9=G$4)*(MONTH('Entree - Sortie'!$A$2:$A$9)='Stat par mois'!G$2),('Entree - Sortie'!$D$2:$D$9)) -> 0 | H14: =SUMPRODUCT(('Entree - Sortie'!$B$2:$B$9=$A14)*('Entree - Sortie'!$C$2:$C$9=H$4)*(MONTH('Entree - Sortie'!$A$2:$A$9)='Stat par mois'!H$2),('Entree - Sortie'!$D$2:$D$9)) -> 0 | I14: =SUMPRODUCT(('Entree - Sortie'!$B$2:$B$9=$A14)*('Entree - Sortie'!$C$2:$C$9=I$4)*(MONTH('Entree - Sortie'!$A$2:$A$9)='Stat par mois'!I$2),('Entree - Sortie'!$D$2:$D$9)) -> 0 | ... Y14: =SUMPRODUCT(('Entree - Sortie'!$B$2:$B$9=$A14)*('Entree - Sortie'!$C$2:$C$9=Y$4)*(MONTH('Entree - Sortie'!$A$2:$A$9)='Stat par mois'!Y$2),('Entree - Sortie'!$D$2:$D$9)) -> 0
A15: ='liste produit'!A15 -> Chaussons - T38 | B15: =SUMPRODUCT(('Entree - Sortie'!$B$2:$B$9=$A15)*('Entree - Sortie'!$C$2:$C$9=B$4)*(MONTH('Entree - Sortie'!$A$2:$A$9)='Stat par mois'!B$2),('Entree - Sortie'!$D$2:$D$9)) -> 0 | C15: =SUMPRODUCT(('Entree - Sortie'!$B$2:$B$9=$A15)*('Entree - Sortie'!$C$2:$C$9=C$4)*(MONTH('Entree - Sortie'!$A$2:$A$9)='Stat par mois'!C$2),('Entree - Sortie'!$D$2:$D$9)) -> 0 | D15: =SUMPRODUCT(('Entree - Sortie'!$B$2:$B$9=$A15)*('Entree - Sortie'!$C$2:$C$9=D$4)*(MONTH('Entree - Sortie'!$A$2:$A$9)='Stat par mois'!D$2),('Entree - Sortie'!$D$2:$D$9)) -> 0 | E15: =SUMPRODUCT(('Entree - Sortie'!$B$2:$B$9=$A15)*('Entree - Sortie'!$C$2:$C$9=E$4)*(MONTH('Entree - Sortie'!$A$2:$A$9)='Stat par mois'!E$2),('Entree - Sortie'!$D$2:$D$9)) -> 0 | F15: =SUMPRODUCT(('Entree - Sortie'!$B$2:$B$9=$A15)*('Entree - Sortie'!$C$2:$C$9=F$4)*(MONTH('Entree - Sortie'!$A$2:$A$9)='Stat par mois'!F$2),('Entree - Sortie'!$D$2:$D$9)) -> 0 | G15: =SUMPRODUCT(('Entree - Sortie'!$B$2:$B$9=$A15)*('Entree - Sortie'!$C$2:$C$9=G$4)*(MONTH('Entree - Sortie'!$A$2:$A$9)='Stat par mois'!G$2),('Entree - Sortie'!$D$2:$D$9)) -> 0 | H15: =SUMPRODUCT(('Entree - Sortie'!$B$2:$B$9=$A15)*('Entree - Sortie'!$C$2:$C$9=H$4)*(MONTH('Entree - Sortie'!$A$2:$A$9)='Stat par mois'!H$2),('Entree - Sortie'!$D$2:$D$9)) -> 0 | I15: =SUMPRODUCT(('Entree - Sortie'!$B$2:$B$9=$A15)*('Entree - Sortie'!$C$2:$C$9=I$4)*(MONTH('Entree - Sortie'!$A$2:$A$9)='Stat par mois'!I$2),('Entree - Sortie'!$D$2:$D$9)) -> 0 | ... Y15: =SUMPRODUCT(('Entree - Sortie'!$B$2:$B$9=$A15)*('Entree - Sortie'!$C$2:$C$9=Y$4)*(MONTH('Entree - Sortie'!$A$2:$A$9)='Stat par mois'!Y$2),('Entree - Sortie'!$D$2:$D$9)) -> 0
A16: ='liste produit'!A16 -> Chaussons - T39 | B16: =SUMPRODUCT(('Entree - Sortie'!$B$2:$B$9=$A16)*('Entree - Sortie'!$C$2:$C$9=B$4)*(MONTH('Entree - Sortie'!$A$2:$A$9)='Stat par mois'!B$2),('Entree - Sortie'!$D$2:$D$9)) -> 0 | C16: =SUMPRODUCT(('Entree - Sortie'!$B$2:$B$9=$A16)*('Entree - Sortie'!$C$2:$C$9=C$4)*(MONTH('Entree - Sortie'!$A$2:$A$9)='Stat par mois'!C$2),('Entree - Sortie'!$D$2:$D$9)) -> 0 | D16: =SUMPRODUCT(('Entree - Sortie'!$B$2:$B$9=$A16)*('Entree - Sortie'!$C$2:$C$9=D$4)*(MONTH('Entree - Sortie'!$A$2:$A$9)='Stat par mois'!D$2),('Entree - Sortie'!$D$2:$D$9)) -> 0 | E16: =SUMPRODUCT(('Entree - Sortie'!$B$2:$B$9=$A16)*('Entree - Sortie'!$C$2:$C$9=E$4)*(MONTH('Entree - Sortie'!$A$2:$A$9)='Stat par mois'!E$2),('Entree - Sortie'!$D$2:$D$9)) -> 0 | F16: =SUMPRODUCT(('Entree - Sortie'!$B$2:$B$9=$A16)*('Entree - Sortie'!$C$2:$C$9=F$4)*(MONTH('Entree - Sortie'!$A$2:$A$9)='Stat par mois'!F$2),('Entree - Sortie'!$D$2:$D$9)) -> 0 | G16: =SUMPRODUCT(('Entree - Sortie'!$B$2:$B$9=$A16)*('Entree - Sortie'!$C$2:$C$9=G$4)*(MONTH('Entree - Sortie'!$A$2:$A$9)='Stat par mois'!G$2),('Entree - Sortie'!$D$2:$D$9)) -> 0 | H16: =SUMPRODUCT(('Entree - Sortie'!$B$2:$B$9=$A16)*('Entree - Sortie'!$C$2:$C$9=H$4)*(MONTH('Entree - Sortie'!$A$2:$A$9)='Stat par mois'!H$2),('Entree - Sortie'!$D$2:$D$9)) -> 0 | I16: =SUMPRODUCT(('Entree - Sortie'!$B$2:$B$9=$A16)*('Entree - Sortie'!$C$2:$C$9=I$4)*(MONTH('Entree - Sortie'!$A$2:$A$9)='Stat par mois'!I$2),('Entree - Sortie'!$D$2:$D$9)) -> 0 | ... Y16: =SUMPRODUCT(('Entree - Sortie'!$B$2:$B$9=$A16)*('Entree - Sortie'!$C$2:$C$9=Y$4)*(MONTH('Entree - Sortie'!$A$2:$A$9)='Stat par mois'!Y$2),('Entree - Sortie'!$D$2:$D$9)) -> 0
... A35: ='liste produit'!A35 -> Aluwash | B35: =SUMPRODUCT(('Entree - Sortie'!$B$2:$B$9=$A35)*('Entree - Sortie'!$C$2:$C$9=B$4)*(MONTH('Entree - Sortie'!$A$2:$A$9)='Stat par mois'!B$2),('Entree - Sortie'!$D$2:$D$9)) -> 0 | C35: =SUMPRODUCT(('Entree - Sortie'!$B$2:$B$9=$A35)*('Entree - Sortie'!$C$2:$C$9=C$4)*(MONTH('Entree - Sortie'!$A$2:$A$9)='Stat par mois'!C$2),('Entree - Sortie'!$D$2:$D$9)) -> 0 | D35: =SUMPRODUCT(('Entree - Sortie'!$B$2:$B$9=$A35)*('Entree - Sortie'!$C$2:$C$9=D$4)*(MONTH('Entree - Sortie'!$A$2:$A$9)='Stat par mois'!D$2),('Entree - Sortie'!$D$2:$D$9)) -> 0 | E35: =SUMPRODUCT(('Entree - Sortie'!$B$2:$B$9=$A35)*('Entree - Sortie'!$C$2:$C$9=E$4)*(MONTH('Entree - Sortie'!$A$2:$A$9)='Stat par mois'!E$2),('Entree - Sortie'!$D$2:$D$9)) -> 0 | F35: =SUMPRODUCT(('Entree - Sortie'!$B$2:$B$9=$A35)*('Entree - Sortie'!$C$2:$C$9=F$4)*(MONTH('Entree - Sortie'!$A$2:$A$9)='Stat par mois'!F$2),('Entree - Sortie'!$D$2:$D$9)) -> 0 | G35: =SUMPRODUCT(('Entree - Sortie'!$B$2:$B$9=$A35)*('Entree - Sortie'!$C$2:$C$9=G$4)*(MONTH('Entree - Sortie'!$A$2:$A$9)='Stat par mois'!G$2),('Entree - Sortie'!$D$2:$D$9)) -> 0 | H35: =SUMPRODUCT(('Entree - Sortie'!$B$2:$B$9=$A35)*('Entree - Sortie'!$C$2:$C$9=H$4)*(MONTH('Entree - Sortie'!$A$2:$A$9)='Stat par mois'!H$2),('Entree - Sortie'!$D$2:$D$9)) -> 0 | I35: =SUMPRODUCT(('Entree - Sortie'!$B$2:$B$9=$A35)*('Entree - Sortie'!$C$2:$C$9=I$4)*(MONTH('Entree - Sortie'!$A$2:$A$9)='Stat par mois'!I$2),('Entree - Sortie'!$D$2:$D$9)) -> 0 | ... Y35: =SUMPRODUCT(('Entree - Sortie'!$B$2:$B$9=$A35)*('Entree - Sortie'!$C$2:$C$9=Y$4)*(MONTH('Entree - Sortie'!$A$2:$A$9)='Stat par mois'!Y$2),('Entree - Sortie'!$D$2:$D$9)) -> 0
A36: ='liste produit'!A36 -> 0
A37: ='liste produit'!A37 -> 0
A38: ='liste produit'!A38 -> 0
A39: ='liste produit'!A39 -> 0
A40: ='liste produit'!A40 -> 0
A41: ='liste produit'!A41 -> 0
A42: ='liste produit'!A42 -> 0
A43: ='liste produit'!A43 -> 0
A44: ='liste produit'!A44 -> 0
A45: ='liste produit'!A45 -> 0

Sheet Entree - Sortie
A1: Date | B1: Désignation | C1: Type (Entrée/Sortie) | D1: Quantité
A2: 41656 | B2: Chaussures Blanches - T37 | C2: Entrée | D2: 5
A3: 41960 | B3: Chaussures Blanches - T39 | C3: Entrée | D3: 2
A4: 41961 | B4: Chaussures noires - T41 | C4: Entrée | D4: 3
A5: 41961 | B5: Bottes Blanches - T35 | C5: Entrée | D5: 5
A6: 42327 | B6: Solzym | C6: Entrée | D6: 8
A7: 41962 | B7: Chaussures Blanches - T37 | C7: Sortie | D7: 1
A8: 41962 | B8: Chaussures Blanches - T37 | C8: Sortie | D8: 1
A9: 42328 | B9: Chaussures Blanches - T37 | C9: Entrée | D9: 5

Sheet liste produit
A2: Désignation
A3: Entrée
A4: Sortie
A5: Chaussures Blanches - T37
A6: Chaussures Blanches - T38
A7: Chaussures Blanches - T39
A8: Chaussures noires - T40
A9: Chaussures noires - T41
A10: Bottes Blanches - T35
A11: Bottes Blanches - T36
A12: Bottes Blanches - T37
A13: Chaussons - T36
... A35: Aluwash
