Workbook

Sheet Ecran
E2: Semaine 1
A3: version Ecran | D3: Nom | E3: =C3+2 -> 2 | G3: =E3+1 -> 3 | I3: =G3+1 -> 4 | K3: =I3+1 -> 5 | M3: =K3+1 -> 6 | O3: =M3+1 -> 7
D4: personne 1 | E4: Poste | F4: 1 | G4: Poste | H4: 6 | I4: R | J4: H | K4: Poste | L4: 2 | M4: Poste | N4: 9 | O4: Poste | P4: 2
D5: personne 2 | E5: Poste | F5: 2 | G5: Poste | H5: 7 | I5: Poste | J5: 1 | K5: Poste | L5: 3 | M5: Poste | N5: 10 | O5: R | P5: H
D6: personne 3 | E6: Poste | F6: 3 | G6: R | H6: H | I6: Poste | J6: 2 | K6: Poste | L6: 4 | M6: Poste | N6: 11 | O6: R | P6: H
D7: personne 4 | E7: Poste | F7: 4 | G7: Poste | H7: 1 | I7: R | J7: H | K7: Poste | L7: 5 | M7: Poste | N7: 12 | O7: Poste | P7: 1
D8: personne 5 | E8: Poste | F8: 5 | G8: Poste | H8: 2 | I8: Poste | J8: 3 | K8: Poste | L8: 6 | M8: Poste | N8: 13 | O8: R | P8: H
D9: personne 6 | E9: Poste | F9: 6 | G9: Poste | H9: 3 | I9: Poste | J9: 4 | K9: Poste | L9: 7 | M9: Poste | N9: 14 | O9: R | P9: H
D10: personne 7 | E10: R | F10: H | G10: Poste | H10: 4 | I10: Poste | J10: 5 | K10: Poste | L10: 8 | M10: Poste | N10: 15 | O10: Poste | P10: 3
D11: personne 8 | E11: Poste | F11: 1 | G11: Poste | H11: 5 | I11: R | J11: H | K11: Poste | L11: 9 | M11: Poste | N11: 16 | O11: Poste | P11: 4
D12: personne 9 | E12: Poste | F12: 2 | G12: Poste | H12: 6 | I12: Poste | J12: 6 | K12: Poste | L12: 10 | M12: Poste | N12: 17 | O12: R | P12: H
D13: personne 10 | E13: Poste | F13: 3 | G13: Poste | H13: 7 | I13: Poste | J13: 7 | K13: Poste | L13: 11 | M13: Poste | N13: 18 | O13: R | P13: H

Sheet Impression
A3: version imprimable | E3: =Ecran!E2 -> Semaine 1
D4: =Ecran!D3 -> Nom | E4: =Ecran!E3 -> 2 | G4: =Ecran!G3 -> 3 | I4: =Ecran!I3 -> 4 | K4: =Ecran!K3 -> 5 | M4: =Ecran!M3 -> 6 | O4: =Ecran!O3 -> 7
D5: =Ecran!D4 -> personne 1 | E5: =IF(Ecran!E4="Poste",Ecran!F4,Ecran!E4) -> 1 | F5: =IF(Ecran!F4="H",Ecran!F4,"") | G5: =IF(Ecran!G4="Poste",Ecran!H4,Ecran!G4) -> 6 | H5: =IF(Ecran!H4="H",Ecran!H4,"") | I5: =IF(Ecran!I4="Poste",Ecran!J4,Ecran!I4) -> R | J5: =IF(Ecran!J4="H",Ecran!J4,"") -> H | K5: =IF(Ecran!K4="Poste",Ecran!L4,Ecran!K4) -> 2 | L5: =IF(Ecran!L4="H",Ecran!L4,"") | M5: =IF(Ecran!M4="Poste",Ecran!N4,Ecran!M4) -> 9 | N5: =IF(Ecran!N4="H",Ecran!N4,"") | O5: =IF(Ecran!O4="Poste",Ecran!P4,Ecran!O4) -> 2 | P5: =IF(Ecran!P4="H",Ecran!P4,"")
D6: =Ecran!D5 -> personne 2 | E6: =IF(Ecran!E5="Poste",Ecran!F5,Ecran!E5) -> 2 | F6: =IF(Ecran!F5="H",Ecran!F5,"") | G6: =IF(Ecran!G5="Poste",Ecran!H5,Ecran!G5) -> 7 | H6: =IF(Ecran!H5="H",Ecran!H5,"") | I6: =IF(Ecran!I5="Poste",Ecran!J5,Ecran!I5) -> 1 | J6: =IF(Ecran!J5="H",Ecran!J5,"") | K6: =IF(Ecran!K5="Poste",Ecran!L5,Ecran!K5) -> 3 | L6: =IF(Ecran!L5="H",Ecran!L5,"") | M6: =IF(Ecran!M5="Poste",Ecran!N5,Ecran!M5) -> 10 | N6: =IF(Ecran!N5="H",Ecran!N5,"") | O6: =IF(Ecran!O5="Poste",Ecran!P5,Ecran!O5) -> R | P6: =IF(Ecran!P5="H",Ecran!P5,"") -> H
D7: =Ecran!D6 -> personne 3 | E7: =IF(Ecran!E6="Poste",Ecran!F6,Ecran!E6) -> 3 | F7: =IF(Ecran!F6="H",Ecran!F6,"") | G7: =IF(Ecran!G6="Poste",Ecran!H6,Ecran!G6) -> R | H7: =IF(Ecran!H6="H",Ecran!H6,"") -> H | I7: =IF(Ecran!I6="Poste",Ecran!J6,Ecran!I6) -> 2 | J7: =IF(Ecran!J6="H",Ecran!J6,"") | K7: =IF(Ecran!K6="Poste",Ecran!L6,Ecran!K6) -> 4 | L7: =IF(Ecran!L6="H",Ecran!L6,"") | M7: =IF(Ecran!M6="Poste",Ecran!N6,Ecran!M6) -> 11 | N7: =IF(Ecran!N6="H",Ecran!N6,"") | O7: =IF(Ecran!O6="Poste",Ecran!P6,Ecran!O6) -> R | P7: =IF(Ecran!P6="H",Ecran!P6,"") -> H
D8: =Ecran!D7 -> personne 4 | E8: =IF(Ecran!E7="Poste",Ecran!F7,Ecran!E7) -> 4 | F8: =IF(Ecran!F7="H",Ecran!F7,"") | G8: =IF(Ecran!G7="Poste",Ecran!H7,Ecran!G7) -> 1 | H8: =IF(Ecran!H7="H",Ecran!H7,"") | I8: =IF(Ecran!I7="Poste",Ecran!J7,Ecran!I7) -> R | J8: =IF(Ecran!J7="H",Ecran!J7,"") -> H | K8: =IF(Ecran!K7="Poste",Ecran!L7,Ecran!K7) -> 5 | L8: =IF(Ecran!L7="H",Ecran!L7,"") | M8: =IF(Ecran!M7="Poste",Ecran!N7,Ecran!M7) -> 12 | N8: =IF(Ecran!N7="H",Ecran!N7,"") | O8: =IF(Ecran!O7="Poste",Ecran!P7,Ecran!O7) -> 1 | P8: =IF(Ecran!P7="H",Ecran!P7,"")
D9: =Ecran!D8 -> personne 5 | E9: =IF(Ecran!E8="Poste",Ecran!F8,Ecran!E8) -> 5 | F9: =IF(Ecran!F8="H",Ecran!F8,"") | G9: =IF(Ecran!G8="Poste",Ecran!H8,Ecran!G8) -> 2 | H9: =IF(Ecran!H8="H",Ecran!H8,"") | I9: =IF(Ecran!I8="Poste",Ecran!J8,Ecran!I8) -> 3 | J9: =IF(Ecran!J8="H",Ecran!J8,"") | K9: =IF(Ecran!K8="Poste",Ecran!L8,Ecran!K8) -> 6 | L9: =IF(Ecran!L8="H",Ecran!L8,"") | M9: =IF(Ecran!M8="Poste",Ecran!N8,Ecran!M8) -> 13 | N9: =IF(Ecran!N8="H",Ecran!N8,"") | O9: =IF(Ecran!O8="Poste",Ecran!P8,Ecran!O8) -> R | P9: =IF(Ecran!P8="H",Ecran!P8,"") -> H
D10: =Ecran!D9 -> personne 6 | E10: =IF(Ecran!E9="Poste",Ecran!F9,Ecran!E9) -> 6 | F10: =IF(Ecran!F9="H",Ecran!F9,"") | G10: =IF(Ecran!G9="Poste",Ecran!H9,Ecran!G9) -> 3 | H10: =IF(Ecran!H9="H",Ecran!H9,"") | I10: =IF(Ecran!I9="Poste",Ecran!J9,Ecran!I9) -> 4 | J10: =IF(Ecran!J9="H",Ecran!J9,"") | K10: =IF(Ecran!K9="Poste",Ecran!L9,Ecran!K9) -> 7 | L10: =IF(Ecran!L9="H",Ecran!L9,"") | M10: =IF(Ecran!M9="Poste",Ecran!N9,Ecran!M9) -> 14 | N10: =IF(Ecran!N9="H",Ecran!N9,"") | O10: =IF(Ecran!O9="Poste",Ecran!P9,Ecran!O9) -> R | P10: =IF(Ecran!P9="H",Ecran!P9,"") -> H
D11: =Ecran!D10 -> personne 7 | E11: =IF(Ecran!E10="Poste",Ecran!F10,Ecran!E10) -> R | F11: =IF(Ecran!F10="H",Ecran!F10,"") -> H | G11: =IF(Ecran!G10="Poste",Ecran!H10,Ecran!G10) -> 4 | H11: =IF(Ecran!H10="H",Ecran!H10,"") | I11: =IF(Ecran!I10="Poste",Ecran!J10,Ecran!I10) -> 5 | J11: =IF(Ecran!J10="H",Ecran!J10,"") | K11: =IF(Ecran!K10="Poste",Ecran!L10,Ecran!K10) -> 8 | L11: =IF(Ecran!L10="H",Ecran!L10,"") | M11: =IF(Ecran!M10="Poste",Ecran!N10,Ecran!M10) -> 15 | N11: =IF(Ecran!N10="H",Ecran!N10,"") | O11: =IF(Ecran!O10="Poste",Ecran!P10,Ecran!O10) -> 3 | P11: =IF(Ecran!P10="H",Ecran!P10,"")
D12: =Ecran!D11 -> personne 8 | E12: =IF(Ecran!E11="Poste",Ecran!F11,Ecran!E11) -> 1 | F12: =IF(Ecran!F11="H",Ecran!F11,"") | G12: =IF(Ecran!G11="Poste",Ecran!H11,Ecran!G11) -> 5 | H12: =IF(Ecran!H11="H",Ecran!H11,"") | I12: =IF(Ecran!I11="Poste",Ecran!J11,Ecran!I11) -> R | J12: =IF(Ecran!J11="H",Ecran!J11,"") -> H | K12: =IF(Ecran!K11="Poste",Ecran!L11,Ecran!K11) -> 9 | L12: =IF(Ecran!L11="H",Ecran!L11,"") | M12: =IF(Ecran!M11="Poste",Ecran!N11,Ecran!M11) -> 16 | N12: =IF(Ecran!N11="H",Ecran!N11,"") | O12: =IF(Ecran!O11="Poste",Ecran!P11,Ecran!O11) -> 4 | P12: =IF(Ecran!P11="H",Ecran!P11,"")
D13: =Ecran!D12 -> personne 9 | E13: =IF(Ecran!E12="Poste",Ecran!F12,Ecran!E12) -> 2 | F13: =IF(Ecran!F12="H",Ecran!F12,"") | G13: =IF(Ecran!G12="Poste",Ecran!H12,Ecran!G12) -> 6 | H13: =IF(Ecran!H12="H",Ecran!H12,"") | I13: =IF(Ecran!I12="Poste",Ecran!J12,Ecran!I12) -> 6 | J13: =IF(Ecran!J12="H",Ecran!J12,"") | K13: =IF(Ecran!K12="Poste",Ecran!L12,Ecran!K12) -> 10 | L13: =IF(Ecran!L12="H",Ecran!L12,"") | M13: =IF(Ecran!M12="Poste",Ecran!N12,Ecran!M12) -> 17 | N13: =IF(Ecran!N12="H",Ecran!N12,"") | O13: =IF(Ecran!O12="Poste",Ecran!P12,Ecran!O12) -> R | P13: =IF(Ecran!P12="H",Ecran!P12,"") -> H
D14: =Ecran!D13 -> personne 10 | E14: =IF(Ecran!E13="Poste",Ecran!F13,Ecran!E13) -> 3 | F14: =IF(Ecran!F13="H",Ecran!F13,"") | G14: =IF(Ecran!G13="Poste",Ecran!H13,Ecran!G13) -> 7 | H14: =IF(Ecran!H13="H",Ecran!H13,"") | I14: =IF(Ecran!I13="Poste",Ecran!J13,Ecran!I13) -> 7 | J14: =IF(Ecran!J13="H",Ecran!J13,"") | K14: =IF(Ecran!K13="Poste",Ecran!L13,Ecran!K13) -> 11 | L14: =IF(Ecran!L13="H",Ecran!L13,"") | M14: =IF(Ecran!M13="Poste",Ecran!N13,Ecran!M13) -> 18 | N14: =IF(Ecran!N13="H",Ecran!N13,"") | O14: =IF(Ecran!O13="Poste",Ecran!P13,Ecran!O13) -> R | P14: =IF(Ecran!P13="H",Ecran!P13,"") -> H
