Workbook
Name Code: Paramètres!$I$2:$I$5
Name Indicepropreté: Devis!$C$17

Sheet Devis
A1: =VALUE(LEFT(H7,1)) -> 1
E7: Etat de la moquette | H7: 1=Très sale
A11: Nom du chantier : | F11: Nombre de m² | H11: 40
A12: Rue
A13: CP
A14: Ville | F14: Date du devis | H14: =TODAY() -> 43117
A15: N° Téléphone
D16: Besoin de X litres pour passages produit | H16: =Paramètres!D9*Devis!H11 -> 7
D17: Besoin de X grammes pour passages produit | H17: =H11*Paramètres!D10 -> 170
A18: TYPE DE TRAVAUX
D19: Quantité | E19: Prix Unitaire | F19: Total H.T | G19: Total T.V.A | H19: Total T.T.C
A21: 1 - Mise en chantier | D21: Forfait | E21: 60 | F21: 60 | G21: =(F21*7.7)/100 -> 4.62 | H21: =F21+G21 -> 64.62
A23: 2 - Aspiration de l'ensemble des sols à traiter avec aspirobrosseur | D23: =H11 -> 40 | E23: 0.3 | F23: =E23*D23 -> 12 | G23: =(F23*7.7)/100 -> 0.924 | H23: =F23+G23 -> 12.924
A25: 3 - Vaporisation produits temps | D25: =H11 -> 40 | E25: =Paramètres!F4 -> 0.75 | F25: =E25*D25 -> 30 | G25: =(F25*7.7)/100 -> 2.31 | H25: =F25+G25 -> 32.31
A27: 4 - Coût produits | D27: =H17 -> 170 | E27: =Paramètres!F10 -> 0.08 | F27: =D27*E27 -> 13.6 | G27: =(F27*7.7)/100 -> 1.0472 | H27: =F27+G27 -> 14.6472
A29: 5 - Passage rateau | D29: =H11 -> 40 | E29: =Paramètres!F5 -> 0.1 | F29: =D29*E29 -> 4 | G29: =(F29*7.7)/100 -> 0.308 | H29: =F29+G29 -> 4.308
A31: 6 - Préparation machine | D31: Forfait | E31: =Paramètres!D2 -> 60 | F31: 60 | G31: =(F31*7.7)/100 -> 4.62 | H31: =F31+G31 -> 64.62
A33: 7 - Passage de la machine | D33: =H11 -> 40 | E33: =Paramètres!F6 -> 3 | F33: =E33*D33 -> 120 | G33: =(F33*7.7)/100 -> 9.24 | H33: =F33+G33 -> 129.24
A35: 8 - Repli matériel | D35: 1 | E35: 60 | F35: =E35*D35 -> 60 | G35: =(F35*7.7)/100 -> 4.62 | H35: =F35+G35 -> 64.62
E37: TOTAL | G37: =H21+H23+H25+H27+H29+H31+H33+H35 -> 387.2892
E38: Tarif corrigé en fonction de l'indice de propreté | G38: =G37*VLOOKUP(A1,Paramètres!$I$2:$J$5,2) -> 774.5784

Sheet Paramètres
A1: Type de travail | B1: Type de facturation | C1: Durée | D1: Tarif | E1: Observations | F1: Coût / m² | I1: Code | J1: Coef
A2: Préparation chantier | B2: Forfait | C2: 60 mm | D2: 60 | E2: 60 frs de l'heure | I2: 1 | J2: 2
A3: Aspiration | C3: 1 mm | D3: 1 | E3: 61 frs de l'heure | F3: 0.3 | I3: 2 | J3: 1.5
A4: Application produit | C4: 1 mm | D4: 1 | E4: 62 frs de l'heure | F4: 0.75 | I4: 3 | J4: 1
A5: Passage rateau | C5: 1 mm | D5: 1 | E5: 63 frs de l'heure | F5: 0.1 | I5: 4 | J5: 0.9
A6: Nettoyage moquette | C6: 1 mm | D6: 1 | E6: 64 frs de l'heure | F6: 3
A7: Produit | B7: OXY | C7: 1 grs | D7: 0.1 | E7: 200 FRS pour 3,63 kilos
A8: Nettoyage machine | B8: Forfait | C8: 1 | D8: 60
A9: Besoin de X litres pour passages produit pour 1 m² | D9: 0.175
A10: Besoin de X grammes de produit pour vaporisation 1 m² | D10: 4.25 | E10: Prix pour 1 grs = 200 $ soit 0,08 | F10: 0.08
