Workbook

Sheet STOCK
A1: TYPE | B1: NORME | C1: Ø | D1: L | E1: FOURNISSEUR | F1: QTE | G1: MATIERE | H1: CMD | I1: Nouv. QTE
A2: CACHE TETE VIS | F2: =SUM(AE10) -> 0 | G2: INOX | I2: {=IFERROR(F2-INDEX(X!$F$1:$F$100,MATCH(A2&B2&C2&D2,X!$A$1:$A$100&X!$B$1:$B$100&X!$C$1:$C$100&X!$D$1:$D$100,0)),"")}
A3: DOUILLE | C3: 565 | D3: 35 | F3: 850 | G3: INOX | I3: {=IFERROR(F3-INDEX(X!$F$1:$F$100,MATCH(A3&B3&C3&D3,X!$A$1:$A$100&X!$B$1:$B$100&X!$C$1:$C$100&X!$D$1:$D$100,0)),"")}
A4: ECROU + ROND CRANTE | C4: M6 | F4: 32 | G4: ACIER | I4: {=IFERROR(F4-INDEX(X!$F$1:$F$100,MATCH(A4&B4&C4&D4,X!$A$1:$A$100&X!$B$1:$B$100&X!$C$1:$C$100&X!$D$1:$D$100,0)),"")}
A5: ECROU A SOUDER | B5: DIN929 | C5: M8 | F5: 263 | G5: INOX | I5: {=IFERROR(F5-INDEX(X!$F$1:$F$100,MATCH(A5&B5&C5&D5,X!$A$1:$A$100&X!$B$1:$B$100&X!$C$1:$C$100&X!$D$1:$D$100,0)),"")}
A6: ECROU BORGNE | B6: DIN1587 | C6: M16 | F6: 33 | G6: ACIER | I6: {=IFERROR(F6-INDEX(X!$F$1:$F$100,MATCH(A6&B6&C6&D6,X!$A$1:$A$100&X!$B$1:$B$100&X!$C$1:$C$100&X!$D$1:$D$100,0)),"")}
A7: ECROU BORGNE | B7: DIN1587 | C7: M10 | F7: 46 | G7: INOX | I7: {=IFERROR(F7-INDEX(X!$F$1:$F$100,MATCH(A7&B7&C7&D7,X!$A$1:$A$100&X!$B$1:$B$100&X!$C$1:$C$100&X!$D$1:$D$100,0)),"")}
A8: ECROU BORGNE | B8: DIN1587 | C8: M10 | F8: 96 | G8: ACIER | I8: {=IFERROR(F8-INDEX(X!$F$1:$F$100,MATCH(A8&B8&C8&D8,X!$A$1:$A$100&X!$B$1:$B$100&X!$C$1:$C$100&X!$D$1:$D$100,0)),"")}
A9: ECROU BORGNE | B9: DIN1587 | C9: M6 | F9: 753 | G9: ACIER | I9: {=IFERROR(F9-INDEX(X!$F$1:$F$100,MATCH(A9&B9&C9&D9,X!$A$1:$A$100&X!$B$1:$B$100&X!$C$1:$C$100&X!$D$1:$D$100,0)),"")}
A10: ECROU BORGNE | B10: DIN1587 | C10: M6 | F10: 990 | G10: INOX | I10: {=IFERROR(F10-INDEX(X!$F$1:$F$100,MATCH(A10&B10&C10&D10,X!$A$1:$A$100&X!$B$1:$B$100&X!$C$1:$C$100&X!$D$1:$D$100,0)),"")}
A11: ECROU BORGNE | B11: DIN1587 | C11: M4 | F11: 1372 | G11: INOX | I11: {=IFERROR(F11-INDEX(X!$F$1:$F$100,MATCH(A11&B11&C11&D11,X!$A$1:$A$100&X!$B$1:$B$100&X!$C$1:$C$100&X!$D$1:$D$100,0)),"")}
A12: ECROU BORGNE | B12: DIN1587 | C12: M5 | F12: 1490 | G12: INOX | I12: {=IFERROR(F12-INDEX(X!$F$1:$F$100,MATCH(A12&B12&C12&D12,X!$A$1:$A$100&X!$B$1:$B$100&X!$C$1:$C$100&X!$D$1:$D$100,0)),"")}
A13: ECROU EMBASE | B13: DIN6923 | C13: M8 | F13: 2100 | G13: INOX | I13: {=IFERROR(F13-INDEX(X!$F$1:$F$100,MATCH(A13&B13&C13&D13,X!$A$1:$A$100&X!$B$1:$B$100&X!$C$1:$C$100&X!$D$1:$D$100,0)),"")} -> 2084
A14: ECROU GRF | B14: WS9312 | C14: M6 | F14: 1006 | G14: INOX | I14: {=IFERROR(F14-INDEX(X!$F$1:$F$100,MATCH(A14&B14&C14&D14,X!$A$1:$A$100&X!$B$1:$B$100&X!$C$1:$C$100&X!$D$1:$D$100,0)),"")}
A15: ECROU GRF BOIS | B15: WS9312 | C15: M6 | F15: 21 | G15: INOX | I15: {=IFERROR(F15-INDEX(X!$F$1:$F$100,MATCH(A15&B15&C15&D15,X!$A$1:$A$100&X!$B$1:$B$100&X!$C$1:$C$100&X!$D$1:$D$100,0)),"")}
A16: ECROU H | B16: DIN934 | C16: M14 | F16: 6 | G16: LAITON | I16: {=IFERROR(F16-INDEX(X!$F$1:$F$100,MATCH(A16&B16&C16&D16,X!$A$1:$A$100&X!$B$1:$B$100&X!$C$1:$C$100&X!$D$1:$D$100,0)),"")}
... A64: ECROU PAPILLON | B64: DIN315 | C64: M4 | F64: 1989 | G64: INOX | I64: {=IFERROR(F64-INDEX(X!$F$1:$F$100,MATCH(A64&B64&C64&D64,X!$A$1:$A$100&X!$B$1:$B$100&X!$C$1:$C$100&X!$D$1:$D$100,0)),"")}
A65: GOUGEON SOUDER | B65: DIN32501 | C65: M5 | D65: 20 | F65: 63 | G65: INOX | I65: {=IFERROR(F65-INDEX(X!$F$1:$F$100,MATCH(A65&B65&C65&D65,X!$A$1:$A$100&X!$B$1:$B$100&X!$C$1:$C$100&X!$D$1:$D$100,0)),"")}
A66: GOUGEON SOUDER | B66: DIN32501 | C66: M4 | D66: 20 | F66: 279 | G66: INOX | I66: {=IFERROR(F66-INDEX(X!$F$1:$F$100,MATCH(A66&B66&C66&D66,X!$A$1:$A$100&X!$B$1:$B$100&X!$C$1:$C$100&X!$D$1:$D$100,0)),"")}
A67: GOUGEON SOUDER | B67: CFU | C67: M6 | D67: 20 | F67: 321 | G67: INOX | I67: {=IFERROR(F67-INDEX(X!$F$1:$F$100,MATCH(A67&B67&C67&D67,X!$A$1:$A$100&X!$B$1:$B$100&X!$C$1:$C$100&X!$D$1:$D$100,0)),"")}
A68: GOUGEON SOUDER | B68: DIN32501 | C68: M4 | D68: 16 | F68: 415 | G68: INOX | I68: {=IFERROR(F68-INDEX(X!$F$1:$F$100,MATCH(A68&B68&C68&D68,X!$A$1:$A$100&X!$B$1:$B$100&X!$C$1:$C$100&X!$D$1:$D$100,0)),"")}
A69: GOUGEON SOUDER | B69: DIN32501 | C69: M5 | D69: 8 | F69: 496 | G69: INOX | I69: {=IFERROR(F69-INDEX(X!$F$1:$F$100,MATCH(A69&B69&C69&D69,X!$A$1:$A$100&X!$B$1:$B$100&X!$C$1:$C$100&X!$D$1:$D$100,0)),"")}
A70: GOUGEON SOUDER | B70: DIN32501 | C70: M4 | D70: 12 | F70: 948 | G70: INOX | I70: {=IFERROR(F70-INDEX(X!$F$1:$F$100,MATCH(A70&B70&C70&D70,X!$A$1:$A$100&X!$B$1:$B$100&X!$C$1:$C$100&X!$D$1:$D$100,0)),"")}
A71: GOUGEON SOUDER | B71: DIN32501 | C71: M6 | D71: 30 | F71: 951 | G71: INOX | I71: {=IFERROR(F71-INDEX(X!$F$1:$F$100,MATCH(A71&B71&C71&D71,X!$A$1:$A$100&X!$B$1:$B$100&X!$C$1:$C$100&X!$D$1:$D$100,0)),"")}
A72: GOUGEON SOUDER | B72: DIN32501 | C72: M6 | D72: 12 | F72: 2545 | G72: INOX | I72: {=IFERROR(F72-INDEX(X!$F$1:$F$100,MATCH(A72&B72&C72&D72,X!$A$1:$A$100&X!$B$1:$B$100&X!$C$1:$C$100&X!$D$1:$D$100,0)),"")}
A73: GOUGEON SOUDER | B73: DIN32501 | C73: M5 | D73: 12 | F73: 2861 | G73: INOX | I73: {=IFERROR(F73-INDEX(X!$F$1:$F$100,MATCH(A73&B73&C73&D73,X!$A$1:$A$100&X!$B$1:$B$100&X!$C$1:$C$100&X!$D$1:$D$100,0)),"")}
A74: GOUGEON SOUDER | B74: CFU | C74: M6 | D74: 10 | F74: 3197 | G74: INOX | I74: {=IFERROR(F74-INDEX(X!$F$1:$F$100,MATCH(A74&B74&C74&D74,X!$A$1:$A$100&X!$B$1:$B$100&X!$C$1:$C$100&X!$D$1:$D$100,0)),"")}
A75: INSERT BOIS TF | C75: M6 | F75: 10495 | G75: ACIER | I75: {=IFERROR(F75-INDEX(X!$F$1:$F$100,MATCH(A75&B75&C75&D75,X!$A$1:$A$100&X!$B$1:$B$100&X!$C$1:$C$100&X!$D$1:$D$100,0)),"")}
A76: INSERT H | B76: 31/SH8FRX | C76: M8 | F76: 40 | G76: INOX | I76: {=IFERROR(F76-INDEX(X!$F$1:$F$100,MATCH(A76&B76&C76&D76,X!$A$1:$A$100&X!$B$1:$B$100&X!$C$1:$C$100&X!$D$1:$D$100,0)),"")}
A77: INSERT H | B77: 31/SFH4 | C77: M4 | F77: 12230 | G77: ACIER | I77: {=IFERROR(F77-INDEX(X!$F$1:$F$100,MATCH(A77&B77&C77&D77,X!$A$1:$A$100&X!$B$1:$B$100&X!$C$1:$C$100&X!$D$1:$D$100,0)),"")}
A78: INSERT H | B78: 31/SH5FRX | C78: M5 | F78: 2573 | G78: INOX | I78: {=IFERROR(F78-INDEX(X!$F$1:$F$100,MATCH(A78&B78&C78&D78,X!$A$1:$A$100&X!$B$1:$B$100&X!$C$1:$C$100&X!$D$1:$D$100,0)),"")}
A79: INSERT H | B79: 31/SH4FRX | C79: M4 | F79: 2950 | G79: INOX | I79: {=IFERROR(F79-INDEX(X!$F$1:$F$100,MATCH(A79&B79&C79&D79,X!$A$1:$A$100&X!$B$1:$B$100&X!$C$1:$C$100&X!$D$1:$D$100,0)),"")}
A80: INSERT H | B80: 31/SFH6 | C80: M6 | F80: 5530 | G80: ACIER | I80: {=IFERROR(F80-INDEX(X!$F$1:$F$100,MATCH(A80&B80&C80&D80,X!$A$1:$A$100&X!$B$1:$B$100&X!$C$1:$C$100&X!$D$1:$D$100,0)),"")}
A81: INSERT H | B81: 31/SFH8 | C81: M8 | F81: 9920 | G81: ACIER | I81: {=IFERROR(F81-INDEX(X!$F$1:$F$100,MATCH(A81&B81&C81&D81,X!$A$1:$A$100&X!$B$1:$B$100&X!$C$1:$C$100&X!$D$1:$D$100,0)),"")}
A82: INSERT H | B82: 31/SFH5 | C82: M5 | F82: 14700 | G82: ACIER | I82: {=IFERROR(F82-INDEX(X!$F$1:$F$100,MATCH(A82&B82&C82&D82,X!$A$1:$A$100&X!$B$1:$B$100&X!$C$1:$C$100&X!$D$1:$D$100,0)),"")}
A83: INSERT H | B83: 31/SH6FRX | C83: M6 | F83: 13593 | G83: INOX | I83: {=IFERROR(F83-INDEX(X!$F$1:$F$100,MATCH(A83&B83&C83&D83,X!$A$1:$A$100&X!$B$1:$B$100&X!$C$1:$C$100&X!$D$1:$D$100,0)),"")}
A84: INSERT H SH | C84: M10 | F84: 370 | G84: ACIER | I84: {=IFERROR(F84-INDEX(X!$F$1:$F$100,MATCH(A84&B84&C84&D84,X!$A$1:$A$100&X!$B$1:$B$100&X!$C$1:$C$100&X!$D$1:$D$100,0)),"")}
A85: INSERT H SH | C85: M8 | F85: 1372 | G85: ACIER | I85: {=IFERROR(F85-INDEX(X!$F$1:$F$100,MATCH(A85&B85&C85&D85,X!$A$1:$A$100&X!$B$1:$B$100&X!$C$1:$C$100&X!$D$1:$D$100,0)),"")}
A86: INSERT H SH11 | C86: M8 | F86: 750 | G86: INOX | I86: {=IFERROR(F86-INDEX(X!$F$1:$F$100,MATCH(A86&B86&C86&D86,X!$A$1:$A$100&X!$B$1:$B$100&X!$C$1:$C$100&X!$D$1:$D$100,0)),"")}
A87: INSERT H SHB | C87: M6 | F87: 596 | G87: INOX | I87: {=IFERROR(F87-INDEX(X!$F$1:$F$100,MATCH(A87&B87&C87&D87,X!$A$1:$A$100&X!$B$1:$B$100&X!$C$1:$C$100&X!$D$1:$D$100,0)),"")}
...

Sheet X
A1: DESIGNATION | B1: REFERENCE | C1: Ø | D1: L | E1: QTE | F1: TOTAL
A2: TCLX | B2: DIN7985 | C2: M4 | D2: 6 | E2: 8 | F2: =E2*2 -> 16
A3: TCLX | B3: DIN7985 | C3: M4 | D3: 12 | E3: 20 | F3: =E3*2 -> 40
A4: TC FENDUE | B4: DIN84 | C4: M2,5 | D4: 4 | E4: 3 | F4: =E4*2 -> 6
A5: TCHC | B5: DIN912 | C5: M3 | D5: 6 | E5: 6 | F5: =E5*2 -> 12
A6: TF POZI | B6: DIN965z | C6: M4 | D6: 12 | E6: 10 | F6: =E6*2 -> 20
A7: TH | B7: DIN933 | C7: M8 | D7: 30 | E7: 4 | F7: =E7*2 -> 8
A8: TH | B8: DIN933 | C8: M6 | D8: 20 | E8: 4 | F8: =E8*2 -> 8
A9: TRL | B9: WS9330 | C9: M4 | D9: 12 | E9: 6 | F9: =E9*2 -> 12
A10: TRL | B10: WS9330 | C10: M6 | D10: 12 | E10: 2 | F10: =E10*2 -> 4
A11: ECROU H | B11: DIN934 | C11: M4 | E11: 40 | F11: =E11*2 -> 80
A12: ECROU H | B12: DIN934 | C12: M5 | E12: 8 | F12: =E12*2 -> 16
A13: ECROU H | B13: DIN934 | C13: M6 | E13: 4 | F13: =E13*2 -> 8
A14: ECROU NYLSTOP | B14: DIN985 | C14: M6 | E14: 4 | F14: =E14*2 -> 8
A15: ECROU EMBASE | B15: DIN6923 | C15: M8 | E15: 8 | F15: =E15*2 -> 16
A16: RONDELLE | B16: DIN9021 | C16: Ø4 | E16: 4 | F16: =E16*2 -> 8
A17: RONDELLE | B17: DIN9021 | C17: Ø5 | E17: 9 | F17: =E17*2 -> 18
A18: RONDELLE | B18: DIN9021 | C18: Ø6 | E18: 4 | F18: =E18*2 -> 8
A19: RONDELLE | B19: DIN9021 | C19: Ø8 | E19: 2 | F19: =E19*2 -> 4
A20: RONDELLE ETOILE | B20: - | C20: Ø6 | E20: 4 | F20: =E20*2 -> 8
A21: POP | B21: DIN7337 | C21: 3x8 | E21: 20 | F21: =E21*2 -> 40
A22: POP | B22: DIN7337 | C22: 4,8x10 | E22: 2 | F22: =E22*2 -> 4
A23: INSERT H | C23: M4 | E23: 30 | F23: =E23*2 -> 60
A24: INSERT H | C24: M8 | E24: 4 | F24: =E24*2 -> 8
