Workbook

Sheet STOCK
A1: TYPE | B1: NORME | C1: Ø | D1: L | E1: FOURNISSEUR | F1: QTE | G1: MATIERE | H1: CMD | I1: Nouv. QTE
A2: CACHE TETE VIS | F2: =SUM(AE10) -> 0 | G2: INOX | I2: {=IFERROR(F2-INDEX(X!$F$1:$F$100,MATCH(A2&B2&C2&D2,X!$A$1:$A$100&X!$B$1:$B$100&X!$C$1:$C$100&X!$D$1:$D$100,0)),"")}
A3: DOUILLE | C3: 565 | D3: 35 | F3: 850 | G3: INOX | I3: {=IFERROR(F3-INDEX(X!$F$1:$F$100,MATCH(A3&B3&C3&D3,X!$A$1:$A$100&X!$B$1:$B$100&X!$C$1:$C$100&X!$D$1:$D$100,0)),"")}
A4: ECROU + ROND CRANTE | C4: M6 | F4: 32 | G4: ACIER | I4: {=IFERROR(F4-INDEX(X!$F$1:$F$100,MATCH(A4&B4&C4&D4,X!$A$1:$A$100&X!$B$1:$B$100&X!$C$1:$C$100&X!$D$1:$D$100,0)),"")}
A5: ECROU A SOUDER | B5: DIN929 | C5: M8 | F5: 263 | G5: INOX | I5: {=IFERROR(F5-INDEX(X!$F$1:$F$100,MATCH(A5&B5&C5&D5,X!$A$1:$A$100&X!$B$1:$B$100&X!$C$1:$C$100&X!$D$1:$D$100,0)),"")}
A6: ECROU BORGNE | B6: DIN1587 | C6: M16 | F6: 33 | G6: ACIER | I6: {=IFERROR(F6-INDEX(X!$F$1:$F$100,MATCH(A6&B6&C6&D6,X!$A$1:$A$100&X!$B$1:$B$100&X!$C$1:$C$100&X!$D$1:$D$100,0)),"")}
A7: ECROU BORGNE | B7: DIN1587 | C7: M10 | F7: 46 | G7: INOX | I7: {=IFERROR(F7-INDEX(X!$F$1:$F$100,MATCH(A7&B7&C7&D7,X!$A$1:$A$100&X!$B$1:$B$100&X!$C$1:$C$100&X!$D$1:$D$100,0)),"")}
A8: ECROU BORGNE | B8: DIN1587 | C8: M10 | F8: 96 | G8: ACIER | I8: {=IFERROR(F8-INDEX(X!$F$1:$F$100,MATCH(A8&B8&C8&D8,X!$A$1:$A$100&X!$B$1:$B$100&X!$C$1:$C$100&X!$D$1:$D$100,0)),"")}
A9: ECROU BORGNE | B9: DIN1587 | C9: M6 | F9: 753 | G9: ACIER | I9: {=IFERROR(F9-INDEX(X!$F$1:$F$100,MATCH(A9&B9&C9&D9,X!$A$1:$A$100&X!$B$1:$B$100&X!$C$1:$C$100&X!$D$1:$D$100,0)),"")}
A10: ECROU BORGNE | B10: DIN1587 | C10: M6 | F10: 990 | G10: INOX | I10: {=IFERROR(F10-INDEX(X!$F$1:$F$100,MATCH(A10&B10&C10&D10,X!$A$1:$A$100&X!$B$1:$B$100&X!$C$1:$C$100&X!$D$1:$D$100,0)),"")}
A11: ECROU BORGNE | B11: DIN1587 | C11: M4 | F11: 1372 | G11: INOX | I11: {=IFERROR(F11-INDEX(X!$F$1:$F$100,MATCH(A11&B11&C11&D11,X!$A$1:$A$100&X!$B$1:$B$100&X!$C$1:$C$100&X!$D$1:$D$100,0)),"")}
A12: ECROU BORGNE | B12: DIN1587 | C12: M5 | F12: 1490 | G12: INOX | I12: {=IFERROR(F12-INDEX(X!$F$1:$F$100,MATCH(A12&B12&C12&D12,X!$A$1:$A$100&X!$B$1:$B$100&X!$C$1:$C$100&X!$D$1:$D$100,0)),"")}
A13: ECROU EMBASE | B13: DIN6923 | C13: M8 | F13: 2100 | G13: INOX | I13: {=IFERROR(F13-INDEX(X!$F$1:$F$100,MATCH(A13&B13&C13&D13,X!$A$1:$A$100&X!$B$1:$B$100&X!$C$1:$C$100&X!$D$1:$D$100,0)),"")} -> 2084
A14: ECROU GRF | B14: WS9312 | C14: M6 | F14: 1006 | G14: INOX | I14: {=IFERROR(F14-INDEX(X!$F$1:$F$100,MATCH(A14&B14&C14&D14,X!$A$1:$A$100&X!$B$1:$B$100&X!$C$1:$C$100&X!$D$1:$D$100,0)),"")}
A15: ECROU GRF BOIS | B15: WS9312 | C15: M6 | F15: 21 | G15: INOX | I15: {=IFERROR(F15-INDEX(X!$F$1:$F$100,MATCH(A15&B15&C15&D15,X!$A$1:$A$100&X!$B$1:$B$100&X!$C$1:$C$100&X!$D$1:$D$100,0)),"")}
A16: ECROU H | B16: DIN934 | C16: M14 | F16: 6 | G16: LAITON | I16: {=IFERROR(F16-INDEX(X!$F$1:$F$100,MATCH(A16&B16&C16&D16,X!$A$1:$A$100&X!$B$1:$B$100&X!$C$1:$C$100&X!$D$1:$D$100,0)),"")}
... A64: ECROU PAPILLON | B64: DIN315 | C64: M4 | F64: 1989 | G64: INOX | I64: {=IFERROR(F64-INDEX(X!$F$1:$F$100,MATCH(A64&B64&C64&D64,X!$A$1:$A$100&X!$B$1:$B$100&X!$C$1:$C$100&X!$D$1:$D$100,0)),"")}
A65: GOUGEON SOUDER | B65: DIN32501 | C65: M5 | D65: 20 | F65: 63 | G65: INOX | I65: {=IFERROR(F65-INDEX(X!$F$1:$F$100,MATCH(A65&B65&C65&D65,X!$A$1:$A$100&X!$B$1:$B$100&X!$C$1:$C$100&X!$D$1:$D$100,0)),"")}
A66: GOUGEON SOUDER | B66: DIN32501 | C66: M4 | D66: 20 | F66: 279 | G66: INOX | I66: {=IFERROR(F66-INDEX(X!$F$1:$F$100,MATCH(A66&B66&C66&D66,X!$A$1:$A$100&X!$B$1:$B$100&X!$C$1:$C$100&X!$D$1:$D$100,0)),"")}
A67: GOUGEON SOUDER | B67: CFU | C67: M6 | D67: 20 | F67: 321 | G67: INOX | I67: {=IFERROR(F67-INDEX(X!$F$1:$F$100,MATCH(A67&B67&C67&D67,X!$A$1:$A$100&X!$B$1:$B$100&X!$C$1:$C$100&X!$D$1:$D$100,0)),"")}
A68: GOUGEON SOUDER | B68: DIN32501 | C68: M4 | D68: 16 | F68: 415 | G68: INOX | I68: {=IFERROR(F68-INDEX(X!$F$1:$F$100,MATCH(A68&B68&C68&D68,X!$A$1:$A$100&X!$B$1:$B$100&X!$C$1:$C$100&X!$D$1:$D$100,0)),"")}
A69: GOUGEON SOUDER | B69: DIN32501 | C69: M5 | D69: 8 | F69: 496 | G69: INOX | I69: {=IFERROR(F69-INDEX(X!$F$1:$F$100,MATCH(A69&B69&C69&D69,X!$A$1:$A$100&X!$B$1:$B$100&X!$C$1:$C$100&X!$D$1:$D$100,0)),"")}
A70: GOUGEON SOUDER | B70: DIN32501 | C70: M4 | D70: 12 | F70: 948 | G70: INOX | I70: {=IFERROR(F70-INDEX(X!$F$1:$F$100,MATCH(A70&B70&C70&D70,X!$A$1:$A$100&X!$B$1:$B$100&X!$C$1:$C$100&X!$D$1:$D$100,0)),"")}
A71: GOUGEON SOUDER | B71: DIN32501 | C71: M6 | D71: 30 | F71: 951 | G71: INOX | I71: {=IFERROR(F71-INDEX(X!$F$1:$F$100,MATCH(A71&B71&C71&D71,X!$A$1:$A$100&X!$B$1:$B$100&X!$C$1:$C$100&X!$D$1:$D$100,0)),"")}
A72: GOUGEON SOUDER | B72: DIN32501 | C72: M6 | D72: 12 | F72: 2545 | G72: INOX | I72: {=IFERROR(F72-INDEX(X!$F$1:$F$100,MATCH(A72&B72&C72&D72,X!$A$1:$A$100&X!$B$1:$B$100&X!$C$1:$C$100&X!$D$1:$D$100,0)),"")}
A73: GOUGEON SOUDER | B73: DIN32501 | C73: M5 | D73: 12 | F73: 2861 | G73: INOX | I73: {=IFERROR(F73-INDEX(X!$F$1:$F$100,MATCH(A73&B73&C73&D73,X!$A$1:$A$100&X!$B$1:$B$100&X!$C$1:$C$100&X!$D$1:$D$100,0)),"")}
A74: GOUGEON SOUDER | B74: CFU | C74: M6 | D74: 10 | F74: 3197 | G74: INOX | I74: {=IFERROR(F74-INDEX(X!$F$1:$F$100,MATCH(A74&B74&C74&D74,X!$A$1:$A$100&X!$B$1:$B$100&X!$C$1:$C$100&X!$D$1:$D$100,0)),"")}
A75: INSERT BOIS TF | C75: M6 | F75: 10495 | G75: ACIER | I75: {=IFERROR(F75-INDEX(X!$F$1:$F$100,MATCH(A75&B75&C75&D75,X!$A$1:$A$100&X!$B$1:$B$100&X!$C$1:$C$100&X!$D$1:$D$100,0)),"")}
A76: INSERT H | B76: 31/SH8FRX | C76: M8 | F76: 40 | G76: INOX | I76: {=IFERROR(F76-INDEX(X!$F$1:$F$100,MATCH(A76&B76&C76&D76,X!$A$1:$A$100&X!$B$1:$B$100&X!$C$1:$C$100&X!$D$1:$D$100,0)),"")}
A77: INSERT H | B77: 31/SFH4 | C77: M4 | F77: 12230 | G77: ACIER | I77: {=IFERROR(F77-INDEX(X!$F$1:$F$100,MATCH(A77&B77&C77&D77,X!$A$1:$A$100&X!$B$1:$B$100&X!$C$1:$C$100&X!$D$1:$D$100,0)),"")}
A78: INSERT H | B78: 31/SH5FRX | C78: M5 | F78: 2573 | G78: INOX | I78: {=IFERROR(F78-INDEX(X!$F$1:$F$100,MATCH(A78&B78&C78&D78,X!$A$1:$A$100&X!$B$1:$B$100&X!$C$1:$C$100&X!$D$1:$D$100,0)),"")}
A79: INSERT H | B79: 31/SH4FRX | C79: M4 | F79: 2950 | G79: INOX | I79: {=IFERROR(F79-INDEX(X!$F$1:$F$100,MATCH(A79&B79&C79&D79,X!$A$1:$A$100&X!$B$1:$B$100&X!$C$1:$C$100&X!$D$1:$D$100,0)),"")}
A80: INSERT H | B80: 31/SFH6 | C80: M6 | F80: 5530 | G80: ACIER | I80: {=IFERROR(F80-INDEX(X!$F$1:$F$100,MATCH(A80&B80&C80&D80,X!$A$1:$A$100&X!$B$1:$B$100&X!$C$1:$C$100&X!$D$1:$D$100,0)),"")}
A81: INSERT H | B81: 31/SFH8 | C81: M8 | F81: 9920 | G81: ACIER | I81: {=IFERROR(F81-INDEX(X!$F$1:$F$100,MATCH(A81&B81&C81&D81,X!$A$1:$A$100&X!$B$1:$B$100&X!$C$1:$C$100&X!$D$1:$D$100,0)),"")}
A82: INSERT H | B82: 31/SFH5 | C82: M5 | F82: 14700 | G82: ACIER | I82: {=IFERROR(F82-INDEX(X!$F$1:$F$100,MATCH(A82&B82&C82&D82,X!$A$1:$A$100&X!$B$1:$B$100&X!$C$1:$C$100&X!$D$1:$D$100,0)),"")}
A83: INSERT H | B83: 31/SH6FRX | C83: M6 | F83: 13593 | G83: INOX | I83: {=IFERROR(F83-INDEX(X!$F$1:$F$100,MATCH(A83&B83&C83&D83,X!$A$1:$A$100&X!$B$1:$B$100&X!$C$1:$C$100&X!$D$1:$D$100,0)),"")}
A84: INSERT H SH | C84: M10 | F84: 370 | G84: ACIER | I84: {=IFERROR(F84-INDEX(X!$F$1:$F$100,MATCH(A84&B84&C84&D84,X!$A$1:$A$100&X!$B$1:$B$100&X!$C$1:$C$100&X!$D$1:$D$100,0)),"")}
A85: INSERT H SH | C85: M8 | F85: 1372 | G85: ACIER | I85: {=IFERROR(F85-INDEX(X!$F$1:$F$100,MATCH(A85&B85&C85&D85,X!$A$1:$A$100&X!$B$1:$B$100&X!$C$1:$C$100&X!$D$1:$D$100,0)),"")}
A86: INSERT H SH11 | C86: M8 | F86: 750 | G86: INOX | I86: {=IFERROR(F86-INDEX(X!$F$1:$F$100,MATCH(A86&B86&C86&D86,X!$A$1:$A$100&X!$B$1:$B$100&X!$C$1:$C$100&X!$D$1:$D$100,0)),"")}
A87: INSERT H SHB | C87: M6 | F87: 596 | G87: INOX | I87: {=IFERROR(F87-INDEX(X!$F$1:$F$100,MATCH(A87&B87&C87&D87,X!$A$1:$A$100&X!$B$1:$B$100&X!$C$1:$C$100&X!$D$1:$D$100,0)),"")}
A88: INSERT H SHB | C88: M4 | F88: 3305 | G88: INOX | I88: {=IFERROR(F88-INDEX(X!$F$1:$F$100,MATCH(A88&B88&C88&D88,X!$A$1:$A$100&X!$B$1:$B$100&X!$C$1:$C$100&X!$D$1:$D$100,0)),"")}
A89: INSERT R | C89: M8 | F89: 218 | G89: ACIER | I89: {=IFERROR(F89-INDEX(X!$F$1:$F$100,MATCH(A89&B89&C89&D89,X!$A$1:$A$100&X!$B$1:$B$100&X!$C$1:$C$100&X!$D$1:$D$100,0)),"")}
A90: INSERT R | C90: M5 | F90: 2481 | G90: ACIER | I90: {=IFERROR(F90-INDEX(X!$F$1:$F$100,MATCH(A90&B90&C90&D90,X!$A$1:$A$100&X!$B$1:$B$100&X!$C$1:$C$100&X!$D$1:$D$100,0)),"")}
A91: INSERT R | C91: M6 | F91: 5367 | G91: ACIER | I91: {=IFERROR(F91-INDEX(X!$F$1:$F$100,MATCH(A91&B91&C91&D91,X!$A$1:$A$100&X!$B$1:$B$100&X!$C$1:$C$100&X!$D$1:$D$100,0)),"")}
A92: KNURLE | B92: DIN467 | C92: M5 | F92: 135 | G92: INOX | I92: {=IFERROR(F92-INDEX(X!$F$1:$F$100,MATCH(A92&B92&C92&D92,X!$A$1:$A$100&X!$B$1:$B$100&X!$C$1:$C$100&X!$D$1:$D$100,0)),"")}
A93: RIVET POP | B93: DIN7337 | C93: Ø4 | D93: 16 | F93: 2 | G93: ACIER | I93: {=IFERROR(F93-INDEX(X!$F$1:$F$100,MATCH(A93&B93&C93&D93,X!$A$1:$A$100&X!$B$1:$B$100&X!$C$1:$C$100&X!$D$1:$D$100,0)),"")}
A94: RIVET POP | B94: DIN7337 | C94: Ø5 | D94: 50 | F94: 8 | G94: ACIER | I94: {=IFERROR(F94-INDEX(X!$F$1:$F$100,MATCH(A94&B94&C94&D94,X!$A$1:$A$100&X!$B$1:$B$100&X!$C$1:$C$100&X!$D$1:$D$100,0)),"")}
A95: RIVET POP | B95: DIN7337 | C95: Ø3 | D95: 12 | F95: 55 | G95: ACIER | I95: {=IFERROR(F95-INDEX(X!$F$1:$F$100,MATCH(A95&B95&C95&D95,X!$A$1:$A$100&X!$B$1:$B$100&X!$C$1:$C$100&X!$D$1:$D$100,0)),"")}
A96: RIVET POP | B96: DIN7337 | C96: Ø5 | D96: 80 | F96: 68 | G96: ACIER | I96: {=IFERROR(F96-INDEX(X!$F$1:$F$100,MATCH(A96&B96&C96&D96,X!$A$1:$A$100&X!$B$1:$B$100&X!$C$1:$C$100&X!$D$1:$D$100,0)),"")}
A97: RIVET POP | B97: DIN7337 | C97: Ø5 | D97: 60 | F97: 107 | G97: ACIER | I97: {=IFERROR(F97-INDEX(X!$F$1:$F$100,MATCH(A97&B97&C97&D97,X!$A$1:$A$100&X!$B$1:$B$100&X!$C$1:$C$100&X!$D$1:$D$100,0)),"")}
A98: RIVET POP | B98: DIN7337 | C98: Ø4,8 | D98: 16 | F98: 256 | G98: ACIER | I98: {=IFERROR(F98-INDEX(X!$F$1:$F$100,MATCH(A98&B98&C98&D98,X!$A$1:$A$100&X!$B$1:$B$100&X!$C$1:$C$100&X!$D$1:$D$100,0)),"")}
A99: RIVET POP | B99: DIN7337 | C99: Ø5 | D99: 16 | F99: 574 | G99: ACIER | I99: {=IFERROR(F99-INDEX(X!$F$1:$F$100,MATCH(A99&B99&C99&D99,X!$A$1:$A$100&X!$B$1:$B$100&X!$C$1:$C$100&X!$D$1:$D$100,0)),"")}
A100: RIVET POP | B100: DIN7337 | C100: Ø5 | D100: 10 | F100: 696 | G100: ACIER | I100: {=IFERROR(F100-INDEX(X!$F$1:$F$100,MATCH(A100&B100&C100&D100,X!$A$1:$A$100&X!$B$1:$B$100&X!$C$1:$C$100&X!$D$1:$D$100,0)),"")}
A101: RIVET POP | B101: DIN7337 | C101: Ø4 | D101: 10 | F101: 3995 | G101: ACIER | I101: {=IFERROR(F101-INDEX(X!$F$1:$F$100,MATCH(A101&B101&C101&D101,X!$A$1:$A$100&X!$B$1:$B$100&X!$C$1:$C$100&X!$D$1:$D$100,0)),"")}
A102: RIVET POP | B102: DIN7337 | C102: Ø4,8 | D102: 10 | F102: 9570 | G102: ACIER | I102: {=IFERROR(F102-INDEX(X!$F$1:$F$100,MATCH(A102&B102&C102&D102,X!$A$1:$A$100&X!$B$1:$B$100&X!$C$1:$C$100&X!$D$1:$D$100,0)),"")}
A103: RIVET POP | B103: DIN7337 | C103: Ø3 | D103: 8 | F103: 6840 | G103: ACIER | I103: {=IFERROR(F103-INDEX(X!$F$1:$F$100,MATCH(A103&B103&C103&D103,X!$A$1:$A$100&X!$B$1:$B$100&X!$C$1:$C$100&X!$D$1:$D$100,0)),"")}
A104: RIVET POP LARGE | C104: Ø5 | D104: 10 | F104: 1 | G104: INOX | I104: {=IFERROR(F104-INDEX(X!$F$1:$F$100,MATCH(A104&B104&C104&D104,X!$A$1:$A$100&X!$B$1:$B$100&X!$C$1:$C$100&X!$D$1:$D$100,0)),"")}
A105: RIVET TF | B105: DIN660 | C105: Ø3 | D105: 16 | F105: 1515 | G105: ALU | I105: {=IFERROR(F105-INDEX(X!$F$1:$F$100,MATCH(A105&B105&C105&D105,X!$A$1:$A$100&X!$B$1:$B$100&X!$C$1:$C$100&X!$D$1:$D$100,0)),"")}
A106: RONDELLE CURV | B106: WS9255 | C106: Ø3 | F106: 60 | G106: INOX | I106: {=IFERROR(F106-INDEX(X!$F$1:$F$100,MATCH(A106&B106&C106&D106,X!$A$1:$A$100&X!$B$1:$B$100&X!$C$1:$C$100&X!$D$1:$D$100,0)),"")}
A107: RONDELLE CURV | B107: WS9255 | C107: Ø4 | F107: 860 | G107: INOX | I107: {=IFERROR(F107-INDEX(X!$F$1:$F$100,MATCH(A107&B107&C107&D107,X!$A$1:$A$100&X!$B$1:$B$100&X!$C$1:$C$100&X!$D$1:$D$100,0)),"")}
A108: RONDELLE CURV | B108: WS9255 | C108: Ø6 | F108: 1423 | G108: INOX | I108: {=IFERROR(F108-INDEX(X!$F$1:$F$100,MATCH(A108&B108&C108&D108,X!$A$1:$A$100&X!$B$1:$B$100&X!$C$1:$C$100&X!$D$1:$D$100,0)),"")}
A109: RONDELLE ETOILE | C109: Ø7,5 | F109: 34 | G109: ??? | I109: {=IFERROR(F109-INDEX(X!$F$1:$F$100,MATCH(A109&B109&C109&D109,X!$A$1:$A$100&X!$B$1:$B$100&X!$C$1:$C$100&X!$D$1:$D$100,0)),"")}
A110: RONDELLE EVENT | B110: DIN6797 | C110: M16 | F110: 12 | G110: INOX | I110: {=IFERROR(F110-INDEX(X!$F$1:$F$100,MATCH(A110&B110&C110&D110,X!$A$1:$A$100&X!$B$1:$B$100&X!$C$1:$C$100&X!$D$1:$D$100,0)),"")}
A111: RONDELLE EVENT | B111: DIN6797 | C111: M3 | F111: 36 | G111: ACIER | I111: {=IFERROR(F111-INDEX(X!$F$1:$F$100,MATCH(A111&B111&C111&D111,X!$A$1:$A$100&X!$B$1:$B$100&X!$C$1:$C$100&X!$D$1:$D$100,0)),"")}
A112: RONDELLE EVENT | B112: DIN6797 | C112: M8 | F112: 62 | G112: ACIER | I112: {=IFERROR(F112-INDEX(X!$F$1:$F$100,MATCH(A112&B112&C112&D112,X!$A$1:$A$100&X!$B$1:$B$100&X!$C$1:$C$100&X!$D$1:$D$100,0)),"")}
A113: RONDELLE EVENT | B113: DIN6797 | C113: M4 | F113: 79 | G113: ACIER | I113: {=IFERROR(F113-INDEX(X!$F$1:$F$100,MATCH(A113&B113&C113&D113,X!$A$1:$A$100&X!$B$1:$B$100&X!$C$1:$C$100&X!$D$1:$D$100,0)),"")}
A114: RONDELLE EVENT | B114: DIN6797 | C114: M3 | F114: 276 | G114: INOX | I114: {=IFERROR(F114-INDEX(X!$F$1:$F$100,MATCH(A114&B114&C114&D114,X!$A$1:$A$100&X!$B$1:$B$100&X!$C$1:$C$100&X!$D$1:$D$100,0)),"")}
A115: RONDELLE EVENT | B115: DIN6797 | C115: M12 | F115: 980 | G115: INOX | I115: {=IFERROR(F115-INDEX(X!$F$1:$F$100,MATCH(A115&B115&C115&D115,X!$A$1:$A$100&X!$B$1:$B$100&X!$C$1:$C$100&X!$D$1:$D$100,0)),"")}
A116: RONDELLE EVENT | B116: DIN6797 | C116: M6 | F116: 1032 | G116: ACIER | I116: {=IFERROR(F116-INDEX(X!$F$1:$F$100,MATCH(A116&B116&C116&D116,X!$A$1:$A$100&X!$B$1:$B$100&X!$C$1:$C$100&X!$D$1:$D$100,0)),"")}
A117: RONDELLE EVENT | B117: DIN6797 | C117: M4 | F117: 4930 | G117: INOX | I117: {=IFERROR(F117-INDEX(X!$F$1:$F$100,MATCH(A117&B117&C117&D117,X!$A$1:$A$100&X!$B$1:$B$100&X!$C$1:$C$100&X!$D$1:$D$100,0)),"")}
A118: RONDELLE EVENT | B118: DIN6797 | C118: M8 | F118: 7520 | G118: INOX | I118: {=IFERROR(F118-INDEX(X!$F$1:$F$100,MATCH(A118&B118&C118&D118,X!$A$1:$A$100&X!$B$1:$B$100&X!$C$1:$C$100&X!$D$1:$D$100,0)),"")}
A119: RONDELLE GROWER | B119: DIN127 | C119: Ø23 | F119: 19 | G119: ACIER | I119: {=IFERROR(F119-INDEX(X!$F$1:$F$100,MATCH(A119&B119&C119&D119,X!$A$1:$A$100&X!$B$1:$B$100&X!$C$1:$C$100&X!$D$1:$D$100,0)),"")}
A120: RONDELLE GROWER | B120: DIN127 | C120: Ø12 | F120: 68 | G120: INOX | I120: {=IFERROR(F120-INDEX(X!$F$1:$F$100,MATCH(A120&B120&C120&D120,X!$A$1:$A$100&X!$B$1:$B$100&X!$C$1:$C$100&X!$D$1:$D$100,0)),"")}
A121: RONDELLE PLATE | B121: DIN9021 | C121: Ø21 | F121: 15 | G121: ACIER | I121: {=IFERROR(F121-INDEX(X!$F$1:$F$100,MATCH(A121&B121&C121&D121,X!$A$1:$A$100&X!$B$1:$B$100&X!$C$1:$C$100&X!$D$1:$D$100,0)),"")}
... A133: RONDELLE PLATE | B133: DIN9021 | C133: Ø3 | F133: 987 | G133: ACIER | I133: {=IFERROR(F133-INDEX(X!$F$1:$F$100,MATCH(A133&B133&C133&D133,X!$A$1:$A$100&X!$B$1:$B$100&X!$C$1:$C$100&X!$D$1:$D$100,0)),"")}
A134: RONDELLE PLATE | B134: DIN9021 | C134: Ø6 | D134: G | F134: 210 | G134: INOX | I134: {=IFERROR(F134-INDEX(X!$F$1:$F$100,MATCH(A134&B134&C134&D134,X!$A$1:$A$100&X!$B$1:$B$100&X!$C$1:$C$100&X!$D$1:$D$100,0)),"")}
A135: RONDELLE PLATE | B135: DIN9021 | C135: Ø6*18*1 | F135: 1505 | G135: ACIER | I135: {=IFERROR(F135-INDEX(X!$F$1:$F$100,MATCH(A135&B135&C135&D135,X!$A$1:$A$100&X!$B$1:$B$100&X!$C$1:$C$100&X!$D$1:$D$100,0)),"")}
A136: RONDELLE PLATE | B136: DIN9021 | C136: Ø8 | F136: 1580 | G136: ACIER | I136: {=IFERROR(F136-INDEX(X!$F$1:$F$100,MATCH(A136&B136&C136&D136,X!$A$1:$A$100&X!$B$1:$B$100&X!$C$1:$C$100&X!$D$1:$D$100,0)),"")}
A137: RONDELLE PLATE | B137: DIN9021 | C137: Ø5*12*1 | F137: 2307 | G137: ACIER | I137: {=IFERROR(F137-INDEX(X!$F$1:$F$100,MATCH(A137&B137&C137&D137,X!$A$1:$A$100&X!$B$1:$B$100&X!$C$1:$C$100&X!$D$1:$D$100,0)),"")}
A138: RONDELLE PLATE | B138: DIN9021 | C138: Ø10 | F138: 4450 | G138: ACIER | I138: {=IFERROR(F138-INDEX(X!$F$1:$F$100,MATCH(A138&B138&C138&D138,X!$A$1:$A$100&X!$B$1:$B$100&X!$C$1:$C$100&X!$D$1:$D$100,0)),"")}
A139: RONDELLE PLATE | B139: DIN9021 | C139: Ø8 | F139: 5940 | G139: INOX | I139: {=IFERROR(F139-INDEX(X!$F$1:$F$100,MATCH(A139&B139&C139&D139,X!$A$1:$A$100&X!$B$1:$B$100&X!$C$1:$C$100&X!$D$1:$D$100,0)),"")}
A140: RONDELLE PLATE | B140: DIN9021 | C140: Ø6 | D140: P | F140: 8722 | G140: INOX | I140: {=IFERROR(F140-INDEX(X!$F$1:$F$100,MATCH(A140&B140&C140&D140,X!$A$1:$A$100&X!$B$1:$B$100&X!$C$1:$C$100&X!$D$1:$D$100,0)),"")}
A141: RONDELLE PLATE | B141: DIN9021 | C141: Ø4 | F141: 12150 | G141: INOX | I141: {=IFERROR(F141-INDEX(X!$F$1:$F$100,MATCH(A141&B141&C141&D141,X!$A$1:$A$100&X!$B$1:$B$100&X!$C$1:$C$100&X!$D$1:$D$100,0)),"")}
A142: RONDELLE PLATE | B142: DIN9021 | C142: Ø6 | D142: M | F142: 11754 | G142: INOX | I142: {=IFERROR(F142-INDEX(X!$F$1:$F$100,MATCH(A142&B142&C142&D142,X!$A$1:$A$100&X!$B$1:$B$100&X!$C$1:$C$100&X!$D$1:$D$100,0)),"")}
A143: RONDELLE PLATE | B143: DIN9021 | C143: Ø5 | F143: 12760 | G143: INOX | I143: {=IFERROR(F143-INDEX(X!$F$1:$F$100,MATCH(A143&B143&C143&D143,X!$A$1:$A$100&X!$B$1:$B$100&X!$C$1:$C$100&X!$D$1:$D$100,0)),"")}
A144: RONDELLE PLATE LARGE | B144: DIN9021 | C144: Ø10 | F144: 15 | G144: ACIER | I144: {=IFERROR(F144-INDEX(X!$F$1:$F$100,MATCH(A144&B144&C144&D144,X!$A$1:$A$100&X!$B$1:$B$100&X!$C$1:$C$100&X!$D$1:$D$100,0)),"")}
A145: STHC | B145: DIN915 | C145: M6 | D145: 25 | F145: 62 | G145: INOX | I145: {=IFERROR(F145-INDEX(X!$F$1:$F$100,MATCH(A145&B145&C145&D145,X!$A$1:$A$100&X!$B$1:$B$100&X!$C$1:$C$100&X!$D$1:$D$100,0)),"")}
A146: STHC | B146: DIN913 | C146: M8 | D146: 25 | F146: 80 | G146: INOX | I146: {=IFERROR(F146-INDEX(X!$F$1:$F$100,MATCH(A146&B146&C146&D146,X!$A$1:$A$100&X!$B$1:$B$100&X!$C$1:$C$100&X!$D$1:$D$100,0)),"")}
A147: STHC | B147: DIN913 | C147: M8 | D147: 20 | F147: 193 | G147: INOX | I147: {=IFERROR(F147-INDEX(X!$F$1:$F$100,MATCH(A147&B147&C147&D147,X!$A$1:$A$100&X!$B$1:$B$100&X!$C$1:$C$100&X!$D$1:$D$100,0)),"")}
A148: STHC | B148: DIN913 | C148: M10 | D148: 50 | F148: 278 | G148: INOX | I148: {=IFERROR(F148-INDEX(X!$F$1:$F$100,MATCH(A148&B148&C148&D148,X!$A$1:$A$100&X!$B$1:$B$100&X!$C$1:$C$100&X!$D$1:$D$100,0)),"")}
A149: STHC | B149: DIN913 | C149: M5 | D149: 8 | F149: 1498 | G149: INOX | I149: {=IFERROR(F149-INDEX(X!$F$1:$F$100,MATCH(A149&B149&C149&D149,X!$A$1:$A$100&X!$B$1:$B$100&X!$C$1:$C$100&X!$D$1:$D$100,0)),"")}
A150: STHC | B150: DIN913 | C150: M5 | D150: 30 | F150: 2380 | G150: INOX | I150: {=IFERROR(F150-INDEX(X!$F$1:$F$100,MATCH(A150&B150&C150&D150,X!$A$1:$A$100&X!$B$1:$B$100&X!$C$1:$C$100&X!$D$1:$D$100,0)),"")}
A151: TC FENDUE | B151: DIN84 | C151: M4 | D151: 20 | F151: 11 | G151: ACIER | I151: {=IFERROR(F151-INDEX(X!$F$1:$F$100,MATCH(A151&B151&C151&D151,X!$A$1:$A$100&X!$B$1:$B$100&X!$C$1:$C$100&X!$D$1:$D$100,0)),"")}
A152: TC FENDUE | B152: DIN84 | C152: M5 | D152: 30 | F152: 16 | G152: ACIER | I152: {=IFERROR(F152-INDEX(X!$F$1:$F$100,MATCH(A152&B152&C152&D152,X!$A$1:$A$100&X!$B$1:$B$100&X!$C$1:$C$100&X!$D$1:$D$100,0)),"")}
A153: TC FENDUE | B153: DIN84 | C153: M5 | D153: 10 | F153: 38 | G153: ACIER | I153: {=IFERROR(F153-INDEX(X!$F$1:$F$100,MATCH(A153&B153&C153&D153,X!$A$1:$A$100&X!$B$1:$B$100&X!$C$1:$C$100&X!$D$1:$D$100,0)),"")}
A154: TC FENDUE | B154: DIN84 | C154: M3 | D154: 30 | F154: 38 | G154: INOX | I154: {=IFERROR(F154-INDEX(X!$F$1:$F$100,MATCH(A154&B154&C154&D154,X!$A$1:$A$100&X!$B$1:$B$100&X!$C$1:$C$100&X!$D$1:$D$100,0)),"")}
A155: TC FENDUE | B155: DIN84 | C155: M4 | D155: 16 | F155: 40 | G155: ACIER | I155: {=IFERROR(F155-INDEX(X!$F$1:$F$100,MATCH(A155&B155&C155&D155,X!$A$1:$A$100&X!$B$1:$B$100&X!$C$1:$C$100&X!$D$1:$D$100,0)),"")}
A156: TC FENDUE | B156: DIN84 | C156: M5 | D156: 50 | F156: 64 | G156: ACIER | I156: {=IFERROR(F156-INDEX(X!$F$1:$F$100,MATCH(A156&B156&C156&D156,X!$A$1:$A$100&X!$B$1:$B$100&X!$C$1:$C$100&X!$D$1:$D$100,0)),"")}
... A196: TCLX | B196: DIN7985 | C196: M4 | D196: 30 | F196: 920 | G196: INOX | I196: {=IFERROR(F196-INDEX(X!$F$1:$F$100,MATCH(A196&B196&C196&D196,X!$A$1:$A$100&X!$B$1:$B$100&X!$C$1:$C$100&X!$D$1:$D$100,0)),"")}
A197: TCLX | B197: DIN7985 | C197: M4 | D197: 6 | F197: 2059 | G197: INOX | H197: CMD | I197: {=IFERROR(F197-INDEX(X!$F$1:$F$100,MATCH(A197&B197&C197&D197,X!$A$1:$A$100&X!$B$1:$B$100&X!$C$1:$C$100&X!$D$1:$D$100,0)),"")} -> 2043
...

Sheet X
A1: DESIGNATION | B1: REFERENCE | C1: Ø | D1: L | E1: QTE | F1: TOTAL
A2: TCLX | B2: DIN7985 | C2: M4 | D2: 6 | E2: 8 | F2: =E2*2 -> 16
A3: TCLX | B3: DIN7985 | C3: M4 | D3: 12 | E3: 20 | F3: =E3*2 -> 40
A4: TC FENDUE | B4: DIN84 | C4: M2,5 | D4: 4 | E4: 3 | F4: =E4*2 -> 6
A5: TCHC | B5: DIN912 | C5: M3 | D5: 6 | E5: 6 | F5: =E5*2 -> 12
A6: TF POZI | B6: DIN965z | C6: M4 | D6: 12 | E6: 10 | F6: =E6*2 -> 20
A7: TH | B7: DIN933 | C7: M8 | D7: 30 | E7: 4 | F7: =E7*2 -> 8
A8: TH | B8: DIN933 | C8: M6 | D8: 20 | E8: 4 | F8: =E8*2 -> 8
A9: TRL | B9: WS9330 | C9: M4 | D9: 12 | E9: 6 | F9: =E9*2 -> 12
A10: TRL | B10: WS9330 | C10: M6 | D10: 12 | E10: 2 | F10: =E10*2 -> 4
A11: ECROU H | B11: DIN934 | C11: M4 | E11: 40 | F11: =E11*2 -> 80
A12: ECROU H | B12: DIN934 | C12: M5 | E12: 8 | F12: =E12*2 -> 16
A13: ECROU H | B13: DIN934 | C13: M6 | E13: 4 | F13: =E13*2 -> 8
A14: ECROU NYLSTOP | B14: DIN985 | C14: M6 | E14: 4 | F14: =E14*2 -> 8
A15: ECROU EMBASE | B15: DIN6923 | C15: M8 | E15: 8 | F15: =E15*2 -> 16
A16: RONDELLE | B16: DIN9021 | C16: Ø4 | E16: 4 | F16: =E16*2 -> 8
A17: RONDELLE | B17: DIN9021 | C17: Ø5 | E17: 9 | F17: =E17*2 -> 18
A18: RONDELLE | B18: DIN9021 | C18: Ø6 | E18: 4 | F18: =E18*2 -> 8
A19: RONDELLE | B19: DIN9021 | C19: Ø8 | E19: 2 | F19: =E19*2 -> 4
A20: RONDELLE ETOILE | B20: - | C20: Ø6 | E20: 4 | F20: =E20*2 -> 8
A21: POP | B21: DIN7337 | C21: 3x8 | E21: 20 | F21: =E21*2 -> 40
A22: POP | B22: DIN7337 | C22: 4,8x10 | E22: 2 | F22: =E22*2 -> 4
A23: INSERT H | C23: M4 | E23: 30 | F23: =E23*2 -> 60
A24: INSERT H | C24: M8 | E24: 4 | F24: =E24*2 -> 8
