Workbook

Sheet planning
A1: =TODAY() -> 42165 | B1: JUIN 2015
B3: 42156 | C3: 42157 | D3: 42158 | E3: 42159 | F3: 42160 | G3: 42161 | H3: 42162 | I3: 42163 | J3: 42164 | K3: 42165 | L3: 42166 | M3: 42167 | N3: 42168 | O3: 42169 | P3: 42170 | Q3: 42171 | R3: 42172 | S3: 42173 | T3: 42174 | U3: 42175 | V3: 42176 | W3: 42177 | X3: 42178 | Y3: 42179 | Z3: 42180 | AA3: 42181 | AB3: 42182 | AC3: 42183 | AD3: 42184 | AE3: 42185
B4: 42156 | C4: 42157 | D4: 42158 | E4: 42159 | F4: 42160 | G4: 42161 | H4: 42162 | I4: 42163 | J4: 42164 | K4: 42165 | L4: 42166 | M4: 42167 | N4: 42168 | O4: 42169 | P4: 42170 | Q4: 42171 | R4: 42172 | S4: 42173 | T4: 42174 | U4: 42175 | V4: 42176 | W4: 42177 | X4: 42178 | Y4: 42179 | Z4: 42180 | AA4: 42181 | AB4: 42182 | AC4: 42183 | AD4: 42184 | AE4: 42185
A5: toto | B5: P | C5: P | D5: P | E5: P | F5: P | G5: PP | H5: PP | I5: / | J5: / | K5: / | L5: / | M5: / | P5: / | Q5: / | R5: L | S5: / | T5: / | W5: / | X5: / | Y5: / | Z5: / | AA5: / | AB5: PP | AC5: PP | AD5: P | AE5: P
A7: dudu | B7: / | C7: / | D7: / | E7: / | F7: / | G7: PP | H7: PP | I7: P | J7: P | K7: P | L7: P | M7: P | N7: PP | O7: PP | P7: P | Q7: P | R7: P | S7: P | T7: P | U7: PP | V7: PP | W7: / | X7: / | Y7: / | Z7: / | AA7: / | AD7: L | AE7: /
A9: momo | B9: P | C9: P | D9: P | E9: P | F9: P | G9: PP | H9: PP | I9: P | J9: P | K9: P | L9: / | M9: / | P9: / | Q9: / | R9: / | S9: / | T9: / | W9: / | X9: / | Y9: / | Z9: / | AA9: / | AD9: L | AE9: /
A11: roro | B11: / | C11: / | D11: / | E11: L | F11: / | I11: / | J11: / | K11: / | L11: / | M11: / | P11: / | Q11: / | R11: / | S11: / | T11: / | W11: / | X11: / | Y11: / | Z11: / | AA11: / | AD11: / | AE11: /
A14: juju | B14: JC | C14: / | D14: L | E14: / | F14: / | I14: / | J14: / | K14: / | L14: / | M14: / | P14: / | Q14: / | R14: / | S14: / | T14: / | W14: / | X14: / | Y14: / | Z14: P | AA14: P | AB14: PP | AC14: PP | AD14: L | AE14: /
A16: sisi | B16: / | C16: / | D16: JC | E16: / | F16: 1/2JC | I16: / | J16: / | K16: / | L16: / | M16: / | P16: / | Q16: 1/2JC | R16: / | S16: / | T16: / | W16: / | X16: / | Y16: / | Z16: / | AA16: / | AD16: / | AE16: /
A18: bb | B18: P | C18: P | D18: P | E18: P | F18: P | G18: PP | H18: PP | I18: P | J18: P | K18: P | L18: P | M18: P | N18: PP | O18: PP | P18: P | Q18: P | R18: P | S18: P | T18: P | U18: PP | V18: PP | W18: P | X18: P | Y18: P | Z18: JC | AA18: JC
A20: popo | B20: P | C20: / | D20: / | E20: / | F20: / | I20: / | J20: / | K20: / | L20: / | M20: / | P20: / | Q20: / | R20: / | S20: / | T20: / | W20: / | X20: / | Y20: / | Z20: / | AA20: / | AD20: / | AE20: /
A22: gugu | B22: / | C22: / | D22: / | E22: L | F22: / | I22: / | J22: / | K22: / | L22: / | M22: / | P22: / | Q22: / | R22: / | S22: / | T22: / | W22: / | X22: / | Y22: / | Z22: / | AA22: / | AD22: L | AE22: /
A24: mimi | B24: S | C24: S | D24: S | E24: S | F24: S | G24: S | H24: S | I24: S | J24: S | K24: S | L24: S | M24: S | N24: PP | O24: PP | P24: P | Q24: P | R24: P | S24: P | T24: P | U24: PP | V24: PP | W24: / | X24: / | Y24: / | Z24: / | AA24: / | AD24: / | AE24: /

Sheet fiche de tache
C1: LISTE DE TACHE DU | G1: =TODAY() -> 42165
B5: PERSONNEL | E5: LIVRAISONS
E9: CONDUCTEUR | G9: HORAIRE | H9: VEHICULE | I9: OBSERVATIONS
E10: =planning!A5 -> toto | I10: =INDIRECT("planning!"&ADDRESS(MATCH(E10,planning!$A:$A,0),MATCH($G$1,planning!$3:$3,0),4)) -> /
E11: =planning!A7 -> dudu | I11: =INDIRECT("planning!"&ADDRESS(MATCH(E11,planning!$A:$A,0),MATCH($G$1,planning!$3:$3,0),4)) -> P
E12: =planning!A9 -> momo | I12: =INDIRECT("planning!"&ADDRESS(MATCH(E12,planning!$A:$A,0),MATCH($G$1,planning!$3:$3,0),4)) -> P
E13: =planning!A11 -> roro | I13: =INDIRECT("planning!"&ADDRESS(MATCH(E13,planning!$A:$A,0),MATCH($G$1,planning!$3:$3,0),4)) -> /
E14: =planning!A14 -> juju | I14: =INDIRECT("planning!"&ADDRESS(MATCH(E14,planning!$A:$A,0),MATCH($G$1,planning!$3:$3,0),4)) -> /
E15: =planning!A16 -> sisi | I15: =INDIRECT("planning!"&ADDRESS(MATCH(E15,planning!$A:$A,0),MATCH($G$1,planning!$3:$3,0),4)) -> /
E16: =planning!A18 -> bb | I16: =INDIRECT("planning!"&ADDRESS(MATCH(E16,planning!$A:$A,0),MATCH($G$1,planning!$3:$3,0),4)) -> P
E17: =planning!A20 -> popo | I17: =INDIRECT("planning!"&ADDRESS(MATCH(E17,planning!$A:$A,0),MATCH($G$1,planning!$3:$3,0),4)) -> /
E18: =planning!A22 -> gugu | I18: =INDIRECT("planning!"&ADDRESS(MATCH(E18,planning!$A:$A,0),MATCH($G$1,planning!$3:$3,0),4)) -> /
E19: =planning!A24 -> mimi | I19: =INDIRECT("planning!"&ADDRESS(MATCH(E19,planning!$A:$A,0),MATCH($G$1,planning!$3:$3,0),4)) -> S
E21: OBSERVATIONS
