Workbook

Sheet Nombre de retard
C2: HORAIRES LIVRAISON PREVUS | I2: HORAIRES LIVRAISON REALISES | O2: Nombre de livraisons | P2: Nombre de conforme (retard <=30min) | Q2: Nombre de retard (>30min)
A3: SEMAINE | B3: VILLE | C3: Lu | D3: Ma | E3: Me | F3: Je | G3: Ve | H3: Sa | I3: Lu | J3: Ma | K3: Me | L3: Je | M3: Ve | N3: Sa
A4: 18 | B4: X | C4: 0.41666667 | F4: 0.41666667 | I4: 0.4375 | L4: 0.41666667 | O4: =COUNTA(I4:N4) -> 2 | P4: =IF(AND(C4="",I4=""),0,IF(I4-C4<="00:30",1,0))+IF(AND(D4="",J4=""),0,IF(J4-D4<="00:30",1,0))+IF(AND(E4="",K4=""),0,IF(K4-E4<="00:30",1,0))+IF(AND(F4="",L4=""),0,IF(L4-F4<="00:30",1,0))+IF(AND(G4="",M4=""),0,IF(M4-G4<="00:30",1,0))+IF(AND(H4="",N4=""),0,IF(N4-H4<="00:30",1,0)) -> 2 | Q4: =IF(AND(C4="",I4=""),0,IF(I4-C4>"00:30",1,0))+IF(AND(D4="",J4=""),0,IF(J4-D4>"00:30",1,0))+IF(AND(E4="",K4=""),0,IF(K4-E4>"00:30",1,0))+IF(AND(F4="",L4=""),0,IF(L4-F4>"00:30",1,0))+IF(AND(G4="",M4=""),0,IF(M4-G4>"00:30",1,0))+IF(AND(H4="",N4=""),0,IF(N4-H4>"00:30",1,0)) -> 0
B5: Y | C5: 0.375 | G5: 0.39583333 | I5: 0.375 | M5: 0.36805556 | O5: =COUNTA(I5:N5) -> 2 | P5: =IF(AND(C5="",I5=""),0,IF(I5-C5<="00:30",1,0))+IF(AND(D5="",J5=""),0,IF(J5-D5<="00:30",1,0))+IF(AND(E5="",K5=""),0,IF(K5-E5<="00:30",1,0))+IF(AND(F5="",L5=""),0,IF(L5-F5<="00:30",1,0))+IF(AND(G5="",M5=""),0,IF(M5-G5<="00:30",1,0))+IF(AND(H5="",N5=""),0,IF(N5-H5<="00:30",1,0)) -> 2 | Q5: =IF(AND(C5="",I5=""),0,IF(I5-C5>"00:30",1,0))+IF(AND(D5="",J5=""),0,IF(J5-D5>"00:30",1,0))+IF(AND(E5="",K5=""),0,IF(K5-E5>"00:30",1,0))+IF(AND(F5="",L5=""),0,IF(L5-F5>"00:30",1,0))+IF(AND(G5="",M5=""),0,IF(M5-G5>"00:30",1,0))+IF(AND(H5="",N5=""),0,IF(N5-H5>"00:30",1,0)) -> 0
A6: 19 | B6: X | C6: 0.41666667 | F6: 0.41666667 | I6: 0.44791667 | L6: 0.41666667 | O6: =COUNTA(I6:N6) -> 2 | P6: =IF(AND(C6="",I6=""),0,IF(I6-C6<="00:30",1,0))+IF(AND(D6="",J6=""),0,IF(J6-D6<="00:30",1,0))+IF(AND(E6="",K6=""),0,IF(K6-E6<="00:30",1,0))+IF(AND(F6="",L6=""),0,IF(L6-F6<="00:30",1,0))+IF(AND(G6="",M6=""),0,IF(M6-G6<="00:30",1,0))+IF(AND(H6="",N6=""),0,IF(N6-H6<="00:30",1,0)) -> 2 | Q6: =IF(AND(C6="",I6=""),0,IF(I6-C6>"00:30",1,0))+IF(AND(D6="",J6=""),0,IF(J6-D6>"00:30",1,0))+IF(AND(E6="",K6=""),0,IF(K6-E6>"00:30",1,0))+IF(AND(F6="",L6=""),0,IF(L6-F6>"00:30",1,0))+IF(AND(G6="",M6=""),0,IF(M6-G6>"00:30",1,0))+IF(AND(H6="",N6=""),0,IF(N6-H6>"00:30",1,0)) -> 0
B7: Y | C7: 0.375 | G7: 0.39583333 | I7: 0.375 | M7: 0.39583333 | O7: =COUNTA(I7:N7) -> 2 | P7: =IF(AND(C7="",I7=""),0,IF(I7-C7<="00:30",1,0))+IF(AND(D7="",J7=""),0,IF(J7-D7<="00:30",1,0))+IF(AND(E7="",K7=""),0,IF(K7-E7<="00:30",1,0))+IF(AND(F7="",L7=""),0,IF(L7-F7<="00:30",1,0))+IF(AND(G7="",M7=""),0,IF(M7-G7<="00:30",1,0))+IF(AND(H7="",N7=""),0,IF(N7-H7<="00:30",1,0)) -> 2 | Q7: =IF(AND(C7="",I7=""),0,IF(I7-C7>"00:30",1,0))+IF(AND(D7="",J7=""),0,IF(J7-D7>"00:30",1,0))+IF(AND(E7="",K7=""),0,IF(K7-E7>"00:30",1,0))+IF(AND(F7="",L7=""),0,IF(L7-F7>"00:30",1,0))+IF(AND(G7="",M7=""),0,IF(M7-G7>"00:30",1,0))+IF(AND(H7="",N7=""),0,IF(N7-H7>"00:30",1,0)) -> 0
A8: 20 | B8: X | C8: 0.41666667 | F8: 0.41666667 | I8: 0.41666667 | L8: 0.41666667 | O8: =COUNTA(I8:N8) -> 2 | P8: =IF(AND(C8="",I8=""),0,IF(I8-C8<="00:30",1,0))+IF(AND(D8="",J8=""),0,IF(J8-D8<="00:30",1,0))+IF(AND(E8="",K8=""),0,IF(K8-E8<="00:30",1,0))+IF(AND(F8="",L8=""),0,IF(L8-F8<="00:30",1,0))+IF(AND(G8="",M8=""),0,IF(M8-G8<="00:30",1,0))+IF(AND(H8="",N8=""),0,IF(N8-H8<="00:30",1,0)) -> 2 | Q8: =IF(AND(C8="",I8=""),0,IF(I8-C8>"00:30",1,0))+IF(AND(D8="",J8=""),0,IF(J8-D8>"00:30",1,0))+IF(AND(E8="",K8=""),0,IF(K8-E8>"00:30",1,0))+IF(AND(F8="",L8=""),0,IF(L8-F8>"00:30",1,0))+IF(AND(G8="",M8=""),0,IF(M8-G8>"00:30",1,0))+IF(AND(H8="",N8=""),0,IF(N8-H8>"00:30",1,0)) -> 0
B9: Y | C9: 0.375 | G9: 0.39583333 | I9: 0.375 | M9: 0.47916667 | O9: =COUNTA(I9:N9) -> 2 | P9: =IF(AND(C9="",I9=""),0,IF(I9-C9<="00:30",1,0))+IF(AND(D9="",J9=""),0,IF(J9-D9<="00:30",1,0))+IF(AND(E9="",K9=""),0,IF(K9-E9<="00:30",1,0))+IF(AND(F9="",L9=""),0,IF(L9-F9<="00:30",1,0))+IF(AND(G9="",M9=""),0,IF(M9-G9<="00:30",1,0))+IF(AND(H9="",N9=""),0,IF(N9-H9<="00:30",1,0)) -> 2 | Q9: =IF(AND(C9="",I9=""),0,IF(I9-C9>"00:30",1,0))+IF(AND(D9="",J9=""),0,IF(J9-D9>"00:30",1,0))+IF(AND(E9="",K9=""),0,IF(K9-E9>"00:30",1,0))+IF(AND(F9="",L9=""),0,IF(L9-F9>"00:30",1,0))+IF(AND(G9="",M9=""),0,IF(M9-G9>"00:30",1,0))+IF(AND(H9="",N9=""),0,IF(N9-H9>"00:30",1,0)) -> 0
A10: 21 | B10: X | C10: 0.41666667 | F10: 0.41666667 | I10: 0.41666667 | L10: 0.41666667 | O10: =COUNTA(I10:N10) -> 2 | P10: =IF(AND(C10="",I10=""),0,IF(I10-C10<="00:30",1,0))+IF(AND(D10="",J10=""),0,IF(J10-D10<="00:30",1,0))+IF(AND(E10="",K10=""),0,IF(K10-E10<="00:30",1,0))+IF(AND(F10="",L10=""),0,IF(L10-F10<="00:30",1,0))+IF(AND(G10="",M10=""),0,IF(M10-G10<="00:30",1,0))+IF(AND(H10="",N10=""),0,IF(N10-H10<="00:30",1,0)) -> 2 | Q10: =IF(AND(C10="",I10=""),0,IF(I10-C10>"00:30",1,0))+IF(AND(D10="",J10=""),0,IF(J10-D10>"00:30",1,0))+IF(AND(E10="",K10=""),0,IF(K10-E10>"00:30",1,0))+IF(AND(F10="",L10=""),0,IF(L10-F10>"00:30",1,0))+IF(AND(G10="",M10=""),0,IF(M10-G10>"00:30",1,0))+IF(AND(H10="",N10=""),0,IF(N10-H10>"00:30",1,0)) -> 0
B11: Y | C11: 0.375 | G11: 0.39583333 | I11: 0.39236111 | M11: 0.39583333 | O11: =COUNTA(I11:N11) -> 2 | P11: =IF(AND(C11="",I11=""),0,IF(I11-C11<="00:30",1,0))+IF(AND(D11="",J11=""),0,IF(J11-D11<="00:30",1,0))+IF(AND(E11="",K11=""),0,IF(K11-E11<="00:30",1,0))+IF(AND(F11="",L11=""),0,IF(L11-F11<="00:30",1,0))+IF(AND(G11="",M11=""),0,IF(M11-G11<="00:30",1,0))+IF(AND(H11="",N11=""),0,IF(N11-H11<="00:30",1,0)) -> 2 | Q11: =IF(AND(C11="",I11=""),0,IF(I11-C11>"00:30",1,0))+IF(AND(D11="",J11=""),0,IF(J11-D11>"00:30",1,0))+IF(AND(E11="",K11=""),0,IF(K11-E11>"00:30",1,0))+IF(AND(F11="",L11=""),0,IF(L11-F11>"00:30",1,0))+IF(AND(G11="",M11=""),0,IF(M11-G11>"00:30",1,0))+IF(AND(H11="",N11=""),0,IF(N11-H11>"00:30",1,0)) -> 0
A12: 18 | B12: A | E12: 0.4375 | G12: 0.4375 | J12: 0.43055556 | M12: 0.38888889 | O12: =COUNTA(I12:N12) -> 2 | P12: =IF(AND(C12="",I12=""),0,IF(I12-C12<="00:30",1,0))+IF(AND(D12="",J12=""),0,IF(J12-D12<="00:30",1,0))+IF(AND(E12="",K12=""),0,IF(K12-E12<="00:30",1,0))+IF(AND(F12="",L12=""),0,IF(L12-F12<="00:30",1,0))+IF(AND(G12="",M12=""),0,IF(M12-G12<="00:30",1,0))+IF(AND(H12="",N12=""),0,IF(N12-H12<="00:30",1,0)) -> 3 | Q12: =IF(AND(C12="",I12=""),0,IF(I12-C12>"00:30",1,0))+IF(AND(D12="",J12=""),0,IF(J12-D12>"00:30",1,0))+IF(AND(E12="",K12=""),0,IF(K12-E12>"00:30",1,0))+IF(AND(F12="",L12=""),0,IF(L12-F12>"00:30",1,0))+IF(AND(G12="",M12=""),0,IF(M12-G12>"00:30",1,0))+IF(AND(H12="",N12=""),0,IF(N12-H12>"00:30",1,0)) -> 0
B13: B | D13: 0.4375 | F13: 0.4375 | J13: 0.4375 | L13: 0.4375 | O13: =COUNTA(I13:N13) -> 2 | P13: =IF(AND(C13="",I13=""),0,IF(I13-C13<="00:30",1,0))+IF(AND(D13="",J13=""),0,IF(J13-D13<="00:30",1,0))+IF(AND(E13="",K13=""),0,IF(K13-E13<="00:30",1,0))+IF(AND(F13="",L13=""),0,IF(L13-F13<="00:30",1,0))+IF(AND(G13="",M13=""),0,IF(M13-G13<="00:30",1,0))+IF(AND(H13="",N13=""),0,IF(N13-H13<="00:30",1,0)) -> 2 | Q13: =IF(AND(C13="",I13=""),0,IF(I13-C13>"00:30",1,0))+IF(AND(D13="",J13=""),0,IF(J13-D13>"00:30",1,0))+IF(AND(E13="",K13=""),0,IF(K13-E13>"00:30",1,0))+IF(AND(F13="",L13=""),0,IF(L13-F13>"00:30",1,0))+IF(AND(G13="",M13=""),0,IF(M13-G13>"00:30",1,0))+IF(AND(H13="",N13=""),0,IF(N13-H13>"00:30",1,0)) -> 0
B14: C | C14: 0.41666667 | F14: 0.41666667 | G14: 0.45833333 | I14: 0.43333333 | L14: 0.44444444 | M14: 0.43055556 | O14: =COUNTA(I14:N14) -> 3 | P14: =IF(AND(C14="",I14=""),0,IF(I14-C14<="00:30",1,0))+IF(AND(D14="",J14=""),0,IF(J14-D14<="00:30",1,0))+IF(AND(E14="",K14=""),0,IF(K14-E14<="00:30",1,0))+IF(AND(F14="",L14=""),0,IF(L14-F14<="00:30",1,0))+IF(AND(G14="",M14=""),0,IF(M14-G14<="00:30",1,0))+IF(AND(H14="",N14=""),0,IF(N14-H14<="00:30",1,0)) -> 3 | Q14: =IF(AND(C14="",I14=""),0,IF(I14-C14>"00:30",1,0))+IF(AND(D14="",J14=""),0,IF(J14-D14>"00:30",1,0))+IF(AND(E14="",K14=""),0,IF(K14-E14>"00:30",1,0))+IF(AND(F14="",L14=""),0,IF(L14-F14>"00:30",1,0))+IF(AND(G14="",M14=""),0,IF(M14-G14>"00:30",1,0))+IF(AND(H14="",N14=""),0,IF(N14-H14>"00:30",1,0)) -> 0
B15: D | D15: 0.4375 | F15: 0.4375 | J15: 0.39583333 | L15: 0.4375 | O15: =COUNTA(I15:N15) -> 2 | P15: =IF(AND(C15="",I15=""),0,IF(I15-C15<="00:30",1,0))+IF(AND(D15="",J15=""),0,IF(J15-D15<="00:30",1,0))+IF(AND(E15="",K15=""),0,IF(K15-E15<="00:30",1,0))+IF(AND(F15="",L15=""),0,IF(L15-F15<="00:30",1,0))+IF(AND(G15="",M15=""),0,IF(M15-G15<="00:30",1,0))+IF(AND(H15="",N15=""),0,IF(N15-H15<="00:30",1,0)) -> 2 | Q15: =IF(AND(C15="",I15=""),0,IF(I15-C15>"00:30",1,0))+IF(AND(D15="",J15=""),0,IF(J15-D15>"00:30",1,0))+IF(AND(E15="",K15=""),0,IF(K15-E15>"00:30",1,0))+IF(AND(F15="",L15=""),0,IF(L15-F15>"00:30",1,0))+IF(AND(G15="",M15=""),0,IF(M15-G15>"00:30",1,0))+IF(AND(H15="",N15=""),0,IF(N15-H15>"00:30",1,0)) -> 0
A16: 19 | B16: A | E16: 0.4375 | G16: 0.4375 | J16: 0.4375 | M16: 0.40625 | O16: =COUNTA(I16:N16) -> 2 | P16: =IF(AND(C16="",I16=""),0,IF(I16-C16<="00:30",1,0))+IF(AND(D16="",J16=""),0,IF(J16-D16<="00:30",1,0))+IF(AND(E16="",K16=""),0,IF(K16-E16<="00:30",1,0))+IF(AND(F16="",L16=""),0,IF(L16-F16<="00:30",1,0))+IF(AND(G16="",M16=""),0,IF(M16-G16<="00:30",1,0))+IF(AND(H16="",N16=""),0,IF(N16-H16<="00:30",1,0)) -> 3 | Q16: =IF(AND(C16="",I16=""),0,IF(I16-C16>"00:30",1,0))+IF(AND(D16="",J16=""),0,IF(J16-D16>"00:30",1,0))+IF(AND(E16="",K16=""),0,IF(K16-E16>"00:30",1,0))+IF(AND(F16="",L16=""),0,IF(L16-F16>"00:30",1,0))+IF(AND(G16="",M16=""),0,IF(M16-G16>"00:30",1,0))+IF(AND(H16="",N16=""),0,IF(N16-H16>"00:30",1,0)) -> 0
B17: B | D17: 0.4375 | F17: 0.4375 | J17: 0.4375 | L17: 0.42708333 | O17: =COUNTA(I17:N17) -> 2 | P17: =IF(AND(C17="",I17=""),0,IF(I17-C17<="00:30",1,0))+IF(AND(D17="",J17=""),0,IF(J17-D17<="00:30",1,0))+IF(AND(E17="",K17=""),0,IF(K17-E17<="00:30",1,0))+IF(AND(F17="",L17=""),0,IF(L17-F17<="00:30",1,0))+IF(AND(G17="",M17=""),0,IF(M17-G17<="00:30",1,0))+IF(AND(H17="",N17=""),0,IF(N17-H17<="00:30",1,0)) -> 2 | Q17: =IF(AND(C17="",I17=""),0,IF(I17-C17>"00:30",1,0))+IF(AND(D17="",J17=""),0,IF(J17-D17>"00:30",1,0))+IF(AND(E17="",K17=""),0,IF(K17-E17>"00:30",1,0))+IF(AND(F17="",L17=""),0,IF(L17-F17>"00:30",1,0))+IF(AND(G17="",M17=""),0,IF(M17-G17>"00:30",1,0))+IF(AND(H17="",N17=""),0,IF(N17-H17>"00:30",1,0)) -> 0
B18: C | C18: 0.41666667 | F18: 0.41666667 | I18: 0.44444444 | L18: 0.4375 | O18: =COUNTA(I18:N18) -> 2 | P18: =IF(AND(C18="",I18=""),0,IF(I18-C18<="00:30",1,0))+IF(AND(D18="",J18=""),0,IF(J18-D18<="00:30",1,0))+IF(AND(E18="",K18=""),0,IF(K18-E18<="00:30",1,0))+IF(AND(F18="",L18=""),0,IF(L18-F18<="00:30",1,0))+IF(AND(G18="",M18=""),0,IF(M18-G18<="00:30",1,0))+IF(AND(H18="",N18=""),0,IF(N18-H18<="00:30",1,0)) -> 2 | Q18: =IF(AND(C18="",I18=""),0,IF(I18-C18>"00:30",1,0))+IF(AND(D18="",J18=""),0,IF(J18-D18>"00:30",1,0))+IF(AND(E18="",K18=""),0,IF(K18-E18>"00:30",1,0))+IF(AND(F18="",L18=""),0,IF(L18-F18>"00:30",1,0))+IF(AND(G18="",M18=""),0,IF(M18-G18>"00:30",1,0))+IF(AND(H18="",N18=""),0,IF(N18-H18>"00:30",1,0)) -> 0
B19: D | D19: 0.4375 | F19: 0.4375 | J19: 0.41666667 | L19: 0.44791667 | O19: =COUNTA(I19:N19) -> 2 | P19: =IF(AND(C19="",I19=""),0,IF(I19-C19<="00:30",1,0))+IF(AND(D19="",J19=""),0,IF(J19-D19<="00:30",1,0))+IF(AND(E19="",K19=""),0,IF(K19-E19<="00:30",1,0))+IF(AND(F19="",L19=""),0,IF(L19-F19<="00:30",1,0))+IF(AND(G19="",M19=""),0,IF(M19-G19<="00:30",1,0))+IF(AND(H19="",N19=""),0,IF(N19-H19<="00:30",1,0)) -> 2 | Q19: =IF(AND(C19="",I19=""),0,IF(I19-C19>"00:30",1,0))+IF(AND(D19="",J19=""),0,IF(J19-D19>"00:30",1,0))+IF(AND(E19="",K19=""),0,IF(K19-E19>"00:30",1,0))+IF(AND(F19="",L19=""),0,IF(L19-F19>"00:30",1,0))+IF(AND(G19="",M19=""),0,IF(M19-G19>"00:30",1,0))+IF(AND(H19="",N19=""),0,IF(N19-H19>"00:30",1,0)) -> 0
A20: 20 | B20: A | E20: 0.4375 | G20: 0.4375 | K20: 0.41666667 | M20: 0.41666667 | O20: =COUNTA(I20:N20) -> 2 | P20: =IF(AND(C20="",I20=""),0,IF(I20-C20<="00:30",1,0))+IF(AND(D20="",J20=""),0,IF(J20-D20<="00:30",1,0))+IF(AND(E20="",K20=""),0,IF(K20-E20<="00:30",1,0))+IF(AND(F20="",L20=""),0,IF(L20-F20<="00:30",1,0))+IF(AND(G20="",M20=""),0,IF(M20-G20<="00:30",1,0))+IF(AND(H20="",N20=""),0,IF(N20-H20<="00:30",1,0)) -> 2 | Q20: =IF(AND(C20="",I20=""),0,IF(I20-C20>"00:30",1,0))+IF(AND(D20="",J20=""),0,IF(J20-D20>"00:30",1,0))+IF(AND(E20="",K20=""),0,IF(K20-E20>"00:30",1,0))+IF(AND(F20="",L20=""),0,IF(L20-F20>"00:30",1,0))+IF(AND(G20="",M20=""),0,IF(M20-G20>"00:30",1,0))+IF(AND(H20="",N20=""),0,IF(N20-H20>"00:30",1,0)) -> 0
B21: B | D21: 0.4375 | F21: 0.4375 | J21: 0.4375 | L21: 0.45833333 | O21: =COUNTA(I21:N21) -> 2 | P21: =IF(AND(C21="",I21=""),0,IF(I21-C21<="00:30",1,0))+IF(AND(D21="",J21=""),0,IF(J21-D21<="00:30",1,0))+IF(AND(E21="",K21=""),0,IF(K21-E21<="00:30",1,0))+IF(AND(F21="",L21=""),0,IF(L21-F21<="00:30",1,0))+IF(AND(G21="",M21=""),0,IF(M21-G21<="00:30",1,0))+IF(AND(H21="",N21=""),0,IF(N21-H21<="00:30",1,0)) -> 2 | Q21: =IF(AND(C21="",I21=""),0,IF(I21-C21>"00:30",1,0))+IF(AND(D21="",J21=""),0,IF(J21-D21>"00:30",1,0))+IF(AND(E21="",K21=""),0,IF(K21-E21>"00:30",1,0))+IF(AND(F21="",L21=""),0,IF(L21-F21>"00:30",1,0))+IF(AND(G21="",M21=""),0,IF(M21-G21>"00:30",1,0))+IF(AND(H21="",N21=""),0,IF(N21-H21>"00:30",1,0)) -> 0
B22: C | C22: 0.41666667 | F22: 0.41666667 | I22: 0.4375 | L22: 0.42708333 | O22: =COUNTA(I22:N22) -> 2 | P22: =IF(AND(C22="",I22=""),0,IF(I22-C22<="00:30",1,0))+IF(AND(D22="",J22=""),0,IF(J22-D22<="00:30",1,0))+IF(AND(E22="",K22=""),0,IF(K22-E22<="00:30",1,0))+IF(AND(F22="",L22=""),0,IF(L22-F22<="00:30",1,0))+IF(AND(G22="",M22=""),0,IF(M22-G22<="00:30",1,0))+IF(AND(H22="",N22=""),0,IF(N22-H22<="00:30",1,0)) -> 2 | Q22: =IF(AND(C22="",I22=""),0,IF(I22-C22>"00:30",1,0))+IF(AND(D22="",J22=""),0,IF(J22-D22>"00:30",1,0))+IF(AND(E22="",K22=""),0,IF(K22-E22>"00:30",1,0))+IF(AND(F22="",L22=""),0,IF(L22-F22>"00:30",1,0))+IF(AND(G22="",M22=""),0,IF(M22-G22>"00:30",1,0))+IF(AND(H22="",N22=""),0,IF(N22-H22>"00:30",1,0)) -> 0
B23: D | D23: 0.4375 | F23: 0.4375 | J23: 0.43402778 | L23: 0.44097222 | O23: =COUNTA(I23:N23) -> 2 | P23: =IF(AND(C23="",I23=""),0,IF(I23-C23<="00:30",1,0))+IF(AND(D23="",J23=""),0,IF(J23-D23<="00:30",1,0))+IF(AND(E23="",K23=""),0,IF(K23-E23<="00:30",1,0))+IF(AND(F23="",L23=""),0,IF(L23-F23<="00:30",1,0))+IF(AND(G23="",M23=""),0,IF(M23-G23<="00:30",1,0))+IF(AND(H23="",N23=""),0,IF(N23-H23<="00:30",1,0)) -> 2 | Q23: =IF(AND(C23="",I23=""),0,IF(I23-C23>"00:30",1,0))+IF(AND(D23="",J23=""),0,IF(J23-D23>"00:30",1,0))+IF(AND(E23="",K23=""),0,IF(K23-E23>"00:30",1,0))+IF(AND(F23="",L23=""),0,IF(L23-F23>"00:30",1,0))+IF(AND(G23="",M23=""),0,IF(M23-G23>"00:30",1,0))+IF(AND(H23="",N23=""),0,IF(N23-H23>"00:30",1,0)) -> 0
A24: 21 | B24: A | E24: 0.4375 | G24: 0.4375 | K24: 0.41666667 | M24: 0.41666667 | O24: =COUNTA(I24:N24) -> 2 | P24: =IF(AND(C24="",I24=""),0,IF(I24-C24<="00:30",1,0))+IF(AND(D24="",J24=""),0,IF(J24-D24<="00:30",1,0))+IF(AND(E24="",K24=""),0,IF(K24-E24<="00:30",1,0))+IF(AND(F24="",L24=""),0,IF(L24-F24<="00:30",1,0))+IF(AND(G24="",M24=""),0,IF(M24-G24<="00:30",1,0))+IF(AND(H24="",N24=""),0,IF(N24-H24<="00:30",1,0)) -> 2 | Q24: =IF(AND(C24="",I24=""),0,IF(I24-C24>"00:30",1,0))+IF(AND(D24="",J24=""),0,IF(J24-D24>"00:30",1,0))+IF(AND(E24="",K24=""),0,IF(K24-E24>"00:30",1,0))+IF(AND(F24="",L24=""),0,IF(L24-F24>"00:30",1,0))+IF(AND(G24="",M24=""),0,IF(M24-G24>"00:30",1,0))+IF(AND(H24="",N24=""),0,IF(N24-H24>"00:30",1,0)) -> 0
B25: B | D25: 0.4375 | F25: 0.4375 | J25: 0.45625 | L25: 0.5625 | O25: =COUNTA(I25:N25) -> 2 | P25: =IF(AND(C25="",I25=""),0,IF(I25-C25<="00:30",1,0))+IF(AND(D25="",J25=""),0,IF(J25-D25<="00:30",1,0))+IF(AND(E25="",K25=""),0,IF(K25-E25<="00:30",1,0))+IF(AND(F25="",L25=""),0,IF(L25-F25<="00:30",1,0))+IF(AND(G25="",M25=""),0,IF(M25-G25<="00:30",1,0))+IF(AND(H25="",N25=""),0,IF(N25-H25<="00:30",1,0)) -> 2 | Q25: =IF(AND(C25="",I25=""),0,IF(I25-C25>"00:30",1,0))+IF(AND(D25="",J25=""),0,IF(J25-D25>"00:30",1,0))+IF(AND(E25="",K25=""),0,IF(K25-E25>"00:30",1,0))+IF(AND(F25="",L25=""),0,IF(L25-F25>"00:30",1,0))+IF(AND(G25="",M25=""),0,IF(M25-G25>"00:30",1,0))+IF(AND(H25="",N25=""),0,IF(N25-H25>"00:30",1,0)) -> 0
B26: C | D26: 0.41666667 | F26: 0.41666667 | I26: 0.41666667 | L26: 0.42013889 | O26: =COUNTA(I26:N26) -> 2 | P26: =IF(AND(C26="",I26=""),0,IF(I26-C26<="00:30",1,0))+IF(AND(D26="",J26=""),0,IF(J26-D26<="00:30",1,0))+IF(AND(E26="",K26=""),0,IF(K26-E26<="00:30",1,0))+IF(AND(F26="",L26=""),0,IF(L26-F26<="00:30",1,0))+IF(AND(G26="",M26=""),0,IF(M26-G26<="00:30",1,0))+IF(AND(H26="",N26=""),0,IF(N26-H26<="00:30",1,0)) -> 3 | Q26: =IF(AND(C26="",I26=""),0,IF(I26-C26>"00:30",1,0))+IF(AND(D26="",J26=""),0,IF(J26-D26>"00:30",1,0))+IF(AND(E26="",K26=""),0,IF(K26-E26>"00:30",1,0))+IF(AND(F26="",L26=""),0,IF(L26-F26>"00:30",1,0))+IF(AND(G26="",M26=""),0,IF(M26-G26>"00:30",1,0))+IF(AND(H26="",N26=""),0,IF(N26-H26>"00:30",1,0)) -> 0
B27: D | D27: 0.4375 | F27: 0.4375 | J27: 0.4375 | L27: 0.58333333 | O27: =COUNTA(I27:N27) -> 2 | P27: =IF(AND(C27="",I27=""),0,IF(I27-C27<="00:30",1,0))+IF(AND(D27="",J27=""),0,IF(J27-D27<="00:30",1,0))+IF(AND(E27="",K27=""),0,IF(K27-E27<="00:30",1,0))+IF(AND(F27="",L27=""),0,IF(L27-F27<="00:30",1,0))+IF(AND(G27="",M27=""),0,IF(M27-G27<="00:30",1,0))+IF(AND(H27="",N27=""),0,IF(N27-H27<="00:30",1,0)) -> 2 | Q27: =IF(AND(C27="",I27=""),0,IF(I27-C27>"00:30",1,0))+IF(AND(D27="",J27=""),0,IF(J27-D27>"00:30",1,0))+IF(AND(E27="",K27=""),0,IF(K27-E27>"00:30",1,0))+IF(AND(F27="",L27=""),0,IF(L27-F27>"00:30",1,0))+IF(AND(G27="",M27=""),0,IF(M27-G27>"00:30",1,0))+IF(AND(H27="",N27=""),0,IF(N27-H27>"00:30",1,0)) -> 0

Sheet Tx Ponctualité
C3: Nombre de livraison | D3: Nombre de retard (>30min) | E3: Taux de ponctualité
B4: VILLE
B5: X | C5: =SUM('Nombre de retard'!O4+'Nombre de retard'!O6+'Nombre de retard'!O8+'Nombre de retard'!O10) -> 8 | E5: =IF(D5=0,1,1-(D5/C5)) -> 1
B6: Y | C6: =SUM('Nombre de retard'!O5+'Nombre de retard'!O7+'Nombre de retard'!O9+'Nombre de retard'!O11) -> 8 | E6: =IF(D6=0,1,1-(D6/C6)) -> 1
B7: A | C7: =SUM('Nombre de retard'!O12+'Nombre de retard'!O16+'Nombre de retard'!O20+'Nombre de retard'!O24) -> 8 | E7: =IF(D7=0,1,1-(D7/C7)) -> 1
B8: B | C8: =SUM('Nombre de retard'!O13+'Nombre de retard'!O17+'Nombre de retard'!O21+'Nombre de retard'!O25) -> 8 | E8: =IF(D8=0,1,1-(D8/C8)) -> 1
B9: C | C9: =SUM('Nombre de retard'!O14+'Nombre de retard'!O18+'Nombre de retard'!O22+'Nombre de retard'!O26) -> 9 | E9: =IF(D9=0,1,1-(D9/C9)) -> 1
B10: D | C10: =SUM('Nombre de retard'!O15+'Nombre de retard'!O19+'Nombre de retard'!O23+'Nombre de retard'!O27) -> 8 | E10: =IF(D10=0,1,1-(D10/C10)) -> 1
