Workbook
Name Code: Feuil1!$A:$A
Name Mois: Feuil1!$6:$6
Name Tab: Feuil1!$1:$1048576

Sheet Feuil1
B6: Janvier | D6: Février | F6: Mars | H6: Avril | J6: Mai | L6: Juin | N6: Juillet | P6: Août | R6: Septembre | T6: Octobre | V6: Novembre | X6: Décembre | Z6: Total VAL CMD PRHT | AA6: Total VAL RCP PRHT | BZ6: 10 - LIQUIDES | CA6: 8
A8: 10 - A
A9: 12356
A10: 129
A11: 1385 | B11: 2181.811 | C11: 2181.811
A12: 1805 | B12: 14037.65 | C12: 10602.996 | E12: =+C12/B12 -> 0.75532557
A13: 1970 | B13: 1776.554 | C13: 1776.554
A14: 3798 | B14: 5812.531 | C14: 5812.531
A15: 3954 | B15: 2412.167 | C15: 2069.177
A16: 4108 | B16: 18416.53 | C16: 2241.779
A17: 5510
A18: 591
A19: 6318 | B19: 9262.36 | C19: 4437.378
A20: 7152 | B20: 5292 | C20: 5292
A21: 8109 | B21: 1650.489 | C21: 1650.489
A22: 11 -B | B22: 4331263.9 | C22: 2149600.6
A23: 11036 | B23: 24850.137 | C23: 9416.937
A24: 11088 | B24: 33465.04 | C24: 33465.04
A25: 11193 | B25: 10411.78 | C25: 7590.732
A26: 11215
A27: 11271
A28: 11363 | B28: 19845 | C28: 19764
A29: 11381
A30: 1195
A31: 12067
A32: 12139
A33: 12405 | B33: 103247.33 | C33: 40224.344
A34: 12483 | B34: 850.026 | C34: 556.066
A35: 1253 | B35: 27054.593 | C35: 21878.231
A36: 12540
A37: 1372 | B37: 9402.2 | C37: 9402.2
A38: 14067 | B38: 1891.872 | C38: 0
A39: 1434 | B39: 27918.332 | C39: 22970.276
A40: 15004
A41: 1502
A42: 1635 | B42: 20783.7 | C42: 20269.35
A43: 1805 | B43: 42534 | C43: 42534 | E43: =+C43/B43 -> 1
A44: 2041 | B44: 41864.15 | C44: 24864.954
A45: 2044 | B45: 5553.906 | C45: 2732.124
A46: 2306 | B46: 137730.79 | C46: 67148.934
...

Sheet Feuil2
B6: Janvier | C6: Février | D6: Mars | E6: Avril | F6: Mai | G6: Juin | H6: Juillet | I6: Août | J6: Septembre | K6: Octobre | L6: Novembre | M6: Décembre | BO6: 10 - LIQUIDES | BP6: 8
A8: 10 - A
A9: 12356 | B9: =IFERROR(Feuil1!C9/Feuil1!B9,"")
A10: 129 | B10: =IFERROR(Feuil1!C10/Feuil1!B10,"")
A11: 1385 | B11: =IFERROR(Feuil1!C11/Feuil1!B11,"") -> 1
A12: 1805 | B12: =IFERROR(Feuil1!C12/Feuil1!B12,"") -> 0.75532557
A13: 1970 | B13: =IFERROR(Feuil1!C13/Feuil1!B13,"") -> 1
A14: 3798 | B14: =IFERROR(Feuil1!C14/Feuil1!B14,"") -> 1
A15: 3954 | B15: =IFERROR(Feuil1!C15/Feuil1!B15,"") -> 0.85780835
A16: 4108 | B16: =IFERROR(Feuil1!C16/Feuil1!B16,"") -> 0.12172646
A17: 5510 | B17: =IFERROR(Feuil1!C17/Feuil1!B17,"")
A18: 591 | B18: =IFERROR(Feuil1!C18/Feuil1!B18,"")
A19: 6318 | B19: =IFERROR(Feuil1!C19/Feuil1!B19,"") -> 0.47907639
A20: 7152 | B20: =IFERROR(Feuil1!C20/Feuil1!B20,"") -> 1
A21: 8109 | B21: =IFERROR(Feuil1!C21/Feuil1!B21,"") -> 1
A22: 11 -B | B22: =IFERROR(Feuil1!C22/Feuil1!B22,"") -> 0.4962987
A23: 11036 | B23: =IFERROR(Feuil1!C23/Feuil1!B23,"") -> 0.3789491
A24: 11088 | B24: =IFERROR(Feuil1!C24/Feuil1!B24,"") -> 1
A25: 11193 | B25: =IFERROR(Feuil1!C25/Feuil1!B25,"") -> 0.72905229
A26: 11215 | B26: =IFERROR(Feuil1!C26/Feuil1!B26,"")
A27: 11271 | B27: =IFERROR(Feuil1!C27/Feuil1!B27,"")
A28: 11363 | B28: =IFERROR(Feuil1!C28/Feuil1!B28,"") -> 0.99591837
A29: 11381 | B29: =IFERROR(Feuil1!C29/Feuil1!B29,"")
A30: 1195 | B30: =IFERROR(Feuil1!C30/Feuil1!B30,"")
A31: 12067 | B31: =IFERROR(Feuil1!C31/Feuil1!B31,"")
A32: 12139 | B32: =IFERROR(Feuil1!C32/Feuil1!B32,"")
A33: 12405 | B33: =IFERROR(Feuil1!C33/Feuil1!B33,"") -> 0.38959211
A34: 12483 | B34: =IFERROR(Feuil1!C34/Feuil1!B34,"") -> 0.65417528
... A91: 99999 | B91: =IFERROR(Feuil1!C91/Feuil1!B91,"")
A92: 12 - C | B92: =IFERROR(Feuil1!C92/Feuil1!B92,"") -> 1
A93: 1372 | B93: =IFERROR(Feuil1!C93/Feuil1!B93,"")
A94: 2395 | B94: =IFERROR(Feuil1!C94/Feuil1!B94,"") -> 1
A95: 8100 | B95: =IFERROR(Feuil1!C95/Feuil1!B95,"")
A96: 9652 | B96: =IFERROR(Feuil1!C96/Feuil1!B96,"") -> 1
A97: 13 - D | B97: =IFERROR(Feuil1!C97/Feuil1!B97,"") -> 0.4085564
A98: 10000 | B98: =IFERROR(Feuil1!C98/Feuil1!B98,"") -> 0.80312349
A99: 12123 | B99: =IFERROR(Feuil1!C99/Feuil1!B99,"")
A100: 12125 | B100: =IFERROR(Feuil1!C100/Feuil1!B100,"")
A101: 12178 | B101: =IFERROR(Feuil1!C101/Feuil1!B101,"") -> 0.60866394
A102: 12409 | B102: =IFERROR(Feuil1!C102/Feuil1!B102,"")
...

Sheet Feuil3
