Workbook
Name Code: Feuil1!$A:$A
Name Mois: Feuil1!$6:$6
Name Tab: Feuil1!$1:$1048576

Sheet Feuil1
B6: Janvier | D6: Février | F6: Mars | H6: Avril | J6: Mai | L6: Juin | N6: Juillet | P6: Août | R6: Septembre | T6: Octobre | V6: Novembre | X6: Décembre | Z6: Total VAL CMD PRHT | AA6: Total VAL RCP PRHT | BZ6: 10 - LIQUIDES | CA6: 8
A8: 10 - A
A9: 12356
A10: 129
A11: 1385 | B11: 2181.811 | C11: 2181.811
A12: 1805 | B12: 14037.65 | C12: 10602.996 | E12: =+C12/B12 -> 0.75532557
A13: 1970 | B13: 1776.554 | C13: 1776.554
A14: 3798 | B14: 5812.531 | C14: 5812.531
A15: 3954 | B15: 2412.167 | C15: 2069.177
A16: 4108 | B16: 18416.53 | C16: 2241.779
A17: 5510
A18: 591
A19: 6318 | B19: 9262.36 | C19: 4437.378
A20: 7152 | B20: 5292 | C20: 5292
A21: 8109 | B21: 1650.489 | C21: 1650.489
A22: 11 -B | B22: 4331263.9 | C22: 2149600.6
A23: 11036 | B23: 24850.137 | C23: 9416.937
A24: 11088 | B24: 33465.04 | C24: 33465.04
A25: 11193 | B25: 10411.78 | C25: 7590.732
A26: 11215
A27: 11271
A28: 11363 | B28: 19845 | C28: 19764
A29: 11381
A30: 1195
A31: 12067
A32: 12139
A33: 12405 | B33: 103247.33 | C33: 40224.344
A34: 12483 | B34: 850.026 | C34: 556.066
A35: 1253 | B35: 27054.593 | C35: 21878.231
A36: 12540
A37: 1372 | B37: 9402.2 | C37: 9402.2
A38: 14067 | B38: 1891.872 | C38: 0
A39: 1434 | B39: 27918.332 | C39: 22970.276
A40: 15004
A41: 1502
A42: 1635 | B42: 20783.7 | C42: 20269.35
A43: 1805 | B43: 42534 | C43: 42534 | E43: =+C43/B43 -> 1
A44: 2041 | B44: 41864.15 | C44: 24864.954
A45: 2044 | B45: 5553.906 | C45: 2732.124
A46: 2306 | B46: 137730.79 | C46: 67148.934
A47: 2470 | B47: 64417.604 | C47: 37473.524
A48: 2509 | B48: 160529.66 | C48: 57726.672
A49: 2560 | B49: 28780.626 | C49: 15485.587
A50: 2997
A51: 3130 | B51: 853333.33 | C51: 208018.6
A52: 3193 | B52: 5370.188 | C52: 4397.48
A53: 3212 | B53: 90193.544 | C53: 54784.317
A54: 3642 | B54: 106800 | C54: 106800
A55: 3700 | B55: 30109.388 | C55: 21785.995
A56: 3759 | B56: 120561.27 | C56: 74651.442
A57: 3767 | B57: 11243.89 | C57: 0
A58: 3772 | B58: 546519.68 | C58: 214106.63
A59: 3822 | B59: 106271.9 | C59: 49443.168
A60: 3957 | B60: 14106.912 | C60: 9917.16
A61: 4108 | B61: 33640.212 | C61: 21725.52
A62: 4495 | B62: 5605 | C62: 5605
... A68: 5593 | B68: 9769.421 | C68: 5402.486
A69: 5702
A70: 580 | B70: 3668 | C70: 1008
A71: 5819 | B71: 4355.826 | C71: 4355.826
A72: 6079 | B72: 25159.49 | C72: 15922.468
A73: 6082 | B73: 109932.45 | C73: 79048.41
A74: 6143
A75: 6161 | B75: 1587.783 | C75: 505.676
A76: 6409 | B76: 43735.023 | C76: 29460.867
A77: 6470 | B77: 3534 | C77: 3534
A78: 66
A79: 6610 | B79: 1856.736 | C79: 1856.736
A80: 7006 | B80: 21095.245 | C80: 11933.336
A81: 7390 | B81: 336.255 | C81: 336.255
A82: 7931 | B82: 50380.384 | C82: 50380.384
A83: 8010 | B83: 631701.83 | C83: 262607.46
A84: 8100 | B84: 148266.43 | C84: 148266.43
A85: 8109 | B85: 134251.04 | C85: 54624.22
A86: 8190 | B86: 25325.892 | C86: 21861.888
A87: 8404 | B87: 67743.757 | C87: 50492.2
A88: 8766 | B88: 26603.28 | C88: 26603.28
A89: 9396 | B89: 20247.172 | C89: 17327.62
A90: 9400 | B90: 56383.458 | C90: 52008.875
A91: 99999
A92: 12 - C | B92: 53013.6 | C92: 53013.6
A93: 1372
A94: 2395 | B94: 20561.76 | C94: 20561.76
A95: 8100
A96: 9652 | B96: 32451.84 | C96: 32451.84
A97: 13 - D | B97: 2848494.9 | C97: 1163770.8
A98: 10000 | B98: 767.923 | C98: 616.737
A99: 12123
A100: 12125
A101: 12178 | B101: 15870.472 | C101: 9659.784
A102: 12409
A103: 1275 | B103: 3212.406 | C103: 3212.406
A104: 1358 | B104: 55930.495 | C104: 20579.669
A105: 2300 | B105: 333686.67 | C105: 106551.08
A106: 2322 | B106: 285304.05 | C106: 89952.137
A107: 2560 | B107: 2861.947 | C107: 2057.107
A108: 2806 | B108: 798381.93 | C108: 176327.7
A109: 2847 | B109: 41639.716 | C109: 17415.927
A110: 328 | B110: 3018.697 | C110: 1180.169
A111: 3390 | B111: 40811.457 | C111: 8500.747
...

Sheet Feuil2
B6: Janvier | C6: Février | D6: Mars | E6: Avril | F6: Mai | G6: Juin | H6: Juillet | I6: Août | J6: Septembre | K6: Octobre | L6: Novembre | M6: Décembre | BO6: 10 - LIQUIDES | BP6: 8
A8: 10 - A
A9: 12356 | B9: =IFERROR(Feuil1!C9/Feuil1!B9,"")
A10: 129 | B10: =IFERROR(Feuil1!C10/Feuil1!B10,"")
A11: 1385 | B11: =IFERROR(Feuil1!C11/Feuil1!B11,"") -> 1
A12: 1805 | B12: =IFERROR(Feuil1!C12/Feuil1!B12,"") -> 0.75532557
A13: 1970 | B13: =IFERROR(Feuil1!C13/Feuil1!B13,"") -> 1
A14: 3798 | B14: =IFERROR(Feuil1!C14/Feuil1!B14,"") -> 1
A15: 3954 | B15: =IFERROR(Feuil1!C15/Feuil1!B15,"") -> 0.85780835
A16: 4108 | B16: =IFERROR(Feuil1!C16/Feuil1!B16,"") -> 0.12172646
A17: 5510 | B17: =IFERROR(Feuil1!C17/Feuil1!B17,"")
A18: 591 | B18: =IFERROR(Feuil1!C18/Feuil1!B18,"")
A19: 6318 | B19: =IFERROR(Feuil1!C19/Feuil1!B19,"") -> 0.47907639
A20: 7152 | B20: =IFERROR(Feuil1!C20/Feuil1!B20,"") -> 1
A21: 8109 | B21: =IFERROR(Feuil1!C21/Feuil1!B21,"") -> 1
A22: 11 -B | B22: =IFERROR(Feuil1!C22/Feuil1!B22,"") -> 0.4962987
A23: 11036 | B23: =IFERROR(Feuil1!C23/Feuil1!B23,"") -> 0.3789491
A24: 11088 | B24: =IFERROR(Feuil1!C24/Feuil1!B24,"") -> 1
A25: 11193 | B25: =IFERROR(Feuil1!C25/Feuil1!B25,"") -> 0.72905229
A26: 11215 | B26: =IFERROR(Feuil1!C26/Feuil1!B26,"")
A27: 11271 | B27: =IFERROR(Feuil1!C27/Feuil1!B27,"")
A28: 11363 | B28: =IFERROR(Feuil1!C28/Feuil1!B28,"") -> 0.99591837
A29: 11381 | B29: =IFERROR(Feuil1!C29/Feuil1!B29,"")
A30: 1195 | B30: =IFERROR(Feuil1!C30/Feuil1!B30,"")
A31: 12067 | B31: =IFERROR(Feuil1!C31/Feuil1!B31,"")
A32: 12139 | B32: =IFERROR(Feuil1!C32/Feuil1!B32,"")
A33: 12405 | B33: =IFERROR(Feuil1!C33/Feuil1!B33,"") -> 0.38959211
A34: 12483 | B34: =IFERROR(Feuil1!C34/Feuil1!B34,"") -> 0.65417528
... A91: 99999 | B91: =IFERROR(Feuil1!C91/Feuil1!B91,"")
A92: 12 - C | B92: =IFERROR(Feuil1!C92/Feuil1!B92,"") -> 1
A93: 1372 | B93: =IFERROR(Feuil1!C93/Feuil1!B93,"")
A94: 2395 | B94: =IFERROR(Feuil1!C94/Feuil1!B94,"") -> 1
A95: 8100 | B95: =IFERROR(Feuil1!C95/Feuil1!B95,"")
A96: 9652 | B96: =IFERROR(Feuil1!C96/Feuil1!B96,"") -> 1
A97: 13 - D | B97: =IFERROR(Feuil1!C97/Feuil1!B97,"") -> 0.4085564
A98: 10000 | B98: =IFERROR(Feuil1!C98/Feuil1!B98,"") -> 0.80312349
A99: 12123 | B99: =IFERROR(Feuil1!C99/Feuil1!B99,"")
A100: 12125 | B100: =IFERROR(Feuil1!C100/Feuil1!B100,"")
A101: 12178 | B101: =IFERROR(Feuil1!C101/Feuil1!B101,"") -> 0.60866394
A102: 12409 | B102: =IFERROR(Feuil1!C102/Feuil1!B102,"")
A103: 1275 | B103: =IFERROR(Feuil1!C103/Feuil1!B103,"") -> 1
A104: 1358 | B104: =IFERROR(Feuil1!C104/Feuil1!B104,"") -> 0.36795078
A105: 2300 | B105: =IFERROR(Feuil1!C105/Feuil1!B105,"") -> 0.31931476
A106: 2322 | B106: =IFERROR(Feuil1!C106/Feuil1!B106,"") -> 0.31528517
A107: 2560 | B107: =IFERROR(Feuil1!C107/Feuil1!B107,"") -> 0.71877886
A108: 2806 | B108: =IFERROR(Feuil1!C108/Feuil1!B108,"") -> 0.22085632
A109: 2847 | B109: =IFERROR(Feuil1!C109/Feuil1!B109,"") -> 0.41825278
... A136: 99999 | B136: =IFERROR(Feuil1!C136/Feuil1!B136,"") -> 0.39999966
A137: 14 - E | B137: =IFERROR(Feuil1!C137/Feuil1!B137,"") -> 0.44214972
A138: 1042 | B138: =IFERROR(Feuil1!C138/Feuil1!B138,"") -> 0.41300025
A139: 1044 | B139: =IFERROR(Feuil1!C139/Feuil1!B139,"") -> 0.87427096
A140: 12178 | B140: =IFERROR(Feuil1!C140/Feuil1!B140,"") -> 1
A141: 12357 | B141: =IFERROR(Feuil1!C141/Feuil1!B141,"")
A142: 12405 | B142: =IFERROR(Feuil1!C142/Feuil1!B142,"") -> 0.53768622
A143: 13098 | B143: =IFERROR(Feuil1!C143/Feuil1!B143,"")
A144: 1358 | B144: =IFERROR(Feuil1!C144/Feuil1!B144,"") -> 0.42890526
A145: 14036 | B145: =IFERROR(Feuil1!C145/Feuil1!B145,"") -> 1
A146: 1465 | B146: =IFERROR(Feuil1!C146/Feuil1!B146,"") -> 0.46611484
A147: 1676 | B147: =IFERROR(Feuil1!C147/Feuil1!B147,"") -> 0.51670961
A148: 2300 | B148: =IFERROR(Feuil1!C148/Feuil1!B148,"") -> 0.7379164
A149: 2322 | B149: =IFERROR(Feuil1!C149/Feuil1!B149,"") -> 0.20751525
... A171: 973 | B171: =IFERROR(Feuil1!C171/Feuil1!B171,"") -> 0.42326845
A172: 20 - F | B172: =IFERROR(Feuil1!C172/Feuil1!B172,"") -> 1
A173: 3759 | B173: =IFERROR(Feuil1!C173/Feuil1!B173,"")
A174: 3818 | B174: =IFERROR(Feuil1!C174/Feuil1!B174,"") -> 1
A175: 4541 | B175: =IFERROR(Feuil1!C175/Feuil1!B175,"") -> 1
A176: 4544 | B176: =IFERROR(Feuil1!C176/Feuil1!B176,"")
A177: 4567 | B177: =IFERROR(Feuil1!C177/Feuil1!B177,"") -> 1
A178: 7047 | B178: =IFERROR(Feuil1!C178/Feuil1!B178,"")
A179: 21 - G | B179: =IFERROR(Feuil1!C179/Feuil1!B179,"") -> 0.99714164
A180: 11090 | B180: =IFERROR(Feuil1!C180/Feuil1!B180,"")
A181: 13276 | B181: =IFERROR(Feuil1!C181/Feuil1!B181,"") -> 0.99690196
A182: 6465 | B182: =IFERROR(Feuil1!C182/Feuil1!B182,"") -> 0.99862801
A183: 22 - H | B183: =IFERROR(Feuil1!C183/Feuil1!B183,"") -> 0.92452149
A184: 11183 | B184: =IFERROR(Feuil1!C184/Feuil1!B184,"")
A185: 11437 | B185: =IFERROR(Feuil1!C185/Feuil1!B185,"") -> 1.0075312
A186: 12164 | B186: =IFERROR(Feuil1!C186/Feuil1!B186,"")
A187: 1885 | B187: =IFERROR(Feuil1!C187/Feuil1!B187,"") -> 0.98995832
A188: 2052 | B188: =IFERROR(Feuil1!C188/Feuil1!B188,"") -> 0.93160458
A189: 3692 | B189: =IFERROR(Feuil1!C189/Feuil1!B189,"") -> 0.99206552
A190: 3705 | B190: =IFERROR(Feuil1!C190/Feuil1!B190,"")
A191: 447 | B191: =IFERROR(Feuil1!C191/Feuil1!B191,"")
A192: 4827 | B192: =IFERROR(Feuil1!C192/Feuil1!B192,"") -> 0.9925734
A193: 597 | B193: =IFERROR(Feuil1!C193/Feuil1!B193,"")
A194: 6202 | B194: =IFERROR(Feuil1!C194/Feuil1!B194,"") -> 0.92005511
A195: 6276 | B195: =IFERROR(Feuil1!C195/Feuil1!B195,"") -> 0.95883969
... A197: 99999 | B197: =IFERROR(Feuil1!C197/Feuil1!B197,"") -> 0.8777607
A198: 23 - I | B198: =IFERROR(Feuil1!C198/Feuil1!B198,"") -> 0.69998322
A199: 325 | B199: =IFERROR(Feuil1!C199/Feuil1!B199,"") -> 1
A200: 3818 | B200: =IFERROR(Feuil1!C200/Feuil1!B200,"") -> 1
A201: 4544 | B201: =IFERROR(Feuil1!C201/Feuil1!B201,"") -> 0.46083145
A202: 4567 | B202: =IFERROR(Feuil1!C202/Feuil1!B202,"") -> 1
A203: 7047 | B203: =IFERROR(Feuil1!C203/Feuil1!B203,"") -> 1
A204: 24 - J | B204: =IFERROR(Feuil1!C204/Feuil1!B204,"") -> 0.63049192
A205: 4541 | B205: =IFERROR(Feuil1!C205/Feuil1!B205,"") -> 0.62456441
A206: 4567 | B206: =IFERROR(Feuil1!C206/Feuil1!B206,"") -> 1
A207: 25 - K | B207: =IFERROR(Feuil1!C207/Feuil1!B207,"") -> 0.3059523
A208: 1982 | B208: =IFERROR(Feuil1!C208/Feuil1!B208,"") -> 0.24174471
A209: 597 | B209: =IFERROR(Feuil1!C209/Feuil1!B209,"") -> 0.99945139
A210: 30 - L | B210: =IFERROR(Feuil1!C210/Feuil1!B210,"") -> 0.63485116
...

Sheet Feuil3
